Workbook

Sheet EIA
A1: Table A-1. Cost and performance characteristics of new central station electricity generating technologies | M1: Table A-2. Total overnight capital costs of new electricity generating technologies by region
A2: https://www.eia.gov/outlooks/aeo/assumptions/pdf/table_8.2.pdf | M2: https://www.eia.gov/outlooks/aeo/assumptions/pdf/table_8.2.pdf
A4: Technology | C4: First | E4: Lead | F4: Base overnight | G4: Technological | H4: Total overnight | I4: Variable | J4: Fixed | K4: Heat | M4: Technology | O4: Total Overnight Cost (2021$/kW)
C5: Available | D5: Size | E5: Time | F5: cost (b) | G5: optimism | H5: cost (d) (e ) | I5: O&M (f) | J5: O&M | K5: rate ((g)
C6: Year (a) | D6: (MW) | E6: (years) | F6: (2021$/kW) | G6: factor (c ) | H6: (2021$/kW) | I6: (2021$/MWh) | J6: (2021$/kW-y) | K6: (Bty/kWh) | O6: NYCW | P6: NYUP
A7: Ultra-supercritical coal (USC) | C7: 2025 | D7: 650 | E7: 4 | F7: 4074 | G7: 1 | H7: 4074 | I7: 4.71 | J7: 42.49 | K7: 8638 | M7: Ultra-supercritical coal (USC) | O7: NA | P7: 4614
A8: USC with 30% carbon capture and sequestration (CCS) | C8: 2025 | D8: 650 | E8: 4 | F8: 5045 | G8: 1.01 | H8: 5096 | I8: 7.41 | J8: 56.84 | K8: 9751 | M8: USC with 30% carbon capture and sequestration (CCS) | O8: NA | P8: 5729
A9: USC with 90% CCS | C9: 2025 | D9: 650 | E9: 4 | F9: 6495 | G9: 1.02 | H9: 6625 | I9: 11.49 | J9: 62.34 | K9: 12507 | M9: USC with 90% CCS | O9: NA | P9: 7303
A10: Combined-cycle—single-shaft | C10: 2024 | D10: 418 | E10: 3 | F10: 1201 | G10: 1 | H10: 1201 | I10: 2.67 | J10: 14.76 | K10: 6431 | M10: Combined-cycle—single-shaft | O10: 1912 | P10: 1445
A11: Combined-cycle—multi-shaft | C11: 2024 | D11: 1083 | E11: 3 | F11: 1062 | G11: 1 | H11: 1062 | I11: 1.96 | J11: 12.77 | K11: 6370 | M11: Combined-cycle—multi-shaft | O11: 1725 | P11: 1238
A12: Combined-cycle with 90% CCS | C12: 2024 | D12: 377 | E12: 3 | F12: 2736 | G12: 1.04 | H12: 2845 | I12: 6.11 | J12: 28.89 | K12: 7124 | M12: Combined-cycle with 90% CCS | O12: 3422 | P12: 2953
A13: Internal combustion engine | C13: 2023 | D13: 21 | E13: 2 | F13: 2018 | G13: 1 | H13: 2018 | I13: 5.96 | J13: 36.81 | K13: 8295 | M13: Internal combustion engine | O13: 2769 | P13: 2125
A14: Combustion turbine— aeroderivative (h) | C14: 2023 | D14: 105 | E14: 2 | F14: 1294 | G14: 1 | H14: 1294 | I14: 4.92 | J14: 17.06 | K14: 9124 | M14: Combustion turbine— aeroderivativeh | O14: 1864 | P14: 1405
A15: Combustion turbine—industrial frame | C15: 2023 | D15: 237 | E15: 2 | F15: 785 | G15: 1 | H15: 785 | I15: 4.71 | J15: 7.33 | K15: 9905 | M15: Combustion turbine—industrial frame | O15: 1144 | P15: 854
A16: Fuel cells | C16: 2024 | D16: 10 | E16: 3 | F16: 6639 | G16: 1.09 | H16: 7224 | I16: 0.62 | J16: 32.23 | K16: 6469 | M16: Fuel cells | O16: 9201 | P16: 7498
A17: Nuclear—light water reactor | C17: 2027 | D17: 2156 | E17: 6 | F17: 6695 | G17: 1.05 | H17: 7030 | I17: 2.48 | J17: 127.35 | K17: 10443 | M17: Nuclear—light water reactor | O17: NA | P17: 7430
A18: Nuclear—small modular reactor | C18: 2028 | D18: 600 | E18: 6 | F18: 6861 | G18: 1.1 | H18: 7547 | I18: 3.14 | J18: 99.46 | K18: 10443 | M18: Nuclear—small modular reactor | O18: NA | P18: 8040
A19: Distributed generation—base | C19: 2024 | D19: 2 | E19: 3 | F19: 1731 | G19: 1 | H19: 1731 | I19: 9.01 | J19: 20.27 | K19: 8923 | M19: Distributed generation—base | O19: 2754 | P19: 2081
A20: Distributed generation—peak | C20: 2023 | D20: 1 | E20: 2 | F20: 2079 | G20: 1 | H20: 2079 | I20: 9.01 | J20: 20.27 | K20: 9907 | M20: Distributed generation—peak | O20: 2994 | P20: 2257
A21: Battery storage | C21: 2022 | D21: 50 | E21: 1 | F21: 1316 | G21: 1 | H21: 1316 | I21: 0 | J21: 25.96 | K21: NA | M21: Battery storage | O21: 1351 | P21: 1321 | R21: 1475 | S21: =(R21-P21)/P21 -> 0.11657835
A22: Biomass | C22: 2025 | D22: 50 | E22: 4 | F22: 4524 | G22: 1 | H22: 4525 | I22: 5.06 | J22: 131.62 | K22: 13500 | M22: Biomass | O22: 7292 | P22: 5389
A23: Geothermal (i) (j) | C23: 2025 | D23: 50 | E23: 4 | F23: 3076 | G23: 1 | H23: 3076 | I23: 1.21 | J23: 143.22 | K23: 8813 | M23: Geothermal (i) (j) | O23: NA | P23: NA
A24: Conventional hydropower (j) | C24: 2025 | D24: 100 | E24: 4 | F24: 3083 | G24: 1 | H24: 3083 | I24: 1.46 | J24: 43.78 | K24: NA | M24: Conventional hydropower (j) | O24: NA | P24: 4144
A25: Wind (e ) | C25: 2024 | D25: 200 | E25: 3 | F25: 1718 | G25: 1 | H25: 1718 | I25: 0 | J25: 27.57 | K25: NA | M25: Wind (e ) | O25: NA | P25: 2281
A26: Wind offshore (i) | C26: 2025 | D26: 400 | E26: 4 | F26: 4833 | G26: 1.25 | H26: 6041 | I26: 0 | J26: 115.16 | K26: NA | M26: Wind offshore (i) | O26: 6079 | P26: 7370
A27: Solar thermal (i) | C27: 2024 | D27: 115 | E27: 3 | F27: 7895 | G27: 1 | H27: 7895 | I27: 0 | J27: 89.39 | K27: NA | M27: Solar thermal (i) | O27: NA | P27: NA
A28: Solar photovoltaic (PV) with tracking (e ), (i), (k) | C28: 2023 | D28: 150 | E28: 2 | F28: 1327 | G28: 1 | H28: 1327 | I28: 0 | J28: 15.97 | K28: NA | M28: Solar photovoltaic (PV) with tracking (e ), (i), (k) | O28: 1612 | P28: 1357
A29: Solar PV with storage (i),(k) | C29: 2023 | D29: 150 | E29: 2 | F29: 1748 | G29: 1 | H29: 1748 | I29: 0 | J29: 33.67 | K29: NA | M29: Solar PV with storage (i),(k) | O29: 2078 | P29: 1796
A31: Notes
A32: (a) | B32: The first year that a new unit could become operational.
A33: (b) | B33: Base cost includes project contingency costs.
A34: (c ) | B34: We apply the technological optimism factor to the first four units of a new, unproven design; it reflects the demonstrated tendency to underestimate actual costs for a first-of-a-kind unit.
A35: (d) | B35: Overnight capital cost includes contingency factors and excludes regional multipliers (except as noted for wind and solar PV) and learning effects. Interest charges are also excluded.
B36: The capital costs represent current costs for plants that would come online in 2022.
A37: (e ) | B37: Total overnight cost for wind and solar PV technologies in the table are the average input value across all 25 electricity market regions, as weighted by the respective
B38: capacity of that type installed during 2020 in each region to account for the substantial regional variation in wind and solar costs (Table 4). The input value used for onshore
B39: wind in AEO2022 was $1,411 per kilowatt (kW), and for solar PV with tracking, it was $1,323/kW, which represents the cost of building a plant excluding regional factors.
B40: Region-specific factors contributing to the substantial regional variation in cost include differences in typical project size across regions, accessibility of resources, and
B41: variation in labor and other construction costs throughout the country.
A42: (f) | B42: O&M = Operations and maintenance.
...

Sheet Compare Costs
B1: Table A-3 Compare IA-Tech-Supplement-Annex-1-Input-Assumptions Spreadsheet to EIA Cost and Performance Characteristics of New Generating Technologies, Annual Energy Outlook 2022 | N1: Table 1: Caiazza Comment
B3: IA-Tech-Supplement-Annex-1-Input-Assumptions Resource Costs Tables | E3: EIA Table 1: Cost of new central station electricity generating technologies | I3: EIA Table 2 | K3: Percent Difference between IA and EIA | O3: Percent Difference between IA and EIA
C4: Resource | D4: Resource | E4: Technology | F4: Base overnight | G4: Technological | H4: Total overnight | I4: Total Overnight Cost (2021$/kW)
B5: Base Capital Costs by Technology (2020 $/kW) | C5: Costs - Mid | D5: Costs - Low | F5: cost | G5: optimism | H5: cost | N5: Base Capital Costs by Technology (2020 $/kW)
B6: Technology | C6: 2020 | D6: 2020 | F6: (2021$/kW) | G6: factor | H6: (2021$/kW) | I6: NYCW | J6: NYUP | K6: NYCW | L6: NYUP | N6: Technology | O6: NYCW | P6: NYUP
B7: Wind | C7: 1411.7596 | D7: 1411.7596 | E7: Wind | F7: 1718 | G7: 1 | H7: 1718 | I7: NA | J7: 2281 | K7: =IF(I7="NA","",(I7-C7)/C7) | L7: =IF(J7="NA","",(J7-D7)/D7) -> 0.61571413 | N7: Wind | P7: 0.61571413
B8: Wind - Offshore | C8: 3055 | D8: 3055 | E8: Wind offshore | F8: 4833 | G8: 1.25 | H8: 6041 | I8: 6079 | J8: 7370 | K8: =IF(I8="NA","",(I8-C8)/C8) -> 0.9898527 | L8: =IF(J8="NA","",(J8-D8)/D8) -> 1.4124386 | N8: Wind - Offshore | O8: 0.9898527 | P8: 1.4124386
B9: Solar - Tracking | C9: 1183.1202 | D9: 1183.1202 | E9: Solar photovoltaic (PV) with tracking | F9: 1327 | G9: 1 | H9: 1327 | I9: 1612 | J9: 1357 | K9: =IF(I9="NA","",(I9-C9)/C9) -> 0.36249895 | L9: =IF(J9="NA","",(J9-D9)/D9) -> 0.14696716 | N9: Solar - Tracking | O9: 0.36249895 | P9: 0.14696716
B10: Solar - Dist Comm | C10: 1948.1079 | D10: 1948.1079 | N10: Hydro - Large | P10: -0.050516465
B11: Solar - Dist Res | C11: 3959.0784 | D11: 3959.0784 | N11: Gas - CCGT | O11: 0.22253721 | P11: -0.12260808
B12: Hydro - Non-Powered Dam | C12: 2828.8365 | D12: 2828.8365 | N12: Gas - CT - Frame | O12: 0.77186312 | P12: 0.33555133
B13: Hydro - Large | C13: 4364.478 | D13: 4364.478 | E13: Conventional hydropower | F13: 3083 | G13: 1 | H13: 3083 | I13: NA | J13: 4144 | K13: =IF(I13="NA","",(I13-C13)/C13) | L13: =IF(J13="NA","",(J13-D13)/D13) -> -0.050516465 | N13: Hydrogen - Fuel Cell | O13: 5.1504011 | P13: 4.0120321
B14: Gas - CCGT | C14: 1411 | D14: 1411 | E14: Combined-cycle—multi-shaft | F14: 1062 | G14: 1 | H14: 1062 | I14: 1725 | J14: 1238 | K14: =IF(I14="NA","",(I14-C14)/C14) -> 0.22253721 | L14: =IF(J14="NA","",(J14-D14)/D14) -> -0.12260808 | N14: Battery - Li ion | O14: 4.9515419 | P14: 4.8193833
B15: Gas - CT - Frame | C15: 1052 | D15: 1052 | E15: Combustion turbine— aeroderivative | F15: 1294 | G15: 1 | H15: 1294 | I15: 1864 | J15: 1405 | K15: =IF(I15="NA","",(I15-C15)/C15) -> 0.77186312 | L15: =IF(J15="NA","",(J15-D15)/D15) -> 0.33555133
B16: Hydrogen - Fuel Cell | C16: 1496 | D16: 1496 | E16: Fuel cells | F16: 6639 | G16: 1.09 | H16: 7224 | I16: 9201 | J16: 7498 | K16: =IF(I16="NA","",(I16-C16)/C16) -> 5.1504011 | L16: =IF(J16="NA","",(J16-D16)/D16) -> 4.0120321
B17: Pumped Storage [Energy, $/kWh] | C17: 135.9456 | D17: 135.9456
B18: Battery - Li [Energy, $/kWh] | C18: 227 | D18: 227 | E18: Battery storage | F18: 1316 | G18: 1 | H18: 1316 | I18: 1351 | J18: 1321 | K18: =IF(I18="NA","",(I18-C18)/C18) -> 4.9515419 | L18: =IF(J18="NA","",(J18-D18)/D18) -> 4.8193833
C57: https://atb.nrel.gov/electricity/2022/utility-scale_battery_storage

Sheet Costs
A1: Capactity Costs | B1: Capacity Analysis | N1: EIA Costs | O1: Total | P1: =SUM(P6:P37) -> 82538.212 | Q1: =SUM(Q6:Q37) -> 373765.78 | R1: =SUM(R6:R37) -> 219943.61 | S1: =SUM(S6:S37) -> 399529.93 | T1: =SUM(T6:T37) -> 396006.36
B3: Modeled | C3: Reference 2040 | E3: 2040 Scenario 1 | G3: 2040 Scenario 2 | I3: 2040 Scenario 3 | K3: 2040 Scenario 4 | N3: Total | P3: Scenario Costs ($ million 2021) | V3: Scenario Added Capacity (MW)
B4: 2020 | C4: Total | D4: Added | E4: Total | F4: Added | G4: Total | H4: Added | I4: Total | J4: Added | K4: Total | L4: Added | N4: cost | P4: Reference | Q4: Scenaro 1 | R4: Scenaro 2 | S4: Scenaro 3 | T4: Scenaro 4 | V4: Reference | W4: Scenaro 1 | X4: Scenaro 2 | Y4: Scenaro 3 | Z4: Scenaro 4
A5: NYUP Installed Capactity | N5: (2021$/kW) | V5: Added | W5: Added | X5: Added | Y5: Added | Z5: Added
A6: Wind | B6: 1916.9 | C6: 3786.66 | D6: 1869.76 | E6: 6184.88 | F6: 4267.98 | G6: 5845.41 | H6: 3928.51 | I6: 6098.57 | J6: 4181.67 | K6: 6255.18 | L6: 4338.28 | N6: 2281 | P6: =$N6*D6/1000 -> 4264.9226 | Q6: =$N6*F6/1000 -> 9735.2624 | R6: =$N6*H6/1000 -> 8960.9313 | S6: =$N6*J6/1000 -> 9538.3893 | T6: =$N6*L6/1000 -> 9895.6167 | V6: =D6 -> 1869.76 | W6: =F6 -> 4267.98 | X6: =H6 -> 3928.51 | Y6: =J6 -> 4181.67 | Z6: =L6 -> 4338.28
A7: Wind Imports | B7: 0 | C7: 0 | D7: 0 | E7: 6104.31 | F7: 6104.31 | G7: 6396.79 | H7: 6396.79 | I7: 6396.78 | J7: 6396.78 | K7: 6396.79 | L7: 6396.79 | V7: =D7 -> 0 | W7: =F7 -> 6104.31 | X7: =H7 -> 6396.79 | Y7: =J7 -> 6396.78 | Z7: =L7 -> 6396.79
A8: Wind_Offshore | B8: 0 | C8: 0 | D8: 0 | E8: 0 | F8: 0 | G8: 0 | H8: 0 | I8: 0 | J8: 0 | K8: 0 | L8: 0 | N8: 7370 | P8: =$N8*D8/1000 -> 0 | Q8: =$N8*F8/1000 -> 0 | R8: =$N8*H8/1000 -> 0 | S8: =$N8*J8/1000 -> 0 | T8: =$N8*L8/1000 -> 0 | V8: =D8 -> 0 | W8: =F8 -> 0 | X8: =H8 -> 0 | Y8: =J8 -> 0 | Z8: =L8 -> 0
A9: Solar | B9: 276.93 | C9: 7079.98 | D9: 6803.05 | E9: 24077.61 | F9: 23800.68 | G9: 27166.19 | H9: 26889.26 | I9: 25154.56 | J9: 24877.63 | K9: 25357.68 | L9: 25080.75 | N9: 1357 | P9: =$N9*D9/1000 -> 9231.7388 | Q9: =$N9*F9/1000 -> 32297.523 | R9: =$N9*H9/1000 -> 36488.726 | S9: =$N9*J9/1000 -> 33758.944 | T9: =$N9*L9/1000 -> 34034.578 | V9: =D9 -> 6803.05 | W9: =F9 -> 23800.68 | X9: =H9 -> 26889.26 | Y9: =J9 -> 24877.63 | Z9: =L9 -> 25080.75
A10: Distributed Solar | B10: 1462.46 | C10: 5783.44 | D10: 4320.98 | E10: 11205.9 | F10: 9743.44 | G10: 11205.9 | H10: 9743.44 | I10: 11205.89 | J10: 9743.43 | K10: 11205.9 | L10: 9743.44 | N10: 1357 | P10: =$N10*D10/1000 -> 5863.5699 | Q10: =$N10*F10/1000 -> 13221.848 | R10: =$N10*H10/1000 -> 13221.848 | S10: =$N10*J10/1000 -> 13221.835 | T10: =$N10*L10/1000 -> 13221.848 | V10: =D10 -> 4320.98 | W10: =F10 -> 9743.44 | X10: =H10 -> 9743.44 | Y10: =J10 -> 9743.43 | Z10: =L10 -> 9743.44
A11: Battery Storage | B11: 337.29 | C11: 1612.34 | D11: 1275.05 | E11: 6276.8 | F11: 5939.51 | G11: 6782.68 | H11: 6445.39 | I11: 6703.04 | J11: 6365.75 | K11: 7065.01 | L11: 6727.72 | N11: 1321 | P11: =$N11*D11/1000 -> 1684.3411 | Q11: =$N11*F11/1000 -> 7846.0927 | R11: =$N11*H11/1000 -> 8514.3602 | S11: =$N11*J11/1000 -> 8409.1557 | T11: =$N11*L11/1000 -> 8887.3181 | V11: =D11 -> 1275.05 | W11: =F11 -> 5939.51 | X11: =H11 -> 6445.39 | Y11: =J11 -> 6365.75 | Z11: =L11 -> 6727.72
A12: Pumped Storage | B12: 1435.4 | C12: 1435.4 | D12: 0 | E12: 1435.4 | F12: 0 | G12: 1435.4 | H12: 0 | I12: 1435.4 | J12: 0 | K12: 1435.4 | L12: 0 | V12: =D12 -> 0 | W12: =F12 -> 0 | X12: =H12 -> 0 | Y12: =J12 -> 0 | Z12: =L12 -> 0
A13: Hydro Imports (New) | B13: 0 | C13: 0 | D13: 0 | E13: 0 | F13: 0 | G13: 0 | H13: 0 | I13: 0 | J13: 0 | K13: 0 | L13: 0 | V13: =D13 -> 0 | W13: =F13 -> 0 | X13: =H13 -> 0 | Y13: =J13 -> 0 | Z13: =L13 -> 0
A14: Hydro Imports (Existing) | B14: 1485 | C14: 1485 | D14: 0 | E14: 1485 | F14: 0 | G14: 1485 | H14: 0 | I14: 1485 | J14: 0 | K14: 1485 | L14: 0 | V14: =D14 -> 0 | W14: =F14 -> 0 | X14: =H14 -> 0 | Y14: =J14 -> 0 | Z14: =L14 -> 0
A15: In-State Hydro | B15: 4262.2 | C15: 4603.19 | D15: 340.99 | E15: 4606.53 | F15: 344.33 | G15: 4606.53 | H15: 344.33 | I15: 4606.53 | J15: 344.33 | K15: 4606.53 | L15: 344.33 | N15: 4144 | P15: =$N15*D15/1000 -> 1413.0626 | Q15: =$N15*F15/1000 -> 1426.9035 | R15: =$N15*H15/1000 -> 1426.9035 | S15: =$N15*J15/1000 -> 1426.9035 | T15: =$N15*L15/1000 -> 1426.9035 | V15: =D15 -> 340.99 | W15: =F15 -> 344.33 | X15: =H15 -> 344.33 | Y15: =J15 -> 344.33 | Z15: =L15 -> 344.33
A16: Nuclear | B16: 4860.2 | C16: 1287.2 | D16: -3573 | E16: 3355.2 | F16: -1505 | G16: 3355.2 | H16: -1505 | I16: 3355.2 | J16: -1505 | K16: 3355.2 | L16: -1505 | V16: =D16 -> -3573 | W16: =F16 -> -1505 | X16: =H16 -> -1505 | Y16: =J16 -> -1505 | Z16: =L16 -> -1505
A17: Gas & FO | B17: 11665.2 | C17: 8460.9 | D17: -3204.3 | E17: 0 | F17: -11665.2 | G17: 0 | H17: -11665.2 | I17: 0 | J17: -11665.2 | K17: 0 | L17: -11665.2 | N17: =EIA!P11 -> 1238 | V17: =D17 -> -3204.3 | W17: =F17 -> -11665.2 | X17: =H17 -> -11665.2 | Y17: =J17 -> -11665.2 | Z17: =L17 -> -11665.2
A18: Zero-Carbon Firm Resource | B18: 0 | C18: 0 | D18: 0 | E18: 12439.96 | F18: 12439.96 | G18: 11277.73 | H18: 11277.73 | I18: 13589.81 | J18: 13589.81 | K18: 13305.56 | L18: 13305.56 | N18: 7498 | P18: =$N18*D18/1000 -> 0 | Q18: =$N18*F18/1000 -> 93274.82 | R18: =$N17*H18/1000 -> 13961.83 | S18: =$N18*J18/1000 -> 101896.4 | T18: =$N18*L18/1000 -> 99765.089 | V18: =D18 -> 0 | W18: =F18 -> 12439.96 | X18: =H18 -> 11277.73 | Y18: =J18 -> 13589.81 | Z18: =L18 -> 13305.56 | AA18: Scenario 2 burns H2 in a turbine
A19: Hydrogen | B19: 0 | C19: 0 | D19: 0 | E19: 12439.96 | F19: 12439.96 | G19: 11277.73 | H19: 11277.73 | I19: 13589.81 | J19: 13589.81 | K19: 13305.56 | L19: 13305.56 | N19: 1033.5363 | P19: =$N19*D19/1000 -> 0 | Q19: =$N19*F19/1000 -> 12857.15 | R19: =$N19*H19/1000 -> 11655.943 | S19: =$N19*J19/1000 -> 14045.562 | T19: =$N19*L19/1000 -> 13751.779 | V19: =D19 -> 0 | W19: =F19 -> 12439.96 | X19: =H19 -> 11277.73 | Y19: =J19 -> 13589.81 | Z19: =L19 -> 13305.56
A20: Biomass | B20: 205.6 | C20: 205.6 | D20: 0 | E20: 205.6 | F20: 0 | G20: 205.6 | H20: 0 | I20: 205.6 | J20: 0 | K20: 205.6 | L20: 0 | V20: =D20 -> 0 | W20: =F20 -> 0 | X20: =H20 -> 0 | Y20: =J20 -> 0 | Z20: =L20 -> 0
A22: NYCW Installed Capacity
A23: Wind | B23: 0 | C23: 0 | D23: 0 | E23: 0 | F23: 0 | G23: 0 | H23: 0 | I23: 27.28 | J23: 27.28 | K23: 27.28 | L23: 27.28 | N23: 2281 | P23: =$N23*D23/1000 -> 0 | Q23: =$N23*F23/1000 -> 0 | R23: =$N23*H23/1000 -> 0 | S23: =$N23*J23/1000 -> 62.22568 | T23: =$N23*L23/1000 -> 62.22568 | V23: =D23 -> 0 | W23: =F23 -> 0 | X23: =H23 -> 0 | Y23: =J23 -> 27.28 | Z23: =L23 -> 27.28
A24: Wind Imports | B24: 0 | C24: 0 | D24: 0 | E24: 0 | F24: 0 | G24: 0 | H24: 0 | I24: 0 | J24: 0 | K24: 0 | L24: 0 | V24: =D24 -> 0 | W24: =F24 -> 0 | X24: =H24 -> 0 | Y24: =J24 -> 0 | Z24: =L24 -> 0
A25: Wind_Offshore | B25: 0 | C25: 9000 | D25: 9000 | E25: 14528.63 | F25: 14528.63 | G25: 14363.65 | H25: 14363.65 | I25: 16756.49 | J25: 16756.49 | K25: 15874.67 | L25: 15874.67 | N25: 6079 | P25: =$N25*D25/1000 -> 54711 | Q25: =$N25*F25/1000 -> 88319.542 | R25: =$N25*H25/1000 -> 87316.628 | S25: =$N25*J25/1000 -> 101862.7 | T25: =$N25*L25/1000 -> 96502.119 | V25: =D25 -> 9000 | W25: =F25 -> 14528.63 | X25: =H25 -> 14363.65 | Y25: =J25 -> 16756.49 | Z25: =L25 -> 15874.67
A26: Solar | B26: 31.5 | C26: 31.5 | D26: 0 | E26: 501.61 | F26: 470.11 | G26: 501.61 | H26: 470.11 | I26: 501.61 | J26: 470.11 | K26: 501.61 | L26: 470.11 | N26: 1612 | P26: =$N26*D26/1000 -> 0 | Q26: =$N26*F26/1000 -> 757.81732 | R26: =$N26*H26/1000 -> 757.81732 | S26: =$N26*J26/1000 -> 757.81732 | T26: =$N26*L26/1000 -> 757.81732 | V26: =D26 -> 0 | W26: =F26 -> 470.11 | X26: =H26 -> 470.11 | Y26: =J26 -> 470.11 | Z26: =L26 -> 470.11
A27: Distributed Solar | B27: 820.95 | C27: 1765.72 | D27: 944.77 | E27: 4558.25 | F27: 3737.3 | G27: 4558.25 | H27: 3737.3 | I27: 4558.25 | J27: 3737.3 | K27: 4558.25 | L27: 3737.3 | N27: 1612 | P27: =$N27*D27/1000 -> 1522.9692 | Q27: =$N27*F27/1000 -> 6024.5276 | R27: =$N27*H27/1000 -> 6024.5276 | S27: =$N27*J27/1000 -> 6024.5276 | T27: =$N27*L27/1000 -> 6024.5276 | V27: =D27 -> 944.77 | W27: =F27 -> 3737.3 | X27: =H27 -> 3737.3 | Y27: =J27 -> 3737.3 | Z27: =L27 -> 3737.3
A28: Battery Storage | B28: 412.71 | C28: 3259.94 | D28: 2847.23 | E28: 3987.56 | F28: 3574.85 | G28: 3930.49 | H28: 3517.78 | I28: 5503.98 | J28: 5091.27 | K28: 4511.18 | L28: 4098.47 | N28: 1351 | P28: =$N28*D28/1000 -> 3846.6077 | Q28: =$N28*F28/1000 -> 4829.6224 | R28: =$N28*H28/1000 -> 4752.5208 | S28: =$N28*J28/1000 -> 6878.3058 | T28: =$N28*L28/1000 -> 5537.033 | V28: =D28 -> 2847.23 | W28: =F28 -> 3574.85 | X28: =H28 -> 3517.78 | Y28: =J28 -> 5091.27 | Z28: =L28 -> 4098.47
A29: Pumped Storage | B29: 0 | C29: 0 | D29: 0 | E29: 0 | F29: 0 | G29: 0 | H29: 0 | I29: 0 | J29: 0 | K29: 0 | L29: 0 | V29: =D29 -> 0 | W29: =F29 -> 0 | X29: =H29 -> 0 | Y29: =J29 -> 0 | Z29: =L29 -> 0
A30: Hydro Imports (New) | B30: 0 | C30: 1250 | D30: 1250 | E30: 2550 | F30: 2550 | G30: 2550 | H30: 2550 | I30: 2550 | J30: 2550 | K30: 2550 | L30: 2550 | V30: =D30 -> 1250 | W30: =F30 -> 2550 | X30: =H30 -> 2550 | Y30: =J30 -> 2550 | Z30: =L30 -> 2550
A31: Hydro Imports (Existing) | B31: 0 | C31: 0 | D31: 0 | E31: 0 | F31: 0 | G31: 0 | H31: 0 | I31: 0 | J31: 0 | K31: 0 | L31: 0 | V31: =D31 -> 0 | W31: =F31 -> 0 | X31: =H31 -> 0 | Y31: =J31 -> 0 | Z31: =L31 -> 0
A32: In-State Hydro | B32: 6.66 | C32: 6.66 | D32: 0 | E32: 6.66 | F32: 0 | G32: 6.66 | H32: 0 | I32: 6.66 | J32: 0 | K32: 6.66 | L32: 0 | P32: =$N32*D32/1000 -> 0 | Q32: =$N32*F32/1000 -> 0 | R32: =$N32*H32/1000 -> 0 | S32: =$N32*J32/1000 -> 0 | T32: =$N32*L32/1000 -> 0 | V32: =D32 -> 0 | W32: =F32 -> 0 | X32: =H32 -> 0 | Y32: =J32 -> 0 | Z32: =L32 -> 0
A33: Nuclear | B33: 0 | C33: 0 | D33: 0 | E33: 0 | F33: 0 | G33: 0 | H33: 0 | I33: 0 | J33: 0 | K33: 0 | L33: 0 | V33: =D33 -> 0 | W33: =F33 -> 0 | X33: =H33 -> 0 | Y33: =J33 -> 0 | Z33: =L33 -> 0
A34: Gas & FO | B34: 14722.9 | C34: 7858.08 | D34: -6864.82 | E34: 0 | F34: -14722.9 | G34: 0 | H34: -14722.9 | I34: 0 | J34: -14722.9 | K34: 0 | L34: -14722.9 | N34: =EIA!O11 -> 1725 | V34: =D34 -> -6864.82 | W34: =F34 -> -14722.9 | X34: =H34 -> -14722.9 | Y34: =J34 -> -14722.9 | Z34: =L34 -> -14722.9
A35: Zero-Carbon Firm Resource | B35: 0 | C35: 0 | D35: 0 | E35: 10081.03 | F35: 10081.03 | G35: 9737.62 | H35: 9737.62 | I35: 9931.78 | J35: 9931.78 | K35: 10370.72 | L35: 10370.72 | N35: 9201 | P35: =$N35*D35/1000 -> 0 | Q35: =$N35*F35/1000 -> 92755.557 | R35: =$N34*H35/1000 -> 16797.394 | S35: =$N35*J35/1000 -> 91382.308 | T35: =$N35*L35/1000 -> 95420.995 | V35: =D35 -> 0 | W35: =F35 -> 10081.03 | X35: =H35 -> 9737.62 | Y35: =J35 -> 9931.78 | Z35: =L35 -> 10370.72
A36: Hydrogen | B36: 0 | C36: 0 | D36: 0 | E36: 10081.03 | F36: 10081.03 | G36: 9737.62 | H36: 9737.62 | I36: 9931.78 | J36: 9931.78 | K36: 10370.72 | L36: 10370.72 | N36: =N19 -> 1033.5363 | P36: =$N36*D36/1000 -> 0 | Q36: =$N36*F36/1000 -> 10419.11 | R36: =$N36*H36/1000 -> 10064.184 | S36: =$N36*J36/1000 -> 10264.855 | T36: =$N36*L36/1000 -> 10718.516 | V36: =D36 -> 0 | W36: =F36 -> 10081.03 | X36: =H36 -> 9737.62 | Y36: =J36 -> 9931.78 | Z36: =L36 -> 10370.72
A37: Biomass | B37: 121.4 | C37: 121.4 | D37: 0 | E37: 121.4 | F37: 0 | G37: 121.4 | H37: 0 | I37: 121.4 | J37: 0 | K37: 121.4 | L37: 0 | V37: =D37 -> 0 | W37: =F37 -> 0 | X37: =H37 -> 0 | Y37: =J37 -> 0 | Z37: =L37 -> 0
B39: Integration Analysis Projections listed in IA-Tech-Supplement-Annex-2-Key-Drivers-Outputs spreadsheet | V39: =V6+V23 -> 1869.76 | W39: =W6+W23 -> 4267.98 | X39: =X6+X23 -> 3928.51 | Y39: =Y6+Y23 -> 4208.95 | Z39: =Z6+Z23 -> 4365.56
C40: Reference Case | E40: Scenario 1 | G40: Scenario 2 | I40: Scenario 3 | K40: Scenario 4 | V40: =V7+V24 -> 0 | W40: =W7+W24 -> 6104.31 | X40: =X7+X24 -> 6396.79 | Y40: =Y7+Y24 -> 6396.78 | Z40: =Z7+Z24 -> 6396.79
B41: 2020 | C41: Total | D41: Added | E41: Total | F41: Added | G41: Total | H41: Added | I41: Total | J41: Added | K41: Total | L41: Added | V41: =V8+V25 -> 9000 | W41: =W8+W25 -> 14528.63 | X41: =X8+X25 -> 14363.65 | Y41: =Y8+Y25 -> 16756.49 | Z41: =Z8+Z25 -> 15874.67
A42: NYISO_A-E | V42: =V9+V26 -> 6803.05 | W42: =W9+W26 -> 24270.79 | X42: =X9+X26 -> 27359.37 | Y42: =Y9+Y26 -> 25347.74 | Z42: =Z9+Z26 -> 25550.86
A43: Wind | B43: 1916.9 | C43: 3786.66 | D43: 1869.76 | E43: 4686.37 | F43: 2769.47 | G43: 4346.9 | H43: 2430 | I43: 4600.06 | J43: 2683.16 | K43: 4756.67 | L43: 2839.77 | V43: =V10+V27 -> 5265.75 | W43: =W10+W27 -> 13480.74 | X43: =X10+X27 -> 13480.74 | Y43: =Y10+Y27 -> 13480.73 | Z43: =Z10+Z27 -> 13480.74
...

Sheet Electrolysis Costs
A1: Estimated cost to produce hydrogen needed for DEFR
D4: 2020 $/MMBTU
A5: From Integrated Analysis | D5: Out of state cost of hydrogen | E5: 2020 | F5: =E5+5 -> 2025 | G5: =F5+5 -> 2030 | H5: =G5+5 -> 2035 | I5: =H5+5 -> 2040 | J5: Notes
A6: 2020 $/kW | B6: 1169.2069 | D6: Electricity Input Cost | E6: 16.312698 | F6: 16.19782 | G6: 16.086133 | H6: 15.645249 | I6: 15.333583 | J6: Assumes a dedicated solar resource with cap factor of 23.5%
A7: 2020 $/MMBTU | B7: 21.125493 | D7: Electrolyzer Capital Cost | E7: 22.502656 | F7: 17.73305 | G7: 14.821869 | H7: 11.826741 | I7: 9.5581991
A8: MMBTU/kW | B8: =B6/B7 -> 55.345779 | D8: Other Capital Costs (Pipeline Blending, Interconnection, etc) | E8: 0.11178572 | F8: 0.11155194 | G8: 0.11132466 | H8: 0.10824443 | I8: 0.10656353
D9: Underground H2 Storage Cost | E9: 1.8922385 | F9: 1.8922385 | G9: 1.8922385 | H9: 1.8922385 | I9: 1.8922385 | J9: Based on underground salt cavern storage
D10: 400-mile Pipeline Cost | E10: 1.3999362 | F10: 1.3999362 | G10: 1.3999362 | H10: 1.3999362 | I10: 1.3999362 | J10: High pressure pipelines dedicated for H2. Cost estimates come from Argonne National Lab's Hydrogen Delivery Scenario Analysis Model (HDSAM)
D11: Variable O&M Cost | E11: 4.3556429 | F11: 4.3249693 | G11: 4.2951478 | H11: 4.1774277 | I11: 4.0942101
D12: Total Cost | E12: =SUM(E6:E11) -> 46.574957 | F12: =SUM(F6:F11) -> 41.659566 | G12: =SUM(G6:G11) -> 38.606648 | H12: =SUM(H6:H11) -> 35.049837 | I12: =SUM(I6:I11) -> 32.384731
D13: Total Cost $/MW | E13: =$A47*E12 -> 515.86616 | F13: =$A47*F12 -> 461.42309 | G13: =$A47*G12 -> 427.60885 | H13: =$A47*H12 -> 388.21345 | I13: =$A47*I12 -> 358.69463 | J13: Converted the Integration Analysis cost per mmBtu to MW using the 55.3 conversion factor
D15: In-state cost of hydrogen | E15: 2020 | F15: =E15+5 -> 2025 | G15: =F15+5 -> 2030 | H15: =G15+5 -> 2035 | I15: =H15+5 -> 2040
D16: Electricity Input Cost | E16: 0 | F16: 0 | G16: 0 | H16: 0 | I16: 0 | J16: Cost of electricity is captured endogenously in RESOLVE
D17: Electrolyzer Capital Cost | E17: 21.125493 | F17: 16.647788 | G17: 13.91477 | H17: 11.102944 | I17: 8.9732373 | J17: Electrolyzer CAPEX is consistent with out-of-state. Difference can be attributed to 25% capacity factor assumed
D18: Other Capital Costs (Pipeline Blending, Interconnection, etc) | E18: 0.10494443 | F18: 0.10472496 | G18: 0.10451159 | H18: 0.10161987 | I18: 0.10004184
D19: Underground H2 Storage Cost | E19: 1.8922385 | F19: 1.8922385 | G19: 1.8922385 | H19: 1.8922385 | I19: 1.8922385 | J19: Based on underground salt cavern storage
D20: 400-mile Pipeline Cost | E20: 1.3999362 | F20: 1.3999362 | G20: 1.3999362 | H20: 1.3999362 | I20: 1.3999362 | J20: High pressure pipelines dedicated for H2. Cost estimates come from Argonne National Lab's Hydrogen Delivery Scenario Analysis Model (HDSAM)
D21: Variable O&M Cost | E21: 4.3556429 | F21: 4.3249693 | G21: 4.2951478 | H21: 4.1774277 | I21: 4.0942101
D22: Subtotal | E22: =SUM(E16:E21) -> 28.878255 | F22: =SUM(F16:F21) -> 24.369657 | G22: =SUM(G16:G21) -> 21.606604 | H22: =SUM(H16:H21) -> 18.674167 | I22: =SUM(I16:I21) -> 16.459664 | J22: Cost of electricity is captured endogenously in RESOLVE
D23: Total Cost $/MW | E23: =$A47*E22 -> 319.85676 | F23: =$A47*F22 -> 269.91933 | G23: =$A47*G22 -> 239.31565 | H23: =$A47*H22 -> 206.83585 | I23: =$A47*I22 -> 182.30792
D25: 2020 $/kW
D26: In-state cost of hydrogen ($/kW) | E26: 2020 | F26: =E26+5 -> 2025 | G26: =F26+5 -> 2030 | H26: =G26+5 -> 2035 | I26: =H26+5 -> 2040
D27: Electricity Input Cost | E27: =$B$8*E16 -> 0 | F27: =$B$8*F16 -> 0 | G27: =$B$8*G16 -> 0 | H27: =$B$8*H16 -> 0 | I27: =$B$8*I16 -> 0
D28: Electrolyzer Capital Cost | E28: =$B$8*E17 -> 1169.2069 | F28: =$B$8*F17 -> 921.38477 | G28: =$B$8*G17 -> 770.1238 | H28: =$B$8*H17 -> 614.5011 | I28: =$B$8*I17 -> 496.63081
D29: Other Capital Costs (Pipeline Blending, Interconnection, etc) | E29: =$B$8*E18 -> 5.8082312 | F29: =$B$8*F18 -> 5.7960846 | G29: =$B$8*G18 -> 5.7842755 | H29: =$B$8*H18 -> 5.6242307 | I29: =$B$8*I18 -> 5.5368935
D30: Underground H2 Storage Cost | E30: =$B$8*E19 -> 104.72741 | F30: =$B$8*F19 -> 104.72741 | G30: =$B$8*G19 -> 104.72741 | H30: =$B$8*H19 -> 104.72741 | I30: =$B$8*I19 -> 104.72741
D31: 400-mile Pipeline Cost | E31: =$B$8*E20 -> 77.480562 | F31: =$B$8*F20 -> 77.480562 | G31: =$B$8*G20 -> 77.480562 | H31: =$B$8*H20 -> 77.480562 | I31: =$B$8*I20 -> 77.480562
D32: Variable O&M Cost | E32: =$B$8*E21 -> 241.06645 | F32: =$B$8*F21 -> 239.36879 | G32: =$B$8*G21 -> 237.7183 | H32: =$B$8*H21 -> 231.20299 | I32: =$B$8*I21 -> 226.59724
D33: Subtotal | E33: =SUM(E27:E32) -> 1598.2895 | F33: =SUM(F27:F32) -> 1348.7576 | G33: =SUM(G27:G32) -> 1195.8343 | H33: =SUM(H27:H32) -> 1033.5363 | I33: =SUM(I27:I32) -> 910.97292
H34: Used 2035 as the cost for building the 2040 electrolyzer costs.
A37: https://seekingalpha.com/article/4392471-hydrogen-vs-natural-gas-for-electric-power-generation
A39: 288 | B39: MW | C39: GE 9F.04 gas turbine produces 288 MW of power.
A40: 9.3 | B40: million CF | C40: This turbine would use about 9.3 million CF or 22,400 kg of hydrogen per hour.
A41: 1104 | B41: MWh | C41: With an 80% efficient electrolysis energy cost of 49.3 kWh/kg, producing that one hour supply of hydrogen would require 1,104 MWh of power for electrolysis.
A42: =1104/288 -> 3.8333333 | B42: MWh | C42: With an 80% efficient electrolysis energy cost of 49.3 kWh/kg, producing a one hour supply of hydrogen for one MW of a turbine would require 3.83 MWh of power for electrolysis.
A45: 343 | B45: Btu/CF | C45: Higher heating value BTU/CF
A46: =A40*A45 -> 3189.9 | B46: mmBtu/hr
A47: =A46/A39 -> 11.076042 | B47: mmBtu/MW

Sheet NYISO
A1: NYISO Draft Resource Outlook Baseline w/ CLCPA Case Forecast Scenario | O1: 06 System and Resource Outlook Update
A2: https://www.nyiso.com/documents/20142/30198298/06%20System_Resource_Outlook_CapEx_Updates.pdf/fd3e3ea9-cdb1-c86e-df17-d48f2ed368db | O2: committees - bic - espwg - meeting-materials - 2022 - 2022-04-26
A4: NYISO Outlook Study Baseline with CLCPA Case Forecast Scenario
H5: 2040 | I5: Total | J5: Capacity | M5: Good Enough (MW)
A6: Installed Capacity (MW) | H6: Added | I6: cost | J6: Costs | M6: 2040 | N6: 2040
A7: Resource | B7: 2019 | C7: 2025 | D7: 2030 | E7: 2035 | F7: 2040 | H7: Capacity | I7: (2021$/kW) | J7: ($ million 2021) | M7: Installed | N7: Added
A8: Nuclear | B8: 5400 | C8: 3346 | D8: 3364 | E8: 3364 | F8: 3364 | H8: =F8-B8 -> -2036 | L8: Nuclear—small modular reactor | M8: 5400 | N8: 5400 | O8: =EIA!P18 -> 8040 | P8: =N8*O8/1000 -> 43416
A9: Fossil | B9: 26262 | C9: 21310 | D9: 21232 | E9: 21234 | H9: =F9-B9 -> -26262 | L9: Fossil | M9: 26500 | N9: =M9-6500 -> 20000
A10: DEFR - HcLo | F10: 3812 | H10: =F10-B10 -> 3812 | L10: Combined-cycle—multi-shaft | N10: =N9-N11 -> 18500 | O10: 1725 | P10: =N10*O10/1000 -> 31912.5
A11: DEFR - McMo | H11: =F11-B11 -> 0 | L11: Combustion turbine—industrial frame | N11: 1500 | O11: 1144 | P11: =N11*O11/1000 -> 1716
A12: DEFR- LcHo | D12: 420 | E12: 7053 | F12: 40938 | H12: =F12-B12 -> 40938
A13: Total DEFR | B13: =SUM(B10:B12) -> 0 | C13: =SUM(C10:C12) -> 0 | D13: =SUM(D10:D12) -> 420 | E13: =SUM(E10:E12) -> 7053 | F13: =SUM(F10:F12) -> 44750 | H13: =F13-B13 -> 44750 | I13: =Costs!N18 -> 7498 | J13: =H13*I13/1000 -> 335535.5
A14: Hydrogen | H14: =H13 -> 44750 | I14: =Costs!N19 -> 1033.5363 | J14: =H14*I14/1000 -> 46250.749
A15: Hydro | B15: 6331 | C15: 6302 | D15: 7537 | E15: 7540 | F15: 7540 | H15: =F15-B15 -> 1209 | I15: =Costs!N15 -> 4144 | J15: =H15*I15/1000 -> 5010.096 | L15: Hydro | M15: 7540 | N15: =H15 -> 1209 | O15: =EIA!P24 -> 4144 | P15: =N15*O15/1000 -> 5010.096
A16: LBW | B16: 1985 | C16: 3335 | D16: 9086 | E16: 12612 | F16: 19087 | H16: =F16-B16 -> 17102 | I16: =Costs!N6 -> 2281 | J16: =H16*I16/1000 -> 39009.662
A17: OSW | C17: 1826 | D17: 5036 | E17: 9000 | F17: 9000 | H17: =F17-B17 -> 9000 | I17: =Costs!N8 -> 7370 | J17: =H17*I17/1000 -> 66330
A18: UPV | B18: 32 | C18: 4676 | D18: 4676 | E18: 4676 | F18: 4676 | H18: =F18-B18 -> 4644 | I18: =Costs!N9 -> 1357 | J18: =H18*I18/1000 -> 6301.908
A19: BTM-PV | B19: 2116 | C19: 6834 | D19: 10055 | E19: 10828 | F19: 11198 | H19: =F19-B19 -> 9082 | I19: =Costs!N10 -> 1357 | J19: =H19*I19/1000 -> 12324.274
A20: Storage | B20: 1405 | C20: 2910 | D20: 4410 | E20: 5793 | F20: 11450 | H20: =F20-B20 -> 10045 | I20: =Costs!N11 -> 1321 | J20: =H20*I20/1000 -> 13269.445
A22: Generation (GWh)
A23: Resource | B23: 2019 | C23: 2025 | D23: 2030 | E23: 2035 | F23: 2040 | L23: Existing Dispatchable
A24: Nuclear | B24: 45429 | C24: 28338 | D24: 27444 | E24: 28338 | F24: 27092 | L24: Dispatchable Emissions-Free | M24: =F13 -> 44750 | N24: =M24/M$28 -> 0.28719956
A25: Fossil | B25: 50520 | C25: 54174 | D25: 19987 | E25: 14516 | L25: Battery Storage | M25: =F20 -> 11450 | N25: =M25/M$28 -> 0.073484581
A26: DEFR - HcLo | F26: 33482 | L26: Pumped Storage
A27: DEFR - McMo | L27: Weather-Dependent | M27: =F16+F17+F18+F19 -> 43961 | N27: =M27/M$28 -> 0.28213587
A28: DEFR - LcHo | F28: 523 | L28: Total | M28: =SUM(F8:F20) -> 155815
A29: Hydro | B29: 40034 | C29: 36418 | D29: 46342 | E29: 46392 | F29: 46391
A30: LBW | B30: 4416 | C30: 8189 | D30: 26971 | E30: 38297 | F30: 59362
A31: OSW | C31: 7331 | D31: 20186 | E31: 35460 | F31: 35647
A32: UPV | B32: 51 | C32: 8817 | D32: 8816 | E32: 8817 | F32: 8819
A33: BTM-PV | B33: 2761 | C33: 7483 | D33: 11068 | E33: 11983 | F33: 12.454
A34: Storage | B34: 612 | C34: 4347 | D34: 7004 | E34: 10084 | F34: 21339
A35: Total Generation | B35: 146262 | C35: 157088 | D35: 169810 | E35: 195879 | F35: 245109
A36: RE Generation | B36: 47261 | C36: 68238 | D36: 113383 | E36: 140949 | F36: 162672
A37: ZE Generation | B37: 93301 | C37: 100922 | D37: 147831 | E37: 179371 | F37: 245109
A38: Load | B38: 151386 | C38: 152336 | D38: 162122 | E38: 184836 | F38: 221828
A39: Load+Charge | B39: 151773 | C39: 157089 | D39: 169811 | E39: 195879 | F39: 245109
A40: % RE [RE/Load] | B40: 0.31 | C40: 0.45 | D40: 0.7 | E40: 0.76 | F40: 0.73
A41: %ZE[ZE/(Load+Charge)] | B41: 0.61 | C41: 0.64 | D41: 0.87 | E41: 0.92 | F41: 1
A43: Emissions (million tons)
...

Sheet Summary
B1: Table 3: Estimated Capacity Additions and Overnight Capital Costs for those Additions | I1: Table 4 | K1: Table 5
C3: Integration Analysis Scenario Capacity Added (MW) | I3: NYISO Draft Outlook | K3: Caiazza
B4: Resource | C4: Reference | D4: Scenaro 1 | E4: Scenaro 2 | F4: Scenaro 3 | G4: Scenaro 4 | I4: Added MW | K4: Good Enough
B5: Wind | C5: =Costs!V39 -> 1869.76 | D5: =Costs!W39 -> 4267.98 | E5: =Costs!X39 -> 3928.51 | F5: =Costs!Y39 -> 4208.95 | G5: =Costs!Z39 -> 4365.56 | I5: =NYISO!H16 -> 17102
B6: Wind Imports | C6: =Costs!V40 -> 0 | D6: =Costs!W40 -> 6104.31 | E6: =Costs!X40 -> 6396.79 | F6: =Costs!Y40 -> 6396.78 | G6: =Costs!Z40 -> 6396.79
B7: Wind_Offshore | C7: =Costs!V41 -> 9000 | D7: =Costs!W41 -> 14528.63 | E7: =Costs!X41 -> 14363.65 | F7: =Costs!Y41 -> 16756.49 | G7: =Costs!Z41 -> 15874.67 | I7: =NYISO!H17 -> 9000
B8: Solar | C8: =Costs!V42 -> 6803.05 | D8: =Costs!W42 -> 24270.79 | E8: =Costs!X42 -> 27359.37 | F8: =Costs!Y42 -> 25347.74 | G8: =Costs!Z42 -> 25550.86 | I8: =NYISO!H18 -> 4644
B9: Distributed Solar | C9: =Costs!V43 -> 5265.75 | D9: =Costs!W43 -> 13480.74 | E9: =Costs!X43 -> 13480.74 | F9: =Costs!Y43 -> 13480.73 | G9: =Costs!Z43 -> 13480.74 | I9: =NYISO!H19 -> 9082
B10: Battery Storage | C10: =Costs!V44 -> 4122.28 | D10: =Costs!W44 -> 9514.36 | E10: =Costs!X44 -> 9963.17 | F10: =Costs!Y44 -> 11457.02 | G10: =Costs!Z44 -> 10826.19 | I10: =NYISO!H20 -> 10045
B11: Pumped Storage | C11: =Costs!V45 -> 0 | D11: =Costs!W45 -> 0 | E11: =Costs!X45 -> 0 | F11: =Costs!Y45 -> 0 | G11: =Costs!Z45 -> 0 | I11: =NYISO!H11 -> 0
B12: Hydro Imports (New) | C12: =Costs!V46 -> 1250 | D12: =Costs!W46 -> 2550 | E12: =Costs!X46 -> 2550 | F12: =Costs!Y46 -> 2550 | G12: =Costs!Z46 -> 2550
B13: Hydro Imports (Existing) | C13: =Costs!V47 -> 0 | D13: =Costs!W47 -> 0 | E13: =Costs!X47 -> 0 | F13: =Costs!Y47 -> 0 | G13: =Costs!Z47 -> 0
B14: In-State Hydro | C14: =Costs!V48 -> 340.99 | D14: =Costs!W48 -> 344.33 | E14: =Costs!X48 -> 344.33 | F14: =Costs!Y48 -> 344.33 | G14: =Costs!Z48 -> 344.33 | I14: =NYISO!H15 -> 1209 | K14: =I14 -> 1209
B15: Nuclear | C15: =Costs!V49 -> -3573 | D15: =Costs!W49 -> -1505 | E15: =Costs!X49 -> -1505 | F15: =Costs!Y49 -> -1505 | G15: =Costs!Z49 -> -1505 | K15: =NYISO!N8 -> 5400
B16: Gas & FO | C16: =Costs!V50 -> -10069.12 | D16: =Costs!W50 -> -26388.1 | E16: =Costs!X50 -> -26388.1 | F16: =Costs!Y50 -> -26388.1 | G16: =Costs!Z50 -> -26388.1 | K16: =NYISO!N9 -> 20000
B17: Zero-Carbon Firm Resource | C17: =Costs!V51 -> 0 | D17: =Costs!W51 -> 22520.99 | E17: =Costs!X51 -> 21015.35 | F17: =Costs!Y51 -> 23521.59 | G17: =Costs!Z51 -> 23676.28 | I17: =NYISO!H13 -> 44750
B18: Hydrogen Production | C18: =Costs!V52 -> 0 | D18: =Costs!W52 -> 22520.99 | E18: =Costs!X52 -> 21015.35 | F18: =Costs!Y52 -> 23521.59 | G18: =Costs!Z52 -> 23676.28 | I18: =I17 -> 44750
B19: Biomass | C19: =Costs!V53 -> 0 | D19: =Costs!W53 -> 0 | E19: =Costs!X53 -> 0 | F19: =Costs!Y53 -> 0 | G19: =Costs!Z53 -> 0
C21: Integration Analysis Scenario Costs ($ million 2021) | I21: NYISO Draft Outlook | K21: Caiazza | N21: Integration Analysis Scenario Costs ($ million 2021)
B22: Resource | C22: Reference | D22: Scenaro 1 | E22: Scenaro 2 | F22: Scenaro 3 | G22: Scenaro 4 | I22: ($ million 2021) | K22: Good Enough | N22: Reference | O22: Scenaro 1 | P22: Scenaro 2 | Q22: Scenaro 3 | R22: Scenaro 4
B23: Wind | C23: =Costs!P6+Costs!P23 -> 4264.9226 | D23: =Costs!Q6+Costs!Q23 -> 9735.2624 | E23: =Costs!R6+Costs!R23 -> 8960.9313 | F23: =Costs!S6+Costs!S23 -> 9600.6149 | G23: =Costs!T6+Costs!T23 -> 9957.8424 | I23: =NYISO!J16 -> 39009.662 | K23: =NYISO!K16 -> 0
B24: Wind Imports | C24: =Costs!P7+Costs!P24 -> 0 | D24: =Costs!Q7+Costs!Q24 -> 0 | E24: =Costs!R7+Costs!R24 -> 0 | F24: =Costs!S7+Costs!S24 -> 0 | G24: =Costs!T7+Costs!T24 -> 0 | O24: =D24-$C24 -> 0 | P24: =E24-$C24 -> 0 | Q24: =F24-$C24 -> 0 | R24: =G24-$C24 -> 0
B25: Wind_Offshore | C25: =Costs!P8+Costs!P25 -> 54711 | D25: =Costs!Q8+Costs!Q25 -> 88319.542 | E25: =Costs!R8+Costs!R25 -> 87316.628 | F25: =Costs!S8+Costs!S25 -> 101862.7 | G25: =Costs!T8+Costs!T25 -> 96502.119 | I25: =NYISO!J17 -> 66330 | K25: =NYISO!K17 -> 0 | O25: =D25-$C25 -> 33608.542 | P25: =E25-$C25 -> 32605.628 | Q25: =F25-$C25 -> 47151.703 | R25: =G25-$C25 -> 41791.119
B26: Solar | C26: =Costs!P9+Costs!P26 -> 9231.7388 | D26: =Costs!Q9+Costs!Q26 -> 33055.34 | E26: =Costs!R9+Costs!R26 -> 37246.543 | F26: =Costs!S9+Costs!S26 -> 34516.761 | G26: =Costs!T9+Costs!T26 -> 34792.395 | I26: =NYISO!J18 -> 6301.908 | K26: =NYISO!K18 -> 0
B27: Distributed Solar | C27: =Costs!P10+Costs!P27 -> 7386.5391 | D27: =Costs!Q10+Costs!Q27 -> 19246.376 | E27: =Costs!R10+Costs!R27 -> 19246.376 | F27: =Costs!S10+Costs!S27 -> 19246.362 | G27: =Costs!T10+Costs!T27 -> 19246.376 | I27: =NYISO!J19 -> 12324.274 | K27: =NYISO!K19 -> 0 | O27: =D27-$C27 -> 11859.837 | P27: =E27-$C27 -> 11859.837 | Q27: =F27-$C27 -> 11859.823 | R27: =G27-$C27 -> 11859.837
B28: Battery Storage | C28: =Costs!P11+Costs!P28 -> 5530.9488 | D28: =Costs!Q11+Costs!Q28 -> 12675.715 | E28: =Costs!R11+Costs!R28 -> 13266.881 | F28: =Costs!S11+Costs!S28 -> 15287.462 | G28: =Costs!T11+Costs!T28 -> 14424.351 | I28: =NYISO!J20 -> 13269.445 | K28: =NYISO!K20 -> 0 | O28: =D28-$C28 -> 7144.7663 | P28: =E28-$C28 -> 7735.9322 | Q28: =F28-$C28 -> 9756.5127 | R28: =G28-$C28 -> 8893.4023
B29: Pumped Storage | C29: =Costs!P12+Costs!P29 -> 0 | D29: =Costs!Q12+Costs!Q29 -> 0 | E29: =Costs!R12+Costs!R29 -> 0 | F29: =Costs!S12+Costs!S29 -> 0 | G29: =Costs!T12+Costs!T29 -> 0
B30: Hydro Imports (New) | C30: =Costs!P13+Costs!P30 -> 0 | D30: =Costs!Q13+Costs!Q30 -> 0 | E30: =Costs!R13+Costs!R30 -> 0 | F30: =Costs!S13+Costs!S30 -> 0 | G30: =Costs!T13+Costs!T30 -> 0
B31: Hydro Imports (Existing) | C31: =Costs!P14+Costs!P31 -> 0 | D31: =Costs!Q14+Costs!Q31 -> 0 | E31: =Costs!R14+Costs!R31 -> 0 | F31: =Costs!S14+Costs!S31 -> 0 | G31: =Costs!T14+Costs!T31 -> 0
B32: In-State Hydro | C32: =Costs!P15+Costs!P32 -> 1413.0626 | D32: =Costs!Q15+Costs!Q32 -> 1426.9035 | E32: =Costs!R15+Costs!R32 -> 1426.9035 | F32: =Costs!S15+Costs!S32 -> 1426.9035 | G32: =Costs!T15+Costs!T32 -> 1426.9035 | I32: =NYISO!J15 -> 5010.096 | K32: =NYISO!P15 -> 5010.096
B33: Nuclear | C33: =Costs!P16+Costs!P33 -> 0 | D33: =Costs!Q16+Costs!Q33 -> 0 | E33: =Costs!R16+Costs!R33 -> 0 | F33: =Costs!S16+Costs!S33 -> 0 | G33: =Costs!T16+Costs!T33 -> 0 | K33: =NYISO!P8 -> 43416
B34: Gas & FO | C34: =Costs!P17+Costs!P34 -> 0 | D34: =Costs!Q17+Costs!Q34 -> 0 | E34: =Costs!R17+Costs!R34 -> 0 | F34: =Costs!S17+Costs!S34 -> 0 | G34: =Costs!T17+Costs!T34 -> 0 | K34: =NYISO!P10+NYISO!P11 -> 33628.5
B35: Zero-Carbon Firm Resource | C35: =Costs!P18+Costs!P35 -> 0 | D35: =Costs!Q18+Costs!Q35 -> 186030.38 | E35: =Costs!R18+Costs!R35 -> 30759.224 | F35: =Costs!S18+Costs!S35 -> 193278.7 | G35: =Costs!T18+Costs!T35 -> 195186.08 | I35: =NYISO!J13 -> 335535.5 | K35: =NYISO!K13 -> 0
B36: Hydrogen Production | C36: =Costs!P19+Costs!P36 -> 0 | D36: =Costs!Q19+Costs!Q36 -> 23276.261 | E36: =Costs!R19+Costs!R36 -> 21720.127 | F36: =Costs!S19+Costs!S36 -> 24310.417 | G36: =Costs!T19+Costs!T36 -> 24470.295 | I36: =NYISO!J14 -> 46250.749 | K36: =NYISO!K14 -> 0
B37: Biomass | C37: =Costs!P20+Costs!P37 -> 0 | D37: =Costs!Q20+Costs!Q37 -> 0 | E37: =Costs!R20+Costs!R37 -> 0 | F37: =Costs!S20+Costs!S37 -> 0 | G37: =Costs!T20+Costs!T37 -> 0
B38: Total | C38: =SUM(C23:C37) -> 82538.212 | D38: =SUM(D23:D37) -> 373765.78 | E38: =SUM(E23:E37) -> 219943.61 | F38: =SUM(F23:F37) -> 399529.93 | G38: =SUM(G23:G37) -> 396006.36 | I38: =SUM(I23:I37) -> 524031.63 | K38: =SUM(K23:K37) -> 82054.596 | O38: =SUM(O25:O37) -> 52613.145 | P38: =SUM(P25:P37) -> 52201.397 | Q38: =SUM(Q25:Q37) -> 68768.038 | R38: =SUM(R25:R37) -> 62544.358 | S38: =AVERAGE(P38:R38) -> 61171.264
B40: Cost for Additional Capacity Installed for replacement at expected lifetime | P40: 52.201397 | Q40: 68.768038 | R40: 62.544358
B42: Total | C42: =C38 -> 82538.212 | E42: =E38 -> 219943.61 | F42: =F38 -> 399529.93 | G42: =G38 -> 396006.36
B43: 2040 | C43: =Retirement!I37 -> 8706.8048 | E43: =Retirement!I10 -> 27927.908 | F43: =Retirement!I19 -> 25698.167 | G43: =Retirement!I28 -> 24323.595
B44: 2050 | C44: =Retirement!L37 -> 72268.378 | E44: =Retirement!L10 -> 278561.01 | F44: =Retirement!L19 -> 304427.54 | G44: =Retirement!L28 -> 246152.33
...

Sheet Sheet5
E1: Fossil Additions per Gold Book
E3: =SUM(E4:E14) -> 3091
D4: 2011 | E4: 549
D5: 2012 | E5: 494
D6: 2013
D7: 2014 | E7: 167
D8: 2015
D9: 2016
D10: 2017 | E10: 104
D11: 2018 | E11: 744
D12: 2019 | E12: 1020
D13: 2020
D14: 2021 | E14: 13

Sheet Retirement
B1: Cost for Additional Capacity Installed for replacement at expected lifetime
C3: Replacement Capacity (MW) | H3: Total Cost | I3: Replacement Cost
B4: Scenario 2 | C4: 2025 | D4: 2030 | E4: 2035 | F4: 2040 | G4: Total | H4: (2021$/kW) | I4: ($ million)
B5: Zero-Carbon Firm Resource | C5: 0 | D5: 0 | E5: 0 | F5: 0 | G5: =SUM(C5:F5) -> 0 | H5: =Costs!N18+Costs!N19 -> 8531.5363 | I5: =G5*H5/1000 -> 0 | K5: 21015.35 | L5: =H5*K5/1000 -> 179293.22
B6: Wind | F6: 1916.9 | G6: =SUM(C6:F6) -> 1916.9 | H6: 2281 | I6: =G6*H6/1000 -> 4372.4489 | K6: 3814.08 | L6: =H6*K6/1000 -> 8699.9165
B7: Wind_Offshore | F7: 0 | G7: =SUM(C7:F7) -> 0 | H7: 7370 | I7: =G7*H7/1000 -> 0 | K7: 6200 | L7: =H7*K7/1000 -> 45694
B8: Solar | F8: 14438.01 | G8: =SUM(C8:F8) -> 14438.01 | H8: 1357 | I8: =G8*H8/1000 -> 19592.38 | K8: 22639.48 | L8: =H8*K8/1000 -> 30721.774
B9: Battery Storage | D9: 750 | E9: 750.01 | F9: 1500.05 | G9: =SUM(C9:F9) -> 3000.06 | H9: 1321 | I9: =G9*H9/1000 -> 3963.0793 | K9: 10713.17 | L9: =H9*K9/1000 -> 14152.098
H10: Total | I10: =SUM(I5:I9) -> 27927.908 | L10: =SUM(L5:L9) -> 278561.01
C12: Replacement Capacity (MW) | H12: Total Cost | I12: Replacement Cost
B13: Scenario 3 | C13: 2025 | D13: 2030 | E13: 2035 | F13: 2040 | G13: Total | H13: (2021$/kW) | I13: ($ million)
B14: Zero-Carbon Firm Resource | C14: 0 | D14: 0 | E14: 0 | F14: 0 | G14: =SUM(C14:F14) -> 0 | H14: =H5 -> 8531.5363 | I14: =G14*H14/1000 -> 0 | K14: 23521.59 | L14: =H14*K14/1000 -> 200675.3
B15: Wind | F15: 1916.9 | G15: =SUM(C15:F15) -> 1916.9 | H15: =H6 -> 2281 | I15: =G15*H15/1000 -> 4372.4489 | K15: 4600.06 | L15: =H15*K15/1000 -> 10492.737
B16: Wind_Offshore | F16: 0 | G16: =SUM(C16:F16) -> 0 | H16: =H7 -> 7370 | I16: =G16*H16/1000 -> 0 | K16: 6600 | L16: =H16*K16/1000 -> 48642
B17: Solar | F17: 12794.87 | G17: =SUM(C17:F17) -> 12794.87 | H17: =H8 -> 1357 | I17: =G17*H17/1000 -> 17362.639 | K17: 20996.34 | L17: =H17*K17/1000 -> 28492.033
B18: Battery Storage | D18: 750.02 | E18: 750 | F18: 1500.04 | G18: =SUM(C18:F18) -> 3000.06 | H18: =H9 -> 1321 | I18: =G18*H18/1000 -> 3963.0793 | K18: 12207.02 | L18: =H18*K18/1000 -> 16125.473
H19: Total | I19: =SUM(I14:I18) -> 25698.167 | L19: =SUM(L14:L18) -> 304427.54
C21: Replacement Capacity (MW) | H21: Total Cost | I21: Replacement Cost
B22: Scenario 4 | C22: 2025 | D22: 2030 | E22: 2035 | F22: 2040 | G22: Total | H22: (2021$/kW) | I22: ($ million)
B23: Zero-Carbon Firm Resource | C23: 0 | D23: 0 | E23: 0 | F23: 0 | G23: =SUM(C23:F23) -> 0 | H23: =H14 -> 8531.5363 | I23: =G23*H23/1000 -> 0 | K23: 23676.28 | L23: =H23*K23/1000 -> 201995.04
B24: Wind | F24: 1916.9 | G24: =SUM(C24:F24) -> 1916.9 | H24: =H15 -> 2281 | I24: =G24*H24/1000 -> 4372.4489 | K24: 3859.26 | L24: =H24*K24/1000 -> 8802.9721
B25: Wind_Offshore | F25: 0 | G25: =SUM(C25:F25) -> 0 | H25: =H16 -> 7370 | I25: =G25*H25/1000 -> 0 | L25: =H25*K25/1000 -> 0
B26: Solar | F26: 11781.96 | G26: =SUM(C26:F26) -> 11781.96 | H26: =H17 -> 1357 | I26: =G26*H26/1000 -> 15988.12 | K26: 6600 | L26: =H26*K26/1000 -> 8956.2
B27: Battery Storage | D27: 750 | E27: 750 | F27: 1500.02 | G27: =SUM(C27:F27) -> 3000.02 | H27: =H18 -> 1321 | I27: =G27*H27/1000 -> 3963.0264 | K27: 19983.43 | L27: =H27*K27/1000 -> 26398.111
H28: Total | I28: =SUM(I23:I27) -> 24323.595 | K28: 11576.19 | L28: =SUM(L23:L27) -> 246152.33
C30: Replacement Capacity (MW) | H30: Total Cost | I30: Replacement Cost
B31: Reference Case | C31: 2025 | D31: 2030 | E31: 2035 | F31: 2040 | G31: Total | H31: (2021$/kW) | I31: ($ million)
B32: Zero-Carbon Firm Resource | C32: 0 | D32: 0 | E32: 0 | F32: 0 | G32: =SUM(C32:F32) -> 0 | H32: =H23 -> 8531.5363 | I32: =G32*H32/1000 -> 0 | L32: =H32*K32/1000 -> 0
B33: Wind | F33: 1916.9 | G33: =SUM(C33:F33) -> 1916.9 | H33: =H24 -> 2281 | I33: =G33*H33/1000 -> 4372.4489 | K33: 3786.66 | L33: =H33*K33/1000 -> 8637.3715
B34: Wind_Offshore | F34: 0 | G34: =SUM(C34:F34) -> 0 | H34: =H25 -> 7370 | I34: =G34*H34/1000 -> 0 | K34: 6200 | L34: =H34*K34/1000 -> 45694
B35: Solar | F35: 273.64 | G35: =SUM(C35:F35) -> 273.64 | H35: =H26 -> 1357 | I35: =G35*H35/1000 -> 371.32948 | K35: 8475.11 | L35: =H35*K35/1000 -> 11500.724
B36: Battery Storage | D36: 750 | E36: 750.03 | F36: 1499.99 | G36: =SUM(C36:F36) -> 3000.02 | H36: =H27 -> 1321 | I36: =G36*H36/1000 -> 3963.0264 | K36: 4872.28 | L36: =H36*K36/1000 -> 6436.2819
H37: Total | I37: =SUM(I32:I36) -> 8706.8048 | L37: =SUM(L32:L36) -> 72268.378
B87: Additional Capacity Installed for replacement at expected lifetime
B89: Scenario 2 | C89: 2025 | D89: 2030 | E89: 2035 | F89: 2040 | G89: Total
B90: Wind | F90: 1916.9 | G90: 3814.08
B91: Wind_Offshore | F91: 0 | G91: 6200
B92: Solar | F92: 14438.01 | G92: 22639.48
B93: Battery Storage | D93: 750 | E93: 750.01 | F93: 1500.05 | G93: 10713.17
B95: Scenario 3 | C95: 2025 | D95: 2030 | E95: 2035 | F95: 2040 | G95: Total
...
