Workbook
Name co2_mass: Data!$D$2:$D$7517
Name country: Data!$B$2:$B$7517
Name gdp: Data!$I$2:$I$7517
Name GrossYes: Plot!$B$1
Name iso_code: Data!$A$2:$A$7517
Name methane: Data!$F$2:$F$7517
Name nitrous_oxide: Data!$G$2:$G$7517
Name population: Data!$H$2:$H$7517
Name primary_energy_consumption: Data!$J$2:$J$7517
Name total_ghg: Data!$E$2:$E$7517
Name year: Data!$C$2:$C$7517

Sheet Documentation
A1: https://github.com/owid/co2-data
A2: Our complete CO2 and Greenhouse Gas Emissions dataset is available in CSV, XLSX, and JSON formats.
A3: Downloaded the XLSX format data and then processed it as shown below. Those records are in the Data tab
B5: 1990 to present data were extracted
B6: Columns in original data set | C6: Deleted
B7: iso_code
B8: country
B9: year
B10: co2
B11: consumption_co2 | C11: Delete
B12: co2_growth_prct | C12: Delete
B13: co2_growth_abs | C13: Delete
B14: trade_co2 | C14: Delete
B15: co2_per_capita | C15: Delete
B16: consumption_co2_per_capita | C16: Delete
B17: share_global_co2 | C17: Delete
B18: cumulative_co2 | C18: Delete
B19: share_global_cumulative_co2 | C19: Delete
B20: co2_per_gdp | C20: Delete
B21: consumption_co2_per_gdp | C21: Delete
B22: co2_per_unit_energy | C22: Delete
... B53: share_global_cumulative_other_co2 | C53: Delete
B54: total_ghg
B55: ghg_per_capita | C55: Delete
B56: methane
B57: methane_per_capita | C57: Delete
B58: nitrous_oxide
B59: nitrous_oxide_per_capita | C59: Delete
B60: population
B61: gdp
B62: primary_energy_consumption
B63: energy_per_capita | C63: Delete
B64: energy_per_gdp | C64: Delete
A66: GHG Emissions in the GHG tab
B67: Extracted the GHG data by country and year
A69: CO2 Emissions in the CO2 tab
B70: Extracted theCO2 data by country and year
A72: Summary tab
B73: Listed the World GHG and CO2 by year
B74: Calculated the annual % trend
B75: Calculated the five year average of the annual % trend
B76: Calculated the 3-year % trend

Sheet Oct 24 data
A1: country | B1: year | C1: iso_code | D1: population | E1: gdp | F1: co2 | G1: co2_growth_abs | H1: co2_growth_prct | I1: methane | J1: nitrous_oxide | K1: primary_energy_consumption | L1: total_ghg
A2: World | B2: 1990 | D2: 5327523652 | E2: 43018245636096 | F2: 22749.574 | G2: 342.742 | H2: 1.53 | I2: 6909.03 | J2: 2368.97 | K2: 95527.289 | L2: 32523.58
A3: World | B3: 1991 | D3: 5414283749 | F3: 23238.102 | G3: 488.528 | H3: 2.15 | I3: 6918.61 | J3: 2356.09 | K3: 96214.797 | L3: 32670.51
A4: World | B4: 1992 | D4: 5498914070 | F4: 22569.625 | G4: -668.478 | H4: -2.88 | I4: 6895.23 | J4: 2348.92 | K4: 96820.18 | L4: 32588.09
A5: World | B5: 1993 | D5: 5581591553 | F5: 22803.496 | G5: 233.871 | H5: 1.04 | I5: 6914.18 | J5: 2332.62 | K5: 97580.852 | L5: 32729.061
A6: World | B6: 1994 | D6: 5663144159 | F6: 22964.584 | G6: 161.088 | H6: 0.71 | I6: 6958.84 | J6: 2424.1 | K6: 98826.328 | L6: 33015.039
A7: World | B7: 1995 | D7: 5744206433 | F7: 23453.945 | G7: 489.361 | H7: 2.13 | I7: 7032.09 | J7: 2479.91 | K7: 101049.02 | L7: 33805.609
A8: World | B8: 1996 | D8: 5824885327 | F8: 24154.961 | G8: 701.017 | H8: 2.99 | I8: 7037.11 | J8: 2493.52 | K8: 103942.61 | L8: 34179.328
A9: World | B9: 1997 | D9: 5905038800 | F9: 24300.551 | G9: 145.589 | H9: 0.6 | I9: 7268.6 | J9: 2480.57 | K9: 104997.44 | L9: 35537.18
A10: World | B10: 1998 | D10: 5984787103 | F10: 24206.271 | G10: -94.279 | H10: -0.39 | I10: 7159.87 | J10: 2510.94 | K10: 105672.41 | L10: 35099.211
A11: World | B11: 1999 | D11: 6064231861 | F11: 24518.963 | G11: 312.691 | H11: 1.29 | I11: 7112.04 | J11: 2498.22 | K11: 107512.85 | L11: 35101.898
A12: World | B12: 2000 | D12: 6143769179 | E12: 59866659946496 | F12: 25234.207 | G12: 715.245 | H12: 2.92 | I12: 7124 | J12: 2490.42 | K12: 110244.91 | L12: 35835.48
A13: World | B13: 2001 | D13: 6222904741 | F13: 25451.055 | G13: 216.847 | H13: 0.86 | I13: 7062.72 | J13: 2512.18 | K13: 111321.27 | L13: 35884.07
A14: World | B14: 2002 | D14: 6302054198 | F14: 26039.191 | G14: 588.137 | H14: 2.31 | I14: 7199.6 | J14: 2570.02 | K14: 113759.44 | L14: 36839.691
A15: World | B15: 2003 | D15: 6381469104 | F15: 27366.723 | G15: 1327.532 | H15: 5.1 | I15: 7262.51 | J15: 2604.75 | K15: 117802.49 | L15: 37803.859
A16: World | B16: 2004 | D16: 6461446384 | F16: 28627.533 | G16: 1260.81 | H16: 4.61 | I16: 7505.18 | J16: 2687.85 | K16: 123603.01 | L16: 39655.309
A17: World | B17: 2005 | D17: 6542196639 | F17: 29602.777 | G17: 975.244 | H17: 3.41 | I17: 7556.28 | J17: 2701.33 | K17: 127564.92 | L17: 40569.328
A18: World | B18: 2006 | D18: 6623810558 | F18: 30583.529 | G18: 980.753 | H18: 3.31 | I18: 7749.95 | J18: 2733.12 | K18: 131191.03 | L18: 42072.129
A19: World | B19: 2007 | D19: 6706242339 | F19: 31493.742 | G19: 910.211 | H19: 2.98 | I19: 7729.96 | J19: 2802.95 | K19: 135253.45 | L19: 42858.961
A20: World | B20: 2008 | D20: 6789387331 | F20: 32069.443 | G20: 575.702 | H20: 1.83 | I20: 7782.22 | J20: 2775.36 | K20: 136813.22 | L20: 43139.102
A21: World | B21: 2009 | D21: 6873068664 | F21: 31607.043 | G21: -462.402 | H21: -1.44 | I21: 7812.91 | J21: 2769.55 | K21: 134727.47 | L21: 43089.449
A22: World | B22: 2010 | D22: 6957128214 | E22: 89807296397312 | F22: 33343.301 | G22: 1736.258 | H22: 5.49 | I22: 7909.88 | J22: 2845.37 | K22: 141299.2 | L22: 44877.512
A23: World | B23: 2011 | D23: 7041500268 | F23: 34468.449 | G23: 1125.151 | H23: 3.37 | I23: 8050.43 | J23: 2914.6 | K23: 144693.84 | L23: 45041.809
A24: World | B24: 2012 | D24: 7126135142 | F24: 34974.074 | G24: 505.624 | H24: 1.47 | I24: 8141.11 | J24: 2937.79 | K24: 146715.5 | L24: 45597.141
A25: World | B25: 2013 | D25: 7210890646 | F25: 35283.027 | G25: 308.95 | H25: 0.88 | I25: 8109.3 | J25: 2918.25 | K25: 149322.75 | L25: 46238.609
A26: World | B26: 2014 | D26: 7295600711 | F26: 35534.441 | G26: 251.418 | H26: 0.71 | I26: 8266.81 | J26: 2963.01 | K26: 150977.92 | L26: 46881.781
A27: World | B27: 2015 | D27: 7380108068 | F27: 35496.406 | G27: -38.037 | H27: -0.11 | I27: 8315.91 | J27: 2995.51 | K27: 152260.59 | L27: 46871.77
A28: World | B28: 2016 | D28: 7464334587 | E28: 107134276599808 | F28: 35452.461 | G28: -43.947 | H28: -0.12 | I28: 8227.18 | J28: 3027.26 | K28: 154418.78 | L28: 47531.68
A29: World | B29: 2017 | D29: 7548172666 | E29: 110430655610880 | F29: 35925.738 | G29: 473.278 | H29: 1.33 | I29: 8333.4 | J29: 3087.4 | K29: 157406.34 | L29: 48251.879
A30: World | B30: 2018 | D30: 7631081269 | E30: 113630171365376 | F30: 36646.141 | G30: 720.402 | H30: 2.01 | I30: 8489.97 | J30: 3072.53 | K30: 161772.62 | L30: 49368.039
A31: World | B31: 2019 | D31: 7713458496 | F31: 36702.504 | G31: 56.363 | H31: 0.15 | I31: 8609.92 | J31: 3096.79 | K31: 163173.95 | L31: 49758.23
A32: World | B32: 2020 | D32: 7794788860 | F32: 34807.258 | G32: -1895.244 | H32: -5.16 | K32: 156669.94

Sheet Data
A1: iso_code | B1: country | C1: year | D1: co2 | E1: total_ghg | F1: methane | G1: nitrous_oxide | H1: population | I1: gdp | J1: primary_energy_consumption
A2: AFG | B2: Afghanistan | C2: 1990 | D2: 2.603 | E2: 15.14 | F2: 8.97 | G2: 3.25 | H2: 12412311 | I2: 13065984000 | J2: 31.627
B3: Africa | C3: 1990 | D3: 659.295 | H3: 630349685 | J3: 2607.463
A4: ALB | B4: Albania | C4: 1990 | D4: 5.445 | E4: 11.43 | F4: 3.67 | G4: 1.59 | H4: 3286070 | I4: 12947848774 | J4: 40.289
A5: DZA | B5: Algeria | C5: 1990 | D5: 76.738 | E5: 96.03 | F5: 22.14 | G5: 5 | H5: 25758872 | I5: 117843183304 | J5: 314.95
A6: AND | B6: Andorra | C6: 1990 | D6: 0.407 | E6: 0.41 | F6: 0.02 | G6: 0 | H6: 54508
A7: AGO | B7: Angola | C7: 1990 | D7: 5.09 | E7: 150.59 | F7: 39.07 | G7: 18.43 | H7: 11848385 | I7: 11482502704 | J7: 23.212
A8: AIA | B8: Anguilla | C8: 1990 | D8: 0.051 | H8: 8894
A9: ATA | B9: Antarctica | C9: 1990 | D9: 0.011
A10: ATG | B10: Antigua and Barbuda | C10: 1990 | D10: 0.22 | E10: 0.41 | F10: 0.13 | G10: 0.02 | H10: 62533 | J10: 1.751
A11: ARG | B11: Argentina | C11: 1990 | D11: 112.079 | E11: 329.74 | F11: 114 | G11: 37.97 | H11: 32618648 | I11: 338751144000 | J11: 513.207
A12: ARM | B12: Armenia | C12: 1990 | D12: 8.962 | E12: 24.39 | F12: 3.59 | G12: 0.87 | H12: 3538164 | I12: 32650114827
A13: ABW | B13: Aruba | C13: 1990 | D13: 0.487 | H13: 62152 | J13: 2.294
B14: Asia | C14: 1990 | D14: 6625.838 | H14: 3225332306
B15: Asia (excl. China & India) | C15: 1990 | D15: 3562.465
A16: AUS | B16: Australia | C16: 1990 | D16: 279.365 | E16: 511.2 | F16: 162.19 | G16: 82.27 | H16: 16960600 | I16: 464136588000 | J16: 1057.157
A17: AUT | B17: Austria | C17: 1990 | D17: 62.14 | E17: 64.22 | F17: 11.57 | G17: 4.9 | H17: 7723954 | I17: 207979124290 | J17: 329.538
A18: AZE | B18: Azerbaijan | C18: 1990 | D18: 51.38 | E18: 75.56 | F18: 16.39 | G18: 2.84 | H18: 7242758 | I18: 53235602172 | J18: 260.006
A19: BHS | B19: Bahamas | C19: 1990 | D19: 2.023 | E19: 0.81 | F19: 0.24 | G19: 0.07 | H19: 256226 | J19: 12.023
A20: BHR | B20: Bahrain | C20: 1990 | D20: 12.406 | E20: 14.08 | F20: 3.17 | G20: 0.04 | H20: 495927 | I20: 3274113992 | J20: 75.16
A21: BGD | B21: Bangladesh | C21: 1990 | D21: 14.082 | E21: 116.29 | F21: 64.7 | G21: 16.45 | H21: 103171957 | I21: 112105270906 | J21: 73.698
A22: BRB | B22: Barbados | C22: 1990 | D22: 1.07 | E22: 3.18 | F22: 2.07 | G22: 0.06 | H22: 260933 | I22: 3404428000 | J22: 5.506
A23: BLR | B23: Belarus | C23: 1990 | D23: 103.758 | E23: 126.04 | F23: 20.46 | G23: 17.61 | H23: 10151135 | I23: 116974867000 | J23: 444.569
A24: BEL | B24: Belgium | C24: 1990 | D24: 120.308 | E24: 126.7 | F24: 13.23 | G24: 8.16 | H24: 10006545 | I24: 273278725720 | J24: 627.306
A25: BLZ | B25: Belize | C25: 1990 | D25: 0.311 | E25: 13.21 | F25: 6.81 | G25: 0.22 | H25: 187554 | J25: 1.424
A26: BEN | B26: Benin | C26: 1990 | D26: 0.631 | E26: 19.99 | F26: 2.92 | G26: 1.88 | H26: 4978489 | I26: 8723574323 | J26: 2.37
A27: BMU | B27: Bermuda | C27: 1990 | D27: 0.502 | H27: 61630 | J27: 2.731
A28: BTN | B28: Bhutan | C28: 1990 | D28: 0.128 | E28: -2.93 | F28: 0.87 | G28: 0.18 | H28: 530801 | J28: 4.806
A29: BOL | B29: Bolivia | C29: 1990 | D29: 5.727 | E29: 110.13 | F29: 19.56 | G29: 7.52 | H29: 6864839 | I29: 23021797800 | J29: 26.807
A30: BES | B30: Bonaire Sint Eustatius and Saba | C30: 1990 | D30: 0.247 | H30: 13010
A31: BIH | B31: Bosnia and Herzegovina | C31: 1990 | D31: 19.314 | E31: 22.24 | F31: 5.08 | G31: 1.14 | H31: 4463422 | I31: 26068545878
A32: BWA | B32: Botswana | C32: 1990 | D32: 2.7 | E32: 61.18 | F32: 15.53 | G32: 6.27 | H32: 1286756 | I32: 6660711404 | J32: 8.887
A33: BRA | B33: Brazil | C33: 1990 | D33: 218.658 | E33: 1496.21 | F33: 301.97 | G33: 112.64 | H33: 149003225 | I33: 1185475140000 | J33: 1488.864
A34: VGB | B34: British Virgin Islands | C34: 1990 | D34: 0.066 | H34: 17489 | J34: 0.194
A35: BRN | B35: Brunei | C35: 1990 | D35: 6.188 | E35: 15.83 | F35: 9.88 | G35: 0.09 | H35: 258714 | J35: 20.57
A36: BGR | B36: Bulgaria | C36: 1990 | D36: 76.699 | E36: 89.99 | F36: 16.42 | G36: 8.4 | H36: 8841466 | I36: 79352517816 | J36: 322.79
A37: BFA | B37: Burkina Faso | C37: 1990 | D37: 0.583 | E37: 22.86 | F37: 7 | G37: 4.64 | H37: 8811033 | I37: 10752296154 | J37: 2.039
A38: BDI | B38: Burundi | C38: 1990 | D38: 0.209 | E38: 12.45 | F38: 1.99 | G38: 1.28 | H38: 5438959 | I38: 6041848440 | J38: 1.556
A39: KHM | B39: Cambodia | C39: 1990 | D39: 1.26 | E39: 47.37 | F39: 15.73 | G39: 3.98 | H39: 8975597 | I39: 13119770664 | J39: 2.032
A40: CMR | B40: Cameroon | C40: 1990 | D40: 2.605 | E40: 136.7 | F40: 11.55 | G40: 6.2 | H40: 11780086 | I40: 22937075350 | J40: 22.29
A41: CAN | B41: Canada | C41: 1990 | D41: 458.007 | E41: 662.91 | F41: 104.81 | G41: 46.86 | H41: 27541323 | I41: 835996829200 | J41: 2949.8
A42: CPV | B42: Cape Verde | C42: 1990 | D42: 0.095 | E42: -0.17 | F42: 0.09 | G42: 0.06 | H42: 337953 | I42: 668100000 | J42: 0.344
A43: CAF | B43: Central African Republic | C43: 1990 | D43: 0.183 | E43: 52.32 | F43: 17.64 | G43: 20.47 | H43: 2806740 | I43: 3155955000 | J43: 1.226
A44: TCD | B44: Chad | C44: 1990 | D44: 0.377 | E44: 25 | F44: 9.98 | G44: 6.81 | H44: 5963250 | I44: 4042256412 | J44: 1.42
A45: CHL | B45: Chile | C45: 1990 | D45: 32.891 | E45: 35.56 | F45: 12.45 | G45: 4.9 | H45: 13274617 | I45: 133955187000 | J45: 153.679
A46: CHN | B46: China | C46: 1990 | D46: 2484.855 | E46: 2901.78 | F46: 732.46 | G46: 311.88 | H46: 1176883681 | I46: 3385121670000 | J46: 7972.531
A47: CXR | B47: Christmas Island | C47: 1990
A48: COL | B48: Colombia | C48: 1990 | D48: 56.898 | E48: 273.46 | F48: 58.66 | G48: 18.21 | H48: 33102569 | I48: 253538201000 | J48: 246.728
A49: COM | B49: Comoros | C49: 1990 | D49: 0.066 | E49: 0.33 | F49: 0.17 | G49: 0.04 | H49: 411598 | I49: 469560000 | J49: 0.266
A50: COG | B50: Congo | C50: 1990 | D50: 1.008 | E50: 38.04 | F50: 8.94 | G50: 2.99 | H50: 2356740 | I50: 8597207794 | J50: 5.541
A51: COK | B51: Cook Islands | C51: 1990 | D51: 0.04 | E51: 0 | F51: 0.01 | G51: 0 | H51: 18195 | J51: 0.184
A52: CRI | B52: Costa Rica | C52: 1990 | D52: 2.913 | E52: 15.28 | F52: 4.36 | G52: 1.69 | H52: 3119436 | I52: 22906633225 | J52: 20.988
A53: CIV | B53: Cote d'Ivoire | C53: 1990 | D53: 4.782 | E53: 5.08 | F53: 4.36 | G53: 2.75 | H53: 11924873 | I53: 26018496791
A54: HRV | B54: Croatia | C54: 1990 | D54: 22.978 | E54: 17.07 | F54: 4.12 | G54: 3.01 | H54: 4776370 | I54: 58374076956 | J54: 99.771
A55: CUB | B55: Cuba | C55: 1990 | D55: 29.648 | E55: 19.78 | F55: 12.72 | G55: 6.37 | H55: 10596986 | I55: 49943661000 | J55: 145.921
A56: CUW | B56: Curacao | C56: 1990 | D56: 4.624 | H56: 146679
A57: CYP | B57: Cyprus | C57: 1990 | D57: 4.652 | E57: 5.36 | F57: 0.53 | G57: 0.32 | H57: 766616 | I57: 10601790440 | J57: 19.275
A58: CZE | B58: Czechia | C58: 1990 | D58: 164.203 | E58: 169.71 | F58: 23.91 | G58: 8.15 | H58: 10340877 | I58: 146168289492 | J58: 545.785
A59: COD | B59: Democratic Republic of Congo | C59: 1990 | D59: 4.249 | E59: 203.64 | F59: 35.91 | G59: 17.89 | H59: 34612023 | I59: 31745583354 | J59: 29.658
A60: DNK | B60: Denmark | C60: 1990 | D60: 53.573 | E60: 68.23 | F60: 8.86 | G60: 7.19 | H60: 5141117 | I60: 151205739048 | J60: 201.76
A61: DJI | B61: Djibouti | C61: 1990 | D61: 0.275 | E61: 0.99 | F61: 0.46 | G61: 0.2 | H61: 590393 | I61: 1151692000 | J61: 6.888
A62: DMA | B62: Dominica | C62: 1990 | D62: 0.059 | E62: 0.14 | F62: 0.1 | G62: 0.03 | H62: 70422 | I62: 275730000 | J62: 0.26
A63: DOM | B63: Dominican Republic | C63: 1990 | D63: 8.936 | E63: 5.92 | F63: 6.13 | G63: 1.93 | H63: 7133491 | I63: 27899937000 | J63: 40.612
B64: EU-27 | C64: 1990 | D64: 3863.411 | E64: 4229.75 | F64: 618.23 | G64: 335.84
B65: EU-28 | C65: 1990 | D65: 4463.754
A66: ECU | B66: Ecuador | C66: 1990 | D66: 16.458 | E66: 76.17 | F66: 14.62 | G66: 3.62 | H66: 10230931 | I66: 64188501956 | J66: 80.085
A67: EGY | B67: Egypt | C67: 1990 | D67: 75.218 | E67: 129.33 | F67: 24.98 | G67: 15.51 | H67: 56134478 | I67: 227979910840 | J67: 394.686
A68: SLV | B68: El Salvador | C68: 1990 | D68: 2.475 | E68: 8.04 | F68: 3.49 | G68: 1.29 | H68: 5270074 | I68: 17260965204 | J68: 15.366
A69: GNQ | B69: Equatorial Guinea | C69: 1990 | D69: 0.062 | E69: 5.53 | F69: 0.12 | G69: 0.02 | H69: 419188 | I69: 917854000 | J69: 0.509
A70: ERI | B70: Eritrea | C70: 1990 | E70: 5.03 | F70: 2.47 | G70: 1.23 | H70: 2258649
A71: EST | B71: Estonia | C71: 1990 | D71: 37.65 | E71: 35.16 | F71: 2.28 | G71: 1.99 | H71: 1565246 | I71: 27066096534 | J71: 120.417
A72: SWZ | B72: Eswatini | C72: 1990 | D72: 0.96 | E72: 2.38 | F72: 1.32 | G72: 0.52 | H72: 822423 | I72: 3420534874 | J72: 3.006
A73: ETH | B73: Ethiopia | C73: 1990 | D73: 2.987 | E73: 102.73 | F73: 45.11 | G73: 24.45 | H73: 47887864 | I73: 4.503092e+10 | J73: 15.279
B74: Europe | C74: 1990 | D74: 8015.589 | H74: 721627205 | J74: 24981.206
B75: Europe (excl. EU-27) | C75: 1990 | D75: 4171.84
B76: Europe (excl. EU-28) | C76: 1990 | D76: 3571.496
A77: FRO | B77: Faeroe Islands | C77: 1990 | D77: 0.703 | H77: 47276 | J77: 2.902
A78: FJI | B78: Fiji | C78: 1990 | D78: 0.805 | E78: 0.22 | F78: 0.76 | G78: 0.35 | H78: 728575 | J78: 5.41
A79: FIN | B79: Finland | C79: 1990 | D79: 56.968 | E79: 45.1 | F79: 8.35 | G79: 6.56 | H79: 4996220 | I79: 134055211004 | J79: 319.763
A80: FRA | B80: France | C80: 1990 | D80: 392.998 | E80: 466.55 | F80: 77.48 | G80: 61.17 | H80: 56666861 | I80: 1636207672000 | J80: 2628.647
B81: French Equatorial Africa | C81: 1990
A82: GUF | B82: French Guiana | C82: 1990 | D82: 0.71 | H82: 115784 | J82: 2.811
A83: PYF | B83: French Polynesia | C83: 1990 | D83: 0.44 | H83: 199906 | J83: 3.984
B84: French West Africa | C84: 1990
A85: GAB | B85: Gabon | C85: 1990 | D85: 4.485 | E85: 8.73 | F85: 2.44 | G85: 1.31 | H85: 949493 | I85: 7172590264 | J85: 12.519
A86: GMB | B86: Gambia | C86: 1990 | D86: 0.198 | E86: 3.95 | F86: 3.93 | G86: 0.29 | H86: 955595 | I86: 1331400000 | J86: 0.788
A87: GEO | B87: Georgia | C87: 1990 | D87: 15.945 | E87: 47.97 | F87: 16.23 | G87: 2.44 | H87: 5410400 | I87: 65874152980
A88: DEU | B88: Germany | C88: 1990 | D88: 1052.477 | E88: 1107.23 | F88: 131.62 | G88: 65.83 | H88: 79053984 | I88: 2015547584054 | J88: 4179.821
A89: GHA | B89: Ghana | C89: 1990 | D89: 3.791 | E89: 34.35 | F89: 6.53 | G89: 4.01 | H89: 14773274 | I89: 26095563400 | J89: 28.473
A90: GRC | B90: Greece | C90: 1990 | D90: 83.426 | E90: 94.72 | F90: 10.73 | G90: 7.67 | H90: 10225990 | I90: 161708982292 | J90: 291.409
A91: GRL | B91: Greenland | C91: 1990 | D91: 0.625 | H91: 55604 | J91: 2.277
A92: GRD | B92: Grenada | C92: 1990 | D92: 0.106 | E92: 1.84 | F92: 1.72 | G92: 0.01 | H92: 96328 | J92: 0.526
A93: GLP | B93: Guadeloupe | C93: 1990 | D93: 1.316 | H93: 389251 | J93: 6.043
A94: GTM | B94: Guatemala | C94: 1990 | D94: 4.972 | E94: 28.93 | F94: 6.86 | G94: 2.88 | H94: 9263820 | I94: 46309390000 | J94: 22.973
A95: GIN | B95: Guinea | C95: 1990 | D95: 1.004 | E95: 26.79 | F95: 7.32 | G95: 3.13 | H95: 6352282 | I95: 4999406832 | J95: 6.365
A96: GNB | B96: Guinea-Bissau | C96: 1990 | D96: 0.172 | E96: 3.17 | F96: 0.97 | G96: 0.56 | H96: 975265 | I96: 1261819930 | J96: 1.132
A97: GUY | B97: Guyana | C97: 1990 | D97: 1.129 | E97: 22.37 | F97: 3.58 | G97: 1.06 | H97: 743306 | J97: 2.728
A98: HTI | B98: Haiti | C98: 1990 | D98: 0.995 | E98: 5.18 | F98: 3.07 | G98: 0.97 | H98: 7037915 | I98: 10773450000 | J98: 4.035
A99: HND | B99: Honduras | C99: 1990 | D99: 2.417 | E99: 53.49 | F99: 8.45 | G99: 2.21 | H99: 4955302 | I99: 14201085440 | J99: 16.897
A100: HKG | B100: Hong Kong | C100: 1990 | D100: 27.148 | H100: 5727942 | I100: 159035333640 | J100: 139.358
...

Sheet GHG
A1: Year | B1: World | C1: Afghanistan | D1: Albania | E1: Algeria | F1: Andorra | G1: Angola | H1: Anguilla | I1: Antarctica | J1: Antigua and Barbuda | K1: Argentina | L1: Armenia | M1: Aruba | N1: Australia | O1: Austria | P1: Azerbaijan | Q1: Bahamas | R1: Bahrain | S1: Bangladesh | T1: Barbados | U1: Belarus | V1: Belgium | W1: Belize | X1: Benin | Y1: Bermuda | Z1: Bhutan | AA1: Bolivia | AB1: Bonaire Sint Eustatius and Saba | AC1: Bosnia and Herzegovina | AD1: Botswana | AE1: Brazil | AF1: British Virgin Islands | AG1: Brunei | AH1: Bulgaria | AI1: Burkina Faso | AJ1: Burundi | AK1: Cambodia | AL1: Cameroon | AM1: Canada | AN1: Cape Verde | AO1: Central African Republic | AP1: Chad | AQ1: Chile | AR1: China | AS1: Christmas Island | AT1: Colombia | AU1: Comoros | AV1: Congo | AW1: Cook Islands | AX1: Costa Rica | AY1: Cote d'Ivoire | AZ1: Croatia | BA1: Cuba | BB1: Curacao | BC1: Cyprus | BD1: Czechia | BE1: Democratic Republic of Congo | BF1: Denmark | BG1: Djibouti | BH1: Dominica | BI1: Dominican Republic | BJ1: Ecuador | BK1: Egypt | BL1: El Salvador | BM1: Equatorial Guinea | BN1: Eritrea | BO1: Estonia | BP1: Eswatini | BQ1: Ethiopia | BR1: Europe | BS1: Europe (excl. EU-27) | BT1: Europe (excl. EU-28) | BU1: Faeroe Islands | BV1: Fiji | BW1: Finland | BX1: France | BY1: French Equatorial Africa | BZ1: French Guiana | CA1: French Polynesia | CB1: French West Africa | CC1: Gabon | CD1: Gambia | CE1: Georgia | CF1: Germany | CG1: Ghana | CH1: Greece | CI1: Greenland | CJ1: Grenada | CK1: Guadeloupe | CL1: Guatemala | CM1: Guinea | CN1: Guinea-Bissau | CO1: Guyana | CP1: Haiti | CQ1: Honduras | CR1: Hong Kong | CS1: Hungary | CT1: Iceland | CU1: India | CV1: Indonesia | CW1: Iran | CX1: Iraq | CY1: Ireland | CZ1: Israel | DA1: Italy | DB1: Jamaica | DC1: Japan | DD1: Jordan | DE1: Kazakhstan | DF1: Kenya | DG1: Kiribati | DH1: Kosovo | DI1: Kuwait | DJ1: Kuwaiti Oil Fires | DK1: Kyrgyzstan | DL1: Laos | DM1: Latvia | DN1: Lebanon | DO1: Leeward Islands | DP1: Lesotho | DQ1: Liberia | DR1: Libya | DS1: Liechtenstein | DT1: Lithuania | DU1: Luxembourg | DV1: Macao | DW1: Madagascar | DX1: Malawi | DY1: Malaysia | DZ1: Maldives | EA1: Mali | EB1: Malta | EC1: Marshall Islands | ED1: Martinique | EE1: Mauritania | EF1: Mauritius | EG1: Mayotte | EH1: Mexico | EI1: Micronesia (country) | EJ1: Moldova | EK1: Mongolia | EL1: Montenegro | EM1: Montserrat | EN1: Morocco | EO1: Mozambique | EP1: Myanmar | EQ1: Namibia | ER1: Nauru | ES1: Nepal | ET1: Netherlands | EU1: New Caledonia | EV1: New Zealand | EW1: Nicaragua | EX1: Niger | EY1: Nigeria | EZ1: Niue | FA1: North Korea | FB1: North Macedonia | FC1: Norway | FD1: Oceania | FE1: Oman | FF1: Pakistan | FG1: Palau | FH1: Palestine | FI1: Panama | FJ1: Panama Canal Zone | FK1: Papua New Guinea | FL1: Paraguay | FM1: Peru | FN1: Philippines | FO1: Poland | FP1: Portugal | FQ1: Puerto Rico | FR1: Qatar | FS1: Reunion | FT1: Romania | FU1: Russia | FV1: Rwanda | FW1: Ryukyu Islands | FX1: Saint Helena | FY1: Saint Kitts and Nevis | FZ1: Saint Lucia | GA1: Saint Pierre and Miquelon | GB1: Saint Vincent and the Grenadines | GC1: Samoa | GD1: Sao Tome and Principe | GE1: Saudi Arabia | GF1: Senegal | GG1: Serbia | GH1: Seychelles | GI1: Sierra Leone | GJ1: Singapore | GK1: Sint Maarten (Dutch part) | GL1: Slovakia | GM1: Slovenia | GN1: Solomon Islands | GO1: Somalia | GP1: South Africa | GQ1: South Korea | GR1: South Sudan | GS1: Spain | GT1: Sri Lanka | GU1: St. Kitts-Nevis-Anguilla | GV1: Sudan | GW1: Suriname | GX1: Sweden | GY1: Switzerland | GZ1: Syria | HA1: Taiwan | HB1: Tajikistan | HC1: Tanzania | HD1: Thailand | HE1: Timor | HF1: Togo | HG1: Tonga | HH1: Trinidad and Tobago | HI1: Tunisia | HJ1: Turkey | HK1: Turkmenistan | HL1: Turks and Caicos Islands | HM1: Tuvalu | HN1: Uganda | HO1: Ukraine | HP1: United Arab Emirates | HQ1: United Kingdom | HR1: United States | HS1: Uruguay | HT1: Uzbekistan | HU1: Vanuatu | HV1: Venezuela | HW1: Vietnam | HX1: Wallis and Futuna | HY1: Yemen | HZ1: Zambia | IA1: Zimbabwe | IB1: International transport | IC1: Total
A2: 1990 | B2: =SUMIFS(total_ghg,year,$A2,country,B$1) -> 34967.34 | C2: =SUMIFS(total_ghg,year,$A2,country,C$1) -> 15.14 | D2: =SUMIFS(total_ghg,year,$A2,country,D$1) -> 11.43 | E2: =SUMIFS(total_ghg,year,$A2,country,E$1) -> 96.03 | F2: =SUMIFS(total_ghg,year,$A2,country,F$1) -> 0.41 | G2: =SUMIFS(total_ghg,year,$A2,country,G$1) -> 150.59 | H2: =SUMIFS(total_ghg,year,$A2,country,H$1) -> 0 | I2: =SUMIFS(total_ghg,year,$A2,country,I$1) -> 0 | ... IB2: =SUMIFS(total_ghg,year,$A2,country,IB$1) -> 0 | IC2: =SUM(C2:IA2) -> 33836.12
A3: 1991 | B3: =SUMIFS(total_ghg,year,$A3,country,B$1) -> 35125.44 | C3: =SUMIFS(total_ghg,year,$A3,country,C$1) -> 15.06 | D3: =SUMIFS(total_ghg,year,$A3,country,D$1) -> 9.03 | E3: =SUMIFS(total_ghg,year,$A3,country,E$1) -> 94.85 | F3: =SUMIFS(total_ghg,year,$A3,country,F$1) -> 0.41 | G3: =SUMIFS(total_ghg,year,$A3,country,G$1) -> 151.27 | H3: =SUMIFS(total_ghg,year,$A3,country,H$1) -> 0 | I3: =SUMIFS(total_ghg,year,$A3,country,I$1) -> 0 | ... IB3: =SUMIFS(total_ghg,year,$A3,country,IB$1) -> 0 | IC3: =SUM(C3:IA3) -> 33976.88
A4: 1992 | B4: =SUMIFS(total_ghg,year,$A4,country,B$1) -> 34985.53 | C4: =SUMIFS(total_ghg,year,$A4,country,C$1) -> 13.6 | D4: =SUMIFS(total_ghg,year,$A4,country,D$1) -> 6.95 | E4: =SUMIFS(total_ghg,year,$A4,country,E$1) -> 94.54 | F4: =SUMIFS(total_ghg,year,$A4,country,F$1) -> 0.41 | G4: =SUMIFS(total_ghg,year,$A4,country,G$1) -> 151.62 | H4: =SUMIFS(total_ghg,year,$A4,country,H$1) -> 0 | I4: =SUMIFS(total_ghg,year,$A4,country,I$1) -> 0 | ... IB4: =SUMIFS(total_ghg,year,$A4,country,IB$1) -> 0 | IC4: =SUM(C4:IA4) -> 33845.31
A5: 1993 | B5: =SUMIFS(total_ghg,year,$A5,country,B$1) -> 35079.63 | C5: =SUMIFS(total_ghg,year,$A5,country,C$1) -> 13.43 | D5: =SUMIFS(total_ghg,year,$A5,country,D$1) -> 6.95 | E5: =SUMIFS(total_ghg,year,$A5,country,E$1) -> 102.03 | F5: =SUMIFS(total_ghg,year,$A5,country,F$1) -> 0.42 | G5: =SUMIFS(total_ghg,year,$A5,country,G$1) -> 152.37 | H5: =SUMIFS(total_ghg,year,$A5,country,H$1) -> 0 | I5: =SUMIFS(total_ghg,year,$A5,country,I$1) -> 0 | ... IB5: =SUMIFS(total_ghg,year,$A5,country,IB$1) -> 0 | IC5: =SUM(C5:IA5) -> 33935.85
A6: 1994 | B6: =SUMIFS(total_ghg,year,$A6,country,B$1) -> 35287.61 | C6: =SUMIFS(total_ghg,year,$A6,country,C$1) -> 13.24 | D6: =SUMIFS(total_ghg,year,$A6,country,D$1) -> 7.73 | E6: =SUMIFS(total_ghg,year,$A6,country,E$1) -> 99.77 | F6: =SUMIFS(total_ghg,year,$A6,country,F$1) -> 0.42 | G6: =SUMIFS(total_ghg,year,$A6,country,G$1) -> 152.56 | H6: =SUMIFS(total_ghg,year,$A6,country,H$1) -> 0 | I6: =SUMIFS(total_ghg,year,$A6,country,I$1) -> 0 | ... IB6: =SUMIFS(total_ghg,year,$A6,country,IB$1) -> 0 | IC6: =SUM(C6:IA6) -> 34113.24
A7: 1995 | B7: =SUMIFS(total_ghg,year,$A7,country,B$1) -> 36012.63 | C7: =SUMIFS(total_ghg,year,$A7,country,C$1) -> 13.45 | D7: =SUMIFS(total_ghg,year,$A7,country,D$1) -> 7.48 | E7: =SUMIFS(total_ghg,year,$A7,country,E$1) -> 103.96 | F7: =SUMIFS(total_ghg,year,$A7,country,F$1) -> 0.44 | G7: =SUMIFS(total_ghg,year,$A7,country,G$1) -> 156.89 | H7: =SUMIFS(total_ghg,year,$A7,country,H$1) -> 0 | I7: =SUMIFS(total_ghg,year,$A7,country,I$1) -> 0 | ... IB7: =SUMIFS(total_ghg,year,$A7,country,IB$1) -> 0 | IC7: =SUM(C7:IA7) -> 34801.62
A8: 1996 | B8: =SUMIFS(total_ghg,year,$A8,country,B$1) -> 36025.05 | C8: =SUMIFS(total_ghg,year,$A8,country,C$1) -> 14.4 | D8: =SUMIFS(total_ghg,year,$A8,country,D$1) -> 7.28 | E8: =SUMIFS(total_ghg,year,$A8,country,E$1) -> 105.31 | F8: =SUMIFS(total_ghg,year,$A8,country,F$1) -> 0.47 | G8: =SUMIFS(total_ghg,year,$A8,country,G$1) -> 161.39 | H8: =SUMIFS(total_ghg,year,$A8,country,H$1) -> 0 | I8: =SUMIFS(total_ghg,year,$A8,country,I$1) -> 0 | ... IB8: =SUMIFS(total_ghg,year,$A8,country,IB$1) -> 0 | IC8: =SUM(C8:IA8) -> 34821.11
A9: 1997 | B9: =SUMIFS(total_ghg,year,$A9,country,B$1) -> 37342.5 | C9: =SUMIFS(total_ghg,year,$A9,country,C$1) -> 15.3 | D9: =SUMIFS(total_ghg,year,$A9,country,D$1) -> 6.51 | E9: =SUMIFS(total_ghg,year,$A9,country,E$1) -> 109.4 | F9: =SUMIFS(total_ghg,year,$A9,country,F$1) -> 0.49 | G9: =SUMIFS(total_ghg,year,$A9,country,G$1) -> 155.98 | H9: =SUMIFS(total_ghg,year,$A9,country,H$1) -> 0 | I9: =SUMIFS(total_ghg,year,$A9,country,I$1) -> 0 | ... IB9: =SUMIFS(total_ghg,year,$A9,country,IB$1) -> 0 | IC9: =SUM(C9:IA9) -> 36088.77
A10: 1998 | B10: =SUMIFS(total_ghg,year,$A10,country,B$1) -> 36976.63 | C10: =SUMIFS(total_ghg,year,$A10,country,C$1) -> 16.05 | D10: =SUMIFS(total_ghg,year,$A10,country,D$1) -> 6.81 | E10: =SUMIFS(total_ghg,year,$A10,country,E$1) -> 114.7 | F10: =SUMIFS(total_ghg,year,$A10,country,F$1) -> 0.52 | G10: =SUMIFS(total_ghg,year,$A10,country,G$1) -> 170.05 | H10: =SUMIFS(total_ghg,year,$A10,country,H$1) -> 0 | I10: =SUMIFS(total_ghg,year,$A10,country,I$1) -> 0 | ... IB10: =SUMIFS(total_ghg,year,$A10,country,IB$1) -> 0 | IC10: =SUM(C10:IA10) -> 35662.27
A11: 1999 | B11: =SUMIFS(total_ghg,year,$A11,country,B$1) -> 36810.09 | C11: =SUMIFS(total_ghg,year,$A11,country,C$1) -> 16.89 | D11: =SUMIFS(total_ghg,year,$A11,country,D$1) -> 7.96 | E11: =SUMIFS(total_ghg,year,$A11,country,E$1) -> 120.68 | F11: =SUMIFS(total_ghg,year,$A11,country,F$1) -> 0.55 | G11: =SUMIFS(total_ghg,year,$A11,country,G$1) -> 161.94 | H11: =SUMIFS(total_ghg,year,$A11,country,H$1) -> 0 | I11: =SUMIFS(total_ghg,year,$A11,country,I$1) -> 0 | ... IB11: =SUMIFS(total_ghg,year,$A11,country,IB$1) -> 0 | IC11: =SUM(C11:IA11) -> 35449.63
A12: 2000 | B12: =SUMIFS(total_ghg,year,$A12,country,B$1) -> 37420.92 | C12: =SUMIFS(total_ghg,year,$A12,country,C$1) -> 15.05 | D12: =SUMIFS(total_ghg,year,$A12,country,D$1) -> 8.4 | E12: =SUMIFS(total_ghg,year,$A12,country,E$1) -> 127.65 | F12: =SUMIFS(total_ghg,year,$A12,country,F$1) -> 0.57 | G12: =SUMIFS(total_ghg,year,$A12,country,G$1) -> 161.84 | H12: =SUMIFS(total_ghg,year,$A12,country,H$1) -> 0 | I12: =SUMIFS(total_ghg,year,$A12,country,I$1) -> 0 | ... IB12: =SUMIFS(total_ghg,year,$A12,country,IB$1) -> 0 | IC12: =SUM(C12:IA12) -> 36009.12
A13: 2001 | B13: =SUMIFS(total_ghg,year,$A13,country,B$1) -> 38379.96 | C13: =SUMIFS(total_ghg,year,$A13,country,C$1) -> 13.47 | D13: =SUMIFS(total_ghg,year,$A13,country,D$1) -> 9.03 | E13: =SUMIFS(total_ghg,year,$A13,country,E$1) -> 125.23 | F13: =SUMIFS(total_ghg,year,$A13,country,F$1) -> 0.56 | G13: =SUMIFS(total_ghg,year,$A13,country,G$1) -> 143.58 | H13: =SUMIFS(total_ghg,year,$A13,country,H$1) -> 0 | I13: =SUMIFS(total_ghg,year,$A13,country,I$1) -> 0 | ... IB13: =SUMIFS(total_ghg,year,$A13,country,IB$1) -> 0 | IC13: =SUM(C13:IA13) -> 36894.93
... A32: 2020 | B32: =SUMIFS(total_ghg,year,$A32,country,B$1) -> 0 | C32: =SUMIFS(total_ghg,year,$A32,country,C$1) -> 0 | D32: =SUMIFS(total_ghg,year,$A32,country,D$1) -> 0 | E32: =SUMIFS(total_ghg,year,$A32,country,E$1) -> 0 | F32: =SUMIFS(total_ghg,year,$A32,country,F$1) -> 0 | G32: =SUMIFS(total_ghg,year,$A32,country,G$1) -> 0 | H32: =SUMIFS(total_ghg,year,$A32,country,H$1) -> 0 | I32: =SUMIFS(total_ghg,year,$A32,country,I$1) -> 0 | ... IB32: =SUMIFS(total_ghg,year,$A32,country,IB$1) -> 0 | IC32: =SUM(C32:IA32) -> 0

Sheet CO2
A1: Year | B1: World | C1: Afghanistan | D1: Albania | E1: Algeria | F1: Andorra | G1: Angola | H1: Anguilla | I1: Antarctica | J1: Antigua and Barbuda | K1: Argentina | L1: Armenia | M1: Aruba | N1: Australia | O1: Austria | P1: Azerbaijan | Q1: Bahamas | R1: Bahrain | S1: Bangladesh | T1: Barbados | U1: Belarus | V1: Belgium | W1: Belize | X1: Benin | Y1: Bermuda | Z1: Bhutan | AA1: Bolivia | AB1: Bonaire Sint Eustatius and Saba | AC1: Bosnia and Herzegovina | AD1: Botswana | AE1: Brazil | AF1: British Virgin Islands | AG1: Brunei | AH1: Bulgaria | AI1: Burkina Faso | AJ1: Burundi | AK1: Cambodia | AL1: Cameroon | AM1: Canada | AN1: Cape Verde | AO1: Central African Republic | AP1: Chad | AQ1: Chile | AR1: China | AS1: Christmas Island | AT1: Colombia | AU1: Comoros | AV1: Congo | AW1: Cook Islands | AX1: Costa Rica | AY1: Cote d'Ivoire | AZ1: Croatia | BA1: Cuba | BB1: Curacao | BC1: Cyprus | BD1: Czechia | BE1: Democratic Republic of Congo | BF1: Denmark | BG1: Djibouti | BH1: Dominica | BI1: Dominican Republic | BJ1: Ecuador | BK1: Egypt | BL1: El Salvador | BM1: Equatorial Guinea | BN1: Eritrea | BO1: Estonia | BP1: Eswatini | BQ1: Ethiopia | BR1: Europe | BS1: Europe (excl. EU-27) | BT1: Europe (excl. EU-28) | BU1: Faeroe Islands | BV1: Fiji | BW1: Finland | BX1: France | BY1: French Equatorial Africa | BZ1: French Guiana | CA1: French Polynesia | CB1: French West Africa | CC1: Gabon | CD1: Gambia | CE1: Georgia | CF1: Germany | CG1: Ghana | CH1: Greece | CI1: Greenland | CJ1: Grenada | CK1: Guadeloupe | CL1: Guatemala | CM1: Guinea | CN1: Guinea-Bissau | CO1: Guyana | CP1: Haiti | CQ1: Honduras | CR1: Hong Kong | CS1: Hungary | CT1: Iceland | CU1: India | CV1: Indonesia | CW1: Iran | CX1: Iraq | CY1: Ireland | CZ1: Israel | DA1: Italy | DB1: Jamaica | DC1: Japan | DD1: Jordan | DE1: Kazakhstan | DF1: Kenya | DG1: Kiribati | DH1: Kosovo | DI1: Kuwait | DJ1: Kuwaiti Oil Fires | DK1: Kyrgyzstan | DL1: Laos | DM1: Latvia | DN1: Lebanon | DO1: Leeward Islands | DP1: Lesotho | DQ1: Liberia | DR1: Libya | DS1: Liechtenstein | DT1: Lithuania | DU1: Luxembourg | DV1: Macao | DW1: Madagascar | DX1: Malawi | DY1: Malaysia | DZ1: Maldives | EA1: Mali | EB1: Malta | EC1: Marshall Islands | ED1: Martinique | EE1: Mauritania | EF1: Mauritius | EG1: Mayotte | EH1: Mexico | EI1: Micronesia (country) | EJ1: Moldova | EK1: Mongolia | EL1: Montenegro | EM1: Montserrat | EN1: Morocco | EO1: Mozambique | EP1: Myanmar | EQ1: Namibia | ER1: Nauru | ES1: Nepal | ET1: Netherlands | EU1: New Caledonia | EV1: New Zealand | EW1: Nicaragua | EX1: Niger | EY1: Nigeria | EZ1: Niue | FA1: North Korea | FB1: North Macedonia | FC1: Norway | FD1: Oceania | FE1: Oman | FF1: Pakistan | FG1: Palau | FH1: Palestine | FI1: Panama | FJ1: Panama Canal Zone | FK1: Papua New Guinea | FL1: Paraguay | FM1: Peru | FN1: Philippines | FO1: Poland | FP1: Portugal | FQ1: Puerto Rico | FR1: Qatar | FS1: Reunion | FT1: Romania | FU1: Russia | FV1: Rwanda | FW1: Ryukyu Islands | FX1: Saint Helena | FY1: Saint Kitts and Nevis | FZ1: Saint Lucia | GA1: Saint Pierre and Miquelon | GB1: Saint Vincent and the Grenadines | GC1: Samoa | GD1: Sao Tome and Principe | GE1: Saudi Arabia | GF1: Senegal | GG1: Serbia | GH1: Seychelles | GI1: Sierra Leone | GJ1: Singapore | GK1: Sint Maarten (Dutch part) | GL1: Slovakia | GM1: Slovenia | GN1: Solomon Islands | GO1: Somalia | GP1: South Africa | GQ1: South Korea | GR1: South Sudan | GS1: Spain | GT1: Sri Lanka | GU1: St. Kitts-Nevis-Anguilla | GV1: Sudan | GW1: Suriname | GX1: Sweden | GY1: Switzerland | GZ1: Syria | HA1: Taiwan | HB1: Tajikistan | HC1: Tanzania | HD1: Thailand | HE1: Timor | HF1: Togo | HG1: Tonga | HH1: Trinidad and Tobago | HI1: Tunisia | HJ1: Turkey | HK1: Turkmenistan | HL1: Turks and Caicos Islands | HM1: Tuvalu | HN1: Uganda | HO1: Ukraine | HP1: United Arab Emirates | HQ1: United Kingdom | HR1: United States | HS1: Uruguay | HT1: Uzbekistan | HU1: Vanuatu | HV1: Venezuela | HW1: Vietnam | HX1: Wallis and Futuna | HY1: Yemen | HZ1: Zambia | IA1: Zimbabwe | IB1: International transport | IC1: Total
A2: 1990 | B2: =SUMIFS(co2_mass,year,$A2,country,B$1) -> 22749.574 | C2: =SUMIFS(co2_mass,year,$A2,country,C$1) -> 2.603 | D2: =SUMIFS(co2_mass,year,$A2,country,D$1) -> 5.445 | E2: =SUMIFS(co2_mass,year,$A2,country,E$1) -> 76.738 | F2: =SUMIFS(co2_mass,year,$A2,country,F$1) -> 0.407 | G2: =SUMIFS(co2_mass,year,$A2,country,G$1) -> 5.09 | H2: =SUMIFS(co2_mass,year,$A2,country,H$1) -> 0.051 | I2: =SUMIFS(co2_mass,year,$A2,country,I$1) -> 0.011 | ... IB2: =SUMIFS(co2_mass,year,$A2,country,IB$1) -> 557.91 | IC2: =SUM(C2:IA2) -> 38261.396
A3: 1991 | B3: =SUMIFS(co2_mass,year,$A3,country,B$1) -> 23238.102 | C3: =SUMIFS(co2_mass,year,$A3,country,C$1) -> 2.427 | D3: =SUMIFS(co2_mass,year,$A3,country,D$1) -> 4.228 | E3: =SUMIFS(co2_mass,year,$A3,country,E$1) -> 78.807 | F3: =SUMIFS(co2_mass,year,$A3,country,F$1) -> 0.407 | G3: =SUMIFS(co2_mass,year,$A3,country,G$1) -> 5.064 | H3: =SUMIFS(co2_mass,year,$A3,country,H$1) -> 0.051 | I3: =SUMIFS(co2_mass,year,$A3,country,I$1) -> 0.015 | ... IB3: =SUMIFS(co2_mass,year,$A3,country,IB$1) -> 550.602 | IC3: =SUM(C3:IA3) -> 37972.363
A4: 1992 | B4: =SUMIFS(co2_mass,year,$A4,country,B$1) -> 22569.624 | C4: =SUMIFS(co2_mass,year,$A4,country,C$1) -> 1.379 | D4: =SUMIFS(co2_mass,year,$A4,country,D$1) -> 2.495 | E4: =SUMIFS(co2_mass,year,$A4,country,E$1) -> 79.883 | F4: =SUMIFS(co2_mass,year,$A4,country,F$1) -> 0.407 | G4: =SUMIFS(co2_mass,year,$A4,country,G$1) -> 5.164 | H4: =SUMIFS(co2_mass,year,$A4,country,H$1) -> 0.055 | I4: =SUMIFS(co2_mass,year,$A4,country,I$1) -> 0.015 | ... IB4: =SUMIFS(co2_mass,year,$A4,country,IB$1) -> 559.748 | IC4: =SUM(C4:IA4) -> 35657.533
A5: 1993 | B5: =SUMIFS(co2_mass,year,$A5,country,B$1) -> 22803.495 | C5: =SUMIFS(co2_mass,year,$A5,country,C$1) -> 1.333 | D5: =SUMIFS(co2_mass,year,$A5,country,D$1) -> 2.316 | E5: =SUMIFS(co2_mass,year,$A5,country,E$1) -> 81.944 | F5: =SUMIFS(co2_mass,year,$A5,country,F$1) -> 0.41 | G5: =SUMIFS(co2_mass,year,$A5,country,G$1) -> 5.748 | H5: =SUMIFS(co2_mass,year,$A5,country,H$1) -> 0.066 | I5: =SUMIFS(co2_mass,year,$A5,country,I$1) -> 0.015 | ... IB5: =SUMIFS(co2_mass,year,$A5,country,IB$1) -> 562.453 | IC5: =SUM(C5:IA5) -> 35179.68
A6: 1994 | B6: =SUMIFS(co2_mass,year,$A6,country,B$1) -> 22964.583 | C6: =SUMIFS(co2_mass,year,$A6,country,C$1) -> 1.282 | D6: =SUMIFS(co2_mass,year,$A6,country,D$1) -> 1.913 | E6: =SUMIFS(co2_mass,year,$A6,country,E$1) -> 86.147 | F6: =SUMIFS(co2_mass,year,$A6,country,F$1) -> 0.407 | G6: =SUMIFS(co2_mass,year,$A6,country,G$1) -> 3.865 | H6: =SUMIFS(co2_mass,year,$A6,country,H$1) -> 0.066 | I6: =SUMIFS(co2_mass,year,$A6,country,I$1) -> 0.015 | ... IB6: =SUMIFS(co2_mass,year,$A6,country,IB$1) -> 589.486 | IC6: =SUM(C6:IA6) -> 34284.994
A7: 1995 | B7: =SUMIFS(co2_mass,year,$A7,country,B$1) -> 23453.944 | C7: =SUMIFS(co2_mass,year,$A7,country,C$1) -> 1.23 | D7: =SUMIFS(co2_mass,year,$A7,country,D$1) -> 2.066 | E7: =SUMIFS(co2_mass,year,$A7,country,E$1) -> 94.981 | F7: =SUMIFS(co2_mass,year,$A7,country,F$1) -> 0.425 | G7: =SUMIFS(co2_mass,year,$A7,country,G$1) -> 10.949 | H7: =SUMIFS(co2_mass,year,$A7,country,H$1) -> 0.066 | I7: =SUMIFS(co2_mass,year,$A7,country,I$1) -> 0.004 | ... IB7: =SUMIFS(co2_mass,year,$A7,country,IB$1) -> 622.759 | IC7: =SUM(C7:IA7) -> 34600.342
A8: 1996 | B8: =SUMIFS(co2_mass,year,$A8,country,B$1) -> 24154.961 | C8: =SUMIFS(co2_mass,year,$A8,country,C$1) -> 1.165 | D8: =SUMIFS(co2_mass,year,$A8,country,D$1) -> 1.993 | E8: =SUMIFS(co2_mass,year,$A8,country,E$1) -> 96.786 | F8: =SUMIFS(co2_mass,year,$A8,country,F$1) -> 0.454 | G8: =SUMIFS(co2_mass,year,$A8,country,G$1) -> 10.424 | H8: =SUMIFS(co2_mass,year,$A8,country,H$1) -> 0.07 | I8: =SUMIFS(co2_mass,year,$A8,country,I$1) -> 0.004 | ... IB8: =SUMIFS(co2_mass,year,$A8,country,IB$1) -> 673.978 | IC8: =SUM(C8:IA8) -> 35215.458
A9: 1997 | B9: =SUMIFS(co2_mass,year,$A9,country,B$1) -> 24300.55 | C9: =SUMIFS(co2_mass,year,$A9,country,C$1) -> 1.084 | D9: =SUMIFS(co2_mass,year,$A9,country,D$1) -> 1.532 | E9: =SUMIFS(co2_mass,year,$A9,country,E$1) -> 87.005 | F9: =SUMIFS(co2_mass,year,$A9,country,F$1) -> 0.465 | G9: =SUMIFS(co2_mass,year,$A9,country,G$1) -> 7.348 | H9: =SUMIFS(co2_mass,year,$A9,country,H$1) -> 0.07 | I9: =SUMIFS(co2_mass,year,$A9,country,I$1) -> 0.004 | ... IB9: =SUMIFS(co2_mass,year,$A9,country,IB$1) -> 709.382 | IC9: =SUM(C9:IA9) -> 34876.006
A10: 1998 | B10: =SUMIFS(co2_mass,year,$A10,country,B$1) -> 24206.271 | C10: =SUMIFS(co2_mass,year,$A10,country,C$1) -> 1.029 | D10: =SUMIFS(co2_mass,year,$A10,country,D$1) -> 1.744 | E10: =SUMIFS(co2_mass,year,$A10,country,E$1) -> 106.621 | F10: =SUMIFS(co2_mass,year,$A10,country,F$1) -> 0.491 | G10: =SUMIFS(co2_mass,year,$A10,country,G$1) -> 7.268 | H10: =SUMIFS(co2_mass,year,$A10,country,H$1) -> 0.077 | I10: =SUMIFS(co2_mass,year,$A10,country,I$1) -> 0.004 | ... IB10: =SUMIFS(co2_mass,year,$A10,country,IB$1) -> 751.715 | IC10: =SUM(C10:IA10) -> 34683.881
A11: 1999 | B11: =SUMIFS(co2_mass,year,$A11,country,B$1) -> 24518.962 | C11: =SUMIFS(co2_mass,year,$A11,country,C$1) -> 0.81 | D11: =SUMIFS(co2_mass,year,$A11,country,D$1) -> 2.975 | E11: =SUMIFS(co2_mass,year,$A11,country,E$1) -> 91.668 | F11: =SUMIFS(co2_mass,year,$A11,country,F$1) -> 0.513 | G11: =SUMIFS(co2_mass,year,$A11,country,G$1) -> 9.13 | H11: =SUMIFS(co2_mass,year,$A11,country,H$1) -> 0.081 | I11: =SUMIFS(co2_mass,year,$A11,country,I$1) -> 0.004 | ... IB11: =SUMIFS(co2_mass,year,$A11,country,IB$1) -> 776.287 | IC11: =SUM(C11:IA11) -> 34844.949
A12: 2000 | B12: =SUMIFS(co2_mass,year,$A12,country,B$1) -> 25234.207 | C12: =SUMIFS(co2_mass,year,$A12,country,C$1) -> 0.758 | D12: =SUMIFS(co2_mass,year,$A12,country,D$1) -> 3.004 | E12: =SUMIFS(co2_mass,year,$A12,country,E$1) -> 82.221 | F12: =SUMIFS(co2_mass,year,$A12,country,F$1) -> 0.524 | G12: =SUMIFS(co2_mass,year,$A12,country,G$1) -> 9.516 | H12: =SUMIFS(co2_mass,year,$A12,country,H$1) -> 0.088 | I12: =SUMIFS(co2_mass,year,$A12,country,I$1) -> 0.004 | ... IB12: =SUMIFS(co2_mass,year,$A12,country,IB$1) -> 786.862 | IC12: =SUM(C12:IA12) -> 35530.008
A13: 2001 | B13: =SUMIFS(co2_mass,year,$A13,country,B$1) -> 25451.054 | C13: =SUMIFS(co2_mass,year,$A13,country,C$1) -> 0.798 | D13: =SUMIFS(co2_mass,year,$A13,country,D$1) -> 3.221 | E13: =SUMIFS(co2_mass,year,$A13,country,E$1) -> 83.78 | F13: =SUMIFS(co2_mass,year,$A13,country,F$1) -> 0.524 | G13: =SUMIFS(co2_mass,year,$A13,country,G$1) -> 9.671 | H13: =SUMIFS(co2_mass,year,$A13,country,H$1) -> 0.095 | I13: =SUMIFS(co2_mass,year,$A13,country,I$1) -> 0.004 | ... IB13: =SUMIFS(co2_mass,year,$A13,country,IB$1) -> 781.931 | IC13: =SUM(C13:IA13) -> 36021.136
... A32: 2020 | B32: =SUMIFS(co2_mass,year,$A32,country,B$1) -> 34807.259 | C32: =SUMIFS(co2_mass,year,$A32,country,C$1) -> 12.16 | D32: =SUMIFS(co2_mass,year,$A32,country,D$1) -> 4.535 | E32: =SUMIFS(co2_mass,year,$A32,country,E$1) -> 154.995 | F32: =SUMIFS(co2_mass,year,$A32,country,F$1) -> 0.466 | G32: =SUMIFS(co2_mass,year,$A32,country,G$1) -> 22.198 | H32: =SUMIFS(co2_mass,year,$A32,country,H$1) -> 0.123 | I32: =SUMIFS(co2_mass,year,$A32,country,I$1) -> 0 | ... IB32: =SUMIFS(co2_mass,year,$A32,country,IB$1) -> 1004.233 | IC32: =SUM(C32:IA32) -> 43572.337

Sheet summary
A1: CO2 and Greenhouse Gas Emissions Trends based on Our World in Data (MtCO2e) | H1: Updated 10/24/22
A2: https://github.com/owid/co2-data
F3: Five-Year Averages
B4: GHG | C4: CO2 | D4: GHG 1-yr Trend | E4: CO2 1-yr Trend | F4: Annual Avg. | G4: Annual Avg. | H4: GHG 3-yr Trend | I4: CO2 3-yr Trend | K4: 26 | L4: 30 | M4: 22 | N4: 26
A5: Year | B5: World | C5: World | D5: World | E5: World | F5: Trend GHG | G5: Trend CO2 | H5: World | I5: World | K5: =SUM(K7:K36) -> 22 | L5: =SUM(L7:L36) -> 24 | M5: =SUM(M7:M36) -> 22 | N5: =SUM(N7:N36) -> 25
A6: 1990 | B6: 32523.58 | C6: 22749.574
A7: 1991 | B7: 32670.51 | C7: 23238.102 | D7: =(B7-B6)/B6 -> 0.0045176454 | E7: =(C7-C6)/C6 -> 0.02147416 | K7: =IF(D7>0,1,0) -> 1 | L7: =IF(E7>0,1,0) -> 1
A8: 1992 | B8: 32588.09 | C8: 22569.625 | D8: =(B8-B7)/B7 -> -0.0025227644 | E8: =(C8-C7)/C7 -> -0.02876642 | K8: =IF(D8>0,1,0) -> 0 | L8: =IF(E8>0,1,0) -> 0
A9: 1993 | B9: 32729.061 | C9: 22803.496 | D9: =(B9-B8)/B8 -> 0.0043258442 | E9: =(C9-C8)/C8 -> 0.010362201 | K9: =IF(D9>0,1,0) -> 1 | L9: =IF(E9>0,1,0) -> 1
A10: 1994 | B10: 33015.039 | C10: 22964.584 | D10: =(B10-B9)/B9 -> 0.0087377392 | E10: =(C10-C9)/C9 -> 0.00706418 | K10: =IF(D10>0,1,0) -> 1 | L10: =IF(E10>0,1,0) -> 1
A11: 1995 | B11: 33805.609 | C11: 23453.945 | D11: =(B11-B10)/B10 -> 0.023945754 | E11: =(C11-C10)/C10 -> 0.021309378 | F11: =AVERAGE(D7:D11) -> 0.0078008437 | G11: =AVERAGE(E7:E11) -> 0.0062887 | H11: =(SUM(B9:B11)-SUM(B6:B8))/SUM(B6:B8) -> 0.018076187 | I11: =(SUM(C9:C11)-SUM(C6:C8))/SUM(C6:C8) -> 0.0096958893 | K11: =IF(D11>0,1,0) -> 1 | L11: =IF(E11>0,1,0) -> 1 | M11: =IF(F11>0,1,0) -> 1 | N11: =IF(G11>0,1,0) -> 1
A12: 1996 | B12: 34179.328 | C12: 24154.961 | D12: =(B12-B11)/B11 -> 0.011054941 | E12: =(C12-C11)/C11 -> 0.029889044 | F12: =AVERAGE(D8:D12) -> 0.0091083027 | G12: =AVERAGE(E8:E12) -> 0.0079716767 | H12: =(SUM(B10:B12)-SUM(B7:B9))/SUM(B7:B9) -> 0.030741779 | I12: =(SUM(C10:C12)-SUM(C7:C9))/SUM(C7:C9) -> 0.028599796 | K12: =IF(D12>0,1,0) -> 1 | L12: =IF(E12>0,1,0) -> 1 | M12: =IF(F12>0,1,0) -> 1 | N12: =IF(G12>0,1,0) -> 1
A13: 1997 | B13: 35537.18 | C13: 24300.551 | D13: =(B13-B12)/B12 -> 0.039727288 | E13: =(C13-C12)/C12 -> 0.0060273333 | F13: =AVERAGE(D9:D13) -> 0.017558313 | G13: =AVERAGE(E9:E13) -> 0.014930427 | H13: =(SUM(B11:B13)-SUM(B8:B10))/SUM(B8:B10) -> 0.052779532 | I13: =(SUM(C11:C13)-SUM(C8:C10))/SUM(C8:C10) -> 0.052266198 | K13: =IF(D13>0,1,0) -> 1 | L13: =IF(E13>0,1,0) -> 1 | M13: =IF(F13>0,1,0) -> 1 | N13: =IF(G13>0,1,0) -> 1
A14: 1998 | B14: 35099.211 | C14: 24206.271 | D14: =(B14-B13)/B13 -> -0.012324247 | E14: =(C14-C13)/C13 -> -0.0038797474 | F14: =AVERAGE(D10:D14) -> 0.014228295 | G14: =AVERAGE(E10:E14) -> 0.012082038 | H14: =(SUM(B12:B14)-SUM(B9:B11))/SUM(B9:B11) -> 0.052898296 | I14: =(SUM(C12:C14)-SUM(C9:C11))/SUM(C9:C11) -> 0.04969167 | K14: =IF(D14>0,1,0) -> 0 | L14: =IF(E14>0,1,0) -> 0 | M14: =IF(F14>0,1,0) -> 1 | N14: =IF(G14>0,1,0) -> 1
A15: 1999 | B15: 35101.898 | C15: 24518.963 | D15: =(B15-B14)/B14 -> 7.6554427e-05 | E15: =(C15-C14)/C14 -> 0.01291781 | F15: =AVERAGE(D11:D15) -> 0.012496058 | G15: =AVERAGE(E11:E15) -> 0.013252764 | H15: =(SUM(B13:B15)-SUM(B10:B12))/SUM(B10:B12) -> 0.046914001 | I15: =(SUM(C13:C15)-SUM(C10:C12))/SUM(C10:C12) -> 0.034748104 | K15: =IF(D15>0,1,0) -> 1 | L15: =IF(E15>0,1,0) -> 1 | M15: =IF(F15>0,1,0) -> 1 | N15: =IF(G15>0,1,0) -> 1
A16: 2000 | B16: 35835.48 | C16: 25234.207 | D16: =(B16-B15)/B15 -> 0.020898642 | E16: =(C16-C15)/C15 -> 0.029171054 | F16: =AVERAGE(D12:D16) -> 0.011886635 | G16: =AVERAGE(E12:E16) -> 0.014825099 | H16: =(SUM(B14:B16)-SUM(B11:B13))/SUM(B11:B13) -> 0.024289225 | I16: =(SUM(C14:C16)-SUM(C11:C13))/SUM(C11:C13) -> 0.02850785 | K16: =IF(D16>0,1,0) -> 1 | L16: =IF(E16>0,1,0) -> 1 | M16: =IF(F16>0,1,0) -> 1 | N16: =IF(G16>0,1,0) -> 1
A17: 2001 | B17: 35884.07 | C17: 25451.055 | D17: =(B17-B16)/B16 -> 0.0013559188 | E17: =(C17-C16)/C16 -> 0.0085934145 | F17: =AVERAGE(D13:D17) -> 0.0099468311 | G17: =AVERAGE(E13:E17) -> 0.010565973 | H17: =(SUM(B15:B17)-SUM(B12:B14))/SUM(B12:B14) -> 0.019135765 | I17: =(SUM(C15:C17)-SUM(C12:C14))/SUM(C12:C14) -> 0.034990086 | K17: =IF(D17>0,1,0) -> 1 | L17: =IF(E17>0,1,0) -> 1 | M17: =IF(F17>0,1,0) -> 1 | N17: =IF(G17>0,1,0) -> 1
A18: 2002 | B18: 36839.691 | C18: 26039.191 | D18: =(B18-B17)/B17 -> 0.026630786 | E18: =(C18-C17)/C17 -> 0.023108512 | F18: =AVERAGE(D14:D18) -> 0.0073275308 | G18: =AVERAGE(E14:E18) -> 0.013982209 | H18: =(SUM(B16:B18)-SUM(B13:B15))/SUM(B13:B15) -> 0.026678623 | I18: =(SUM(C16:C18)-SUM(C13:C15))/SUM(C13:C15) -> 0.050648795 | K18: =IF(D18>0,1,0) -> 1 | L18: =IF(E18>0,1,0) -> 1 | M18: =IF(F18>0,1,0) -> 1 | N18: =IF(G18>0,1,0) -> 1
A19: 2003 | B19: 37803.859 | C19: 27366.723 | D19: =(B19-B18)/B18 -> 0.026171989 | E19: =(C19-C18)/C18 -> 0.050982075 | F19: =AVERAGE(D15:D19) -> 0.015026778 | G19: =AVERAGE(E15:E19) -> 0.024954573 | H19: =(SUM(B17:B19)-SUM(B14:B16))/SUM(B14:B16) -> 0.042353597 | I19: =(SUM(C17:C19)-SUM(C14:C16))/SUM(C14:C16) -> 0.066219105 | K19: =IF(D19>0,1,0) -> 1 | L19: =IF(E19>0,1,0) -> 1 | M19: =IF(F19>0,1,0) -> 1 | N19: =IF(G19>0,1,0) -> 1
A20: 2004 | B20: 39655.309 | C20: 28627.533 | D20: =(B20-B19)/B19 -> 0.048975159 | E20: =(C20-C19)/C19 -> 0.046070916 | F20: =AVERAGE(D16:D20) -> 0.024806499 | G20: =AVERAGE(E16:E20) -> 0.031585194 | H20: =(SUM(B18:B20)-SUM(B15:B17))/SUM(B15:B17) -> 0.069999154 | I20: =(SUM(C18:C20)-SUM(C15:C17))/SUM(C15:C17) -> 0.09080902 | K20: =IF(D20>0,1,0) -> 1 | L20: =IF(E20>0,1,0) -> 1 | M20: =IF(F20>0,1,0) -> 1 | N20: =IF(G20>0,1,0) -> 1
A21: 2005 | B21: 40569.328 | C21: 29602.777 | D21: =(B21-B20)/B20 -> 0.023049095 | E21: =(C21-C20)/C20 -> 0.034066645 | F21: =AVERAGE(D17:D21) -> 0.02523659 | G21: =AVERAGE(E17:E21) -> 0.032564313 | H21: =(SUM(B19:B21)-SUM(B16:B18))/SUM(B16:B18) -> 0.087226614 | I21: =(SUM(C19:C21)-SUM(C16:C18))/SUM(C16:C18) -> 0.11564214 | K21: =IF(D21>0,1,0) -> 1 | L21: =IF(E21>0,1,0) -> 1 | M21: =IF(F21>0,1,0) -> 1 | N21: =IF(G21>0,1,0) -> 1
A22: 2006 | B22: 42072.129 | C22: 30583.529 | D22: =(B22-B21)/B21 -> 0.037042788 | E22: =(C22-C21)/C21 -> 0.033130405 | F22: =AVERAGE(D18:D22) -> 0.032373963 | G22: =AVERAGE(E18:E22) -> 0.037471711 | H22: =(SUM(B20:B22)-SUM(B17:B19))/SUM(B17:B19) -> 0.10648149 | I22: =(SUM(C20:C22)-SUM(C17:C19))/SUM(C17:C19) -> 0.12626493 | K22: =IF(D22>0,1,0) -> 1 | L22: =IF(E22>0,1,0) -> 1 | M22: =IF(F22>0,1,0) -> 1 | N22: =IF(G22>0,1,0) -> 1
... A32: 2016 | B32: 47531.68 | C32: 35452.461 | D32: =(B32-B31)/B31 -> 0.01407905 | E32: =(C32-C31)/C31 -> -0.0012380127 | F32: =AVERAGE(D28:D32) -> 0.010834556 | G32: =AVERAGE(E28:E32) -> 0.0056640475 | H32: =(SUM(B30:B32)-SUM(B27:B29))/SUM(B27:B29) -> 0.032201568 | I32: =(SUM(C30:C32)-SUM(C27:C29))/SUM(C27:C29) -> 0.016784424 | K32: =IF(D32>0,1,0) -> 1 | L32: =IF(E32>0,1,0) -> 0 | M32: =IF(F32>0,1,0) -> 1 | N32: =IF(G32>0,1,0) -> 1
A33: 2017 | B33: 48251.879 | C33: 35925.738 | E33: =(C33-C32)/C32 -> 0.013349623 | G33: =AVERAGE(E29:E33) -> 0.0054001297 | I33: =(SUM(C31:C33)-SUM(C28:C30))/SUM(C28:C30) -> 0.010237709 | K33: =IF(D33>0,1,0) -> 0 | L33: =IF(E33>0,1,0) -> 1 | M33: =IF(F33>0,1,0) -> 0 | N33: =IF(G33>0,1,0) -> 1
A34: 2018 | B34: 49368.039 | C34: 36646.141 | E34: =(C34-C33)/C33 -> 0.02005256 | G34: =AVERAGE(E30:E34) -> 0.0076438872 | I34: =(SUM(C32:C34)-SUM(C29:C31))/SUM(C29:C31) -> 0.016088831 | K34: =IF(D34>0,1,0) -> 0 | L34: =IF(E34>0,1,0) -> 1 | M34: =IF(F34>0,1,0) -> 0 | N34: =IF(G34>0,1,0) -> 1
A35: 2019 | B35: 49758.23 | C35: 36702.504 | E35: =(C35-C34)/C34 -> 0.0015380337 | G35: =AVERAGE(E31:E35) -> 0.0065263668 | I35: =(SUM(C33:C35)-SUM(C30:C32))/SUM(C30:C32) -> 0.026211385 | K35: =IF(D35>0,1,0) -> 0 | L35: =IF(E35>0,1,0) -> 1 | M35: =IF(F35>0,1,0) -> 0 | N35: =IF(G35>0,1,0) -> 1
A36: 2020 | C36: 34807.258 | E36: =(C36-C35)/C35 -> -0.051638057 | G36: =AVERAGE(E32:E36) -> -0.0035871707 | I36: =(SUM(C34:C36)-SUM(C31:C33))/SUM(C31:C33) -> 0.011988798 | K36: =IF(D36>0,1,0) -> 0 | L36: =IF(E36>0,1,0) -> 0 | M36: =IF(F36>0,1,0) -> 0 | N36: =IF(G36>0,1,0) -> 0

Sheet Plot
B1: Yes | D1: CO2 and Greenhouse Gas Emissions Trends based on Our World in Data (MtCO2e)
A2: 3-Year Avg.
A3: GHG | C3: CO2 | E3: GHG Change | F3: GHG | H3: CO2
A4: World | B4: CO2e | C4: World | D4: Year | E4: Global 3-yr Change GHG | F4: NY Total GHG | G4: Global 3-yr Change CO2 | H4: NY Total CO2
A5: =AVERAGE(summary!B6:B8) -> 32594.06 | B5: =AVERAGE(summary!C6:C8) -> 22852.434 | C5: =AVERAGE(summary!C6:C8) -> 22852.434 | D5: 1992 | F5: ='NYS GHG'!R8 -> 318.21722 | H5: ='NYS GHG'!J8 -> 254.75701
A6: =AVERAGE(summary!B7:B9) -> 32662.554 | B6: =AVERAGE(summary!C7:C9) -> 22870.408 | C6: =AVERAGE(summary!C7:C9) -> 22870.408 | D6: 1993 | E6: =A6-A5 -> 68.493667 | F6: ='NYS GHG'!R9 -> 316.18401 | G6: =C6-C5 -> 17.974 | H6: ='NYS GHG'!J9 -> 251.25106
A7: =AVERAGE(summary!B8:B10) -> 32777.397 | B7: =AVERAGE(summary!C8:C10) -> 22779.235 | C7: =AVERAGE(summary!C8:C10) -> 22779.235 | D7: 1994 | E7: =A7-A6 -> 114.843 | F7: ='NYS GHG'!R10 -> 316.06194 | G7: =C7-C6 -> -91.172667 | H7: ='NYS GHG'!J10 -> 251.92883
A8: =AVERAGE(summary!B9:B11) -> 33183.236 | B8: =AVERAGE(summary!C9:C11) -> 23074.008 | C8: =AVERAGE(summary!C9:C11) -> 23074.008 | D8: 1995 | E8: =A8-A7 -> 405.83967 | F8: ='NYS GHG'!R11 -> 322.03208 | G8: =C8-C7 -> 294.77333 | H8: ='NYS GHG'!J11 -> 256.03917
A9: =AVERAGE(summary!B10:B12) -> 33666.659 | B9: =AVERAGE(summary!C10:C12) -> 23524.497 | C9: =AVERAGE(summary!C10:C12) -> 23524.497 | D9: 1996 | E9: =A9-A8 -> 483.42233 | F9: ='NYS GHG'!R12 -> 322.15657 | G9: =C9-C8 -> 450.48833 | H9: ='NYS GHG'!J12 -> 255.41226
A10: =AVERAGE(summary!B11:B13) -> 34507.372 | B10: =AVERAGE(summary!C11:C13) -> 23969.819 | C10: =AVERAGE(summary!C11:C13) -> 23969.819 | D10: 1997 | E10: =A10-A9 -> 840.71367 | F10: ='NYS GHG'!R13 -> 332.16494 | G10: =C10-C9 -> 445.32233 | H10: ='NYS GHG'!J13 -> 259.95812
A11: =AVERAGE(summary!B12:B14) -> 34938.573 | B11: =AVERAGE(summary!C12:C14) -> 24220.594 | C11: =AVERAGE(summary!C12:C14) -> 24220.594 | D11: 1998 | E11: =A11-A10 -> 431.20067 | F11: ='NYS GHG'!R14 -> 328.23646 | G11: =C11-C10 -> 250.77533 | H11: ='NYS GHG'!J14 -> 259.09721
A12: =AVERAGE(summary!B13:B15) -> 35246.096 | B12: =AVERAGE(summary!C13:C15) -> 24341.928 | C12: =AVERAGE(summary!C13:C15) -> 24341.928 | D12: 1999 | E12: =A12-A11 -> 307.52333 | F12: ='NYS GHG'!R15 -> 337.40764 | G12: =C12-C11 -> 121.334 | H12: ='NYS GHG'!J15 -> 266.60094
A13: =AVERAGE(summary!B14:B16) -> 35345.53 | B13: =AVERAGE(summary!C14:C16) -> 24653.147 | C13: =AVERAGE(summary!C14:C16) -> 24653.147 | D13: 2000 | E13: =A13-A12 -> 99.433333 | F13: ='NYS GHG'!R16 -> 351.25226 | G13: =C13-C12 -> 311.21867 | H13: ='NYS GHG'!J16 -> 279.66895
A14: =AVERAGE(summary!B15:B17) -> 35607.149 | B14: =AVERAGE(summary!C15:C17) -> 25068.075 | C14: =AVERAGE(summary!C15:C17) -> 25068.075 | D14: 2001 | E14: =A14-A13 -> 261.61967 | F14: ='NYS GHG'!R17 -> 336.22945 | G14: =C14-C13 -> 414.928 | H14: ='NYS GHG'!J17 -> 270.22345
A15: =AVERAGE(summary!B16:B18) -> 36186.414 | B15: =AVERAGE(summary!C16:C18) -> 25574.818 | C15: =AVERAGE(summary!C16:C18) -> 25574.818 | D15: 2002 | E15: =A15-A14 -> 579.26433 | F15: ='NYS GHG'!R18 -> 332.19255 | G15: =C15-C14 -> 506.74267 | H15: ='NYS GHG'!J18 -> 265.65019
A16: =AVERAGE(summary!B17:B19) -> 36842.54 | B16: =AVERAGE(summary!C17:C19) -> 26285.656 | C16: =AVERAGE(summary!C17:C19) -> 26285.656 | D16: 2003 | E16: =A16-A15 -> 656.12633 | F16: ='NYS GHG'!R19 -> 340.44102 | G16: =C16-C15 -> 710.83867 | H16: ='NYS GHG'!J19 -> 273.85046
A17: =AVERAGE(summary!B18:B20) -> 38099.62 | B17: =AVERAGE(summary!C18:C20) -> 27344.482 | C17: =AVERAGE(summary!C18:C20) -> 27344.482 | D17: 2004 | E17: =A17-A16 -> 1257.0797 | F17: ='NYS GHG'!R20 -> 344.68736 | G17: =C17-C16 -> 1058.826 | H17: ='NYS GHG'!J20 -> 275.51381
... A32: =AVERAGE(summary!B33:B35) -> 49126.049 | B32: =AVERAGE(summary!C33:C35) -> 36424.794 | C32: =AVERAGE(summary!C33:C35) -> 36424.794 | D32: 2019 | E32: =A32-A31 -> 742.18333 | F32: ='NYS GHG'!R35 -> 274.7298 | G32: =C32-C31 -> 416.681 | H32: ='NYS GHG'!J35 -> 210.09433
A33: =AVERAGE(summary!B34:B36) -> 49563.135 | B33: =AVERAGE(summary!C34:C36) -> 36051.968 | C33: =AVERAGE(summary!C34:C36) -> 36051.968 | D33: 2020
E37: GHG | F37: GHG | G37: CO2 | H37: CO2
B38: CO2e | D38: Year | E38: GHG World | F38: NY Total GHG | G38: CO2 World | H38: NY Total CO2
B39: =B5 -> 22852.434 | D39: =D5 -> 1992 | E39: =A5 -> 32594.06 | F39: =F5 -> 318.21722 | G39: =C5 -> 22852.434 | H39: =H5 -> 254.75701
B40: =B6 -> 22870.408 | D40: =D6 -> 1993 | E40: =A6 -> 32662.554 | F40: =F6 -> 316.18401 | G40: =C6 -> 22870.408 | H40: =H6 -> 251.25106
B41: =B7 -> 22779.235 | D41: =D7 -> 1994 | E41: =A7 -> 32777.397 | F41: =F7 -> 316.06194 | G41: =C7 -> 22779.235 | H41: =H7 -> 251.92883
B42: =B8 -> 23074.008 | D42: =D8 -> 1995 | E42: =A8 -> 33183.236 | F42: =F8 -> 322.03208 | G42: =C8 -> 23074.008 | H42: =H8 -> 256.03917
B43: =B9 -> 23524.497 | D43: =D9 -> 1996 | E43: =A9 -> 33666.659 | F43: =F9 -> 322.15657 | G43: =C9 -> 23524.497 | H43: =H9 -> 255.41226
B44: =B10 -> 23969.819 | D44: =D10 -> 1997 | E44: =A10 -> 34507.372 | F44: =F10 -> 332.16494 | G44: =C10 -> 23969.819 | H44: =H10 -> 259.95812
B45: =B11 -> 24220.594 | D45: =D11 -> 1998 | E45: =A11 -> 34938.573 | F45: =F11 -> 328.23646 | G45: =C11 -> 24220.594 | H45: =H11 -> 259.09721
B46: =B12 -> 24341.928 | D46: =D12 -> 1999 | E46: =A12 -> 35246.096 | F46: =F12 -> 337.40764 | G46: =C12 -> 24341.928 | H46: =H12 -> 266.60094
B47: =B13 -> 24653.147 | D47: =D13 -> 2000 | E47: =A13 -> 35345.53 | F47: =F13 -> 351.25226 | G47: =C13 -> 24653.147 | H47: =H13 -> 279.66895
B48: =B14 -> 25068.075 | D48: =D14 -> 2001 | E48: =A14 -> 35607.149 | F48: =F14 -> 336.22945 | G48: =C14 -> 25068.075 | H48: =H14 -> 270.22345
B49: =B15 -> 25574.818 | D49: =D15 -> 2002 | E49: =A15 -> 36186.414 | F49: =F15 -> 332.19255 | G49: =C15 -> 25574.818 | H49: =H15 -> 265.65019
B50: =B16 -> 26285.656 | D50: =D16 -> 2003 | E50: =A16 -> 36842.54 | F50: =F16 -> 340.44102 | G50: =C16 -> 26285.656 | H50: =H16 -> 273.85046
... B63: =B29 -> 35494.436 | D63: =D29 -> 2016 | E63: =A29 -> 47095.077 | F63: =F29 -> 278.86246 | G63: =C29 -> 35494.436 | H63: =H29 -> 212.57172
D64: =D30 -> 2017 | E64: =A30 -> 47551.776 | F64: =F30 -> 267.13146 | G64: =C30 -> 35624.868 | H64: =H30 -> 203.28143
D65: =D31 -> 2018 | E65: =A31 -> 48383.866 | F65: =F31 -> 280.3982 | G65: =C31 -> 36008.113 | H65: =H31 -> 215.09553
D66: =D32 -> 2019 | E66: =A32 -> 49126.049 | F66: =F32 -> 274.7298 | G66: =C32 -> 36424.794 | H66: =H32 -> 210.09433
D67: =D33 -> 2020 | E67: =A33 -> 49563.135 | F67: =F33 -> 0 | G67: =C33 -> 36051.968 | H67: =H33 -> 0

Sheet NYS GHG
A1: Statewide Greenhouse Gas Emissions: Beginning 1990
B2: https://data.ny.gov/Energy-Environment/Statewide-Greenhouse-Gas-Emissions-Beginning-1990/5i6e-asw6
B4: Greenhouse Gas (MMT) per GWP20 | J4: Greenhouse Gas (MMT CO2e AR4 100 yr)
A5: Year | B5: CO2 | C5: N2O | D5: Biogenic CO2 | E5: CH4 | F5: SF6 | G5: Total | J5: CO2 | K5: N2O | L5: Biogenic CO2 | M5: CH4 | N5: HFCs | O5: NF3 | P5: PFCs | Q5: SF6 | R5: Total
A6: 1990 | B6: =[1]Summary!C6 -> 252.08461 | C6: 3.691499 | D6: 9.129799 | E6: 132.66338 | F6: 4.020918 | G6: =SUM(B6:E6) -> 397.5693 | J6: 252.08461 | K6: 3.957479 | L6: 9.129799 | M6: 39.483153 | N6: 0.019413 | O6: 0.000657 | P6: 1.363153 | Q6: 5.238682 | R6: 311.27695 | T6: 265.98462 | U6: =J6+K6+M6+Q6 -> 300.76393
A7: 1991 | B7: =[1]Summary!C7 -> 248.53393 | C7: 3.568857 | D7: 8.779086 | E7: 136.29454 | F7: 3.841777 | G7: =SUM(B7:E7) -> 397.17641 | J7: 248.53393 | K7: 3.832643 | L7: 8.779086 | M7: 40.563852 | N7: 0.043085 | O7: 0.000657 | P7: 1.125043 | Q7: 5.005285 | R7: 307.88358 | T7: 263.86012
A8: 1992 | B8: =[1]Summary!C8 -> 254.75701 | C8: 3.722027 | D8: 9.648553 | E8: 147.12181 | F8: 3.804773 | G8: =SUM(B8:E8) -> 415.2494 | J8: 254.75701 | K8: 3.990576 | L8: 9.648553 | M8: 43.786253 | N8: 0.04516 | O8: 0.000657 | P8: 1.031942 | Q8: 4.957075 | R8: 318.21722 | T8: 264.21038
A9: 1993 | B9: =[1]Summary!C9 -> 251.25106 | C9: 3.669115 | D9: 11.01742 | E9: 148.32562 | F9: 3.675627 | G9: =SUM(B9:E9) -> 414.26322 | J9: 251.25106 | K9: 3.932474 | L9: 11.01742 | M9: 44.144529 | N9: 0.048194 | O9: 0.000821 | P9: 1.000691 | Q9: 4.788816 | R9: 316.18401 | T9: 268.47203
A10: 1994 | B10: =[1]Summary!C10 -> 251.92883 | C10: 3.813512 | D10: 10.70058 | E10: 147.27383 | F10: 3.449014 | G10: =SUM(B10:E10) -> 413.71675 | J10: 251.92883 | K10: 4.074666 | L10: 10.70058 | M10: 43.8315 | N10: 0.141904 | O10: 0.000904 | P10: 0.889984 | Q10: 4.493571 | R10: 316.06194 | T10: 269.05656
A11: 1995 | B11: =[1]Summary!C11 -> 256.03917 | C11: 3.66519 | D11: 10.796152 | E11: 152.57143 | F11: 3.150445 | G11: =SUM(B11:E11) -> 423.07194 | J11: 256.03917 | K11: 3.924656 | L11: 10.796152 | M11: 45.408165 | N11: 0.874452 | O11: 0.001141 | P11: 0.883761 | Q11: 4.104581 | R11: 322.03208 | T11: 277.50741
A12: 1996 | B12: =[1]Summary!C12 -> 255.41226 | C12: 3.43402 | D12: 12.017058 | E12: 151.76379 | F12: 2.883949 | G12: =SUM(B12:E12) -> 422.62712 | J12: 255.41226 | K12: 3.695948 | L12: 12.017058 | M12: 45.167795 | N12: 1.174923 | O12: 0.001268 | P12: 0.929951 | Q12: 3.757373 | R12: 322.15657 | T12: 274.90509
A13: 1997 | B13: =[1]Summary!C13 -> 259.95812 | C13: 3.555861 | D13: 15.862651 | E13: 157.30668 | F13: 2.656253 | G13: =SUM(B13:E13) -> 436.68331 | J13: 259.95812 | K13: 3.827081 | L13: 15.862651 | M13: 46.817468 | N13: 1.399838 | O13: 0.001647 | P13: 0.837421 | Q13: 3.460718 | R13: 332.16494 | T13: 282.78125
A14: 1998 | B14: =[1]Summary!C14 -> 259.09721 | C14: 3.627065 | D14: 14.154013 | E14: 154.20081 | F14: 2.249893 | G14: =SUM(B14:E14) -> 431.0791 | J14: 259.09721 | K14: 3.895895 | L14: 14.154013 | M14: 45.893099 | N14: 1.557607 | O14: 0.002019 | P14: 0.705326 | Q14: 2.931288 | R14: 328.23646 | T14: 296.83864
A15: 1999 | B15: =[1]Summary!C15 -> 266.60094 | C15: 3.730523 | D15: 14.491499 | E15: 157.45023 | F15: 2.328968 | G15: =SUM(B15:E15) -> 442.2732 | J15: 266.60094 | K15: 4.001397 | L15: 14.491499 | M15: 46.860193 | N15: 1.728497 | O15: 0.002049 | P15: 0.688751 | Q15: 3.034313 | R15: 337.40764 | T15: 282.50673
A16: 2000 | B16: =[1]Summary!C16 -> 279.66895 | C16: 3.599548 | D16: 15.482566 | E16: 157.33737 | F16: 2.19038 | G16: =SUM(B16:E16) -> 456.08843 | J16: 279.66895 | K16: 3.875927 | L16: 15.482566 | M16: 46.826602 | N16: 1.864882 | O16: 0.003441 | P16: 0.676135 | Q16: 2.853751 | R16: 351.25226 | T16: 277.51738
A17: 2001 | B17: =[1]Summary!C17 -> 270.22345 | C17: 3.534609 | D17: 10.604386 | E17: 156.59228 | F17: 2.085919 | G17: =SUM(B17:E17) -> 440.95473 | J17: 270.22345 | K17: 3.795308 | L17: 10.604386 | M17: 46.604852 | N17: 1.974808 | O17: 0.003827 | P17: 0.30517 | Q17: 2.717654 | R17: 336.22945 | T17: 286.16561
A18: 2002 | B18: =[1]Summary!C18 -> 265.65019 | C18: 3.455996 | D18: 10.159725 | E18: 159.30993 | F18: 1.96456 | G18: =SUM(B18:E18) -> 438.57585 | J18: 265.65019 | K18: 3.711136 | L18: 10.159725 | M18: 47.413669 | N18: 2.222104 | O18: 0.01169 | P18: 0.464492 | Q18: 2.559541 | R18: 332.19255 | T18: 289.9145
... A30: 2014 | B30: =[1]Summary!C30 -> 228.7623 | C30: 3.457934 | D30: 10.414147 | E30: 153.34471 | F30: 0.21376 | G30: =SUM(B30:E30) -> 395.97909 | J30: 228.7623 | K30: 3.70808 | L30: 10.414147 | M30: 45.638311 | N30: 7.153236 | O30: 0.011003 | P30: 0.20596 | Q30: 0.278499 | R30: 296.17154 | T30: 225.33878
A31: 2015 | B31: =[1]Summary!C31 -> 224.88736 | C31: 3.423513 | D31: 12.038148 | E31: 148.46374 | F31: 0.168662 | G31: =SUM(B31:E31) -> 388.81276 | J31: 224.88736 | K31: 3.66991 | L31: 12.038148 | M31: 44.185637 | N31: 7.761824 | O31: 0.007977 | P31: 0.072754 | Q31: 0.219743 | R31: 292.84335
A32: 2016 | B32: =[1]Summary!C32 -> 212.57172 | C32: 3.377363 | D32: 11.219291 | E32: 144.32979 | F32: 0.155012 | G32: =SUM(B32:E32) -> 371.49816 | J32: 212.57172 | K32: 3.617025 | L32: 11.219291 | M32: 42.955299 | N32: 8.213559 | O32: 0.010148 | P32: 0.073468 | Q32: 0.201958 | R32: 278.86246
A33: 2017 | B33: =[1]Summary!C33 -> 203.28143 | C33: 3.332683 | D33: 11.051564 | E33: 135.51748 | F33: 0.136393 | G33: =SUM(B33:E33) -> 353.18316 | J33: 203.28143 | K33: 3.565609 | L33: 11.051564 | M33: 40.332581 | N33: 8.615119 | O33: 0.011092 | P33: 0.096363 | Q33: 0.177701 | R33: 267.13146
A34: 2018 | B34: =[1]Summary!C34 -> 215.09553 | C34: 3.359772 | D34: 11.646935 | E34: 136.9304 | F34: 0.128844 | G34: =SUM(B34:E34) -> 367.03264 | J34: 215.09553 | K34: 3.597244 | L34: 11.646935 | M34: 40.753102 | N34: 8.992802 | O34: 0.011689 | P34: 0.133031 | Q34: 0.167866 | R34: 280.3982
A35: 2019 | B35: =[1]Summary!C35 -> 210.09433 | C35: 3.345028 | D35: 11.793773 | E35: 133.06913 | F35: 0.128907 | G35: =SUM(B35:E35) -> 358.30226 | J35: 210.09433 | K35: 3.582435 | L35: 11.793773 | M35: 39.603909 | N35: 9.32465 | O35: 0.013395 | P35: 0.149357 | Q35: 0.167946 | R35: 274.7298
