Workbook

Sheet NY projects
B1: Capacity | D1: 42270 | E1: The state has awarded $175 million to support five large-scale clean energy projects, it announced Wednesday.
A2: MW | B2: Factor | C2: MWh
A3: 100 | B3: 0.28 | C3: =A3*8760*B3 -> 245280 | E3: Ball Hill Wind Farm, Western New York: RES America Developments Inc. will build a 100-megawatt wind farm in Chautauqua County, in the towns of Villenova and Hanover.
A4: 9.6 | B4: 0.75 | C4: =A4*8760*B4 -> 63072 | E4: Orbit Energy NYC, New York City: Orbit Energy Inc. will build a 9.6-megawatt anaerobic digestion biogas-to-electricity facility in Staten Island
A5: 5.2 | B5: =B10 -> 0.5864726 | C5: =A5*8760*B5 -> 26715 | E5: Lyons Falls Mill Hydro, North Country: Northbrook Lyons Falls LLC will add 5.2 megawatts to an existing hydroelectric facility in Lewis County
A6: 0.79 | B6: 0.75 | C6: =A6*8760*B6 -> 5190.3 | E6: Morgan Stanley Headquarters, New York City: Morgan Stanley will install a 790-kilowatt fuel cell in its Manhattan offices
A7: 0.56 | B7: =B11 -> 0.58675799 | C7: =A7*8760*B7 -> 2878.4 | E7: Fulton Unit 2, Central New York: Erie Boulevard Hydropower LP, a subsidiary of Brookfield Renewable Energy Group, will install a new 560-kilowatt minimum flow turbin
A8: =SUM(A3:A7) -> 116.15 | C8: =SUM(C3:C7) -> 343135.7
A10: 8 | B10: =1000*C10/(A10*8760) -> 0.5864726 | C10: 41.1 | E10: Lyons Falls Mill Hydro - existing
A11: 800 | B11: =1000*C11/(A11*8760) -> 0.58675799 | C11: 4112
A12: 450 | B12: =1000*C12/(A12*8760) -> 0.4122273 | C12: 1625
D16: 6300 | E16: New York home site consumption kwh per year
C17: =C8*1000/D16 -> 54465.984

Sheet AVERT summary
N1: 2012 | O1: NYISO
N2: Gas | O2: 8504
B3: NYISO Observed Data | E3: Observed to | N3: Oil | O3: 0
B4: Name Plate Wind | C4: Net Energy | D4: AVERT Reduction | E4: Predicted | I4: Scenario Wind | J4: Currently entered | K4: Percentage of regional | L4: Regional Fossil | N4: Oil & Gas | O4: 53964
A5: Year | B5: Capacity (MW) | C5: (Gwh) | D5: Profile (GWh) | E5: Percentage | H5: Scenario | I5: Capacity (MW) | J5: reduction profile GWH | K5: fossil load | L5: Load GWh | N5: Coal | O5: 4281
A6: 2006 | B6: ='2006'!E$25 -> 279.2 | C6: ='2006'!I$25 -> 518.427 | D6: 1281 | E6: =C6/D6 -> 0.40470492 | H6: EWITS Wind | I6: 14819 | J6: 68041 | K6: 0.575 | L6: =J6/K6 -> 118332.17 | O6: =SUM(O2:O5) -> 66749
A7: 2007 | B7: ='2007'!E$25 -> 390 | C7: ='2007'!I$25 -> 800.181 | D7: 1814 | E7: =C7/D7 -> 0.44111411 | J7: Observed GWh
A8: 2008 | B8: ='2008'!E$25 -> 1148 | C8: ='2008'!I$25 -> 1282.325 | D8: 5271 | E8: =C8/D8 -> 0.24327926 | H8: EWITS | J8: 45099
A9: 2009 | B9: ='2009'!E$25 -> 1250.8 | C9: ='2009'!I$25 -> 1959.6 | D9: 5744 | E9: =C9/D9 -> 0.34115599
A10: 2010 | B10: 1195 | C10: ='2010'!I$25 -> 2215.8 | D10: 5487 | E10: =C10/D10 -> 0.40382723 | J10: =(J8-J6)/J6 -> -0.33717905
A11: 2011 | B11: ='2011'!E$25 -> 1195.4 | C11: ='2011'!I$25 -> 2472.3 | D11: 5487 | E11: =C11/D11 -> 0.45057408
A12: 2012 | B12: ='2012'!E$25 -> 1633.9 | C12: ='2012'!I$25 -> 3060.2 | D12: 7502 | E12: =C12/D12 -> 0.40791789
A13: 2013 | B13: ='2013'!E$26 -> 1729.7 | C13: ='2013'!I$26 -> 3540.8 | D13: 7502 | E13: =C13/D13 -> 0.47198081

Sheet Summary
A1: New York State Wind Facility Capacity Factors Based on NYISO "Gold Book" Load & Capacity Data Reports Table III-1
A3: Station | B3: 2006 | C3: 2007 | D3: 2008 | E3: 2009 | F3: 2010 | G3: 2011 | H3: 2012 | I3: 2013 | J3: 2014 | K3: 2015 | L3: 2016 | M3: 2017 | N3: 2018 | O3: 2019 | P3: 2020 | Q3: 2021
A4: Altona_Wind_Power | B4: =IF('2006'!$J5>0,'2006'!$J5,"") | C4: =IF('2007'!$J5>0,'2007'!$J5,"") | D4: =IF('2008'!$J5>0,'2008'!$J5,"") -> 0.0096912049 | E4: =IF('2009'!$J5>0,'2009'!$J5,"") -> 0.17429194 | F4: =IF('2010'!$J5>0,'2010'!$J5,"") -> 0.22023182 | G4: =IF('2011'!$J5>0,'2011'!$J5,"") -> 0.20922609 | H4: =IF('2012'!$J5>0,'2012'!$J5,"") -> 0.20196698 | I4: =IF('2013'!$J5>0,'2013'!$J5,"") -> 0.18979042 | J4: =IF('2014'!$J5>0,'2014'!$J5,"") -> 0.21824142 | K4: =IF('2015'!$J5>0,'2015'!$J5,"") -> 0.19915701 | L4: =IF('2016'!$J5>0,'2016'!$J5,"") -> 0.19915701 | M4: =IF('2017'!$J5>0,'2017'!$J5,"") -> 0.20559653 | N4: =IF('2018'!$J5>0,'2018'!$J5,"") -> 0.19740077 | O4: =IF('2019'!$J5>0,'2019'!$J5,"") -> 0.20079616 | P4: =IF('2020'!$J5>0,'2020'!$J5,"") -> 0.21613394 | Q4: =IF('2021'!$J5>0,'2021'!$J5,"") -> 0.19025875
A5: Arkwright_Summit_Wind_Farm | O5: ='2019'!J6 -> 0.37391669 | P5: =IF('2020'!$J6>0,'2020'!$J6,"") -> 0.37246063 | Q5: =IF('2021'!$J6>0,'2021'!$J6,"") -> 0.33969924
A6: Bliss_Wind_Power | B6: =IF('2006'!$J6>0,'2006'!$J6,"") | C6: =IF('2007'!$J6>0,'2007'!$J6,"") | D6: =IF('2008'!$J6>0,'2008'!$J6,"") -> 0.16814213 | E6: =IF('2009'!$J6>0,'2009'!$J6,"") -> 0.22013222 | F6: =IF('2010'!$J6>0,'2010'!$J6,"") -> 0.2130898 | G6: =IF('2011'!$J6>0,'2011'!$J6,"") -> 0.2167246 | H6: =IF('2012'!$J6>0,'2012'!$J6,"") -> 0.23285399 | I6: =IF('2013'!$J6>0,'2013'!$J6,"") -> 0.23239965 | J6: =IF('2014'!$J6>0,'2014'!$J6,"") -> 0.23467139 | K6: =IF('2015'!$J6>0,'2015'!$J6,"") -> 0.23319476 | L6: =IF('2016'!$J6>0,'2016'!$J6,"") -> 0.23217247 | M6: =IF('2017'!$J6>0,'2017'!$J6,"") -> 0.23898771 | N6: =IF('2018'!$J6>0,'2018'!$J6,"") -> 0.35721256 | O6: =IF('2019'!$J6>0,'2019'!$J6,"") -> 0.37391669 | P6: =IF('2020'!$J6>0,'2020'!$J6,"") -> 0.37246063 | Q6: =IF('2021'!$J7>0,'2021'!$J7,"") -> 0.19934574
A7: Canandaigua_Wind_Power | B7: =IF('2006'!$J7>0,'2006'!$J7,"") | C7: =IF('2007'!$J7>0,'2007'!$J7,"") | D7: =IF('2008'!$J7>0,'2008'!$J7,"") -> 0.055491803 | E7: =IF('2009'!$J7>0,'2009'!$J7,"") -> 0.19850299 | F7: =IF('2010'!$J7>0,'2010'!$J7,"") -> 0.23607306 | G7: =IF('2011'!$J7>0,'2011'!$J7,"") -> 0.22136986 | H7: =IF('2012'!$J7>0,'2012'!$J7,"") -> 0.22557078 | I7: =IF('2013'!$J7>0,'2013'!$J7,"") -> 0.22 | J7: =IF('2014'!$J7>0,'2014'!$J7,"") -> 0.2369863 | K7: =IF('2015'!$J7>0,'2015'!$J7,"") -> 0.23835616 | L7: =IF('2016'!$J7>0,'2016'!$J7,"") -> 0.23625571 | M7: =IF('2017'!$J7>0,'2017'!$J7,"") -> 0.24164384 | N7: =IF('2018'!$J7>0,'2018'!$J7,"") -> 0.21899634 | O7: =IF('2019'!$J7>0,'2019'!$J7,"") -> 0.1934392 | P7: =IF('2020'!$J7>0,'2020'!$J7,"") -> 0.2229719 | Q7: =IF('2021'!$J8>0,'2021'!$J8,"") -> 0.1483105
A8: Cassadaga_Wind | Q8: =IF('2021'!$J9>0,'2021'!$J9,"") -> 0.15329419
A9: Chateaugay_Wind_Power | B9: =IF('2006'!$J8>0,'2006'!$J8,"") | C9: =IF('2007'!$J8>0,'2007'!$J8,"") | D9: =IF('2008'!$J8>0,'2008'!$J8,"") -> 0.10322866 | E9: =IF('2009'!$J8>0,'2009'!$J8,"") -> 0.1841112 | F9: =IF('2010'!$J8>0,'2010'!$J8,"") -> 0.20601539 | G9: =IF('2011'!$J8>0,'2011'!$J8,"") -> 0.21630544 | H9: =IF('2012'!$J8>0,'2012'!$J8,"") -> 0.20558664 | I9: =IF('2013'!$J8>0,'2013'!$J8,"") -> 0.20204944 | J9: =IF('2014'!$J8>0,'2014'!$J8,"") -> 0.214912 | K9: =IF('2015'!$J8>0,'2015'!$J8,"") -> 0.22659549 | L9: =IF('2016'!$J8>0,'2016'!$J8,"") -> 0.22466611 | M9: =IF('2017'!$J8>0,'2017'!$J8,"") -> 0.22348704 | N9: =IF('2018'!$J8>0,'2018'!$J8,"") -> 0.22420091 | O9: =IF('2019'!$J8>0,'2019'!$J8,"") -> 0.19031963 | P9: =IF('2020'!$J8>0,'2020'!$J8,"") -> 0.060273973 | Q9: =IF('2021'!$J10>0,'2021'!$J10,"") -> 0.18790062
A10: Clinton_Wind_Power | B10: =IF('2006'!$J9>0,'2006'!$J9,"") | C10: =IF('2007'!$J9>0,'2007'!$J9,"") | D10: =IF('2008'!$J9>0,'2008'!$J9,"") -> 0.11414141 | E10: =IF('2009'!$J9>0,'2009'!$J9,"") -> 0.20218542 | F10: =IF('2010'!$J9>0,'2010'!$J9,"") -> 0.19741475 | G10: =IF('2011'!$J9>0,'2011'!$J9,"") -> 0.19809628 | H10: =IF('2012'!$J9>0,'2012'!$J9,"") -> 0.19025875 | I10: =IF('2013'!$J9>0,'2013'!$J9,"") -> 0.20025444 | J10: =IF('2014'!$J9>0,'2014'!$J9,"") -> 0.21149958 | K10: =IF('2015'!$J9>0,'2015'!$J9,"") -> 0.19866421 | L10: =IF('2016'!$J9>0,'2016'!$J9,"") -> 0.19889139 | M10: =IF('2017'!$J9>0,'2017'!$J9,"") -> 0.19412072 | N10: =IF('2018'!$J9>0,'2018'!$J9,"") -> 0.20462195 | O10: =IF('2019'!$J9>0,'2019'!$J9,"") -> 0.21126761 | P10: =IF('2020'!$J9>0,'2020'!$J9,"") -> 0.22187922 | Q10: =IF('2021'!$J11>0,'2021'!$J11,"") -> 0.17197119
A11: Copenhagen_Wind_Farm | O11: ='2019'!J11 -> 0.35232397 | P11: =IF('2020'!$J10>0,'2020'!$J10,"") -> 0.19980009 | Q11: =IF('2021'!$J12>0,'2021'!$J12,"") -> 0.34260863
A12: Ellenburg_Wind_Power | B12: =IF('2006'!$J10>0,'2006'!$J10,"") | C12: =IF('2007'!$J10>0,'2007'!$J10,"") | D12: =IF('2008'!$J10>0,'2008'!$J10,"") -> 0.12868488 | E12: =IF('2009'!$J10>0,'2009'!$J10,"") -> 0.22788771 | F12: =IF('2010'!$J10>0,'2010'!$J10,"") -> 0.22196854 | G12: =IF('2011'!$J10>0,'2011'!$J10,"") -> 0.23662551 | H12: =IF('2012'!$J10>0,'2012'!$J10,"") -> 0.22239134 | I12: =IF('2013'!$J10>0,'2013'!$J10,"") -> 0.23169288 | J12: =IF('2014'!$J10>0,'2014'!$J10,"") -> 0.24888663 | K12: =IF('2015'!$J10>0,'2015'!$J10,"") -> 0.24451773 | L12: =IF('2016'!$J10>0,'2016'!$J10,"") -> 0.23789391 | M12: =IF('2017'!$J10>0,'2017'!$J10,"") -> 0.24409493 | N12: =IF('2018'!$J10>0,'2018'!$J10,"") -> 0.16685977 | O12: =IF('2019'!$J10>0,'2019'!$J10,"") -> 0.1934392 | P12: =IF('2020'!$J10>0,'2020'!$J10,"") -> 0.19980009 | Q12: =IF('2021'!$J13>0,'2021'!$J13,"") -> 0.20421106
A13: Erie_Wind | B13: =IF('2006'!$J11>0,'2006'!$J11,"") | C13: =IF('2007'!$J11>0,'2007'!$J11,"") | D13: =IF('2008'!$J11>0,'2008'!$J11,"") | E13: =IF('2009'!$J11>0,'2009'!$J11,"") | F13: =IF('2010'!$J11>0,'2010'!$J11,"") | G13: =IF('2011'!$J11>0,'2011'!$J11,"") | H13: =IF('2012'!$J11>0,'2012'!$J11,"") -> 0.25342466 | I13: =IF('2013'!$J11>0,'2013'!$J11,"") -> 0.31506849 | J13: =IF('2014'!$J11>0,'2014'!$J11,"") -> 0.29908676 | K13: =IF('2015'!$J11>0,'2015'!$J11,"") -> 0.2891933 | L13: =IF('2016'!$J11>0,'2016'!$J11,"") -> 0.28995434 | M13: =IF('2017'!$J11>0,'2017'!$J11,"") -> 0.28006088 | N13: =IF('2018'!$J11>0,'2018'!$J11,"") -> 0.13794124 | O13: =IF('2019'!$J11>0,'2019'!$J11,"") -> 0.35232397 | P13: =IF('2020'!$J11>0,'2020'!$J11,"") -> 0.39232831 | Q13: =IF('2021'!$J14>0,'2021'!$J14,"") -> 0.19863014
A14: Fenner_Wind_Power | B14: =IF('2006'!$J12>0,'2006'!$J12,"") -> 0.29403729 | C14: =IF('2007'!$J12>0,'2007'!$J12,"") -> 0.36012983 | D14: =IF('2008'!$J12>0,'2008'!$J12,"") -> 0.26984018 | E14: =IF('2009'!$J12>0,'2009'!$J12,"") -> 0.26103501 | F14: =IF('2010'!$J12>0,'2010'!$J12,"") -> 0.099315068 | G14: =IF('2011'!$J12>0,'2011'!$J12,"") -> 0.25114155 | H14: =IF('2012'!$J12>0,'2012'!$J12,"") -> 0.22450533 | I14: =IF('2013'!$J12>0,'2013'!$J12,"") -> 0.25989346 | J14: =IF('2014'!$J12>0,'2014'!$J12,"") -> 0.25418569 | K14: =IF('2015'!$J12>0,'2015'!$J12,"") -> 0.2564688 | L14: =IF('2016'!$J12>0,'2016'!$J12,"") -> 0.23744292 | M14: =IF('2017'!$J12>0,'2017'!$J12,"") -> 0.16894977 | N14: =IF('2018'!$J12>0,'2018'!$J12,"") -> 0.20294267 | O14: =IF('2019'!$J12>0,'2019'!$J12,"") -> 0.22281414 | P14: =IF('2020'!$J12>0,'2020'!$J12,"") -> 0.23563899 | Q14: =IF('2021'!$J15>0,'2021'!$J15,"") -> 0.27853881
A15: Hardscrabble_Wind | B15: =IF('2006'!$J13>0,'2006'!$J13,"") | C15: =IF('2007'!$J13>0,'2007'!$J13,"") | D15: =IF('2008'!$J13>0,'2008'!$J13,"") | E15: =IF('2009'!$J13>0,'2009'!$J13,"") | F15: =IF('2010'!$J13>0,'2010'!$J13,"") | G15: =IF('2011'!$J13>0,'2011'!$J13,"") -> 0.22784771 | H15: =IF('2012'!$J13>0,'2012'!$J13,"") -> 0.26548809 | I15: =IF('2013'!$J13>0,'2013'!$J13,"") -> 0.27937184 | J15: =IF('2014'!$J13>0,'2014'!$J13,"") -> 0.28430828 | K15: =IF('2015'!$J13>0,'2015'!$J13,"") -> 0.28307417 | L15: =IF('2016'!$J13>0,'2016'!$J13,"") -> 0.28076021 | M15: =IF('2017'!$J13>0,'2017'!$J13,"") -> 0.2739726 | N15: =IF('2018'!$J13>0,'2018'!$J13,"") -> 0.19939117 | O15: =IF('2019'!$J13>0,'2019'!$J13,"") -> 0.14079148 | P15: =IF('2020'!$J13>0,'2020'!$J13,"") -> 0.071537291 | Q15: =IF('2021'!$J16>0,'2021'!$J16,"") -> 0.24543379
A16: High Sheldon Wind Farm | B16: =IF('2006'!$J14>0,'2006'!$J14,"") | C16: =IF('2007'!$J14>0,'2007'!$J14,"") | D16: =IF('2008'!$J14>0,'2008'!$J14,"") | E16: =IF('2009'!$J14>0,'2009'!$J14,"") -> 0.22306947 | F16: =IF('2010'!$J14>0,'2010'!$J14,"") -> 0.24454592 | G16: =IF('2011'!$J14>0,'2011'!$J14,"") -> 0.26494165 | H16: =IF('2012'!$J14>0,'2012'!$J14,"") -> 0.25834602 | I16: =IF('2013'!$J14>0,'2013'!$J14,"") -> 0.27143582 | J16: =IF('2014'!$J14>0,'2014'!$J14,"") -> 0.2746829 | K16: =IF('2015'!$J14>0,'2015'!$J14,"") -> 0.26220193 | L16: =IF('2016'!$J14>0,'2016'!$J14,"") -> 0.27153729 | M16: =IF('2017'!$J14>0,'2017'!$J14,"") -> 0.27234906 | N16: =IF('2018'!$J14>0,'2018'!$J14,"") -> 0.20738204 | O16: =IF('2019'!$J14>0,'2019'!$J14,"") -> 0.27587519 | P16: =IF('2020'!$J14>0,'2020'!$J14,"") -> 0.12595129 | Q16: =IF('2021'!$J17>0,'2021'!$J17,"") -> 0.21477813
A17: Howard_Wind | B17: =IF('2006'!$J15>0,'2006'!$J15,"") | C17: =IF('2007'!$J15>0,'2007'!$J15,"") | D17: =IF('2008'!$J15>0,'2008'!$J15,"") | E17: =IF('2009'!$J15>0,'2009'!$J15,"") | F17: =IF('2010'!$J15>0,'2010'!$J15,"") | G17: =IF('2011'!$J15>0,'2011'!$J15,"") | H17: =IF('2012'!$J15>0,'2012'!$J15,"") -> 0.23717093 | I17: =IF('2013'!$J15>0,'2013'!$J15,"") -> 0.26669371 | J17: =IF('2014'!$J15>0,'2014'!$J15,"") -> 0.26450607 | K17: =IF('2015'!$J15>0,'2015'!$J15,"") -> 0.25635212 | L17: =IF('2016'!$J15>0,'2016'!$J15,"") -> 0.26609708 | M17: =IF('2017'!$J15>0,'2017'!$J15,"") -> 0.26569933 | N17: =IF('2018'!$J15>0,'2018'!$J15,"") -> 0.27273849 | O17: =IF('2019'!$J15>0,'2019'!$J15,"") -> 0.28446254 | P17: =IF('2020'!$J15>0,'2020'!$J15,"") -> 0.10613353 | Q17: =IF('2021'!$J18>0,'2021'!$J18,"") -> 0.22521966
A18: Jericho_Rise_Wind | L18: =IF('2016'!$J16>0,'2016'!$J16,"") -> 0.26974137 | M18: =IF('2017'!$J16>0,'2017'!$J16,"") -> 0.36185892 | N18: =IF('2018'!$J16>0,'2018'!$J16,"") -> 0.2513445 | O18: =IF('2019'!$J16>0,'2019'!$J16,"") -> 0.24773913 | P18: =IF('2020'!$J16>0,'2020'!$J16,"") -> 0.25005896 | Q18: =IF('2021'!$J19>0,'2021'!$J19,"") -> 0.29515817
A19: Madison_Wind_Power | B19: =IF('2006'!$J16>0,'2006'!$J16,"") -> 0.19885648 | C19: =IF('2007'!$J16>0,'2007'!$J16,"") -> 0.20915997 | D19: =IF('2008'!$J16>0,'2008'!$J16,"") -> 0.18760825 | E19: =IF('2009'!$J16>0,'2009'!$J16,"") -> 0.19386711 | F19: =IF('2010'!$J16>0,'2010'!$J16,"") -> 0.17713746 | G19: =IF('2011'!$J16>0,'2011'!$J16,"") -> 0.21354905 | H19: =IF('2012'!$J16>0,'2012'!$J16,"") -> 0.18697843 | I19: =IF('2013'!$J16>0,'2013'!$J16,"") -> 0.20173988 | J19: =IF('2014'!$J16>0,'2014'!$J16,"") -> 0.20666037 | K19: =IF('2015'!$J16>0,'2015'!$J16,"") -> 0.19386711 | L19: =IF('2016'!$J17>0,'2016'!$J17,"") -> 0.1968194 | M19: =IF('2017'!$J17>0,'2017'!$J17,"") -> 0.20469217 | N19: =IF('2018'!$J17>0,'2018'!$J17,"") -> 0.24879481 | O19: =IF('2019'!$J17>0,'2019'!$J17,"") -> 0.26601883 | P19: =IF('2020'!$J17>0,'2020'!$J17,"") -> 0.25963108 | Q19: =IF('2021'!$J20>0,'2021'!$J20,"") -> 0.10136199
A20: Maple_Ridge_Wind_1 | B20: =IF('2006'!$J17>0,'2006'!$J17,"") -> 0.20088804 | C20: =IF('2007'!$J17>0,'2007'!$J17,"") -> 0.25868864 | D20: =IF('2008'!$J17>0,'2008'!$J17,"") -> 0.26582656 | E20: =IF('2009'!$J17>0,'2009'!$J17,"") -> 0.26087687 | F20: =IF('2010'!$J17>0,'2010'!$J17,"") -> 0.24447014 | G20: =IF('2011'!$J17>0,'2011'!$J17,"") -> 0.26201348 | H20: =IF('2012'!$J17>0,'2012'!$J17,"") -> 0.25949317 | I20: =IF('2013'!$J17>0,'2013'!$J17,"") -> 0.26912965 | J20: =IF('2014'!$J17>0,'2014'!$J17,"") -> 0.2902805 | K20: =IF('2015'!$J17>0,'2015'!$J17,"") -> 0.2808911 | L20: =IF('2016'!$J18>0,'2016'!$J18,"") -> 0.27421969 | M20: =IF('2017'!$J18>0,'2017'!$J18,"") -> 0.28192888 | N20: =IF('2018'!$J18>0,'2018'!$J18,"") -> 0.3321815 | O20: =IF('2019'!$J18>0,'2019'!$J18,"") -> 0.33423835 | P20: =IF('2020'!$J18>0,'2020'!$J18,"") -> 0.33188766 | Q20: =IF('2021'!$J21>0,'2021'!$J21,"") -> 0.22445591
A21: Maple_Ridge_Wind_2 | B21: =IF('2006'!$J18>0,'2006'!$J18,"") | C21: =IF('2007'!$J18>0,'2007'!$J18,"") | D21: =IF('2008'!$J18>0,'2008'!$J18,"") -> 0.26814038 | E21: =IF('2009'!$J18>0,'2009'!$J18,"") -> 0.25571782 | F21: =IF('2010'!$J18>0,'2010'!$J18,"") -> 0.2433971 | G21: =IF('2011'!$J18>0,'2011'!$J18,"") -> 0.25408344 | H21: =IF('2012'!$J18>0,'2012'!$J18,"") -> 0.25307767 | I21: =IF('2013'!$J18>0,'2013'!$J18,"") -> 0.26329965 | J21: =IF('2014'!$J18>0,'2014'!$J18,"") -> 0.28419246 | K21: =IF('2015'!$J18>0,'2015'!$J18,"") -> 0.27311675 | L21: =IF('2016'!$J19>0,'2016'!$J19,"") -> 0.26682374 | M21: =IF('2017'!$J19>0,'2017'!$J19,"") -> 0.27513052 | N21: =IF('2018'!$J19>0,'2018'!$J19,"") -> 0.18402614 | O21: =IF('2019'!$J19>0,'2019'!$J19,"") -> 0.18501023 | P21: =IF('2020'!$J19>0,'2020'!$J19,"") -> 0.16828059 | Q21: =IF('2021'!$J22>0,'2021'!$J22,"") -> 0.21182281
A22: Marble_River_Wind | B22: =IF('2006'!$J19>0,'2006'!$J19,"") | C22: =IF('2007'!$J19>0,'2007'!$J19,"") | D22: =IF('2008'!$J19>0,'2008'!$J19,"") | E22: =IF('2009'!$J19>0,'2009'!$J19,"") | F22: =IF('2010'!$J19>0,'2010'!$J19,"") | G22: =IF('2011'!$J19>0,'2011'!$J19,"") | H22: =IF('2012'!$J19>0,'2012'!$J19,"") -> 0.18020614 | I22: =IF('2013'!$J19>0,'2013'!$J19,"") -> 0.27174777 | J22: =IF('2014'!$J19>0,'2014'!$J19,"") -> 0.2856265 | K22: =IF('2015'!$J19>0,'2015'!$J19,"") -> 0.28785134 | L22: =IF('2016'!$J20>0,'2016'!$J20,"") -> 0.27736283 | M22: =IF('2017'!$J20>0,'2017'!$J20,"") -> 0.28721567 | N22: =IF('2018'!$J20>0,'2018'!$J20,"") -> 0.26487972 | O22: =IF('2019'!$J20>0,'2019'!$J20,"") -> 0.26497855 | P22: =IF('2020'!$J20>0,'2020'!$J20,"") -> 0.26631283 | Q22: =IF('2021'!$J23>0,'2021'!$J23,"") -> 0.23743443
A23: Marsh Hill Wind Farm | K23: =IF('2015'!$J20>0,'2015'!$J20,"") -> 0.47606968 | L23: =IF('2016'!$J21>0,'2016'!$J21,"") -> 0.38756412 | M23: =IF('2017'!$J21>0,'2017'!$J21,"") -> 0.34387508 | N23: =IF('2018'!$J21>0,'2018'!$J21,"") -> 0.25574804 | O23: =IF('2019'!$J21>0,'2019'!$J21,"") -> 0.25272739 | P23: =IF('2020'!$J21>0,'2020'!$J21,"") -> 0.25433488 | Q23: =IF('2021'!$J24>0,'2021'!$J24,"") -> 0.34387508
A24: Munnsville_Wind_Power | B24: =IF('2006'!$J21>0,'2006'!$J21,"") | C24: =IF('2007'!$J21>0,'2007'!$J21,"") | D24: =IF('2008'!$J21>0,'2008'!$J21,"") -> 0.2947257 | E24: =IF('2009'!$J21>0,'2009'!$J21,"") -> 0.29415657 | F24: =IF('2010'!$J21>0,'2010'!$J21,"") -> 0.28025941 | G24: =IF('2011'!$J21>0,'2011'!$J21,"") -> 0.28952419 | H24: =IF('2012'!$J21>0,'2012'!$J21,"") -> 0.28687711 | I24: =IF('2013'!$J21>0,'2013'!$J21,"") -> 0.29614188 | J24: =IF('2014'!$J21>0,'2014'!$J21,"") -> 0.31764939 | K24: =IF('2015'!$J21>0,'2015'!$J21,"") -> 0.30209781 | L24: =IF('2016'!$J22>0,'2016'!$J22,"") -> 0.31070081 | M24: =IF('2017'!$J22>0,'2017'!$J22,"") -> 0.31996559 | N24: =IF('2018'!$J22>0,'2018'!$J22,"") -> 0.25898145 | O24: =IF('2019'!$J22>0,'2019'!$J22,"") -> 0.27573373 | P24: =IF('2020'!$J22>0,'2020'!$J22,"") -> 0.25886507 | Q24: =IF('2021'!$J25>0,'2021'!$J25,"") -> 0.26404606
A25: Orangeville_Wind_Farm | I25: =IF('2013'!$J22>0,'2013'!$J22,"") -> 0.11880633 | J25: =IF('2014'!$J22>0,'2014'!$J22,"") -> 0.33322635 | K25: =IF('2015'!$J22>0,'2015'!$J22,"") -> 0.34878745 | L25: =IF('2016'!$J23>0,'2016'!$J23,"") -> 0.32216338 | M25: =IF('2017'!$J23>0,'2017'!$J23,"") -> 0.34027747 | N25: =IF('2018'!$J23>0,'2018'!$J23,"") -> 0.32696319 | O25: =IF('2019'!$J23>0,'2019'!$J23,"") -> 0.35514967 | P25: =IF('2020'!$J23>0,'2020'!$J23,"") -> 0.13388579 | Q25: =IF('2021'!$J26>0,'2021'!$J26,"") -> 0.29882173
A26: Roaring_Brook_Wind | Q26: =IF('2021'!$J27>0,'2021'!$J27,"") -> 0.12427411
A27: Steel_Wind | B27: =IF('2006'!$J22>0,'2006'!$J22,"") | C27: =IF('2007'!$J22>0,'2007'!$J22,"") -> 0.058789954 | D27: =IF('2008'!$J22>0,'2008'!$J22,"") -> 0.21343607 | E27: =IF('2009'!$J22>0,'2009'!$J22,"") -> 0.24143836 | F27: =IF('2010'!$J22>0,'2010'!$J22,"") -> 0.27568493 | G27: =IF('2011'!$J22>0,'2011'!$J22,"") -> 0.21917808 | H27: =IF('2012'!$J22>0,'2012'!$J22,"") -> 0.27682648 | I27: =IF('2013'!$J22>0,'2013'!$J22,"") -> 0.11880633 | J27: =IF('2014'!$J22>0,'2014'!$J22,"") -> 0.33322635 | K27: =IF('2015'!$J22>0,'2015'!$J22,"") -> 0.34878745 | L27: =IF('2016'!$J24>0,'2016'!$J24,"") -> 0.31792237 | M27: =IF('2017'!$J24>0,'2017'!$J24,"") -> 0.2956621 | N27: =IF('2018'!$J24>0,'2018'!$J24,"") -> 0.19257495 | O27: =IF('2019'!$J24>0,'2019'!$J24,"") -> 0.11183906 | P27: =IF('2020'!$J24>0,'2020'!$J24,"") -> 0.29514923 | Q27: =IF('2021'!$J28>0,'2021'!$J28,"") -> 0.19406393
A28: Western_NY_Wind_Power | B28: =IF('2006'!$J23>0,'2006'!$J23,"") -> 0.24972326 | C28: =IF('2007'!$J23>0,'2007'!$J23,"") -> 0.26873184 | D28: =IF('2008'!$J23>0,'2008'!$J23,"") -> 0.19665836 | E28: =IF('2009'!$J23>0,'2009'!$J23,"") -> 0.23695863 | F28: =IF('2010'!$J23>0,'2010'!$J23,"") -> 0.23004013 | G28: =IF('2011'!$J23>0,'2011'!$J23,"") -> 0.23176975 | H28: =IF('2012'!$J23>0,'2012'!$J23,"") -> 0.207555 | I28: =IF('2013'!$J23>0,'2013'!$J23,"") -> 0.3053653 | J28: =IF('2014'!$J23>0,'2014'!$J23,"") -> 0.26598174 | K28: =IF('2015'!$J23>0,'2015'!$J23,"") -> 0.28881279 | L28: =IF('2016'!$J25>0,'2016'!$J25,"") -> 0.21620313 | M28: =IF('2017'!$J25>0,'2017'!$J25,"") -> 0.12280338 | N28: =IF('2018'!$J25>0,'2018'!$J25,"") -> 0.35206987 | O28: =IF('2019'!$J25>0,'2019'!$J25,"") -> 0.33504992 | P28: =IF('2020'!$J25>0,'2020'!$J25,"") -> 0.34234418 | Q28: =IF('2021'!$J29>0,'2021'!$J29,"") -> 0.029403625
A29: Wethersfield_Wind_Power | B29: =IF('2006'!$J24>0,'2006'!$J24,"") | C29: =IF('2007'!$J24>0,'2007'!$J24,"") | D29: =IF('2008'!$J24>0,'2008'!$J24,"") | E29: =IF('2009'!$J24>0,'2009'!$J24,"") -> 0.20035792 | F29: =IF('2010'!$J24>0,'2010'!$J24,"") -> 0.23139088 | G29: =IF('2011'!$J24>0,'2011'!$J24,"") -> 0.23238748 | H29: =IF('2012'!$J24>0,'2012'!$J24,"") -> 0.22586432 | I29: =IF('2013'!$J24>0,'2013'!$J24,"") -> 0.166044 | J29: =IF('2014'!$J24>0,'2014'!$J24,"") -> 0.16085513 | K29: =IF('2015'!$J24>0,'2015'!$J24,"") -> 0.235229 | L29: =IF('2016'!$J26>0,'2016'!$J26,"") -> 0.23990723 | M29: =IF('2017'!$J26>0,'2017'!$J26,"") -> 0.24652098 | N29: =IF('2018'!$J26>0,'2018'!$J26,"") -> 0.26769406 | O29: =IF('2019'!$J26>0,'2019'!$J26,"") -> 0.15468037 | P29: =IF('2020'!$J26>0,'2020'!$J26,"") -> 0.061643836 | Q29: =IF('2021'!$J30>0,'2021'!$J30,"") -> 0.20647605
A30: State Wide Totals | B30: =IF('2006'!$J25>0,'2006'!$J25,"") -> 0.21196692 | C30: =IF('2007'!$J25>0,'2007'!$J25,"") -> 0.26281629 | D30: =IF('2008'!$J25>0,'2008'!$J25,"") -> 0.20931435 | E30: =IF('2009'!$J25>0,'2009'!$J25,"") -> 0.18910597 | F30: =IF('2010'!$J25>0,'2010'!$J25,"") -> 0.18764481 | G30: =IF('2011'!$J25>0,'2011'!$J25,"") -> 0.20936649 | H30: =IF('2012'!$J25>0,'2012'!$J25,"") -> 0.2315439 | I30: =IF('2013'!$J25>0,'2013'!$J25,"") -> 0.23863883 | J30: =IF('2014'!$J25>0,'2014'!$J25,"") -> 0.24262521 | K30: =IF('2015'!$J25>0,'2015'!$J25,"") -> 0.23936363 | L30: =IF('2016'!$J27>0,'2016'!$J27,"") -> 0.25686083 | M30: =IF('2017'!$J27>0,'2017'!$J27,"") -> 0.264092 | N30: =IF('2018'!$J29>0,'2018'!$J29,"") -> 0.24502979 | O30: =IF('2019'!$J29>0,'2019'!$J29,"") -> 0.2529851 | P30: =IF('2020'!$J29>0,'2020'!$J29,"") -> 0.2393103 | Q30: =IF('2021'!$J31>0,'2021'!$J31,"") -> 0.22273516
A31: State Wide Net Energy GWh | B31: ='2006'!$I25 -> 518.427 | C31: ='2007'!$I25 -> 800.181 | D31: ='2008'!$I25 -> 1282.325 | E31: ='2009'!$I25 -> 1959.6 | F31: ='2010'!$I25 -> 2215.8 | G31: ='2011'!$I25 -> 2472.3 | H31: ='2012'!$I25 -> 3060.2 | I31: ='2013'!$I26 -> 3540.8 | J31: ='2014'!$I26 -> 3985.1 | K31: ='2015'!$I26 -> 3983.8 | L31: ='2016'!$I27 -> 3943.3 | M31: ='2017'!$I27 -> 4218.8 | N31: ='2018'!$I29 -> 3985.1 | O31: ='2019'!$I29 -> 4399.5 | P31: ='2020'!I29 -> 4161.9 | Q31: ='2021'!I31 -> 4110.7
A32: State Wide Annual Capacity GWh | B32: ='2006'!$K25 -> 2445.792 | C32: ='2007'!$K25 -> 3044.64 | D32: ='2008'!$K25 -> 6126.312 | E32: ='2009'!$K25 -> 10362.444 | F32: ='2010'!$K25 -> 11808.48 | G32: ='2011'!$K25 -> 11808.48 | H32: ='2012'!$K25 -> 13216.5 | I32: ='2013'!$K26 -> 14154.072 | J32: ='2014'!$K26 -> 14223.934 | K32: ='2015'!$K26 -> 14344.462 | L32: ='2016'!$K27 -> 15351.893 | M32: ='2017'!$K27 -> 15974.736 | N32: ='2018'!$K29 -> 16263.737 | O32: ='2019'!$K29 -> 17390.352 | P32: ='2019'!$K29 -> 17390.352 | Q32: ='2021'!K31 -> 18455.55
A34: State Average Capacity Factor | B34: =B31/B32 -> 0.21196692 | C34: =C31/C32 -> 0.26281629 | D34: =D31/D32 -> 0.20931435 | E34: =E31/E32 -> 0.18910597 | F34: =F31/F32 -> 0.18764481 | G34: =G31/G32 -> 0.20936649 | H34: =H31/H32 -> 0.2315439 | I34: =I31/I32 -> 0.25016123 | ... Q34: =Q31/Q32 -> 0.22273516
A37: (http://www.nrel.gov/wind/systemsintegration/ewits.html)
A38: The wind data projected wind potential for 66 on-shore sites in New York State with a total of 14,500 MW

Sheet Post Summary
A1: New York State Wind Facility Status Based on NYISO Gold Book Table III-2 Existing Generating Facilities Table Data | U1: there are hidden tabs in this spreadsheet
V2: data in meters
C3: Capacity | D3: Annual Capacity Factors | V3: Hub | W3: Rotor | X3: Tip | Y3: Tip
A4: Station | B4: In-Service Date | C4: MW | D4: 2006 | E4: 2007 | F4: 2008 | G4: 2009 | H4: 2010 | I4: 2011 | J4: 2012 | K4: 2013 | L4: 2014 | M4: 2015 | N4: 2016 | O4: 2017 | P4: 2018 | Q4: 2019 | R4: 2020 | V4: Height | W4: Diameter | X4: Height | Y4: Height (ft)
A5: Altona Wind Power | B5: 39714 | C5: 97.5 | D5: =IF('2006'!$J5>0,'2006'!$J5,"") | E5: =IF('2007'!$J5>0,'2007'!$J5,"") | F5: =IF('2008'!$J5>0,'2008'!$J5,"") -> 0.0096912049 | G5: =IF('2009'!$J5>0,'2009'!$J5,"") -> 0.17429194 | H5: =IF('2010'!$J5>0,'2010'!$J5,"") -> 0.22023182 | I5: =IF('2011'!$J5>0,'2011'!$J5,"") -> 0.20922609 | J5: =IF('2012'!$J5>0,'2012'!$J5,"") -> 0.20196698 | K5: =IF('2013'!$J5>0,'2013'!$J5,"") -> 0.18979042 | L5: =IF('2014'!$J5>0,'2014'!$J5,"") -> 0.21824142 | M5: =IF('2015'!$J5>0,'2015'!$J5,"") -> 0.19915701 | N5: =IF('2016'!$J5>0,'2016'!$J5,"") -> 0.19915701 | O5: =IF('2017'!$J5>0,'2017'!$J5,"") -> 0.20559653 | P5: =IF('2018'!$J5>0,'2018'!$J5,"") -> 0.19740077 | Q5: =IF('2019'!$J5>0,'2019'!$J5,"") -> 0.20079616 | R5: =IF('2020'!$J5>0,'2020'!$J5,"") -> 0.21613394
A6: Arkwright Summit Wind Farm | B6: 43344 | C6: 78.4 | Q6: =IF('2019'!$J6>0,'2019'!$J6,"") -> 0.37391669 | R6: =IF('2020'!$J6>0,'2020'!$J6,"") -> 0.37246063 | U6: Vestas IEC IIIA | V6: 75 | W6: 110 | X6: =V6+W6/2 -> 130 | Y6: =X6*3.28084 -> 426.5092
A7: Bliss Wind Power | B7: 39527 | C7: 100.5 | D7: =IF('2006'!$J6>0,'2006'!$J6,"") | E7: =IF('2007'!$J6>0,'2007'!$J6,"") | F7: =IF('2008'!$J6>0,'2008'!$J6,"") -> 0.16814213 | G7: =IF('2009'!$J6>0,'2009'!$J6,"") -> 0.22013222 | H7: =IF('2010'!$J6>0,'2010'!$J6,"") -> 0.2130898 | I7: =IF('2011'!$J6>0,'2011'!$J6,"") -> 0.2167246 | J7: =IF('2012'!$J6>0,'2012'!$J6,"") -> 0.23285399 | K7: =IF('2013'!$J6>0,'2013'!$J6,"") -> 0.23239965 | L7: =IF('2014'!$J6>0,'2014'!$J6,"") -> 0.23467139 | M7: =IF('2015'!$J6>0,'2015'!$J6,"") -> 0.23319476 | N7: =IF('2016'!$J6>0,'2016'!$J6,"") -> 0.23217247 | O7: =IF('2017'!$J6>0,'2017'!$J6,"") -> 0.23898771 | P7: =IF('2018'!$J7>0,'2018'!$J7,"") -> 0.21899634 | Q7: =IF('2019'!$J7>0,'2019'!$J7,"") -> 0.1934392 | R7: =IF('2020'!$J7>0,'2020'!$J7,"") -> 0.2229719
A8: Canandaigua Wind Power | B8: 39787 | C8: 125 | D8: =IF('2006'!$J7>0,'2006'!$J7,"") | E8: =IF('2007'!$J7>0,'2007'!$J7,"") | F8: =IF('2008'!$J7>0,'2008'!$J7,"") -> 0.055491803 | G8: =IF('2009'!$J7>0,'2009'!$J7,"") -> 0.19850299 | H8: =IF('2010'!$J7>0,'2010'!$J7,"") -> 0.23607306 | I8: =IF('2011'!$J7>0,'2011'!$J7,"") -> 0.22136986 | J8: =IF('2012'!$J7>0,'2012'!$J7,"") -> 0.22557078 | K8: =IF('2013'!$J7>0,'2013'!$J7,"") -> 0.22 | L8: =IF('2014'!$J7>0,'2014'!$J7,"") -> 0.2369863 | M8: =IF('2015'!$J7>0,'2015'!$J7,"") -> 0.23835616 | N8: =IF('2016'!$J7>0,'2016'!$J7,"") -> 0.23625571 | O8: =IF('2017'!$J7>0,'2017'!$J7,"") -> 0.24164384 | P8: =IF('2018'!$J8>0,'2018'!$J8,"") -> 0.22420091 | Q8: =IF('2019'!$J8>0,'2019'!$J8,"") -> 0.19031963 | R8: =IF('2020'!$J8>0,'2020'!$J8,"") -> 0.060273973
A9: Chateaugay Wind Power | B9: 39728 | C9: 106.5 | D9: =IF('2006'!$J8>0,'2006'!$J8,"") | E9: =IF('2007'!$J8>0,'2007'!$J8,"") | F9: =IF('2008'!$J8>0,'2008'!$J8,"") -> 0.10322866 | G9: =IF('2009'!$J8>0,'2009'!$J8,"") -> 0.1841112 | H9: =IF('2010'!$J8>0,'2010'!$J8,"") -> 0.20601539 | I9: =IF('2011'!$J8>0,'2011'!$J8,"") -> 0.21630544 | J9: =IF('2012'!$J8>0,'2012'!$J8,"") -> 0.20558664 | K9: =IF('2013'!$J8>0,'2013'!$J8,"") -> 0.20204944 | L9: =IF('2014'!$J8>0,'2014'!$J8,"") -> 0.214912 | M9: =IF('2015'!$J8>0,'2015'!$J8,"") -> 0.22659549 | N9: =IF('2016'!$J8>0,'2016'!$J8,"") -> 0.22466611 | O9: =IF('2017'!$J8>0,'2017'!$J8,"") -> 0.22348704 | P9: =IF('2018'!$J9>0,'2018'!$J9,"") -> 0.20462195 | Q9: =IF('2019'!$J9>0,'2019'!$J9,"") -> 0.21126761 | R9: =IF('2020'!$J9>0,'2020'!$J9,"") -> 0.22187922 | U9: GE Energy 1.5sle | V9: 80 | W9: 77 | X9: =V9+W9/2 -> 118.5 | Y9: =X9*3.28084 -> 388.77954
A10: Clinton Wind Power | B10: 39547 | C10: 100.5 | D10: =IF('2006'!$J9>0,'2006'!$J9,"") | E10: =IF('2007'!$J9>0,'2007'!$J9,"") | F10: =IF('2008'!$J9>0,'2008'!$J9,"") -> 0.11414141 | G10: =IF('2009'!$J9>0,'2009'!$J9,"") -> 0.20218542 | H10: =IF('2010'!$J9>0,'2010'!$J9,"") -> 0.19741475 | I10: =IF('2011'!$J9>0,'2011'!$J9,"") -> 0.19809628 | J10: =IF('2012'!$J9>0,'2012'!$J9,"") -> 0.19025875 | K10: =IF('2013'!$J9>0,'2013'!$J9,"") -> 0.20025444 | L10: =IF('2014'!$J9>0,'2014'!$J9,"") -> 0.21149958 | M10: =IF('2015'!$J9>0,'2015'!$J9,"") -> 0.19866421 | N10: =IF('2016'!$J9>0,'2016'!$J9,"") -> 0.19889139 | O10: =IF('2017'!$J9>0,'2017'!$J9,"") -> 0.19412072 | P10: =IF('2018'!$J10>0,'2018'!$J10,"") -> 0.16685977 | Q10: =IF('2019'!$J10>0,'2019'!$J10,"") -> 0.1934392 | R10: =IF('2020'!$J10>0,'2020'!$J10,"") -> 0.19980009
A11: Copenhagen Wind Farm | B11: 43435 | C11: 79.9 | Q11: =IF('2019'!$J11>0,'2019'!$J11,"") -> 0.35232397 | R11: =IF('2020'!$J11>0,'2020'!$J11,"") -> 0.39232831 | U11: V110-2.0 MW | V11: 75 | W11: 110 | X11: =V11+W11/2 -> 130 | Y11: =X11*3.28084 -> 426.5092
A12: Ellenburg Wind Power | B12: 39538 | C12: 81 | D12: =IF('2006'!$J10>0,'2006'!$J10,"") | E12: =IF('2007'!$J10>0,'2007'!$J10,"") | F12: =IF('2008'!$J10>0,'2008'!$J10,"") -> 0.12868488 | G12: =IF('2009'!$J10>0,'2009'!$J10,"") -> 0.22788771 | H12: =IF('2010'!$J10>0,'2010'!$J10,"") -> 0.22196854 | I12: =IF('2011'!$J10>0,'2011'!$J10,"") -> 0.23662551 | J12: =IF('2012'!$J10>0,'2012'!$J10,"") -> 0.22239134 | K12: =IF('2013'!$J10>0,'2013'!$J10,"") -> 0.23169288 | L12: =IF('2014'!$J10>0,'2014'!$J10,"") -> 0.24888663 | M12: =IF('2015'!$J10>0,'2015'!$J10,"") -> 0.24451773 | N12: =IF('2016'!$J10>0,'2016'!$J10,"") -> 0.23789391 | O12: =IF('2017'!$J10>0,'2017'!$J10,"") -> 0.24409493 | P12: =IF('2018'!$J12>0,'2018'!$J12,"") -> 0.20294267 | Q12: =IF('2019'!$J12>0,'2019'!$J12,"") -> 0.22281414 | R12: =IF('2020'!$J12>0,'2020'!$J12,"") -> 0.23563899
A13: Erie Wind | B13: 40940 | C13: 15 | D13: =IF('2006'!$J11>0,'2006'!$J11,"") | E13: =IF('2007'!$J11>0,'2007'!$J11,"") | F13: =IF('2008'!$J11>0,'2008'!$J11,"") | G13: =IF('2009'!$J11>0,'2009'!$J11,"") | H13: =IF('2010'!$J11>0,'2010'!$J11,"") | I13: =IF('2011'!$J11>0,'2011'!$J11,"") | J13: =IF('2012'!$J11>0,'2012'!$J11,"") -> 0.25342466 | K13: =IF('2013'!$J11>0,'2013'!$J11,"") -> 0.31506849 | L13: =IF('2014'!$J11>0,'2014'!$J11,"") -> 0.29908676 | M13: =IF('2015'!$J11>0,'2015'!$J11,"") -> 0.2891933 | N13: =IF('2016'!$J11>0,'2016'!$J11,"") -> 0.28995434 | O13: =IF('2017'!$J11>0,'2017'!$J11,"") -> 0.28006088 | P13: =IF('2018'!$J13>0,'2018'!$J13,"") -> 0.19939117 | Q13: =IF('2019'!$J13>0,'2019'!$J13,"") -> 0.14079148 | R13: =IF('2020'!$J13>0,'2020'!$J13,"") -> 0.071537291
A14: Fenner Wind Power | B14: 37226 | C14: 30 | D14: =IF('2006'!$J12>0,'2006'!$J12,"") -> 0.29403729 | E14: =IF('2007'!$J12>0,'2007'!$J12,"") -> 0.36012983 | F14: =IF('2008'!$J12>0,'2008'!$J12,"") -> 0.26984018 | G14: =IF('2009'!$J12>0,'2009'!$J12,"") -> 0.26103501 | H14: =IF('2010'!$J12>0,'2010'!$J12,"") -> 0.099315068 | I14: =IF('2011'!$J12>0,'2011'!$J12,"") -> 0.25114155 | J14: =IF('2012'!$J12>0,'2012'!$J12,"") -> 0.22450533 | K14: =IF('2013'!$J12>0,'2013'!$J12,"") -> 0.25989346 | L14: =IF('2014'!$J12>0,'2014'!$J12,"") -> 0.25418569 | M14: =IF('2015'!$J12>0,'2015'!$J12,"") -> 0.2564688 | N14: =IF('2016'!$J12>0,'2016'!$J12,"") -> 0.23744292 | O14: =IF('2017'!$J12>0,'2017'!$J12,"") -> 0.16894977 | P14: =IF('2018'!$J14>0,'2018'!$J14,"") -> 0.20738204 | Q14: =IF('2019'!$J14>0,'2019'!$J14,"") -> 0.27587519 | R14: =IF('2020'!$J14>0,'2020'!$J14,"") -> 0.12595129
A15: Hardscrabble Wind | B15: 40575 | C15: 74 | D15: =IF('2006'!$J13>0,'2006'!$J13,"") | E15: =IF('2007'!$J13>0,'2007'!$J13,"") | F15: =IF('2008'!$J13>0,'2008'!$J13,"") | G15: =IF('2009'!$J13>0,'2009'!$J13,"") | H15: =IF('2010'!$J13>0,'2010'!$J13,"") | I15: =IF('2011'!$J13>0,'2011'!$J13,"") -> 0.22784771 | J15: =IF('2012'!$J13>0,'2012'!$J13,"") -> 0.26548809 | K15: =IF('2013'!$J13>0,'2013'!$J13,"") -> 0.27937184 | L15: =IF('2014'!$J13>0,'2014'!$J13,"") -> 0.28430828 | M15: =IF('2015'!$J13>0,'2015'!$J13,"") -> 0.28307417 | N15: =IF('2016'!$J13>0,'2016'!$J13,"") -> 0.28076021 | O15: =IF('2017'!$J13>0,'2017'!$J13,"") -> 0.2739726 | P15: =IF('2018'!$J15>0,'2018'!$J15,"") -> 0.27273849 | Q15: =IF('2019'!$J15>0,'2019'!$J15,"") -> 0.28446254 | R15: =IF('2020'!$J15>0,'2020'!$J15,"") -> 0.10613353
A16: High Sheldon Wind Farm | B16: 39845 | C16: 118.1 | D16: =IF('2006'!$J14>0,'2006'!$J14,"") | E16: =IF('2007'!$J14>0,'2007'!$J14,"") | F16: =IF('2008'!$J14>0,'2008'!$J14,"") | G16: =IF('2009'!$J14>0,'2009'!$J14,"") -> 0.22306947 | H16: =IF('2010'!$J14>0,'2010'!$J14,"") -> 0.24454592 | I16: =IF('2011'!$J14>0,'2011'!$J14,"") -> 0.26494165 | J16: =IF('2012'!$J14>0,'2012'!$J14,"") -> 0.25834602 | K16: =IF('2013'!$J14>0,'2013'!$J14,"") -> 0.27143582 | L16: =IF('2014'!$J14>0,'2014'!$J14,"") -> 0.2746829 | M16: =IF('2015'!$J14>0,'2015'!$J14,"") -> 0.26220193 | N16: =IF('2016'!$J14>0,'2016'!$J14,"") -> 0.27153729 | O16: =IF('2017'!$J14>0,'2017'!$J14,"") -> 0.27234906 | P16: =IF('2018'!$J16>0,'2018'!$J16,"") -> 0.2513445 | Q16: =IF('2019'!$J16>0,'2019'!$J16,"") -> 0.24773913 | R16: =IF('2020'!$J16>0,'2020'!$J16,"") -> 0.25005896
A17: Howard Wind | B17: 40878 | C17: 55.4 | D17: =IF('2006'!$J15>0,'2006'!$J15,"") | E17: =IF('2007'!$J15>0,'2007'!$J15,"") | F17: =IF('2008'!$J15>0,'2008'!$J15,"") | G17: =IF('2009'!$J15>0,'2009'!$J15,"") | H17: =IF('2010'!$J15>0,'2010'!$J15,"") | I17: =IF('2011'!$J15>0,'2011'!$J15,"") | J17: =IF('2012'!$J15>0,'2012'!$J15,"") -> 0.23717093 | K17: =IF('2013'!$J15>0,'2013'!$J15,"") -> 0.26669371 | L17: =IF('2014'!$J15>0,'2014'!$J15,"") -> 0.26450607 | M17: =IF('2015'!$J15>0,'2015'!$J15,"") -> 0.25635212 | N17: =IF('2016'!$J15>0,'2016'!$J15,"") -> 0.26609708 | O17: =IF('2017'!$J15>0,'2017'!$J15,"") -> 0.26569933 | P17: =IF('2018'!$J17>0,'2018'!$J17,"") -> 0.24879481 | Q17: =IF('2019'!$J17>0,'2019'!$J17,"") -> 0.26601883 | R17: =IF('2020'!$J17>0,'2020'!$J17,"") -> 0.25963108
A18: Jericho Rise Wind | B18: 42705 | C18: 77.7 | N18: =IF('2016'!$J16>0,'2016'!$J16,"") -> 0.26974137 | O18: =IF('2017'!$J16>0,'2017'!$J16,"") -> 0.36185892 | P18: =IF('2018'!$J18>0,'2018'!$J18,"") -> 0.3321815 | Q18: =IF('2019'!$J18>0,'2019'!$J18,"") -> 0.33423835 | R18: =IF('2020'!$J18>0,'2020'!$J18,"") -> 0.33188766 | U18: Gamesa G114 2.1 MW wind turbines | V18: 80 | W18: 114 | X18: =V18+W18/2 -> 137 | Y18: =X18*3.28084 -> 449.47508 | Z18: =X18-X9 -> 18.5 | AA18: =Z18*3.28084 -> 60.69554
A19: Madison Wind Power | B19: 36770 | C19: 11.6 | D19: =IF('2006'!$J16>0,'2006'!$J16,"") -> 0.19885648 | E19: =IF('2007'!$J16>0,'2007'!$J16,"") -> 0.20915997 | F19: =IF('2008'!$J16>0,'2008'!$J16,"") -> 0.18760825 | G19: =IF('2009'!$J16>0,'2009'!$J16,"") -> 0.19386711 | H19: =IF('2010'!$J16>0,'2010'!$J16,"") -> 0.17713746 | I19: =IF('2011'!$J16>0,'2011'!$J16,"") -> 0.21354905 | J19: =IF('2012'!$J16>0,'2012'!$J16,"") -> 0.18697843 | K19: =IF('2013'!$J16>0,'2013'!$J16,"") -> 0.20173988 | L19: =IF('2014'!$J16>0,'2014'!$J16,"") -> 0.20666037 | M19: =IF('2015'!$J16>0,'2015'!$J16,"") -> 0.19386711 | N19: =IF('2016'!$J17>0,'2016'!$J17,"") -> 0.1968194 | O19: =IF('2017'!$J17>0,'2017'!$J17,"") -> 0.20469217 | P19: =IF('2018'!$J19>0,'2018'!$J19,"") -> 0.18402614 | Q19: =IF('2019'!$J19>0,'2019'!$J19,"") -> 0.18501023 | R19: =IF('2020'!$J19>0,'2020'!$J19,"") -> 0.16828059
A20: Maple Ridge Wind 1 | B20: 38718 | C20: 231 | D20: =IF('2006'!$J17>0,'2006'!$J17,"") -> 0.20088804 | E20: =IF('2007'!$J17>0,'2007'!$J17,"") -> 0.25868864 | F20: =IF('2008'!$J17>0,'2008'!$J17,"") -> 0.26582656 | G20: =IF('2009'!$J17>0,'2009'!$J17,"") -> 0.26087687 | H20: =IF('2010'!$J17>0,'2010'!$J17,"") -> 0.24447014 | I20: =IF('2011'!$J17>0,'2011'!$J17,"") -> 0.26201348 | J20: =IF('2012'!$J17>0,'2012'!$J17,"") -> 0.25949317 | K20: =IF('2013'!$J17>0,'2013'!$J17,"") -> 0.26912965 | L20: =IF('2014'!$J17>0,'2014'!$J17,"") -> 0.2902805 | M20: =IF('2015'!$J17>0,'2015'!$J17,"") -> 0.2808911 | N20: =IF('2016'!$J18>0,'2016'!$J18,"") -> 0.27421969 | O20: =IF('2017'!$J18>0,'2017'!$J18,"") -> 0.28192888 | P20: =IF('2018'!$J20>0,'2018'!$J20,"") -> 0.26487972 | Q20: =IF('2019'!$J20>0,'2019'!$J20,"") -> 0.26497855 | R20: =IF('2020'!$J20>0,'2020'!$J20,"") -> 0.26631283
A21: Maple Ridge Wind 2 | B21: 39417 | C21: 90.7 | D21: =IF('2006'!$J18>0,'2006'!$J18,"") | E21: =IF('2007'!$J18>0,'2007'!$J18,"") | F21: =IF('2008'!$J18>0,'2008'!$J18,"") -> 0.26814038 | G21: =IF('2009'!$J18>0,'2009'!$J18,"") -> 0.25571782 | H21: =IF('2010'!$J18>0,'2010'!$J18,"") -> 0.2433971 | I21: =IF('2011'!$J18>0,'2011'!$J18,"") -> 0.25408344 | J21: =IF('2012'!$J18>0,'2012'!$J18,"") -> 0.25307767 | K21: =IF('2013'!$J18>0,'2013'!$J18,"") -> 0.26329965 | L21: =IF('2014'!$J18>0,'2014'!$J18,"") -> 0.28419246 | M21: =IF('2015'!$J18>0,'2015'!$J18,"") -> 0.27311675 | N21: =IF('2016'!$J19>0,'2016'!$J19,"") -> 0.26682374 | O21: =IF('2017'!$J19>0,'2017'!$J19,"") -> 0.27513052 | P21: =IF('2018'!$J21>0,'2018'!$J21,"") -> 0.25574804 | Q21: =IF('2019'!$J21>0,'2019'!$J21,"") -> 0.25272739 | R21: =IF('2020'!$J21>0,'2020'!$J21,"") -> 0.25433488
A22: Marble River Wind | B22: 41091 | C22: 215.2 | D22: =IF('2006'!$J19>0,'2006'!$J19,"") | E22: =IF('2007'!$J19>0,'2007'!$J19,"") | F22: =IF('2008'!$J19>0,'2008'!$J19,"") | G22: =IF('2009'!$J19>0,'2009'!$J19,"") | H22: =IF('2010'!$J19>0,'2010'!$J19,"") | I22: =IF('2011'!$J19>0,'2011'!$J19,"") | J22: =IF('2012'!$J19>0,'2012'!$J19,"") -> 0.18020614 | K22: =IF('2013'!$J19>0,'2013'!$J19,"") -> 0.27174777 | L22: =IF('2014'!$J19>0,'2014'!$J19,"") -> 0.2856265 | M22: =IF('2015'!$J19>0,'2015'!$J19,"") -> 0.28785134 | N22: =IF('2016'!$J20>0,'2016'!$J20,"") -> 0.27736283 | O22: =IF('2017'!$J20>0,'2017'!$J20,"") -> 0.28721567 | P22: =IF('2018'!$J22>0,'2018'!$J22,"") -> 0.25898145 | Q22: =IF('2019'!$J22>0,'2019'!$J22,"") -> 0.27573373 | R22: =IF('2020'!$J22>0,'2020'!$J22,"") -> 0.25886507
A23: Marsh Hill Wind Farm | B23: 41974 | C23: 16.2 | M23: =IF('2015'!$J20>0,'2015'!$J20,"") -> 0.47606968 | N23: =IF('2016'!$J21>0,'2016'!$J21,"") -> 0.38756412 | O23: =IF('2017'!$J21>0,'2017'!$J21,"") -> 0.34387508 | P23: =IF('2018'!$J23>0,'2018'!$J23,"") -> 0.32696319 | Q23: =IF('2019'!$J23>0,'2019'!$J23,"") -> 0.35514967 | R23: =IF('2020'!$J23>0,'2020'!$J23,"") -> 0.13388579
A24: Munnsville Wind Power | B24: 39314 | C24: 34.5 | D24: =IF('2006'!$J21>0,'2006'!$J21,"") | E24: =IF('2007'!$J21>0,'2007'!$J21,"") | F24: =IF('2008'!$J21>0,'2008'!$J21,"") -> 0.2947257 | G24: =IF('2009'!$J21>0,'2009'!$J21,"") -> 0.29415657 | H24: =IF('2010'!$J21>0,'2010'!$J21,"") -> 0.28025941 | I24: =IF('2011'!$J21>0,'2011'!$J21,"") -> 0.28952419 | J24: =IF('2012'!$J21>0,'2012'!$J21,"") -> 0.28687711 | K24: =IF('2013'!$J21>0,'2013'!$J21,"") -> 0.29614188 | L24: =IF('2014'!$J21>0,'2014'!$J21,"") -> 0.31764939 | M24: =IF('2015'!$J21>0,'2015'!$J21,"") -> 0.30209781 | N24: =IF('2016'!$J22>0,'2016'!$J22,"") -> 0.31070081 | O24: =IF('2017'!$J22>0,'2017'!$J22,"") -> 0.31996559 | P24: =IF('2018'!$J24>0,'2018'!$J24,"") -> 0.19257495 | Q24: =IF('2019'!$J24>0,'2019'!$J24,"") -> 0.11183906 | R24: =IF('2020'!$J24>0,'2020'!$J24,"") -> 0.29514923 | U24: Vestas V66-1.65 MW wind turbines | V24: 60 | W24: 66 | X24: =V24+W24/2 -> 93 | Y24: =X24*3.28084 -> 305.11812
A25: Orangeville Wind Farm | B25: 41609 | C25: 93.9 | K25: =IF('2013'!$J22>0,'2013'!$J22,"") -> 0.11880633 | L25: =IF('2014'!$J22>0,'2014'!$J22,"") -> 0.33322635 | M25: =IF('2015'!$J22>0,'2015'!$J22,"") -> 0.34878745 | N25: =IF('2016'!$J23>0,'2016'!$J23,"") -> 0.32216338 | O25: =IF('2017'!$J23>0,'2017'!$J23,"") -> 0.34027747 | P25: =IF('2018'!$J25>0,'2018'!$J25,"") -> 0.35206987 | Q25: =IF('2019'!$J25>0,'2019'!$J25,"") -> 0.33504992 | R25: =IF('2020'!$J25>0,'2020'!$J25,"") -> 0.34234418 | U25: GE Energy 1.6-100 | V25: 80 | W25: 100 | X25: =V25+W25/2 -> 130 | Y25: =X25*3.28084 -> 426.5092
A26: Steel Wind | B26: 39105 | C26: 20 | D26: =IF('2006'!$J22>0,'2006'!$J22,"") | E26: =IF('2007'!$J22>0,'2007'!$J22,"") -> 0.058789954 | F26: =IF('2008'!$J22>0,'2008'!$J22,"") -> 0.21343607 | G26: =IF('2009'!$J22>0,'2009'!$J22,"") -> 0.24143836 | H26: =IF('2010'!$J22>0,'2010'!$J22,"") -> 0.27568493 | I26: =IF('2011'!$J22>0,'2011'!$J22,"") -> 0.21917808 | J26: =IF('2012'!$J22>0,'2012'!$J22,"") -> 0.27682648 | K26: =IF('2013'!$J22>0,'2013'!$J22,"") -> 0.11880633 | L26: =IF('2014'!$J22>0,'2014'!$J22,"") -> 0.33322635 | M26: =IF('2015'!$J22>0,'2015'!$J22,"") -> 0.34878745 | N26: =IF('2016'!$J24>0,'2016'!$J24,"") -> 0.31792237 | O26: =IF('2017'!$J24>0,'2017'!$J24,"") -> 0.2956621 | P26: =IF('2018'!$J26>0,'2018'!$J26,"") -> 0.26769406 | Q26: =IF('2019'!$J26>0,'2019'!$J26,"") -> 0.15468037 | R26: =IF('2020'!$J26>0,'2020'!$J26,"") -> 0.061643836
A27: Western NY Wind Power | B27: 36800 | C27: 6.6 | D27: =IF('2006'!$J23>0,'2006'!$J23,"") -> 0.24972326 | E27: =IF('2007'!$J23>0,'2007'!$J23,"") -> 0.26873184 | F27: =IF('2008'!$J23>0,'2008'!$J23,"") -> 0.19665836 | G27: =IF('2009'!$J23>0,'2009'!$J23,"") -> 0.23695863 | H27: =IF('2010'!$J23>0,'2010'!$J23,"") -> 0.23004013 | I27: =IF('2011'!$J23>0,'2011'!$J23,"") -> 0.23176975 | J27: =IF('2012'!$J23>0,'2012'!$J23,"") -> 0.207555 | K27: =IF('2013'!$J23>0,'2013'!$J23,"") -> 0.3053653 | L27: =IF('2014'!$J23>0,'2014'!$J23,"") -> 0.26598174 | M27: =IF('2015'!$J23>0,'2015'!$J23,"") -> 0.28881279 | N27: =IF('2016'!$J25>0,'2016'!$J25,"") -> 0.21620313 | O27: =IF('2017'!$J25>0,'2017'!$J25,"") -> 0.12280338 | P27: =IF('2018'!$J27>0,'2018'!$J27,"") -> 0.079562751 | Q27: =IF('2019'!$J27>0,'2019'!$J27,"") -> 0.051888751 | R27: =IF('2020'!$J27>0,'2020'!$J27,"") -> 0.01729625
A28: Wethersfield Wind Power | B28: 39793 | C28: 126 | D28: =IF('2006'!$J24>0,'2006'!$J24,"") | E28: =IF('2007'!$J24>0,'2007'!$J24,"") | F28: =IF('2008'!$J24>0,'2008'!$J24,"") | G28: =IF('2009'!$J24>0,'2009'!$J24,"") -> 0.20035792 | H28: =IF('2010'!$J24>0,'2010'!$J24,"") -> 0.23139088 | I28: =IF('2011'!$J24>0,'2011'!$J24,"") -> 0.23238748 | J28: =IF('2012'!$J24>0,'2012'!$J24,"") -> 0.22586432 | K28: =IF('2013'!$J24>0,'2013'!$J24,"") -> 0.166044 | L28: =IF('2014'!$J24>0,'2014'!$J24,"") -> 0.16085513 | M28: =IF('2015'!$J24>0,'2015'!$J24,"") -> 0.235229 | N28: =IF('2016'!$J26>0,'2016'!$J26,"") -> 0.23990723 | O28: =IF('2017'!$J26>0,'2017'!$J26,"") -> 0.24652098 | P28: =IF('2018'!$J28>0,'2018'!$J28,"") -> 0.23311227 | Q28: =IF('2019'!$J28>0,'2019'!$J28,"") -> 0.24153802 | R28: =IF('2020'!$J28>0,'2020'!$J28,"") -> 0.23981663
A29: State Wide Total Capacity (MW) | C29: =SUM(C5:C28) -> 1985.2 | D29: ='2006'!$E$25 -> 279.2 | E29: ='2007'!$E$25 -> 390 | F29: ='2008'!$E$25 -> 1148 | G29: ='2009'!$E$25 -> 1250.8 | H29: ='2010'!$E$25 -> 1195.4 | I29: ='2011'!$E$25 -> 1195.4 | J29: ='2012'!$E$25 -> 1633.9 | K29: ='2013'!$E$26 -> 1729.7 | L29: ='2014'!$E$26 -> 1891.7 | M29: ='2015'!$E$26 -> 1891.7 | N29: ='2016'!$E$27 -> 1823.6 | O29: ='2017'!$E$27 -> 1823.6 | P29: ='2018'!$E$29 -> 1981.9 | Q29: ='2019'!$E$29 -> 1985.2 | R29: ='2020'!$E$29 -> 1985.3
A30: State Wide Net Energy GWh | D30: ='2006'!$I$25 -> 518.427 | E30: ='2007'!$I$25 -> 800.181 | F30: ='2008'!$I$25 -> 1282.325 | G30: ='2009'!$I$25 -> 1959.6 | H30: ='2010'!$I$25 -> 2215.8 | I30: ='2011'!$I$25 -> 2472.3 | J30: ='2012'!$I$25 -> 3060.2 | K30: ='2013'!$I$26 -> 3540.8 | L30: ='2014'!$I$26 -> 3985.1 | M30: ='2015'!$I$26 -> 3983.8 | N30: ='2016'!$I$27 -> 3943.3 | O30: ='2017'!$I$27 -> 4218.8 | P30: ='2018'!$I$29 -> 3985.1 | Q30: ='2019'!$I$29 -> 4399.5 | R30: ='2020'!$I$29 -> 4161.9
A31: State Average Capacity Factor | D31: =D30/D33 -> 0.21196692 | E31: =E30/E33 -> 0.26281629 | F31: =F30/F33 -> 0.20931435 | G31: =G30/G33 -> 0.18910597 | H31: =H30/H33 -> 0.18764481 | I31: =I30/I33 -> 0.20936649 | J31: =J30/J33 -> 0.2315439 | K31: =K30/K33 -> 0.25016123 | ... R31: =R30/R33 -> 0.2393103 | T31: =AVERAGE(N31:R31) -> 0.25165561
A33: State Wide Annual Capacity GWh | D33: ='2006'!$K25 -> 2445.792 | E33: ='2007'!$K25 -> 3044.64 | F33: ='2008'!$K25 -> 6126.312 | G33: ='2009'!$K25 -> 10362.444 | H33: ='2010'!$K25 -> 11808.48 | I33: ='2011'!$K25 -> 11808.48 | J33: ='2012'!$K25 -> 13216.5 | K33: ='2013'!$K26 -> 14154.072 | L33: ='2014'!$K26 -> 14223.934 | M33: ='2015'!$K26 -> 14344.462 | N33: ='2016'!$K27 -> 15351.893 | O33: ='2017'!$K27 -> 15974.736 | P33: ='2018'!$K29 -> 16263.737 | Q33: ='2019'!$K29 -> 17390.352 | R33: ='2020'!$K29 -> 17391.228
D35: 2006 | E35: 2007 | F35: 2008 | G35: 2009 | H35: 2010 | I35: 2011 | J35: 2012 | K35: 2013 | L35: 2014 | M35: 2015 | N35: 2016 | O35: 2017 | P35: 2018 | Q35: 2019 | R35: 2020
A36: State Wide Total Capacity (MW) | C36: 1985.2 | D36: 279.2 | E36: 390 | F36: 1148 | G36: 1250.8 | H36: 1195.4 | I36: 1195.4 | J36: 1633.9 | K36: 1729.7 | L36: 1891.7 | M36: 1891.7 | N36: 1823.6 | O36: 1823.6 | P36: 1981.9 | Q36: 1985.2 | R36: 1985.3
A37: State Wide Net Energy GWh | D37: 518.427 | E37: 800.181 | F37: 1282.325 | G37: 1959.6 | H37: 2215.8 | I37: 2472.3 | J37: 3060.2 | K37: 3540.8 | L37: 3985.1 | M37: 3983.8 | N37: 3943.3 | O37: 4218.8 | P37: 3985.1 | Q37: 4399.5 | R37: 4161.9

Sheet GWh
A1: New York State Wind Facility Net Energy GWh
A4: Station | B4: 2006 | C4: 2007 | D4: 2008 | E4: 2009 | F4: 2010 | G4: 2011 | H4: 2012 | I4: 2013 | J4: 2014 | K4: 2015 | L4: 2016 | M4: 2017 | N4: 2018
A5: Altona_Wind_Power | B5: =IF('2006'!$I5>0,'2006'!$I5,"") | C5: =IF('2007'!$I5>0,'2007'!$I5,"") | D5: =IF('2008'!$I5>0,'2008'!$I5,"") -> 0.703 | E5: =IF('2009'!$I5>0,'2009'!$I5,"") -> 62.4 | F5: =IF('2010'!$I5>0,'2010'!$I5,"") -> 188.1 | G5: =IF('2011'!$I5>0,'2011'!$I5,"") -> 178.7 | H5: =IF('2012'!$I5>0,'2012'!$I5,"") -> 172.5 | I5: =IF('2013'!$I5>0,'2013'!$I5,"") -> 162.1 | J5: =IF('2014'!$I5>0,'2014'!$I5,"") -> 186.4 | K5: =IF('2015'!$I5>0,'2015'!$I5,"") -> 170.1 | L5: =IF('2016'!$I5>0,'2016'!$I5,"") -> 170.1 | M5: =IF('2017'!$I5>0,'2017'!$I5,"") -> 175.6 | N5: =IF('2018'!$F5>0,'2018'!$F5,"") -> 97.5
A6: Arkwright_Summit_Wind_Farm | N6: =IF('2018'!$F6>0,'2018'!$F6,"")
A7: Bliss_Wind_Power | B7: =IF('2006'!$I6>0,'2006'!$I6,"") | C7: =IF('2007'!$I6>0,'2007'!$I6,"") | D7: =IF('2008'!$I6>0,'2008'!$I6,"") -> 124.101 | E7: =IF('2009'!$I6>0,'2009'!$I6,"") -> 193.8 | F7: =IF('2010'!$I6>0,'2010'!$I6,"") -> 187.6 | G7: =IF('2011'!$I6>0,'2011'!$I6,"") -> 190.8 | H7: =IF('2012'!$I6>0,'2012'!$I6,"") -> 205 | I7: =IF('2013'!$I6>0,'2013'!$I6,"") -> 204.6 | J7: =IF('2014'!$I6>0,'2014'!$I6,"") -> 206.6 | K7: =IF('2015'!$I6>0,'2015'!$I6,"") -> 205.3 | L7: =IF('2016'!$I6>0,'2016'!$I6,"") -> 204.4 | M7: =IF('2017'!$I6>0,'2017'!$I6,"") -> 210.4 | N7: =IF('2018'!$F7>0,'2018'!$F7,"") -> 100.5
A8: Canandaigua_Wind_Power | B8: =IF('2006'!$I7>0,'2006'!$I7,"") | C8: =IF('2007'!$I7>0,'2007'!$I7,"") | D8: =IF('2008'!$I7>0,'2008'!$I7,"") -> 10.155 | E8: =IF('2009'!$I7>0,'2009'!$I7,"") -> 198.9 | F8: =IF('2010'!$I7>0,'2010'!$I7,"") -> 258.5 | G8: =IF('2011'!$I7>0,'2011'!$I7,"") -> 242.4 | H8: =IF('2012'!$I7>0,'2012'!$I7,"") -> 247 | I8: =IF('2013'!$I7>0,'2013'!$I7,"") -> 240.9 | J8: =IF('2014'!$I7>0,'2014'!$I7,"") -> 259.5 | K8: =IF('2015'!$I7>0,'2015'!$I7,"") -> 261 | L8: =IF('2016'!$I7>0,'2016'!$I7,"") -> 258.7 | M8: =IF('2017'!$I7>0,'2017'!$I7,"") -> 264.6 | N8: =IF('2018'!$F8>0,'2018'!$F8,"") -> 125
A9: Chateaugay_Wind_Power | B9: =IF('2006'!$I8>0,'2006'!$I8,"") | C9: =IF('2007'!$I8>0,'2007'!$I8,"") | D9: =IF('2008'!$I8>0,'2008'!$I8,"") -> 16.095 | E9: =IF('2009'!$I8>0,'2009'!$I8,"") -> 72 | F9: =IF('2010'!$I8>0,'2010'!$I8,"") -> 192.2 | G9: =IF('2011'!$I8>0,'2011'!$I8,"") -> 201.8 | H9: =IF('2012'!$I8>0,'2012'!$I8,"") -> 191.8 | I9: =IF('2013'!$I8>0,'2013'!$I8,"") -> 188.5 | J9: =IF('2014'!$I8>0,'2014'!$I8,"") -> 200.5 | K9: =IF('2015'!$I8>0,'2015'!$I8,"") -> 211.4 | L9: =IF('2016'!$I8>0,'2016'!$I8,"") -> 209.6 | M9: =IF('2017'!$I8>0,'2017'!$I8,"") -> 208.5 | N9: =IF('2018'!$F9>0,'2018'!$F9,"") -> 106.5
A10: Clinton_Wind_Power | B10: =IF('2006'!$I9>0,'2006'!$I9,"") | C10: =IF('2007'!$I9>0,'2007'!$I9,"") | D10: =IF('2008'!$I9>0,'2008'!$I9,"") -> 75.71 | E10: =IF('2009'!$I9>0,'2009'!$I9,"") -> 178 | F10: =IF('2010'!$I9>0,'2010'!$I9,"") -> 173.8 | G10: =IF('2011'!$I9>0,'2011'!$I9,"") -> 174.4 | H10: =IF('2012'!$I9>0,'2012'!$I9,"") -> 167.5 | I10: =IF('2013'!$I9>0,'2013'!$I9,"") -> 176.3 | J10: =IF('2014'!$I9>0,'2014'!$I9,"") -> 186.2 | K10: =IF('2015'!$I9>0,'2015'!$I9,"") -> 174.9 | L10: =IF('2016'!$I9>0,'2016'!$I9,"") -> 175.1 | M10: =IF('2017'!$I9>0,'2017'!$I9,"") -> 170.9 | N10: =IF('2018'!$F10>0,'2018'!$F10,"") -> 100.5
A11: Copenhagen_Wind_Farm | N11: =IF('2018'!$F11>0,'2018'!$F11,"") -> 79.9
A12: Ellenburg_Wind_Power | B12: =IF('2006'!$I10>0,'2006'!$I10,"") | C12: =IF('2007'!$I10>0,'2007'!$I10,"") | D12: =IF('2008'!$I10>0,'2008'!$I10,"") -> 76.55 | E12: =IF('2009'!$I10>0,'2009'!$I10,"") -> 161.7 | F12: =IF('2010'!$I10>0,'2010'!$I10,"") -> 157.5 | G12: =IF('2011'!$I10>0,'2011'!$I10,"") -> 167.9 | H12: =IF('2012'!$I10>0,'2012'!$I10,"") -> 157.8 | I12: =IF('2013'!$I10>0,'2013'!$I10,"") -> 164.4 | J12: =IF('2014'!$I10>0,'2014'!$I10,"") -> 176.6 | K12: =IF('2015'!$I10>0,'2015'!$I10,"") -> 173.5 | L12: =IF('2016'!$I10>0,'2016'!$I10,"") -> 168.8 | M12: =IF('2017'!$I10>0,'2017'!$I10,"") -> 173.2 | N12: =IF('2018'!$F12>0,'2018'!$F12,"") -> 81
A13: Erie_Wind | B13: =IF('2006'!$I11>0,'2006'!$I11,"") | C13: =IF('2007'!$I11>0,'2007'!$I11,"") | D13: =IF('2008'!$I11>0,'2008'!$I11,"") | E13: =IF('2009'!$I11>0,'2009'!$I11,"") | F13: =IF('2010'!$I11>0,'2010'!$I11,"") | G13: =IF('2011'!$I11>0,'2011'!$I11,"") | H13: =IF('2012'!$I11>0,'2012'!$I11,"") -> 33.3 | I13: =IF('2013'!$I11>0,'2013'!$I11,"") -> 41.4 | J13: =IF('2014'!$I11>0,'2014'!$I11,"") -> 39.3 | K13: =IF('2015'!$I11>0,'2015'!$I11,"") -> 38 | L13: =IF('2016'!$I11>0,'2016'!$I11,"") -> 38.1 | M13: =IF('2017'!$I11>0,'2017'!$I11,"") -> 36.8 | N13: =IF('2018'!$F13>0,'2018'!$F13,"")
A14: Fenner_Wind_Power | B14: =IF('2006'!$I12>0,'2006'!$I12,"") -> 77.273 | C14: =IF('2007'!$I12>0,'2007'!$I12,"") -> 23.855 | D14: =IF('2008'!$I12>0,'2008'!$I12,"") -> 70.914 | E14: =IF('2009'!$I12>0,'2009'!$I12,"") -> 68.6 | F14: =IF('2010'!$I12>0,'2010'!$I12,"") -> 26.1 | G14: =IF('2011'!$I12>0,'2011'!$I12,"") -> 66 | H14: =IF('2012'!$I12>0,'2012'!$I12,"") -> 59 | I14: =IF('2013'!$I12>0,'2013'!$I12,"") -> 68.3 | J14: =IF('2014'!$I12>0,'2014'!$I12,"") -> 66.8 | K14: =IF('2015'!$I12>0,'2015'!$I12,"") -> 67.4 | L14: =IF('2016'!$I12>0,'2016'!$I12,"") -> 62.4 | M14: =IF('2017'!$I12>0,'2017'!$I12,"") -> 44.4 | N14: =IF('2018'!$F14>0,'2018'!$F14,"")
A15: Hardscrabble_Wind | B15: =IF('2006'!$I13>0,'2006'!$I13,"") | C15: =IF('2007'!$I13>0,'2007'!$I13,"") | D15: =IF('2008'!$I13>0,'2008'!$I13,"") | E15: =IF('2009'!$I13>0,'2009'!$I13,"") | F15: =IF('2010'!$I13>0,'2010'!$I13,"") | G15: =IF('2011'!$I13>0,'2011'!$I13,"") -> 147.7 | H15: =IF('2012'!$I13>0,'2012'!$I13,"") -> 172.1 | I15: =IF('2013'!$I13>0,'2013'!$I13,"") -> 181.1 | J15: =IF('2014'!$I13>0,'2014'!$I13,"") -> 184.3 | K15: =IF('2015'!$I13>0,'2015'!$I13,"") -> 183.5 | L15: =IF('2016'!$I13>0,'2016'!$I13,"") -> 182 | M15: =IF('2017'!$I13>0,'2017'!$I13,"") -> 177.6 | N15: =IF('2018'!$F15>0,'2018'!$F15,"") -> 74
A16: High Sheldon Wind Farm | B16: =IF('2006'!$I14>0,'2006'!$I14,"") | C16: =IF('2007'!$I14>0,'2007'!$I14,"") | D16: =IF('2008'!$I14>0,'2008'!$I14,"") | E16: =IF('2009'!$I14>0,'2009'!$I14,"") -> 184.3 | F16: =IF('2010'!$I14>0,'2010'!$I14,"") -> 241 | G16: =IF('2011'!$I14>0,'2011'!$I14,"") -> 261.1 | H16: =IF('2012'!$I14>0,'2012'!$I14,"") -> 254.6 | I16: =IF('2013'!$I14>0,'2013'!$I14,"") -> 267.5 | J16: =IF('2014'!$I14>0,'2014'!$I14,"") -> 270.7 | K16: =IF('2015'!$I14>0,'2015'!$I14,"") -> 258.4 | L16: =IF('2016'!$I14>0,'2016'!$I14,"") -> 267.6 | M16: =IF('2017'!$I14>0,'2017'!$I14,"") -> 268.4 | N16: =IF('2018'!$F16>0,'2018'!$F16,"") -> 112.5
A17: Howard_Wind | B17: =IF('2006'!$I15>0,'2006'!$I15,"") | C17: =IF('2007'!$I15>0,'2007'!$I15,"") | D17: =IF('2008'!$I15>0,'2008'!$I15,"") | E17: =IF('2009'!$I15>0,'2009'!$I15,"") | F17: =IF('2010'!$I15>0,'2010'!$I15,"") | G17: =IF('2011'!$I15>0,'2011'!$I15,"") | H17: =IF('2012'!$I15>0,'2012'!$I15,"") -> 115.1 | I17: =IF('2013'!$I15>0,'2013'!$I15,"") -> 134.1 | J17: =IF('2014'!$I15>0,'2014'!$I15,"") -> 133 | K17: =IF('2015'!$I15>0,'2015'!$I15,"") -> 128.9 | L17: =IF('2016'!$I15>0,'2016'!$I15,"") -> 133.8 | M17: =IF('2017'!$I15>0,'2017'!$I15,"") -> 133.6 | N17: =IF('2018'!$F17>0,'2018'!$F17,"") -> 57.4
A18: Jericho_Rise_Wind | L18: =IF('2016'!$I16>0,'2016'!$I16,"") -> 15.3 | M18: =IF('2017'!$I16>0,'2017'!$I16,"") -> 246.3 | N18: =IF('2018'!$F18>0,'2018'!$F18,"") -> 77.7
A19: Madison_Wind_Power | B19: =IF('2006'!$I16>0,'2006'!$I16,"") -> 20.207 | C19: =IF('2007'!$I16>0,'2007'!$I16,"") -> 21.254 | D19: =IF('2008'!$I16>0,'2008'!$I16,"") -> 19.064 | E19: =IF('2009'!$I16>0,'2009'!$I16,"") -> 19.7 | F19: =IF('2010'!$I16>0,'2010'!$I16,"") -> 18 | G19: =IF('2011'!$I16>0,'2011'!$I16,"") -> 21.7 | H19: =IF('2012'!$I16>0,'2012'!$I16,"") -> 19 | I19: =IF('2013'!$I16>0,'2013'!$I16,"") -> 20.5 | J19: =IF('2014'!$I16>0,'2014'!$I16,"") -> 21 | K19: =IF('2015'!$I16>0,'2015'!$I16,"") -> 19.7 | L19: =IF('2016'!$I17>0,'2016'!$I17,"") -> 20 | M19: =IF('2017'!$I17>0,'2017'!$I17,"") -> 20.8 | N19: =IF('2018'!$F19>0,'2018'!$F19,"") -> 11.5
A20: Maple_Ridge_Wind_1 | B20: =IF('2006'!$I17>0,'2006'!$I17,"") -> 406.509 | C20: =IF('2007'!$I17>0,'2007'!$I17,"") -> 729.235 | D20: =IF('2008'!$I17>0,'2008'!$I17,"") -> 537.916 | E20: =IF('2009'!$I17>0,'2009'!$I17,"") -> 527.9 | F20: =IF('2010'!$I17>0,'2010'!$I17,"") -> 494.7 | G20: =IF('2011'!$I17>0,'2011'!$I17,"") -> 530.2 | H20: =IF('2012'!$I17>0,'2012'!$I17,"") -> 525.1 | I20: =IF('2013'!$I17>0,'2013'!$I17,"") -> 544.6 | J20: =IF('2014'!$I17>0,'2014'!$I17,"") -> 587.4 | K20: =IF('2015'!$I17>0,'2015'!$I17,"") -> 568.4 | L20: =IF('2016'!$I18>0,'2016'!$I18,"") -> 554.9 | M20: =IF('2017'!$I18>0,'2017'!$I18,"") -> 570.5 | N20: =IF('2018'!$F20>0,'2018'!$F20,"") -> 231
A21: Maple_Ridge_Wind_2 | B21: =IF('2006'!$I18>0,'2006'!$I18,"") | C21: =IF('2007'!$I18>0,'2007'!$I18,"") | D21: =IF('2008'!$I18>0,'2008'!$I18,"") -> 213.281 | E21: =IF('2009'!$I18>0,'2009'!$I18,"") -> 203.4 | F21: =IF('2010'!$I18>0,'2010'!$I18,"") -> 193.6 | G21: =IF('2011'!$I18>0,'2011'!$I18,"") -> 202.1 | H21: =IF('2012'!$I18>0,'2012'!$I18,"") -> 201.3 | I21: =IF('2013'!$I18>0,'2013'!$I18,"") -> 209.2 | J21: =IF('2014'!$I18>0,'2014'!$I18,"") -> 225.8 | K21: =IF('2015'!$I18>0,'2015'!$I18,"") -> 217 | L21: =IF('2016'!$I19>0,'2016'!$I19,"") -> 212 | M21: =IF('2017'!$I19>0,'2017'!$I19,"") -> 218.6 | N21: =IF('2018'!$F21>0,'2018'!$F21,"") -> 90.7
A22: Marble_River_Wind | B22: =IF('2006'!$I19>0,'2006'!$I19,"") | C22: =IF('2007'!$I19>0,'2007'!$I19,"") | D22: =IF('2008'!$I19>0,'2008'!$I19,"") | E22: =IF('2009'!$I19>0,'2009'!$I19,"") | F22: =IF('2010'!$I19>0,'2010'!$I19,"") | G22: =IF('2011'!$I19>0,'2011'!$I19,"") | H22: =IF('2012'!$I19>0,'2012'!$I19,"") -> 142.6 | I22: =IF('2013'!$I19>0,'2013'!$I19,"") -> 513 | J22: =IF('2014'!$I19>0,'2014'!$I19,"") -> 539.2 | K22: =IF('2015'!$I19>0,'2015'!$I19,"") -> 543.4 | L22: =IF('2016'!$I20>0,'2016'!$I20,"") -> 523.6 | M22: =IF('2017'!$I20>0,'2017'!$I20,"") -> 542.2 | N22: =IF('2018'!$F22>0,'2018'!$F22,"")
A23: Marsh Hill Wind Farm | K23: =IF('2015'!$I20>0,'2015'!$I20,"") -> 56.3 | L23: =IF('2016'!$I21>0,'2016'!$I21,"") -> 55 | M23: =IF('2017'!$I21>0,'2017'!$I21,"") -> 48.8 | N23: =IF('2018'!$F23>0,'2018'!$F23,"")
A24: Munnsville_Wind_Power | B24: =IF('2006'!$I21>0,'2006'!$I21,"") | C24: =IF('2007'!$I21>0,'2007'!$I21,"") | D24: =IF('2008'!$I21>0,'2008'!$I21,"") -> 89.072 | E24: =IF('2009'!$I21>0,'2009'!$I21,"") -> 88.9 | F24: =IF('2010'!$I21>0,'2010'!$I21,"") -> 84.7 | G24: =IF('2011'!$I21>0,'2011'!$I21,"") -> 87.5 | H24: =IF('2012'!$I21>0,'2012'!$I21,"") -> 86.7 | I24: =IF('2013'!$I21>0,'2013'!$I21,"") -> 89.5 | J24: =IF('2014'!$I21>0,'2014'!$I21,"") -> 96 | K24: =IF('2015'!$I21>0,'2015'!$I21,"") -> 91.3 | L24: =IF('2016'!$I22>0,'2016'!$I22,"") -> 93.9 | M24: =IF('2017'!$I22>0,'2017'!$I22,"") -> 96.7 | N24: =IF('2018'!$F24>0,'2018'!$F24,"") -> 34.5
A25: Orangeville_Wind_Farm | I25: =IF('2013'!$I22>0,'2013'!$I22,"") -> 8.3 | J25: =IF('2014'!$I22>0,'2014'!$I22,"") -> 274.1 | K25: =IF('2015'!$I22>0,'2015'!$I22,"") -> 286.9 | L25: =IF('2016'!$I23>0,'2016'!$I23,"") -> 265 | M25: =IF('2017'!$I23>0,'2017'!$I23,"") -> 279.9 | N25: =IF('2018'!$F25>0,'2018'!$F25,"") -> 88.5
A26: Steel_Wind | B26: =IF('2006'!$I22>0,'2006'!$I22,"") | C26: =IF('2007'!$I22>0,'2007'!$I22,"") -> 10.3 | D26: =IF('2008'!$I22>0,'2008'!$I22,"") -> 37.394 | E26: =IF('2009'!$I22>0,'2009'!$I22,"") -> 42.3 | F26: =IF('2010'!$I22>0,'2010'!$I22,"") -> 48.3 | G26: =IF('2011'!$I22>0,'2011'!$I22,"") -> 38.4 | H26: =IF('2012'!$I22>0,'2012'!$I22,"") -> 48.5 | I26: =IF('2013'!$I22>0,'2013'!$I22,"") -> 8.3 | J26: =IF('2014'!$I22>0,'2014'!$I22,"") -> 274.1 | K26: =IF('2015'!$I22>0,'2015'!$I22,"") -> 286.9 | L26: =IF('2016'!$I24>0,'2016'!$I24,"") -> 55.7 | M26: =IF('2017'!$I24>0,'2017'!$I24,"") -> 51.8 | N26: =IF('2018'!$F26>0,'2018'!$F26,"") -> 20
A27: Western_NY_Wind_Power | B27: =IF('2006'!$I23>0,'2006'!$I23,"") -> 14.438 | C27: =IF('2007'!$I23>0,'2007'!$I23,"") -> 15.537 | D27: =IF('2008'!$I23>0,'2008'!$I23,"") -> 11.37 | E27: =IF('2009'!$I23>0,'2009'!$I23,"") -> 13.7 | F27: =IF('2010'!$I23>0,'2010'!$I23,"") -> 13.3 | G27: =IF('2011'!$I23>0,'2011'!$I23,"") -> 13.4 | H27: =IF('2012'!$I23>0,'2012'!$I23,"") -> 12 | I27: =IF('2013'!$I23>0,'2013'!$I23,"") -> 53.5 | J27: =IF('2014'!$I23>0,'2014'!$I23,"") -> 46.6 | K27: =IF('2015'!$I23>0,'2015'!$I23,"") -> 50.6 | L27: =IF('2016'!$I25>0,'2016'!$I25,"") -> 12.5 | M27: =IF('2017'!$I25>0,'2017'!$I25,"") -> 7.1 | N27: =IF('2018'!$F27>0,'2018'!$F27,"") -> 6.6
A28: Wethersfield_Wind_Power | B28: =IF('2006'!$I24>0,'2006'!$I24,"") | C28: =IF('2007'!$I24>0,'2007'!$I24,"") | D28: =IF('2008'!$I24>0,'2008'!$I24,"") | E28: =IF('2009'!$I24>0,'2009'!$I24,"") -> 92.7 | F28: =IF('2010'!$I24>0,'2010'!$I24,"") -> 255.4 | G28: =IF('2011'!$I24>0,'2011'!$I24,"") -> 256.5 | H28: =IF('2012'!$I24>0,'2012'!$I24,"") -> 249.3 | I28: =IF('2013'!$I24>0,'2013'!$I24,"") -> 9.6 | J28: =IF('2014'!$I24>0,'2014'!$I24,"") -> 9.3 | K28: =IF('2015'!$I24>0,'2015'!$I24,"") -> 13.6 | L28: =IF('2016'!$I26>0,'2016'!$I26,"") -> 264.8 | M28: =IF('2017'!$I26>0,'2017'!$I26,"") -> 272.1 | N28: =IF('2018'!$F28>0,'2018'!$F28,"") -> 126
A29: State Wide Totals | B29: =SUM(B5:B28) -> 518.427 | C29: =SUM(C5:C28) -> 800.181 | D29: =SUM(D5:D28) -> 1282.325 | E29: =SUM(E5:E28) -> 2108.3 | F29: =SUM(F5:F28) -> 2532.8 | G29: =SUM(G5:G28) -> 2780.6 | H29: =SUM(H5:H28) -> 3060.2 | I29: =SUM(I5:I28) -> 3285.7 | ... N29: =SUM(N5:N28) -> 1621.3

Sheet 2021
A1: NY 2021 Wind Facilities in the 2022 Gold Book
D3: In-Service | E3: Name Plate | F3: CRIS Sum | G3: 2022 Capability | I3: 2021 Net | J3: Capacity | K3: Annual
A4: Station | B4: Zone | C4: Town | D4: Date | E4: Rating (MW) | F4: Cap. (MW) | G4: Summer | H4: Winter | I4: Energy (GWh) | J4: Factor | K4: Capacity
A5: Altona_Wind_Power | B5: D | C5: Altona | D5: 39714 | E5: 97.5 | F5: 97.5 | G5: 97.5 | H5: 97.5 | I5: 162.5 | J5: =(I5*1000)/(8760*E5) -> 0.19025875 | K5: =E5*8760/1000 -> 854.1 | L5: =E5*8760/1000 -> 854.1
A6: Arkwright_Summit_Wind_Farm | B6: A | C6: Arkwright | D6: 43344 | E6: 78.4 | F6: 78.4 | G6: 78.4 | H6: 78.4 | I6: 233.3 | J6: =(I6*1000)/(8760*E6) -> 0.33969924 | K6: =E6*8760/1000 -> 686.784 | L6: =E6*8760/1000 -> 686.784
A7: Bliss_Wind_Power | B7: A | C7: Bliss | D7: 39527 | E7: 100.5 | F7: 100.5 | G7: 100.5 | H7: 100.5 | I7: 175.5 | J7: =(I7*1000)/(8760*E7) -> 0.19934574 | K7: =E7*8760/1000 -> 880.38 | L7: =E7*8760/1000 -> 880.38
A8: Canandaigua_Wind_Power | B8: C | C8: Avoca | D8: 39787 | E8: 125 | F8: 125 | G8: 125 | H8: 125 | I8: 162.4 | J8: =(I8*1000)/(8760*E8) -> 0.1483105 | K8: =E8*8760/1000 -> 1095 | L8: =E8*8760/1000 -> 1095
A9: Cassadaga_Wind | B9: A | C9: Charlotte | D9: 44287 | E9: 126 | F9: 126 | G9: 0 | H9: 0 | I9: 126.9 | J9: =(I9*1000)/(8760*E9*0.75) -> 0.15329419 | K9: =0.75*E9*8760/1000 -> 827.82 | L9: =0.75*E9*8760/1000 -> 827.82
