Workbook

Sheet NY projects
B1: Capacity | D1: 42270 | E1: The state has awarded $175 million to support five large-scale clean energy projects, it announced Wednesday.
A2: MW | B2: Factor | C2: MWh
A3: 100 | B3: 0.28 | C3: =A3*8760*B3 -> 245280 | E3: Ball Hill Wind Farm, Western New York: RES America Developments Inc. will build a 100-megawatt wind farm in Chautauqua County, in the towns of Villenova and Hanover.
A4: 9.6 | B4: 0.75 | C4: =A4*8760*B4 -> 63072 | E4: Orbit Energy NYC, New York City: Orbit Energy Inc. will build a 9.6-megawatt anaerobic digestion biogas-to-electricity facility in Staten Island
A5: 5.2 | B5: =B10 -> 0.5864726 | C5: =A5*8760*B5 -> 26715 | E5: Lyons Falls Mill Hydro, North Country: Northbrook Lyons Falls LLC will add 5.2 megawatts to an existing hydroelectric facility in Lewis County
A6: 0.79 | B6: 0.75 | C6: =A6*8760*B6 -> 5190.3 | E6: Morgan Stanley Headquarters, New York City: Morgan Stanley will install a 790-kilowatt fuel cell in its Manhattan offices
A7: 0.56 | B7: =B11 -> 0.58675799 | C7: =A7*8760*B7 -> 2878.4 | E7: Fulton Unit 2, Central New York: Erie Boulevard Hydropower LP, a subsidiary of Brookfield Renewable Energy Group, will install a new 560-kilowatt minimum flow turbin
A8: =SUM(A3:A7) -> 116.15 | C8: =SUM(C3:C7) -> 343135.7
A10: 8 | B10: =1000*C10/(A10*8760) -> 0.5864726 | C10: 41.1 | E10: Lyons Falls Mill Hydro - existing
A11: 800 | B11: =1000*C11/(A11*8760) -> 0.58675799 | C11: 4112
A12: 450 | B12: =1000*C12/(A12*8760) -> 0.4122273 | C12: 1625
D16: 6300 | E16: New York home site consumption kwh per year
C17: =C8*1000/D16 -> 54465.984

Sheet AVERT summary
N1: 2012 | O1: NYISO
N2: Gas | O2: 8504
B3: NYISO Observed Data | E3: Observed to | N3: Oil | O3: 0
B4: Name Plate Wind | C4: Net Energy | D4: AVERT Reduction | E4: Predicted | I4: Scenario Wind | J4: Currently entered | K4: Percentage of regional | L4: Regional Fossil | N4: Oil & Gas | O4: 53964
A5: Year | B5: Capacity (MW) | C5: (Gwh) | D5: Profile (GWh) | E5: Percentage | H5: Scenario | I5: Capacity (MW) | J5: reduction profile GWH | K5: fossil load | L5: Load GWh | N5: Coal | O5: 4281
A6: 2006 | B6: ='2006'!E$25 -> 279.2 | C6: ='2006'!I$25 -> 518.427 | D6: 1281 | E6: =C6/D6 -> 0.40470492 | H6: EWITS Wind | I6: 14819 | J6: 68041 | K6: 0.575 | L6: =J6/K6 -> 118332.17 | O6: =SUM(O2:O5) -> 66749
A7: 2007 | B7: ='2007'!E$25 -> 390 | C7: ='2007'!I$25 -> 800.181 | D7: 1814 | E7: =C7/D7 -> 0.44111411 | J7: Observed GWh
A8: 2008 | B8: ='2008'!E$25 -> 1148 | C8: ='2008'!I$25 -> 1282.325 | D8: 5271 | E8: =C8/D8 -> 0.24327926 | H8: EWITS | J8: 45099
A9: 2009 | B9: ='2009'!E$25 -> 1250.8 | C9: ='2009'!I$25 -> 1959.6 | D9: 5744 | E9: =C9/D9 -> 0.34115599
A10: 2010 | B10: 1195 | C10: ='2010'!I$25 -> 2215.8 | D10: 5487 | E10: =C10/D10 -> 0.40382723 | J10: =(J8-J6)/J6 -> -0.33717905
A11: 2011 | B11: ='2011'!E$25 -> 1195.4 | C11: ='2011'!I$25 -> 2472.3 | D11: 5487 | E11: =C11/D11 -> 0.45057408
A12: 2012 | B12: ='2012'!E$25 -> 1633.9 | C12: ='2012'!I$25 -> 3060.2 | D12: 7502 | E12: =C12/D12 -> 0.40791789
A13: 2013 | B13: ='2013'!E$26 -> 1729.7 | C13: ='2013'!I$26 -> 3540.8 | D13: 7502 | E13: =C13/D13 -> 0.47198081

Sheet Summary
A1: New York State Wind Facility Capacity Factors Based on NYISO "Gold Book" Load & Capacity Data Reports Table III-1
A3: Station | B3: 2006 | C3: 2007 | D3: 2008 | E3: 2009 | F3: 2010 | G3: 2011 | H3: 2012 | I3: 2013 | J3: 2014 | K3: 2015 | L3: 2016 | M3: 2017 | N3: 2018 | O3: 2019 | P3: 2020 | Q3: 2021
A4: Altona_Wind_Power | B4: =IF('2006'!$J5>0,'2006'!$J5,"") | C4: =IF('2007'!$J5>0,'2007'!$J5,"") | D4: =IF('2008'!$J5>0,'2008'!$J5,"") -> 0.0096912049 | E4: =IF('2009'!$J5>0,'2009'!$J5,"") -> 0.17429194 | F4: =IF('2010'!$J5>0,'2010'!$J5,"") -> 0.22023182 | G4: =IF('2011'!$J5>0,'2011'!$J5,"") -> 0.20922609 | H4: =IF('2012'!$J5>0,'2012'!$J5,"") -> 0.20196698 | I4: =IF('2013'!$J5>0,'2013'!$J5,"") -> 0.18979042 | J4: =IF('2014'!$J5>0,'2014'!$J5,"") -> 0.21824142 | K4: =IF('2015'!$J5>0,'2015'!$J5,"") -> 0.19915701 | L4: =IF('2016'!$J5>0,'2016'!$J5,"") -> 0.19915701 | M4: =IF('2017'!$J5>0,'2017'!$J5,"") -> 0.20559653 | N4: =IF('2018'!$J5>0,'2018'!$J5,"") -> 0.19740077 | O4: =IF('2019'!$J5>0,'2019'!$J5,"") -> 0.20079616 | P4: =IF('2020'!$J5>0,'2020'!$J5,"") -> 0.21613394 | Q4: =IF('2021'!$J5>0,'2021'!$J5,"") -> 0.19025875
A5: Arkwright_Summit_Wind_Farm | O5: ='2019'!J6 -> 0.37391669 | P5: =IF('2020'!$J6>0,'2020'!$J6,"") -> 0.37246063 | Q5: =IF('2021'!$J6>0,'2021'!$J6,"") -> 0.33969924
A6: Bliss_Wind_Power | B6: =IF('2006'!$J6>0,'2006'!$J6,"") | C6: =IF('2007'!$J6>0,'2007'!$J6,"") | D6: =IF('2008'!$J6>0,'2008'!$J6,"") -> 0.16814213 | E6: =IF('2009'!$J6>0,'2009'!$J6,"") -> 0.22013222 | F6: =IF('2010'!$J6>0,'2010'!$J6,"") -> 0.2130898 | G6: =IF('2011'!$J6>0,'2011'!$J6,"") -> 0.2167246 | H6: =IF('2012'!$J6>0,'2012'!$J6,"") -> 0.23285399 | I6: =IF('2013'!$J6>0,'2013'!$J6,"") -> 0.23239965 | J6: =IF('2014'!$J6>0,'2014'!$J6,"") -> 0.23467139 | K6: =IF('2015'!$J6>0,'2015'!$J6,"") -> 0.23319476 | L6: =IF('2016'!$J6>0,'2016'!$J6,"") -> 0.23217247 | M6: =IF('2017'!$J6>0,'2017'!$J6,"") -> 0.23898771 | N6: =IF('2018'!$J6>0,'2018'!$J6,"") -> 0.35721256 | O6: =IF('2019'!$J6>0,'2019'!$J6,"") -> 0.37391669 | P6: =IF('2020'!$J6>0,'2020'!$J6,"") -> 0.37246063 | Q6: =IF('2021'!$J7>0,'2021'!$J7,"") -> 0.19934574
A7: Canandaigua_Wind_Power | B7: =IF('2006'!$J7>0,'2006'!$J7,"") | C7: =IF('2007'!$J7>0,'2007'!$J7,"") | D7: =IF('2008'!$J7>0,'2008'!$J7,"") -> 0.055491803 | E7: =IF('2009'!$J7>0,'2009'!$J7,"") -> 0.19850299 | F7: =IF('2010'!$J7>0,'2010'!$J7,"") -> 0.23607306 | G7: =IF('2011'!$J7>0,'2011'!$J7,"") -> 0.22136986 | H7: =IF('2012'!$J7>0,'2012'!$J7,"") -> 0.22557078 | I7: =IF('2013'!$J7>0,'2013'!$J7,"") -> 0.22 | J7: =IF('2014'!$J7>0,'2014'!$J7,"") -> 0.2369863 | K7: =IF('2015'!$J7>0,'2015'!$J7,"") -> 0.23835616 | L7: =IF('2016'!$J7>0,'2016'!$J7,"") -> 0.23625571 | M7: =IF('2017'!$J7>0,'2017'!$J7,"") -> 0.24164384 | N7: =IF('2018'!$J7>0,'2018'!$J7,"") -> 0.21899634 | O7: =IF('2019'!$J7>0,'2019'!$J7,"") -> 0.1934392 | P7: =IF('2020'!$J7>0,'2020'!$J7,"") -> 0.2229719 | Q7: =IF('2021'!$J8>0,'2021'!$J8,"") -> 0.1483105
A8: Cassadaga_Wind | Q8: =IF('2021'!$J9>0,'2021'!$J9,"") -> 0.15329419
A9: Chateaugay_Wind_Power | B9: =IF('2006'!$J8>0,'2006'!$J8,"") | C9: =IF('2007'!$J8>0,'2007'!$J8,"") | D9: =IF('2008'!$J8>0,'2008'!$J8,"") -> 0.10322866 | E9: =IF('2009'!$J8>0,'2009'!$J8,"") -> 0.1841112 | F9: =IF('2010'!$J8>0,'2010'!$J8,"") -> 0.20601539 | G9: =IF('2011'!$J8>0,'2011'!$J8,"") -> 0.21630544 | H9: =IF('2012'!$J8>0,'2012'!$J8,"") -> 0.20558664 | I9: =IF('2013'!$J8>0,'2013'!$J8,"") -> 0.20204944 | J9: =IF('2014'!$J8>0,'2014'!$J8,"") -> 0.214912 | K9: =IF('2015'!$J8>0,'2015'!$J8,"") -> 0.22659549 | L9: =IF('2016'!$J8>0,'2016'!$J8,"") -> 0.22466611 | M9: =IF('2017'!$J8>0,'2017'!$J8,"") -> 0.22348704 | N9: =IF('2018'!$J8>0,'2018'!$J8,"") -> 0.22420091 | O9: =IF('2019'!$J8>0,'2019'!$J8,"") -> 0.19031963 | P9: =IF('2020'!$J8>0,'2020'!$J8,"") -> 0.060273973 | Q9: =IF('2021'!$J10>0,'2021'!$J10,"") -> 0.18790062
A10: Clinton_Wind_Power | B10: =IF('2006'!$J9>0,'2006'!$J9,"") | C10: =IF('2007'!$J9>0,'2007'!$J9,"") | D10: =IF('2008'!$J9>0,'2008'!$J9,"") -> 0.11414141 | E10: =IF('2009'!$J9>0,'2009'!$J9,"") -> 0.20218542 | F10: =IF('2010'!$J9>0,'2010'!$J9,"") -> 0.19741475 | G10: =IF('2011'!$J9>0,'2011'!$J9,"") -> 0.19809628 | H10: =IF('2012'!$J9>0,'2012'!$J9,"") -> 0.19025875 | I10: =IF('2013'!$J9>0,'2013'!$J9,"") -> 0.20025444 | J10: =IF('2014'!$J9>0,'2014'!$J9,"") -> 0.21149958 | K10: =IF('2015'!$J9>0,'2015'!$J9,"") -> 0.19866421 | L10: =IF('2016'!$J9>0,'2016'!$J9,"") -> 0.19889139 | M10: =IF('2017'!$J9>0,'2017'!$J9,"") -> 0.19412072 | N10: =IF('2018'!$J9>0,'2018'!$J9,"") -> 0.20462195 | O10: =IF('2019'!$J9>0,'2019'!$J9,"") -> 0.21126761 | P10: =IF('2020'!$J9>0,'2020'!$J9,"") -> 0.22187922 | Q10: =IF('2021'!$J11>0,'2021'!$J11,"") -> 0.17197119
A11: Copenhagen_Wind_Farm | O11: ='2019'!J11 -> 0.35232397 | P11: =IF('2020'!$J10>0,'2020'!$J10,"") -> 0.19980009 | Q11: =IF('2021'!$J12>0,'2021'!$J12,"") -> 0.34260863
A12: Ellenburg_Wind_Power | B12: =IF('2006'!$J10>0,'2006'!$J10,"") | C12: =IF('2007'!$J10>0,'2007'!$J10,"") | D12: =IF('2008'!$J10>0,'2008'!$J10,"") -> 0.12868488 | E12: =IF('2009'!$J10>0,'2009'!$J10,"") -> 0.22788771 | F12: =IF('2010'!$J10>0,'2010'!$J10,"") -> 0.22196854 | G12: =IF('2011'!$J10>0,'2011'!$J10,"") -> 0.23662551 | H12: =IF('2012'!$J10>0,'2012'!$J10,"") -> 0.22239134 | I12: =IF('2013'!$J10>0,'2013'!$J10,"") -> 0.23169288 | J12: =IF('2014'!$J10>0,'2014'!$J10,"") -> 0.24888663 | K12: =IF('2015'!$J10>0,'2015'!$J10,"") -> 0.24451773 | L12: =IF('2016'!$J10>0,'2016'!$J10,"") -> 0.23789391 | M12: =IF('2017'!$J10>0,'2017'!$J10,"") -> 0.24409493 | N12: =IF('2018'!$J10>0,'2018'!$J10,"") -> 0.16685977 | O12: =IF('2019'!$J10>0,'2019'!$J10,"") -> 0.1934392 | P12: =IF('2020'!$J10>0,'2020'!$J10,"") -> 0.19980009 | Q12: =IF('2021'!$J13>0,'2021'!$J13,"") -> 0.20421106
A13: Erie_Wind | B13: =IF('2006'!$J11>0,'2006'!$J11,"") | C13: =IF('2007'!$J11>0,'2007'!$J11,"") | D13: =IF('2008'!$J11>0,'2008'!$J11,"") | E13: =IF('2009'!$J11>0,'2009'!$J11,"") | F13: =IF('2010'!$J11>0,'2010'!$J11,"") | G13: =IF('2011'!$J11>0,'2011'!$J11,"") | H13: =IF('2012'!$J11>0,'2012'!$J11,"") -> 0.25342466 | I13: =IF('2013'!$J11>0,'2013'!$J11,"") -> 0.31506849 | J13: =IF('2014'!$J11>0,'2014'!$J11,"") -> 0.29908676 | K13: =IF('2015'!$J11>0,'2015'!$J11,"") -> 0.2891933 | L13: =IF('2016'!$J11>0,'2016'!$J11,"") -> 0.28995434 | M13: =IF('2017'!$J11>0,'2017'!$J11,"") -> 0.28006088 | N13: =IF('2018'!$J11>0,'2018'!$J11,"") -> 0.13794124 | O13: =IF('2019'!$J11>0,'2019'!$J11,"") -> 0.35232397 | P13: =IF('2020'!$J11>0,'2020'!$J11,"") -> 0.39232831 | Q13: =IF('2021'!$J14>0,'2021'!$J14,"") -> 0.19863014
A14: Fenner_Wind_Power | B14: =IF('2006'!$J12>0,'2006'!$J12,"") -> 0.29403729 | C14: =IF('2007'!$J12>0,'2007'!$J12,"") -> 0.36012983 | D14: =IF('2008'!$J12>0,'2008'!$J12,"") -> 0.26984018 | E14: =IF('2009'!$J12>0,'2009'!$J12,"") -> 0.26103501 | F14: =IF('2010'!$J12>0,'2010'!$J12,"") -> 0.099315068 | G14: =IF('2011'!$J12>0,'2011'!$J12,"") -> 0.25114155 | H14: =IF('2012'!$J12>0,'2012'!$J12,"") -> 0.22450533 | I14: =IF('2013'!$J12>0,'2013'!$J12,"") -> 0.25989346 | J14: =IF('2014'!$J12>0,'2014'!$J12,"") -> 0.25418569 | K14: =IF('2015'!$J12>0,'2015'!$J12,"") -> 0.2564688 | L14: =IF('2016'!$J12>0,'2016'!$J12,"") -> 0.23744292 | M14: =IF('2017'!$J12>0,'2017'!$J12,"") -> 0.16894977 | N14: =IF('2018'!$J12>0,'2018'!$J12,"") -> 0.20294267 | O14: =IF('2019'!$J12>0,'2019'!$J12,"") -> 0.22281414 | P14: =IF('2020'!$J12>0,'2020'!$J12,"") -> 0.23563899 | Q14: =IF('2021'!$J15>0,'2021'!$J15,"") -> 0.27853881
A15: Hardscrabble_Wind | B15: =IF('2006'!$J13>0,'2006'!$J13,"") | C15: =IF('2007'!$J13>0,'2007'!$J13,"") | D15: =IF('2008'!$J13>0,'2008'!$J13,"") | E15: =IF('2009'!$J13>0,'2009'!$J13,"") | F15: =IF('2010'!$J13>0,'2010'!$J13,"") | G15: =IF('2011'!$J13>0,'2011'!$J13,"") -> 0.22784771 | H15: =IF('2012'!$J13>0,'2012'!$J13,"") -> 0.26548809 | I15: =IF('2013'!$J13>0,'2013'!$J13,"") -> 0.27937184 | J15: =IF('2014'!$J13>0,'2014'!$J13,"") -> 0.28430828 | K15: =IF('2015'!$J13>0,'2015'!$J13,"") -> 0.28307417 | L15: =IF('2016'!$J13>0,'2016'!$J13,"") -> 0.28076021 | M15: =IF('2017'!$J13>0,'2017'!$J13,"") -> 0.2739726 | N15: =IF('2018'!$J13>0,'2018'!$J13,"") -> 0.19939117 | O15: =IF('2019'!$J13>0,'2019'!$J13,"") -> 0.14079148 | P15: =IF('2020'!$J13>0,'2020'!$J13,"") -> 0.071537291 | Q15: =IF('2021'!$J16>0,'2021'!$J16,"") -> 0.24543379
A16: High Sheldon Wind Farm | B16: =IF('2006'!$J14>0,'2006'!$J14,"") | C16: =IF('2007'!$J14>0,'2007'!$J14,"") | D16: =IF('2008'!$J14>0,'2008'!$J14,"") | E16: =IF('2009'!$J14>0,'2009'!$J14,"") -> 0.22306947 | F16: =IF('2010'!$J14>0,'2010'!$J14,"") -> 0.24454592 | G16: =IF('2011'!$J14>0,'2011'!$J14,"") -> 0.26494165 | H16: =IF('2012'!$J14>0,'2012'!$J14,"") -> 0.25834602 | I16: =IF('2013'!$J14>0,'2013'!$J14,"") -> 0.27143582 | J16: =IF('2014'!$J14>0,'2014'!$J14,"") -> 0.2746829 | K16: =IF('2015'!$J14>0,'2015'!$J14,"") -> 0.26220193 | L16: =IF('2016'!$J14>0,'2016'!$J14,"") -> 0.27153729 | M16: =IF('2017'!$J14>0,'2017'!$J14,"") -> 0.27234906 | N16: =IF('2018'!$J14>0,'2018'!$J14,"") -> 0.20738204 | O16: =IF('2019'!$J14>0,'2019'!$J14,"") -> 0.27587519 | P16: =IF('2020'!$J14>0,'2020'!$J14,"") -> 0.12595129 | Q16: =IF('2021'!$J17>0,'2021'!$J17,"") -> 0.21477813
A17: Howard_Wind | B17: =IF('2006'!$J15>0,'2006'!$J15,"") | C17: =IF('2007'!$J15>0,'2007'!$J15,"") | D17: =IF('2008'!$J15>0,'2008'!$J15,"") | E17: =IF('2009'!$J15>0,'2009'!$J15,"") | F17: =IF('2010'!$J15>0,'2010'!$J15,"") | G17: =IF('2011'!$J15>0,'2011'!$J15,"") | H17: =IF('2012'!$J15>0,'2012'!$J15,"") -> 0.23717093 | I17: =IF('2013'!$J15>0,'2013'!$J15,"") -> 0.26669371 | J17: =IF('2014'!$J15>0,'2014'!$J15,"") -> 0.26450607 | K17: =IF('2015'!$J15>0,'2015'!$J15,"") -> 0.25635212 | L17: =IF('2016'!$J15>0,'2016'!$J15,"") -> 0.26609708 | M17: =IF('2017'!$J15>0,'2017'!$J15,"") -> 0.26569933 | N17: =IF('2018'!$J15>0,'2018'!$J15,"") -> 0.27273849 | O17: =IF('2019'!$J15>0,'2019'!$J15,"") -> 0.28446254 | P17: =IF('2020'!$J15>0,'2020'!$J15,"") -> 0.10613353 | Q17: =IF('2021'!$J18>0,'2021'!$J18,"") -> 0.22521966
A18: Jericho_Rise_Wind | L18: =IF('2016'!$J16>0,'2016'!$J16,"") -> 0.26974137 | M18: =IF('2017'!$J16>0,'2017'!$J16,"") -> 0.36185892 | N18: =IF('2018'!$J16>0,'2018'!$J16,"") -> 0.2513445 | O18: =IF('2019'!$J16>0,'2019'!$J16,"") -> 0.24773913 | P18: =IF('2020'!$J16>0,'2020'!$J16,"") -> 0.25005896 | Q18: =IF('2021'!$J19>0,'2021'!$J19,"") -> 0.29515817
A19: Madison_Wind_Power | B19: =IF('2006'!$J16>0,'2006'!$J16,"") -> 0.19885648 | C19: =IF('2007'!$J16>0,'2007'!$J16,"") -> 0.20915997 | D19: =IF('2008'!$J16>0,'2008'!$J16,"") -> 0.18760825 | E19: =IF('2009'!$J16>0,'2009'!$J16,"") -> 0.19386711 | F19: =IF('2010'!$J16>0,'2010'!$J16,"") -> 0.17713746 | G19: =IF('2011'!$J16>0,'2011'!$J16,"") -> 0.21354905 | H19: =IF('2012'!$J16>0,'2012'!$J16,"") -> 0.18697843 | I19: =IF('2013'!$J16>0,'2013'!$J16,"") -> 0.20173988 | J19: =IF('2014'!$J16>0,'2014'!$J16,"") -> 0.20666037 | K19: =IF('2015'!$J16>0,'2015'!$J16,"") -> 0.19386711 | L19: =IF('2016'!$J17>0,'2016'!$J17,"") -> 0.1968194 | M19: =IF('2017'!$J17>0,'2017'!$J17,"") -> 0.20469217 | N19: =IF('2018'!$J17>0,'2018'!$J17,"") -> 0.24879481 | O19: =IF('2019'!$J17>0,'2019'!$J17,"") -> 0.26601883 | P19: =IF('2020'!$J17>0,'2020'!$J17,"") -> 0.25963108 | Q19: =IF('2021'!$J20>0,'2021'!$J20,"") -> 0.10136199
A20: Maple_Ridge_Wind_1 | B20: =IF('2006'!$J17>0,'2006'!$J17,"") -> 0.20088804 | C20: =IF('2007'!$J17>0,'2007'!$J17,"") -> 0.25868864 | D20: =IF('2008'!$J17>0,'2008'!$J17,"") -> 0.26582656 | E20: =IF('2009'!$J17>0,'2009'!$J17,"") -> 0.26087687 | F20: =IF('2010'!$J17>0,'2010'!$J17,"") -> 0.24447014 | G20: =IF('2011'!$J17>0,'2011'!$J17,"") -> 0.26201348 | H20: =IF('2012'!$J17>0,'2012'!$J17,"") -> 0.25949317 | I20: =IF('2013'!$J17>0,'2013'!$J17,"") -> 0.26912965 | J20: =IF('2014'!$J17>0,'2014'!$J17,"") -> 0.2902805 | K20: =IF('2015'!$J17>0,'2015'!$J17,"") -> 0.2808911 | L20: =IF('2016'!$J18>0,'2016'!$J18,"") -> 0.27421969 | M20: =IF('2017'!$J18>0,'2017'!$J18,"") -> 0.28192888 | N20: =IF('2018'!$J18>0,'2018'!$J18,"") -> 0.3321815 | O20: =IF('2019'!$J18>0,'2019'!$J18,"") -> 0.33423835 | P20: =IF('2020'!$J18>0,'2020'!$J18,"") -> 0.33188766 | Q20: =IF('2021'!$J21>0,'2021'!$J21,"") -> 0.22445591
A21: Maple_Ridge_Wind_2 | B21: =IF('2006'!$J18>0,'2006'!$J18,"") | C21: =IF('2007'!$J18>0,'2007'!$J18,"") | D21: =IF('2008'!$J18>0,'2008'!$J18,"") -> 0.26814038 | E21: =IF('2009'!$J18>0,'2009'!$J18,"") -> 0.25571782 | F21: =IF('2010'!$J18>0,'2010'!$J18,"") -> 0.2433971 | G21: =IF('2011'!$J18>0,'2011'!$J18,"") -> 0.25408344 | H21: =IF('2012'!$J18>0,'2012'!$J18,"") -> 0.25307767 | I21: =IF('2013'!$J18>0,'2013'!$J18,"") -> 0.26329965 | J21: =IF('2014'!$J18>0,'2014'!$J18,"") -> 0.28419246 | K21: =IF('2015'!$J18>0,'2015'!$J18,"") -> 0.27311675 | L21: =IF('2016'!$J19>0,'2016'!$J19,"") -> 0.26682374 | M21: =IF('2017'!$J19>0,'2017'!$J19,"") -> 0.27513052 | N21: =IF('2018'!$J19>0,'2018'!$J19,"") -> 0.18402614 | O21: =IF('2019'!$J19>0,'2019'!$J19,"") -> 0.18501023 | P21: =IF('2020'!$J19>0,'2020'!$J19,"") -> 0.16828059 | Q21: =IF('2021'!$J22>0,'2021'!$J22,"") -> 0.21182281
A22: Marble_River_Wind | B22: =IF('2006'!$J19>0,'2006'!$J19,"") | C22: =IF('2007'!$J19>0,'2007'!$J19,"") | D22: =IF('2008'!$J19>0,'2008'!$J19,"") | E22: =IF('2009'!$J19>0,'2009'!$J19,"") | F22: =IF('2010'!$J19>0,'2010'!$J19,"") | G22: =IF('2011'!$J19>0,'2011'!$J19,"") | H22: =IF('2012'!$J19>0,'2012'!$J19,"") -> 0.18020614 | I22: =IF('2013'!$J19>0,'2013'!$J19,"") -> 0.27174777 | J22: =IF('2014'!$J19>0,'2014'!$J19,"") -> 0.2856265 | K22: =IF('2015'!$J19>0,'2015'!$J19,"") -> 0.28785134 | L22: =IF('2016'!$J20>0,'2016'!$J20,"") -> 0.27736283 | M22: =IF('2017'!$J20>0,'2017'!$J20,"") -> 0.28721567 | N22: =IF('2018'!$J20>0,'2018'!$J20,"") -> 0.26487972 | O22: =IF('2019'!$J20>0,'2019'!$J20,"") -> 0.26497855 | P22: =IF('2020'!$J20>0,'2020'!$J20,"") -> 0.26631283 | Q22: =IF('2021'!$J23>0,'2021'!$J23,"") -> 0.23743443
A23: Marsh Hill Wind Farm | K23: =IF('2015'!$J20>0,'2015'!$J20,"") -> 0.47606968 | L23: =IF('2016'!$J21>0,'2016'!$J21,"") -> 0.38756412 | M23: =IF('2017'!$J21>0,'2017'!$J21,"") -> 0.34387508 | N23: =IF('2018'!$J21>0,'2018'!$J21,"") -> 0.25574804 | O23: =IF('2019'!$J21>0,'2019'!$J21,"") -> 0.25272739 | P23: =IF('2020'!$J21>0,'2020'!$J21,"") -> 0.25433488 | Q23: =IF('2021'!$J24>0,'2021'!$J24,"") -> 0.34387508
A24: Munnsville_Wind_Power | B24: =IF('2006'!$J21>0,'2006'!$J21,"") | C24: =IF('2007'!$J21>0,'2007'!$J21,"") | D24: =IF('2008'!$J21>0,'2008'!$J21,"") -> 0.2947257 | E24: =IF('2009'!$J21>0,'2009'!$J21,"") -> 0.29415657 | F24: =IF('2010'!$J21>0,'2010'!$J21,"") -> 0.28025941 | G24: =IF('2011'!$J21>0,'2011'!$J21,"") -> 0.28952419 | H24: =IF('2012'!$J21>0,'2012'!$J21,"") -> 0.28687711 | I24: =IF('2013'!$J21>0,'2013'!$J21,"") -> 0.29614188 | J24: =IF('2014'!$J21>0,'2014'!$J21,"") -> 0.31764939 | K24: =IF('2015'!$J21>0,'2015'!$J21,"") -> 0.30209781 | L24: =IF('2016'!$J22>0,'2016'!$J22,"") -> 0.31070081 | M24: =IF('2017'!$J22>0,'2017'!$J22,"") -> 0.31996559 | N24: =IF('2018'!$J22>0,'2018'!$J22,"") -> 0.25898145 | O24: =IF('2019'!$J22>0,'2019'!$J22,"") -> 0.27573373 | P24: =IF('2020'!$J22>0,'2020'!$J22,"") -> 0.25886507 | Q24: =IF('2021'!$J25>0,'2021'!$J25,"") -> 0.26404606
A25: Orangeville_Wind_Farm | I25: =IF('2013'!$J22>0,'2013'!$J22,"") -> 0.11880633 | J25: =IF('2014'!$J22>0,'2014'!$J22,"") -> 0.33322635 | K25: =IF('2015'!$J22>0,'2015'!$J22,"") -> 0.34878745 | L25: =IF('2016'!$J23>0,'2016'!$J23,"") -> 0.32216338 | M25: =IF('2017'!$J23>0,'2017'!$J23,"") -> 0.34027747 | N25: =IF('2018'!$J23>0,'2018'!$J23,"") -> 0.32696319 | O25: =IF('2019'!$J23>0,'2019'!$J23,"") -> 0.35514967 | P25: =IF('2020'!$J23>0,'2020'!$J23,"") -> 0.13388579 | Q25: =IF('2021'!$J26>0,'2021'!$J26,"") -> 0.29882173
A26: Roaring_Brook_Wind | Q26: =IF('2021'!$J27>0,'2021'!$J27,"") -> 0.12427411
A27: Steel_Wind | B27: =IF('2006'!$J22>0,'2006'!$J22,"") | C27: =IF('2007'!$J22>0,'2007'!$J22,"") -> 0.058789954 | D27: =IF('2008'!$J22>0,'2008'!$J22,"") -> 0.21343607 | E27: =IF('2009'!$J22>0,'2009'!$J22,"") -> 0.24143836 | F27: =IF('2010'!$J22>0,'2010'!$J22,"") -> 0.27568493 | G27: =IF('2011'!$J22>0,'2011'!$J22,"") -> 0.21917808 | H27: =IF('2012'!$J22>0,'2012'!$J22,"") -> 0.27682648 | I27: =IF('2013'!$J22>0,'2013'!$J22,"") -> 0.11880633 | J27: =IF('2014'!$J22>0,'2014'!$J22,"") -> 0.33322635 | K27: =IF('2015'!$J22>0,'2015'!$J22,"") -> 0.34878745 | L27: =IF('2016'!$J24>0,'2016'!$J24,"") -> 0.31792237 | M27: =IF('2017'!$J24>0,'2017'!$J24,"") -> 0.2956621 | N27: =IF('2018'!$J24>0,'2018'!$J24,"") -> 0.19257495 | O27: =IF('2019'!$J24>0,'2019'!$J24,"") -> 0.11183906 | P27: =IF('2020'!$J24>0,'2020'!$J24,"") -> 0.29514923 | Q27: =IF('2021'!$J28>0,'2021'!$J28,"") -> 0.19406393
A28: Western_NY_Wind_Power | B28: =IF('2006'!$J23>0,'2006'!$J23,"") -> 0.24972326 | C28: =IF('2007'!$J23>0,'2007'!$J23,"") -> 0.26873184 | D28: =IF('2008'!$J23>0,'2008'!$J23,"") -> 0.19665836 | E28: =IF('2009'!$J23>0,'2009'!$J23,"") -> 0.23695863 | F28: =IF('2010'!$J23>0,'2010'!$J23,"") -> 0.23004013 | G28: =IF('2011'!$J23>0,'2011'!$J23,"") -> 0.23176975 | H28: =IF('2012'!$J23>0,'2012'!$J23,"") -> 0.207555 | I28: =IF('2013'!$J23>0,'2013'!$J23,"") -> 0.3053653 | J28: =IF('2014'!$J23>0,'2014'!$J23,"") -> 0.26598174 | K28: =IF('2015'!$J23>0,'2015'!$J23,"") -> 0.28881279 | L28: =IF('2016'!$J25>0,'2016'!$J25,"") -> 0.21620313 | M28: =IF('2017'!$J25>0,'2017'!$J25,"") -> 0.12280338 | N28: =IF('2018'!$J25>0,'2018'!$J25,"") -> 0.35206987 | O28: =IF('2019'!$J25>0,'2019'!$J25,"") -> 0.33504992 | P28: =IF('2020'!$J25>0,'2020'!$J25,"") -> 0.34234418 | Q28: =IF('2021'!$J29>0,'2021'!$J29,"") -> 0.029403625
A29: Wethersfield_Wind_Power | B29: =IF('2006'!$J24>0,'2006'!$J24,"") | C29: =IF('2007'!$J24>0,'2007'!$J24,"") | D29: =IF('2008'!$J24>0,'2008'!$J24,"") | E29: =IF('2009'!$J24>0,'2009'!$J24,"") -> 0.20035792 | F29: =IF('2010'!$J24>0,'2010'!$J24,"") -> 0.23139088 | G29: =IF('2011'!$J24>0,'2011'!$J24,"") -> 0.23238748 | H29: =IF('2012'!$J24>0,'2012'!$J24,"") -> 0.22586432 | I29: =IF('2013'!$J24>0,'2013'!$J24,"") -> 0.166044 | J29: =IF('2014'!$J24>0,'2014'!$J24,"") -> 0.16085513 | K29: =IF('2015'!$J24>0,'2015'!$J24,"") -> 0.235229 | L29: =IF('2016'!$J26>0,'2016'!$J26,"") -> 0.23990723 | M29: =IF('2017'!$J26>0,'2017'!$J26,"") -> 0.24652098 | N29: =IF('2018'!$J26>0,'2018'!$J26,"") -> 0.26769406 | O29: =IF('2019'!$J26>0,'2019'!$J26,"") -> 0.15468037 | P29: =IF('2020'!$J26>0,'2020'!$J26,"") -> 0.061643836 | Q29: =IF('2021'!$J30>0,'2021'!$J30,"") -> 0.20647605
A30: State Wide Totals | B30: =IF('2006'!$J25>0,'2006'!$J25,"") -> 0.21196692 | C30: =IF('2007'!$J25>0,'2007'!$J25,"") -> 0.26281629 | D30: =IF('2008'!$J25>0,'2008'!$J25,"") -> 0.20931435 | E30: =IF('2009'!$J25>0,'2009'!$J25,"") -> 0.18910597 | F30: =IF('2010'!$J25>0,'2010'!$J25,"") -> 0.18764481 | G30: =IF('2011'!$J25>0,'2011'!$J25,"") -> 0.20936649 | H30: =IF('2012'!$J25>0,'2012'!$J25,"") -> 0.2315439 | I30: =IF('2013'!$J25>0,'2013'!$J25,"") -> 0.23863883 | J30: =IF('2014'!$J25>0,'2014'!$J25,"") -> 0.24262521 | K30: =IF('2015'!$J25>0,'2015'!$J25,"") -> 0.23936363 | L30: =IF('2016'!$J27>0,'2016'!$J27,"") -> 0.25686083 | M30: =IF('2017'!$J27>0,'2017'!$J27,"") -> 0.264092 | N30: =IF('2018'!$J29>0,'2018'!$J29,"") -> 0.24502979 | O30: =IF('2019'!$J29>0,'2019'!$J29,"") -> 0.2529851 | P30: =IF('2020'!$J29>0,'2020'!$J29,"") -> 0.2393103 | Q30: =IF('2021'!$J31>0,'2021'!$J31,"") -> 0.22273516
A31: State Wide Net Energy GWh | B31: ='2006'!$I25 -> 518.427 | C31: ='2007'!$I25 -> 800.181 | D31: ='2008'!$I25 -> 1282.325 | E31: ='2009'!$I25 -> 1959.6 | F31: ='2010'!$I25 -> 2215.8 | G31: ='2011'!$I25 -> 2472.3 | H31: ='2012'!$I25 -> 3060.2 | I31: ='2013'!$I26 -> 3540.8 | J31: ='2014'!$I26 -> 3985.1 | K31: ='2015'!$I26 -> 3983.8 | L31: ='2016'!$I27 -> 3943.3 | M31: ='2017'!$I27 -> 4218.8 | N31: ='2018'!$I29 -> 3985.1 | O31: ='2019'!$I29 -> 4399.5 | P31: ='2020'!I29 -> 4161.9 | Q31: ='2021'!I31 -> 4110.7
A32: State Wide Annual Capacity GWh | B32: ='2006'!$K25 -> 2445.792 | C32: ='2007'!$K25 -> 3044.64 | D32: ='2008'!$K25 -> 6126.312 | E32: ='2009'!$K25 -> 10362.444 | F32: ='2010'!$K25 -> 11808.48 | G32: ='2011'!$K25 -> 11808.48 | H32: ='2012'!$K25 -> 13216.5 | I32: ='2013'!$K26 -> 14154.072 | J32: ='2014'!$K26 -> 14223.934 | K32: ='2015'!$K26 -> 14344.462 | L32: ='2016'!$K27 -> 15351.893 | M32: ='2017'!$K27 -> 15974.736 | N32: ='2018'!$K29 -> 16263.737 | O32: ='2019'!$K29 -> 17390.352 | P32: ='2019'!$K29 -> 17390.352 | Q32: ='2021'!K31 -> 18455.55
A34: State Average Capacity Factor | B34: =B31/B32 -> 0.21196692 | C34: =C31/C32 -> 0.26281629 | D34: =D31/D32 -> 0.20931435 | E34: =E31/E32 -> 0.18910597 | F34: =F31/F32 -> 0.18764481 | G34: =G31/G32 -> 0.20936649 | H34: =H31/H32 -> 0.2315439 | I34: =I31/I32 -> 0.25016123 | ... Q34: =Q31/Q32 -> 0.22273516
A37: (http://www.nrel.gov/wind/systemsintegration/ewits.html)
A38: The wind data projected wind potential for 66 on-shore sites in New York State with a total of 14,500 MW

Sheet Post Summary
A1: New York State Wind Facility Status Based on NYISO Gold Book Table III-2 Existing Generating Facilities Table Data | U1: there are hidden tabs in this spreadsheet
V2: data in meters
C3: Capacity | D3: Annual Capacity Factors | V3: Hub | W3: Rotor | X3: Tip | Y3: Tip
A4: Station | B4: In-Service Date | C4: MW | D4: 2006 | E4: 2007 | F4: 2008 | G4: 2009 | H4: 2010 | I4: 2011 | J4: 2012 | K4: 2013 | L4: 2014 | M4: 2015 | N4: 2016 | O4: 2017 | P4: 2018 | Q4: 2019 | R4: 2020 | V4: Height | W4: Diameter | X4: Height | Y4: Height (ft)
A5: Altona Wind Power | B5: 39714 | C5: 97.5 | D5: =IF('2006'!$J5>0,'2006'!$J5,"") | E5: =IF('2007'!$J5>0,'2007'!$J5,"") | F5: =IF('2008'!$J5>0,'2008'!$J5,"") -> 0.0096912049 | G5: =IF('2009'!$J5>0,'2009'!$J5,"") -> 0.17429194 | H5: =IF('2010'!$J5>0,'2010'!$J5,"") -> 0.22023182 | I5: =IF('2011'!$J5>0,'2011'!$J5,"") -> 0.20922609 | J5: =IF('2012'!$J5>0,'2012'!$J5,"") -> 0.20196698 | K5: =IF('2013'!$J5>0,'2013'!$J5,"") -> 0.18979042 | L5: =IF('2014'!$J5>0,'2014'!$J5,"") -> 0.21824142 | M5: =IF('2015'!$J5>0,'2015'!$J5,"") -> 0.19915701 | N5: =IF('2016'!$J5>0,'2016'!$J5,"") -> 0.19915701 | O5: =IF('2017'!$J5>0,'2017'!$J5,"") -> 0.20559653 | P5: =IF('2018'!$J5>0,'2018'!$J5,"") -> 0.19740077 | Q5: =IF('2019'!$J5>0,'2019'!$J5,"") -> 0.20079616 | R5: =IF('2020'!$J5>0,'2020'!$J5,"") -> 0.21613394
A6: Arkwright Summit Wind Farm | B6: 43344 | C6: 78.4 | Q6: =IF('2019'!$J6>0,'2019'!$J6,"") -> 0.37391669 | R6: =IF('2020'!$J6>0,'2020'!$J6,"") -> 0.37246063 | U6: Vestas IEC IIIA | V6: 75 | W6: 110 | X6: =V6+W6/2 -> 130 | Y6: =X6*3.28084 -> 426.5092
A7: Bliss Wind Power | B7: 39527 | C7: 100.5 | D7: =IF('2006'!$J6>0,'2006'!$J6,"") | E7: =IF('2007'!$J6>0,'2007'!$J6,"") | F7: =IF('2008'!$J6>0,'2008'!$J6,"") -> 0.16814213 | G7: =IF('2009'!$J6>0,'2009'!$J6,"") -> 0.22013222 | H7: =IF('2010'!$J6>0,'2010'!$J6,"") -> 0.2130898 | I7: =IF('2011'!$J6>0,'2011'!$J6,"") -> 0.2167246 | J7: =IF('2012'!$J6>0,'2012'!$J6,"") -> 0.23285399 | K7: =IF('2013'!$J6>0,'2013'!$J6,"") -> 0.23239965 | L7: =IF('2014'!$J6>0,'2014'!$J6,"") -> 0.23467139 | M7: =IF('2015'!$J6>0,'2015'!$J6,"") -> 0.23319476 | N7: =IF('2016'!$J6>0,'2016'!$J6,"") -> 0.23217247 | O7: =IF('2017'!$J6>0,'2017'!$J6,"") -> 0.23898771 | P7: =IF('2018'!$J7>0,'2018'!$J7,"") -> 0.21899634 | Q7: =IF('2019'!$J7>0,'2019'!$J7,"") -> 0.1934392 | R7: =IF('2020'!$J7>0,'2020'!$J7,"") -> 0.2229719
A8: Canandaigua Wind Power | B8: 39787 | C8: 125 | D8: =IF('2006'!$J7>0,'2006'!$J7,"") | E8: =IF('2007'!$J7>0,'2007'!$J7,"") | F8: =IF('2008'!$J7>0,'2008'!$J7,"") -> 0.055491803 | G8: =IF('2009'!$J7>0,'2009'!$J7,"") -> 0.19850299 | H8: =IF('2010'!$J7>0,'2010'!$J7,"") -> 0.23607306 | I8: =IF('2011'!$J7>0,'2011'!$J7,"") -> 0.22136986 | J8: =IF('2012'!$J7>0,'2012'!$J7,"") -> 0.22557078 | K8: =IF('2013'!$J7>0,'2013'!$J7,"") -> 0.22 | L8: =IF('2014'!$J7>0,'2014'!$J7,"") -> 0.2369863 | M8: =IF('2015'!$J7>0,'2015'!$J7,"") -> 0.23835616 | N8: =IF('2016'!$J7>0,'2016'!$J7,"") -> 0.23625571 | O8: =IF('2017'!$J7>0,'2017'!$J7,"") -> 0.24164384 | P8: =IF('2018'!$J8>0,'2018'!$J8,"") -> 0.22420091 | Q8: =IF('2019'!$J8>0,'2019'!$J8,"") -> 0.19031963 | R8: =IF('2020'!$J8>0,'2020'!$J8,"") -> 0.060273973
A9: Chateaugay Wind Power | B9: 39728 | C9: 106.5 | D9: =IF('2006'!$J8>0,'2006'!$J8,"") | E9: =IF('2007'!$J8>0,'2007'!$J8,"") | F9: =IF('2008'!$J8>0,'2008'!$J8,"") -> 0.10322866 | G9: =IF('2009'!$J8>0,'2009'!$J8,"") -> 0.1841112 | H9: =IF('2010'!$J8>0,'2010'!$J8,"") -> 0.20601539 | I9: =IF('2011'!$J8>0,'2011'!$J8,"") -> 0.21630544 | J9: =IF('2012'!$J8>0,'2012'!$J8,"") -> 0.20558664 | K9: =IF('2013'!$J8>0,'2013'!$J8,"") -> 0.20204944 | L9: =IF('2014'!$J8>0,'2014'!$J8,"") -> 0.214912 | M9: =IF('2015'!$J8>0,'2015'!$J8,"") -> 0.22659549 | N9: =IF('2016'!$J8>0,'2016'!$J8,"") -> 0.22466611 | O9: =IF('2017'!$J8>0,'2017'!$J8,"") -> 0.22348704 | P9: =IF('2018'!$J9>0,'2018'!$J9,"") -> 0.20462195 | Q9: =IF('2019'!$J9>0,'2019'!$J9,"") -> 0.21126761 | R9: =IF('2020'!$J9>0,'2020'!$J9,"") -> 0.22187922 | U9: GE Energy 1.5sle | V9: 80 | W9: 77 | X9: =V9+W9/2 -> 118.5 | Y9: =X9*3.28084 -> 388.77954
A10: Clinton Wind Power | B10: 39547 | C10: 100.5 | D10: =IF('2006'!$J9>0,'2006'!$J9,"") | E10: =IF('2007'!$J9>0,'2007'!$J9,"") | F10: =IF('2008'!$J9>0,'2008'!$J9,"") -> 0.11414141 | G10: =IF('2009'!$J9>0,'2009'!$J9,"") -> 0.20218542 | H10: =IF('2010'!$J9>0,'2010'!$J9,"") -> 0.19741475 | I10: =IF('2011'!$J9>0,'2011'!$J9,"") -> 0.19809628 | J10: =IF('2012'!$J9>0,'2012'!$J9,"") -> 0.19025875 | K10: =IF('2013'!$J9>0,'2013'!$J9,"") -> 0.20025444 | L10: =IF('2014'!$J9>0,'2014'!$J9,"") -> 0.21149958 | M10: =IF('2015'!$J9>0,'2015'!$J9,"") -> 0.19866421 | N10: =IF('2016'!$J9>0,'2016'!$J9,"") -> 0.19889139 | O10: =IF('2017'!$J9>0,'2017'!$J9,"") -> 0.19412072 | P10: =IF('2018'!$J10>0,'2018'!$J10,"") -> 0.16685977 | Q10: =IF('2019'!$J10>0,'2019'!$J10,"") -> 0.1934392 | R10: =IF('2020'!$J10>0,'2020'!$J10,"") -> 0.19980009
A11: Copenhagen Wind Farm | B11: 43435 | C11: 79.9 | Q11: =IF('2019'!$J11>0,'2019'!$J11,"") -> 0.35232397 | R11: =IF('2020'!$J11>0,'2020'!$J11,"") -> 0.39232831 | U11: V110-2.0 MW | V11: 75 | W11: 110 | X11: =V11+W11/2 -> 130 | Y11: =X11*3.28084 -> 426.5092
A12: Ellenburg Wind Power | B12: 39538 | C12: 81 | D12: =IF('2006'!$J10>0,'2006'!$J10,"") | E12: =IF('2007'!$J10>0,'2007'!$J10,"") | F12: =IF('2008'!$J10>0,'2008'!$J10,"") -> 0.12868488 | G12: =IF('2009'!$J10>0,'2009'!$J10,"") -> 0.22788771 | H12: =IF('2010'!$J10>0,'2010'!$J10,"") -> 0.22196854 | I12: =IF('2011'!$J10>0,'2011'!$J10,"") -> 0.23662551 | J12: =IF('2012'!$J10>0,'2012'!$J10,"") -> 0.22239134 | K12: =IF('2013'!$J10>0,'2013'!$J10,"") -> 0.23169288 | L12: =IF('2014'!$J10>0,'2014'!$J10,"") -> 0.24888663 | M12: =IF('2015'!$J10>0,'2015'!$J10,"") -> 0.24451773 | N12: =IF('2016'!$J10>0,'2016'!$J10,"") -> 0.23789391 | O12: =IF('2017'!$J10>0,'2017'!$J10,"") -> 0.24409493 | P12: =IF('2018'!$J12>0,'2018'!$J12,"") -> 0.20294267 | Q12: =IF('2019'!$J12>0,'2019'!$J12,"") -> 0.22281414 | R12: =IF('2020'!$J12>0,'2020'!$J12,"") -> 0.23563899
A13: Erie Wind | B13: 40940 | C13: 15 | D13: =IF('2006'!$J11>0,'2006'!$J11,"") | E13: =IF('2007'!$J11>0,'2007'!$J11,"") | F13: =IF('2008'!$J11>0,'2008'!$J11,"") | G13: =IF('2009'!$J11>0,'2009'!$J11,"") | H13: =IF('2010'!$J11>0,'2010'!$J11,"") | I13: =IF('2011'!$J11>0,'2011'!$J11,"") | J13: =IF('2012'!$J11>0,'2012'!$J11,"") -> 0.25342466 | K13: =IF('2013'!$J11>0,'2013'!$J11,"") -> 0.31506849 | L13: =IF('2014'!$J11>0,'2014'!$J11,"") -> 0.29908676 | M13: =IF('2015'!$J11>0,'2015'!$J11,"") -> 0.2891933 | N13: =IF('2016'!$J11>0,'2016'!$J11,"") -> 0.28995434 | O13: =IF('2017'!$J11>0,'2017'!$J11,"") -> 0.28006088 | P13: =IF('2018'!$J13>0,'2018'!$J13,"") -> 0.19939117 | Q13: =IF('2019'!$J13>0,'2019'!$J13,"") -> 0.14079148 | R13: =IF('2020'!$J13>0,'2020'!$J13,"") -> 0.071537291
A14: Fenner Wind Power | B14: 37226 | C14: 30 | D14: =IF('2006'!$J12>0,'2006'!$J12,"") -> 0.29403729 | E14: =IF('2007'!$J12>0,'2007'!$J12,"") -> 0.36012983 | F14: =IF('2008'!$J12>0,'2008'!$J12,"") -> 0.26984018 | G14: =IF('2009'!$J12>0,'2009'!$J12,"") -> 0.26103501 | H14: =IF('2010'!$J12>0,'2010'!$J12,"") -> 0.099315068 | I14: =IF('2011'!$J12>0,'2011'!$J12,"") -> 0.25114155 | J14: =IF('2012'!$J12>0,'2012'!$J12,"") -> 0.22450533 | K14: =IF('2013'!$J12>0,'2013'!$J12,"") -> 0.25989346 | L14: =IF('2014'!$J12>0,'2014'!$J12,"") -> 0.25418569 | M14: =IF('2015'!$J12>0,'2015'!$J12,"") -> 0.2564688 | N14: =IF('2016'!$J12>0,'2016'!$J12,"") -> 0.23744292 | O14: =IF('2017'!$J12>0,'2017'!$J12,"") -> 0.16894977 | P14: =IF('2018'!$J14>0,'2018'!$J14,"") -> 0.20738204 | Q14: =IF('2019'!$J14>0,'2019'!$J14,"") -> 0.27587519 | R14: =IF('2020'!$J14>0,'2020'!$J14,"") -> 0.12595129
A15: Hardscrabble Wind | B15: 40575 | C15: 74 | D15: =IF('2006'!$J13>0,'2006'!$J13,"") | E15: =IF('2007'!$J13>0,'2007'!$J13,"") | F15: =IF('2008'!$J13>0,'2008'!$J13,"") | G15: =IF('2009'!$J13>0,'2009'!$J13,"") | H15: =IF('2010'!$J13>0,'2010'!$J13,"") | I15: =IF('2011'!$J13>0,'2011'!$J13,"") -> 0.22784771 | J15: =IF('2012'!$J13>0,'2012'!$J13,"") -> 0.26548809 | K15: =IF('2013'!$J13>0,'2013'!$J13,"") -> 0.27937184 | L15: =IF('2014'!$J13>0,'2014'!$J13,"") -> 0.28430828 | M15: =IF('2015'!$J13>0,'2015'!$J13,"") -> 0.28307417 | N15: =IF('2016'!$J13>0,'2016'!$J13,"") -> 0.28076021 | O15: =IF('2017'!$J13>0,'2017'!$J13,"") -> 0.2739726 | P15: =IF('2018'!$J15>0,'2018'!$J15,"") -> 0.27273849 | Q15: =IF('2019'!$J15>0,'2019'!$J15,"") -> 0.28446254 | R15: =IF('2020'!$J15>0,'2020'!$J15,"") -> 0.10613353
A16: High Sheldon Wind Farm | B16: 39845 | C16: 118.1 | D16: =IF('2006'!$J14>0,'2006'!$J14,"") | E16: =IF('2007'!$J14>0,'2007'!$J14,"") | F16: =IF('2008'!$J14>0,'2008'!$J14,"") | G16: =IF('2009'!$J14>0,'2009'!$J14,"") -> 0.22306947 | H16: =IF('2010'!$J14>0,'2010'!$J14,"") -> 0.24454592 | I16: =IF('2011'!$J14>0,'2011'!$J14,"") -> 0.26494165 | J16: =IF('2012'!$J14>0,'2012'!$J14,"") -> 0.25834602 | K16: =IF('2013'!$J14>0,'2013'!$J14,"") -> 0.27143582 | L16: =IF('2014'!$J14>0,'2014'!$J14,"") -> 0.2746829 | M16: =IF('2015'!$J14>0,'2015'!$J14,"") -> 0.26220193 | N16: =IF('2016'!$J14>0,'2016'!$J14,"") -> 0.27153729 | O16: =IF('2017'!$J14>0,'2017'!$J14,"") -> 0.27234906 | P16: =IF('2018'!$J16>0,'2018'!$J16,"") -> 0.2513445 | Q16: =IF('2019'!$J16>0,'2019'!$J16,"") -> 0.24773913 | R16: =IF('2020'!$J16>0,'2020'!$J16,"") -> 0.25005896
A17: Howard Wind | B17: 40878 | C17: 55.4 | D17: =IF('2006'!$J15>0,'2006'!$J15,"") | E17: =IF('2007'!$J15>0,'2007'!$J15,"") | F17: =IF('2008'!$J15>0,'2008'!$J15,"") | G17: =IF('2009'!$J15>0,'2009'!$J15,"") | H17: =IF('2010'!$J15>0,'2010'!$J15,"") | I17: =IF('2011'!$J15>0,'2011'!$J15,"") | J17: =IF('2012'!$J15>0,'2012'!$J15,"") -> 0.23717093 | K17: =IF('2013'!$J15>0,'2013'!$J15,"") -> 0.26669371 | L17: =IF('2014'!$J15>0,'2014'!$J15,"") -> 0.26450607 | M17: =IF('2015'!$J15>0,'2015'!$J15,"") -> 0.25635212 | N17: =IF('2016'!$J15>0,'2016'!$J15,"") -> 0.26609708 | O17: =IF('2017'!$J15>0,'2017'!$J15,"") -> 0.26569933 | P17: =IF('2018'!$J17>0,'2018'!$J17,"") -> 0.24879481 | Q17: =IF('2019'!$J17>0,'2019'!$J17,"") -> 0.26601883 | R17: =IF('2020'!$J17>0,'2020'!$J17,"") -> 0.25963108
A18: Jericho Rise Wind | B18: 42705 | C18: 77.7 | N18: =IF('2016'!$J16>0,'2016'!$J16,"") -> 0.26974137 | O18: =IF('2017'!$J16>0,'2017'!$J16,"") -> 0.36185892 | P18: =IF('2018'!$J18>0,'2018'!$J18,"") -> 0.3321815 | Q18: =IF('2019'!$J18>0,'2019'!$J18,"") -> 0.33423835 | R18: =IF('2020'!$J18>0,'2020'!$J18,"") -> 0.33188766 | U18: Gamesa G114 2.1 MW wind turbines | V18: 80 | W18: 114 | X18: =V18+W18/2 -> 137 | Y18: =X18*3.28084 -> 449.47508 | Z18: =X18-X9 -> 18.5 | AA18: =Z18*3.28084 -> 60.69554
A19: Madison Wind Power | B19: 36770 | C19: 11.6 | D19: =IF('2006'!$J16>0,'2006'!$J16,"") -> 0.19885648 | E19: =IF('2007'!$J16>0,'2007'!$J16,"") -> 0.20915997 | F19: =IF('2008'!$J16>0,'2008'!$J16,"") -> 0.18760825 | G19: =IF('2009'!$J16>0,'2009'!$J16,"") -> 0.19386711 | H19: =IF('2010'!$J16>0,'2010'!$J16,"") -> 0.17713746 | I19: =IF('2011'!$J16>0,'2011'!$J16,"") -> 0.21354905 | J19: =IF('2012'!$J16>0,'2012'!$J16,"") -> 0.18697843 | K19: =IF('2013'!$J16>0,'2013'!$J16,"") -> 0.20173988 | L19: =IF('2014'!$J16>0,'2014'!$J16,"") -> 0.20666037 | M19: =IF('2015'!$J16>0,'2015'!$J16,"") -> 0.19386711 | N19: =IF('2016'!$J17>0,'2016'!$J17,"") -> 0.1968194 | O19: =IF('2017'!$J17>0,'2017'!$J17,"") -> 0.20469217 | P19: =IF('2018'!$J19>0,'2018'!$J19,"") -> 0.18402614 | Q19: =IF('2019'!$J19>0,'2019'!$J19,"") -> 0.18501023 | R19: =IF('2020'!$J19>0,'2020'!$J19,"") -> 0.16828059
A20: Maple Ridge Wind 1 | B20: 38718 | C20: 231 | D20: =IF('2006'!$J17>0,'2006'!$J17,"") -> 0.20088804 | E20: =IF('2007'!$J17>0,'2007'!$J17,"") -> 0.25868864 | F20: =IF('2008'!$J17>0,'2008'!$J17,"") -> 0.26582656 | G20: =IF('2009'!$J17>0,'2009'!$J17,"") -> 0.26087687 | H20: =IF('2010'!$J17>0,'2010'!$J17,"") -> 0.24447014 | I20: =IF('2011'!$J17>0,'2011'!$J17,"") -> 0.26201348 | J20: =IF('2012'!$J17>0,'2012'!$J17,"") -> 0.25949317 | K20: =IF('2013'!$J17>0,'2013'!$J17,"") -> 0.26912965 | L20: =IF('2014'!$J17>0,'2014'!$J17,"") -> 0.2902805 | M20: =IF('2015'!$J17>0,'2015'!$J17,"") -> 0.2808911 | N20: =IF('2016'!$J18>0,'2016'!$J18,"") -> 0.27421969 | O20: =IF('2017'!$J18>0,'2017'!$J18,"") -> 0.28192888 | P20: =IF('2018'!$J20>0,'2018'!$J20,"") -> 0.26487972 | Q20: =IF('2019'!$J20>0,'2019'!$J20,"") -> 0.26497855 | R20: =IF('2020'!$J20>0,'2020'!$J20,"") -> 0.26631283
A21: Maple Ridge Wind 2 | B21: 39417 | C21: 90.7 | D21: =IF('2006'!$J18>0,'2006'!$J18,"") | E21: =IF('2007'!$J18>0,'2007'!$J18,"") | F21: =IF('2008'!$J18>0,'2008'!$J18,"") -> 0.26814038 | G21: =IF('2009'!$J18>0,'2009'!$J18,"") -> 0.25571782 | H21: =IF('2010'!$J18>0,'2010'!$J18,"") -> 0.2433971 | I21: =IF('2011'!$J18>0,'2011'!$J18,"") -> 0.25408344 | J21: =IF('2012'!$J18>0,'2012'!$J18,"") -> 0.25307767 | K21: =IF('2013'!$J18>0,'2013'!$J18,"") -> 0.26329965 | L21: =IF('2014'!$J18>0,'2014'!$J18,"") -> 0.28419246 | M21: =IF('2015'!$J18>0,'2015'!$J18,"") -> 0.27311675 | N21: =IF('2016'!$J19>0,'2016'!$J19,"") -> 0.26682374 | O21: =IF('2017'!$J19>0,'2017'!$J19,"") -> 0.27513052 | P21: =IF('2018'!$J21>0,'2018'!$J21,"") -> 0.25574804 | Q21: =IF('2019'!$J21>0,'2019'!$J21,"") -> 0.25272739 | R21: =IF('2020'!$J21>0,'2020'!$J21,"") -> 0.25433488
A22: Marble River Wind | B22: 41091 | C22: 215.2 | D22: =IF('2006'!$J19>0,'2006'!$J19,"") | E22: =IF('2007'!$J19>0,'2007'!$J19,"") | F22: =IF('2008'!$J19>0,'2008'!$J19,"") | G22: =IF('2009'!$J19>0,'2009'!$J19,"") | H22: =IF('2010'!$J19>0,'2010'!$J19,"") | I22: =IF('2011'!$J19>0,'2011'!$J19,"") | J22: =IF('2012'!$J19>0,'2012'!$J19,"") -> 0.18020614 | K22: =IF('2013'!$J19>0,'2013'!$J19,"") -> 0.27174777 | L22: =IF('2014'!$J19>0,'2014'!$J19,"") -> 0.2856265 | M22: =IF('2015'!$J19>0,'2015'!$J19,"") -> 0.28785134 | N22: =IF('2016'!$J20>0,'2016'!$J20,"") -> 0.27736283 | O22: =IF('2017'!$J20>0,'2017'!$J20,"") -> 0.28721567 | P22: =IF('2018'!$J22>0,'2018'!$J22,"") -> 0.25898145 | Q22: =IF('2019'!$J22>0,'2019'!$J22,"") -> 0.27573373 | R22: =IF('2020'!$J22>0,'2020'!$J22,"") -> 0.25886507
A23: Marsh Hill Wind Farm | B23: 41974 | C23: 16.2 | M23: =IF('2015'!$J20>0,'2015'!$J20,"") -> 0.47606968 | N23: =IF('2016'!$J21>0,'2016'!$J21,"") -> 0.38756412 | O23: =IF('2017'!$J21>0,'2017'!$J21,"") -> 0.34387508 | P23: =IF('2018'!$J23>0,'2018'!$J23,"") -> 0.32696319 | Q23: =IF('2019'!$J23>0,'2019'!$J23,"") -> 0.35514967 | R23: =IF('2020'!$J23>0,'2020'!$J23,"") -> 0.13388579
A24: Munnsville Wind Power | B24: 39314 | C24: 34.5 | D24: =IF('2006'!$J21>0,'2006'!$J21,"") | E24: =IF('2007'!$J21>0,'2007'!$J21,"") | F24: =IF('2008'!$J21>0,'2008'!$J21,"") -> 0.2947257 | G24: =IF('2009'!$J21>0,'2009'!$J21,"") -> 0.29415657 | H24: =IF('2010'!$J21>0,'2010'!$J21,"") -> 0.28025941 | I24: =IF('2011'!$J21>0,'2011'!$J21,"") -> 0.28952419 | J24: =IF('2012'!$J21>0,'2012'!$J21,"") -> 0.28687711 | K24: =IF('2013'!$J21>0,'2013'!$J21,"") -> 0.29614188 | L24: =IF('2014'!$J21>0,'2014'!$J21,"") -> 0.31764939 | M24: =IF('2015'!$J21>0,'2015'!$J21,"") -> 0.30209781 | N24: =IF('2016'!$J22>0,'2016'!$J22,"") -> 0.31070081 | O24: =IF('2017'!$J22>0,'2017'!$J22,"") -> 0.31996559 | P24: =IF('2018'!$J24>0,'2018'!$J24,"") -> 0.19257495 | Q24: =IF('2019'!$J24>0,'2019'!$J24,"") -> 0.11183906 | R24: =IF('2020'!$J24>0,'2020'!$J24,"") -> 0.29514923 | U24: Vestas V66-1.65 MW wind turbines | V24: 60 | W24: 66 | X24: =V24+W24/2 -> 93 | Y24: =X24*3.28084 -> 305.11812
A25: Orangeville Wind Farm | B25: 41609 | C25: 93.9 | K25: =IF('2013'!$J22>0,'2013'!$J22,"") -> 0.11880633 | L25: =IF('2014'!$J22>0,'2014'!$J22,"") -> 0.33322635 | M25: =IF('2015'!$J22>0,'2015'!$J22,"") -> 0.34878745 | N25: =IF('2016'!$J23>0,'2016'!$J23,"") -> 0.32216338 | O25: =IF('2017'!$J23>0,'2017'!$J23,"") -> 0.34027747 | P25: =IF('2018'!$J25>0,'2018'!$J25,"") -> 0.35206987 | Q25: =IF('2019'!$J25>0,'2019'!$J25,"") -> 0.33504992 | R25: =IF('2020'!$J25>0,'2020'!$J25,"") -> 0.34234418 | U25: GE Energy 1.6-100 | V25: 80 | W25: 100 | X25: =V25+W25/2 -> 130 | Y25: =X25*3.28084 -> 426.5092
A26: Steel Wind | B26: 39105 | C26: 20 | D26: =IF('2006'!$J22>0,'2006'!$J22,"") | E26: =IF('2007'!$J22>0,'2007'!$J22,"") -> 0.058789954 | F26: =IF('2008'!$J22>0,'2008'!$J22,"") -> 0.21343607 | G26: =IF('2009'!$J22>0,'2009'!$J22,"") -> 0.24143836 | H26: =IF('2010'!$J22>0,'2010'!$J22,"") -> 0.27568493 | I26: =IF('2011'!$J22>0,'2011'!$J22,"") -> 0.21917808 | J26: =IF('2012'!$J22>0,'2012'!$J22,"") -> 0.27682648 | K26: =IF('2013'!$J22>0,'2013'!$J22,"") -> 0.11880633 | L26: =IF('2014'!$J22>0,'2014'!$J22,"") -> 0.33322635 | M26: =IF('2015'!$J22>0,'2015'!$J22,"") -> 0.34878745 | N26: =IF('2016'!$J24>0,'2016'!$J24,"") -> 0.31792237 | O26: =IF('2017'!$J24>0,'2017'!$J24,"") -> 0.2956621 | P26: =IF('2018'!$J26>0,'2018'!$J26,"") -> 0.26769406 | Q26: =IF('2019'!$J26>0,'2019'!$J26,"") -> 0.15468037 | R26: =IF('2020'!$J26>0,'2020'!$J26,"") -> 0.061643836
A27: Western NY Wind Power | B27: 36800 | C27: 6.6 | D27: =IF('2006'!$J23>0,'2006'!$J23,"") -> 0.24972326 | E27: =IF('2007'!$J23>0,'2007'!$J23,"") -> 0.26873184 | F27: =IF('2008'!$J23>0,'2008'!$J23,"") -> 0.19665836 | G27: =IF('2009'!$J23>0,'2009'!$J23,"") -> 0.23695863 | H27: =IF('2010'!$J23>0,'2010'!$J23,"") -> 0.23004013 | I27: =IF('2011'!$J23>0,'2011'!$J23,"") -> 0.23176975 | J27: =IF('2012'!$J23>0,'2012'!$J23,"") -> 0.207555 | K27: =IF('2013'!$J23>0,'2013'!$J23,"") -> 0.3053653 | L27: =IF('2014'!$J23>0,'2014'!$J23,"") -> 0.26598174 | M27: =IF('2015'!$J23>0,'2015'!$J23,"") -> 0.28881279 | N27: =IF('2016'!$J25>0,'2016'!$J25,"") -> 0.21620313 | O27: =IF('2017'!$J25>0,'2017'!$J25,"") -> 0.12280338 | P27: =IF('2018'!$J27>0,'2018'!$J27,"") -> 0.079562751 | Q27: =IF('2019'!$J27>0,'2019'!$J27,"") -> 0.051888751 | R27: =IF('2020'!$J27>0,'2020'!$J27,"") -> 0.01729625
A28: Wethersfield Wind Power | B28: 39793 | C28: 126 | D28: =IF('2006'!$J24>0,'2006'!$J24,"") | E28: =IF('2007'!$J24>0,'2007'!$J24,"") | F28: =IF('2008'!$J24>0,'2008'!$J24,"") | G28: =IF('2009'!$J24>0,'2009'!$J24,"") -> 0.20035792 | H28: =IF('2010'!$J24>0,'2010'!$J24,"") -> 0.23139088 | I28: =IF('2011'!$J24>0,'2011'!$J24,"") -> 0.23238748 | J28: =IF('2012'!$J24>0,'2012'!$J24,"") -> 0.22586432 | K28: =IF('2013'!$J24>0,'2013'!$J24,"") -> 0.166044 | L28: =IF('2014'!$J24>0,'2014'!$J24,"") -> 0.16085513 | M28: =IF('2015'!$J24>0,'2015'!$J24,"") -> 0.235229 | N28: =IF('2016'!$J26>0,'2016'!$J26,"") -> 0.23990723 | O28: =IF('2017'!$J26>0,'2017'!$J26,"") -> 0.24652098 | P28: =IF('2018'!$J28>0,'2018'!$J28,"") -> 0.23311227 | Q28: =IF('2019'!$J28>0,'2019'!$J28,"") -> 0.24153802 | R28: =IF('2020'!$J28>0,'2020'!$J28,"") -> 0.23981663
A29: State Wide Total Capacity (MW) | C29: =SUM(C5:C28) -> 1985.2 | D29: ='2006'!$E$25 -> 279.2 | E29: ='2007'!$E$25 -> 390 | F29: ='2008'!$E$25 -> 1148 | G29: ='2009'!$E$25 -> 1250.8 | H29: ='2010'!$E$25 -> 1195.4 | I29: ='2011'!$E$25 -> 1195.4 | J29: ='2012'!$E$25 -> 1633.9 | K29: ='2013'!$E$26 -> 1729.7 | L29: ='2014'!$E$26 -> 1891.7 | M29: ='2015'!$E$26 -> 1891.7 | N29: ='2016'!$E$27 -> 1823.6 | O29: ='2017'!$E$27 -> 1823.6 | P29: ='2018'!$E$29 -> 1981.9 | Q29: ='2019'!$E$29 -> 1985.2 | R29: ='2020'!$E$29 -> 1985.3
A30: State Wide Net Energy GWh | D30: ='2006'!$I$25 -> 518.427 | E30: ='2007'!$I$25 -> 800.181 | F30: ='2008'!$I$25 -> 1282.325 | G30: ='2009'!$I$25 -> 1959.6 | H30: ='2010'!$I$25 -> 2215.8 | I30: ='2011'!$I$25 -> 2472.3 | J30: ='2012'!$I$25 -> 3060.2 | K30: ='2013'!$I$26 -> 3540.8 | L30: ='2014'!$I$26 -> 3985.1 | M30: ='2015'!$I$26 -> 3983.8 | N30: ='2016'!$I$27 -> 3943.3 | O30: ='2017'!$I$27 -> 4218.8 | P30: ='2018'!$I$29 -> 3985.1 | Q30: ='2019'!$I$29 -> 4399.5 | R30: ='2020'!$I$29 -> 4161.9
A31: State Average Capacity Factor | D31: =D30/D33 -> 0.21196692 | E31: =E30/E33 -> 0.26281629 | F31: =F30/F33 -> 0.20931435 | G31: =G30/G33 -> 0.18910597 | H31: =H30/H33 -> 0.18764481 | I31: =I30/I33 -> 0.20936649 | J31: =J30/J33 -> 0.2315439 | K31: =K30/K33 -> 0.25016123 | ... R31: =R30/R33 -> 0.2393103 | T31: =AVERAGE(N31:R31) -> 0.25165561
A33: State Wide Annual Capacity GWh | D33: ='2006'!$K25 -> 2445.792 | E33: ='2007'!$K25 -> 3044.64 | F33: ='2008'!$K25 -> 6126.312 | G33: ='2009'!$K25 -> 10362.444 | H33: ='2010'!$K25 -> 11808.48 | I33: ='2011'!$K25 -> 11808.48 | J33: ='2012'!$K25 -> 13216.5 | K33: ='2013'!$K26 -> 14154.072 | L33: ='2014'!$K26 -> 14223.934 | M33: ='2015'!$K26 -> 14344.462 | N33: ='2016'!$K27 -> 15351.893 | O33: ='2017'!$K27 -> 15974.736 | P33: ='2018'!$K29 -> 16263.737 | Q33: ='2019'!$K29 -> 17390.352 | R33: ='2020'!$K29 -> 17391.228
D35: 2006 | E35: 2007 | F35: 2008 | G35: 2009 | H35: 2010 | I35: 2011 | J35: 2012 | K35: 2013 | L35: 2014 | M35: 2015 | N35: 2016 | O35: 2017 | P35: 2018 | Q35: 2019 | R35: 2020
A36: State Wide Total Capacity (MW) | C36: 1985.2 | D36: 279.2 | E36: 390 | F36: 1148 | G36: 1250.8 | H36: 1195.4 | I36: 1195.4 | J36: 1633.9 | K36: 1729.7 | L36: 1891.7 | M36: 1891.7 | N36: 1823.6 | O36: 1823.6 | P36: 1981.9 | Q36: 1985.2 | R36: 1985.3
A37: State Wide Net Energy GWh | D37: 518.427 | E37: 800.181 | F37: 1282.325 | G37: 1959.6 | H37: 2215.8 | I37: 2472.3 | J37: 3060.2 | K37: 3540.8 | L37: 3985.1 | M37: 3983.8 | N37: 3943.3 | O37: 4218.8 | P37: 3985.1 | Q37: 4399.5 | R37: 4161.9

Sheet GWh
A1: New York State Wind Facility Net Energy GWh
A4: Station | B4: 2006 | C4: 2007 | D4: 2008 | E4: 2009 | F4: 2010 | G4: 2011 | H4: 2012 | I4: 2013 | J4: 2014 | K4: 2015 | L4: 2016 | M4: 2017 | N4: 2018
A5: Altona_Wind_Power | B5: =IF('2006'!$I5>0,'2006'!$I5,"") | C5: =IF('2007'!$I5>0,'2007'!$I5,"") | D5: =IF('2008'!$I5>0,'2008'!$I5,"") -> 0.703 | E5: =IF('2009'!$I5>0,'2009'!$I5,"") -> 62.4 | F5: =IF('2010'!$I5>0,'2010'!$I5,"") -> 188.1 | G5: =IF('2011'!$I5>0,'2011'!$I5,"") -> 178.7 | H5: =IF('2012'!$I5>0,'2012'!$I5,"") -> 172.5 | I5: =IF('2013'!$I5>0,'2013'!$I5,"") -> 162.1 | J5: =IF('2014'!$I5>0,'2014'!$I5,"") -> 186.4 | K5: =IF('2015'!$I5>0,'2015'!$I5,"") -> 170.1 | L5: =IF('2016'!$I5>0,'2016'!$I5,"") -> 170.1 | M5: =IF('2017'!$I5>0,'2017'!$I5,"") -> 175.6 | N5: =IF('2018'!$F5>0,'2018'!$F5,"") -> 97.5
A6: Arkwright_Summit_Wind_Farm | N6: =IF('2018'!$F6>0,'2018'!$F6,"")
A7: Bliss_Wind_Power | B7: =IF('2006'!$I6>0,'2006'!$I6,"") | C7: =IF('2007'!$I6>0,'2007'!$I6,"") | D7: =IF('2008'!$I6>0,'2008'!$I6,"") -> 124.101 | E7: =IF('2009'!$I6>0,'2009'!$I6,"") -> 193.8 | F7: =IF('2010'!$I6>0,'2010'!$I6,"") -> 187.6 | G7: =IF('2011'!$I6>0,'2011'!$I6,"") -> 190.8 | H7: =IF('2012'!$I6>0,'2012'!$I6,"") -> 205 | I7: =IF('2013'!$I6>0,'2013'!$I6,"") -> 204.6 | J7: =IF('2014'!$I6>0,'2014'!$I6,"") -> 206.6 | K7: =IF('2015'!$I6>0,'2015'!$I6,"") -> 205.3 | L7: =IF('2016'!$I6>0,'2016'!$I6,"") -> 204.4 | M7: =IF('2017'!$I6>0,'2017'!$I6,"") -> 210.4 | N7: =IF('2018'!$F7>0,'2018'!$F7,"") -> 100.5
A8: Canandaigua_Wind_Power | B8: =IF('2006'!$I7>0,'2006'!$I7,"") | C8: =IF('2007'!$I7>0,'2007'!$I7,"") | D8: =IF('2008'!$I7>0,'2008'!$I7,"") -> 10.155 | E8: =IF('2009'!$I7>0,'2009'!$I7,"") -> 198.9 | F8: =IF('2010'!$I7>0,'2010'!$I7,"") -> 258.5 | G8: =IF('2011'!$I7>0,'2011'!$I7,"") -> 242.4 | H8: =IF('2012'!$I7>0,'2012'!$I7,"") -> 247 | I8: =IF('2013'!$I7>0,'2013'!$I7,"") -> 240.9 | J8: =IF('2014'!$I7>0,'2014'!$I7,"") -> 259.5 | K8: =IF('2015'!$I7>0,'2015'!$I7,"") -> 261 | L8: =IF('2016'!$I7>0,'2016'!$I7,"") -> 258.7 | M8: =IF('2017'!$I7>0,'2017'!$I7,"") -> 264.6 | N8: =IF('2018'!$F8>0,'2018'!$F8,"") -> 125
A9: Chateaugay_Wind_Power | B9: =IF('2006'!$I8>0,'2006'!$I8,"") | C9: =IF('2007'!$I8>0,'2007'!$I8,"") | D9: =IF('2008'!$I8>0,'2008'!$I8,"") -> 16.095 | E9: =IF('2009'!$I8>0,'2009'!$I8,"") -> 72 | F9: =IF('2010'!$I8>0,'2010'!$I8,"") -> 192.2 | G9: =IF('2011'!$I8>0,'2011'!$I8,"") -> 201.8 | H9: =IF('2012'!$I8>0,'2012'!$I8,"") -> 191.8 | I9: =IF('2013'!$I8>0,'2013'!$I8,"") -> 188.5 | J9: =IF('2014'!$I8>0,'2014'!$I8,"") -> 200.5 | K9: =IF('2015'!$I8>0,'2015'!$I8,"") -> 211.4 | L9: =IF('2016'!$I8>0,'2016'!$I8,"") -> 209.6 | M9: =IF('2017'!$I8>0,'2017'!$I8,"") -> 208.5 | N9: =IF('2018'!$F9>0,'2018'!$F9,"") -> 106.5
A10: Clinton_Wind_Power | B10: =IF('2006'!$I9>0,'2006'!$I9,"") | C10: =IF('2007'!$I9>0,'2007'!$I9,"") | D10: =IF('2008'!$I9>0,'2008'!$I9,"") -> 75.71 | E10: =IF('2009'!$I9>0,'2009'!$I9,"") -> 178 | F10: =IF('2010'!$I9>0,'2010'!$I9,"") -> 173.8 | G10: =IF('2011'!$I9>0,'2011'!$I9,"") -> 174.4 | H10: =IF('2012'!$I9>0,'2012'!$I9,"") -> 167.5 | I10: =IF('2013'!$I9>0,'2013'!$I9,"") -> 176.3 | J10: =IF('2014'!$I9>0,'2014'!$I9,"") -> 186.2 | K10: =IF('2015'!$I9>0,'2015'!$I9,"") -> 174.9 | L10: =IF('2016'!$I9>0,'2016'!$I9,"") -> 175.1 | M10: =IF('2017'!$I9>0,'2017'!$I9,"") -> 170.9 | N10: =IF('2018'!$F10>0,'2018'!$F10,"") -> 100.5
A11: Copenhagen_Wind_Farm | N11: =IF('2018'!$F11>0,'2018'!$F11,"") -> 79.9
A12: Ellenburg_Wind_Power | B12: =IF('2006'!$I10>0,'2006'!$I10,"") | C12: =IF('2007'!$I10>0,'2007'!$I10,"") | D12: =IF('2008'!$I10>0,'2008'!$I10,"") -> 76.55 | E12: =IF('2009'!$I10>0,'2009'!$I10,"") -> 161.7 | F12: =IF('2010'!$I10>0,'2010'!$I10,"") -> 157.5 | G12: =IF('2011'!$I10>0,'2011'!$I10,"") -> 167.9 | H12: =IF('2012'!$I10>0,'2012'!$I10,"") -> 157.8 | I12: =IF('2013'!$I10>0,'2013'!$I10,"") -> 164.4 | J12: =IF('2014'!$I10>0,'2014'!$I10,"") -> 176.6 | K12: =IF('2015'!$I10>0,'2015'!$I10,"") -> 173.5 | L12: =IF('2016'!$I10>0,'2016'!$I10,"") -> 168.8 | M12: =IF('2017'!$I10>0,'2017'!$I10,"") -> 173.2 | N12: =IF('2018'!$F12>0,'2018'!$F12,"") -> 81
A13: Erie_Wind | B13: =IF('2006'!$I11>0,'2006'!$I11,"") | C13: =IF('2007'!$I11>0,'2007'!$I11,"") | D13: =IF('2008'!$I11>0,'2008'!$I11,"") | E13: =IF('2009'!$I11>0,'2009'!$I11,"") | F13: =IF('2010'!$I11>0,'2010'!$I11,"") | G13: =IF('2011'!$I11>0,'2011'!$I11,"") | H13: =IF('2012'!$I11>0,'2012'!$I11,"") -> 33.3 | I13: =IF('2013'!$I11>0,'2013'!$I11,"") -> 41.4 | J13: =IF('2014'!$I11>0,'2014'!$I11,"") -> 39.3 | K13: =IF('2015'!$I11>0,'2015'!$I11,"") -> 38 | L13: =IF('2016'!$I11>0,'2016'!$I11,"") -> 38.1 | M13: =IF('2017'!$I11>0,'2017'!$I11,"") -> 36.8 | N13: =IF('2018'!$F13>0,'2018'!$F13,"")
A14: Fenner_Wind_Power | B14: =IF('2006'!$I12>0,'2006'!$I12,"") -> 77.273 | C14: =IF('2007'!$I12>0,'2007'!$I12,"") -> 23.855 | D14: =IF('2008'!$I12>0,'2008'!$I12,"") -> 70.914 | E14: =IF('2009'!$I12>0,'2009'!$I12,"") -> 68.6 | F14: =IF('2010'!$I12>0,'2010'!$I12,"") -> 26.1 | G14: =IF('2011'!$I12>0,'2011'!$I12,"") -> 66 | H14: =IF('2012'!$I12>0,'2012'!$I12,"") -> 59 | I14: =IF('2013'!$I12>0,'2013'!$I12,"") -> 68.3 | J14: =IF('2014'!$I12>0,'2014'!$I12,"") -> 66.8 | K14: =IF('2015'!$I12>0,'2015'!$I12,"") -> 67.4 | L14: =IF('2016'!$I12>0,'2016'!$I12,"") -> 62.4 | M14: =IF('2017'!$I12>0,'2017'!$I12,"") -> 44.4 | N14: =IF('2018'!$F14>0,'2018'!$F14,"")
A15: Hardscrabble_Wind | B15: =IF('2006'!$I13>0,'2006'!$I13,"") | C15: =IF('2007'!$I13>0,'2007'!$I13,"") | D15: =IF('2008'!$I13>0,'2008'!$I13,"") | E15: =IF('2009'!$I13>0,'2009'!$I13,"") | F15: =IF('2010'!$I13>0,'2010'!$I13,"") | G15: =IF('2011'!$I13>0,'2011'!$I13,"") -> 147.7 | H15: =IF('2012'!$I13>0,'2012'!$I13,"") -> 172.1 | I15: =IF('2013'!$I13>0,'2013'!$I13,"") -> 181.1 | J15: =IF('2014'!$I13>0,'2014'!$I13,"") -> 184.3 | K15: =IF('2015'!$I13>0,'2015'!$I13,"") -> 183.5 | L15: =IF('2016'!$I13>0,'2016'!$I13,"") -> 182 | M15: =IF('2017'!$I13>0,'2017'!$I13,"") -> 177.6 | N15: =IF('2018'!$F15>0,'2018'!$F15,"") -> 74
A16: High Sheldon Wind Farm | B16: =IF('2006'!$I14>0,'2006'!$I14,"") | C16: =IF('2007'!$I14>0,'2007'!$I14,"") | D16: =IF('2008'!$I14>0,'2008'!$I14,"") | E16: =IF('2009'!$I14>0,'2009'!$I14,"") -> 184.3 | F16: =IF('2010'!$I14>0,'2010'!$I14,"") -> 241 | G16: =IF('2011'!$I14>0,'2011'!$I14,"") -> 261.1 | H16: =IF('2012'!$I14>0,'2012'!$I14,"") -> 254.6 | I16: =IF('2013'!$I14>0,'2013'!$I14,"") -> 267.5 | J16: =IF('2014'!$I14>0,'2014'!$I14,"") -> 270.7 | K16: =IF('2015'!$I14>0,'2015'!$I14,"") -> 258.4 | L16: =IF('2016'!$I14>0,'2016'!$I14,"") -> 267.6 | M16: =IF('2017'!$I14>0,'2017'!$I14,"") -> 268.4 | N16: =IF('2018'!$F16>0,'2018'!$F16,"") -> 112.5
A17: Howard_Wind | B17: =IF('2006'!$I15>0,'2006'!$I15,"") | C17: =IF('2007'!$I15>0,'2007'!$I15,"") | D17: =IF('2008'!$I15>0,'2008'!$I15,"") | E17: =IF('2009'!$I15>0,'2009'!$I15,"") | F17: =IF('2010'!$I15>0,'2010'!$I15,"") | G17: =IF('2011'!$I15>0,'2011'!$I15,"") | H17: =IF('2012'!$I15>0,'2012'!$I15,"") -> 115.1 | I17: =IF('2013'!$I15>0,'2013'!$I15,"") -> 134.1 | J17: =IF('2014'!$I15>0,'2014'!$I15,"") -> 133 | K17: =IF('2015'!$I15>0,'2015'!$I15,"") -> 128.9 | L17: =IF('2016'!$I15>0,'2016'!$I15,"") -> 133.8 | M17: =IF('2017'!$I15>0,'2017'!$I15,"") -> 133.6 | N17: =IF('2018'!$F17>0,'2018'!$F17,"") -> 57.4
A18: Jericho_Rise_Wind | L18: =IF('2016'!$I16>0,'2016'!$I16,"") -> 15.3 | M18: =IF('2017'!$I16>0,'2017'!$I16,"") -> 246.3 | N18: =IF('2018'!$F18>0,'2018'!$F18,"") -> 77.7
A19: Madison_Wind_Power | B19: =IF('2006'!$I16>0,'2006'!$I16,"") -> 20.207 | C19: =IF('2007'!$I16>0,'2007'!$I16,"") -> 21.254 | D19: =IF('2008'!$I16>0,'2008'!$I16,"") -> 19.064 | E19: =IF('2009'!$I16>0,'2009'!$I16,"") -> 19.7 | F19: =IF('2010'!$I16>0,'2010'!$I16,"") -> 18 | G19: =IF('2011'!$I16>0,'2011'!$I16,"") -> 21.7 | H19: =IF('2012'!$I16>0,'2012'!$I16,"") -> 19 | I19: =IF('2013'!$I16>0,'2013'!$I16,"") -> 20.5 | J19: =IF('2014'!$I16>0,'2014'!$I16,"") -> 21 | K19: =IF('2015'!$I16>0,'2015'!$I16,"") -> 19.7 | L19: =IF('2016'!$I17>0,'2016'!$I17,"") -> 20 | M19: =IF('2017'!$I17>0,'2017'!$I17,"") -> 20.8 | N19: =IF('2018'!$F19>0,'2018'!$F19,"") -> 11.5
A20: Maple_Ridge_Wind_1 | B20: =IF('2006'!$I17>0,'2006'!$I17,"") -> 406.509 | C20: =IF('2007'!$I17>0,'2007'!$I17,"") -> 729.235 | D20: =IF('2008'!$I17>0,'2008'!$I17,"") -> 537.916 | E20: =IF('2009'!$I17>0,'2009'!$I17,"") -> 527.9 | F20: =IF('2010'!$I17>0,'2010'!$I17,"") -> 494.7 | G20: =IF('2011'!$I17>0,'2011'!$I17,"") -> 530.2 | H20: =IF('2012'!$I17>0,'2012'!$I17,"") -> 525.1 | I20: =IF('2013'!$I17>0,'2013'!$I17,"") -> 544.6 | J20: =IF('2014'!$I17>0,'2014'!$I17,"") -> 587.4 | K20: =IF('2015'!$I17>0,'2015'!$I17,"") -> 568.4 | L20: =IF('2016'!$I18>0,'2016'!$I18,"") -> 554.9 | M20: =IF('2017'!$I18>0,'2017'!$I18,"") -> 570.5 | N20: =IF('2018'!$F20>0,'2018'!$F20,"") -> 231
A21: Maple_Ridge_Wind_2 | B21: =IF('2006'!$I18>0,'2006'!$I18,"") | C21: =IF('2007'!$I18>0,'2007'!$I18,"") | D21: =IF('2008'!$I18>0,'2008'!$I18,"") -> 213.281 | E21: =IF('2009'!$I18>0,'2009'!$I18,"") -> 203.4 | F21: =IF('2010'!$I18>0,'2010'!$I18,"") -> 193.6 | G21: =IF('2011'!$I18>0,'2011'!$I18,"") -> 202.1 | H21: =IF('2012'!$I18>0,'2012'!$I18,"") -> 201.3 | I21: =IF('2013'!$I18>0,'2013'!$I18,"") -> 209.2 | J21: =IF('2014'!$I18>0,'2014'!$I18,"") -> 225.8 | K21: =IF('2015'!$I18>0,'2015'!$I18,"") -> 217 | L21: =IF('2016'!$I19>0,'2016'!$I19,"") -> 212 | M21: =IF('2017'!$I19>0,'2017'!$I19,"") -> 218.6 | N21: =IF('2018'!$F21>0,'2018'!$F21,"") -> 90.7
A22: Marble_River_Wind | B22: =IF('2006'!$I19>0,'2006'!$I19,"") | C22: =IF('2007'!$I19>0,'2007'!$I19,"") | D22: =IF('2008'!$I19>0,'2008'!$I19,"") | E22: =IF('2009'!$I19>0,'2009'!$I19,"") | F22: =IF('2010'!$I19>0,'2010'!$I19,"") | G22: =IF('2011'!$I19>0,'2011'!$I19,"") | H22: =IF('2012'!$I19>0,'2012'!$I19,"") -> 142.6 | I22: =IF('2013'!$I19>0,'2013'!$I19,"") -> 513 | J22: =IF('2014'!$I19>0,'2014'!$I19,"") -> 539.2 | K22: =IF('2015'!$I19>0,'2015'!$I19,"") -> 543.4 | L22: =IF('2016'!$I20>0,'2016'!$I20,"") -> 523.6 | M22: =IF('2017'!$I20>0,'2017'!$I20,"") -> 542.2 | N22: =IF('2018'!$F22>0,'2018'!$F22,"")
A23: Marsh Hill Wind Farm | K23: =IF('2015'!$I20>0,'2015'!$I20,"") -> 56.3 | L23: =IF('2016'!$I21>0,'2016'!$I21,"") -> 55 | M23: =IF('2017'!$I21>0,'2017'!$I21,"") -> 48.8 | N23: =IF('2018'!$F23>0,'2018'!$F23,"")
A24: Munnsville_Wind_Power | B24: =IF('2006'!$I21>0,'2006'!$I21,"") | C24: =IF('2007'!$I21>0,'2007'!$I21,"") | D24: =IF('2008'!$I21>0,'2008'!$I21,"") -> 89.072 | E24: =IF('2009'!$I21>0,'2009'!$I21,"") -> 88.9 | F24: =IF('2010'!$I21>0,'2010'!$I21,"") -> 84.7 | G24: =IF('2011'!$I21>0,'2011'!$I21,"") -> 87.5 | H24: =IF('2012'!$I21>0,'2012'!$I21,"") -> 86.7 | I24: =IF('2013'!$I21>0,'2013'!$I21,"") -> 89.5 | J24: =IF('2014'!$I21>0,'2014'!$I21,"") -> 96 | K24: =IF('2015'!$I21>0,'2015'!$I21,"") -> 91.3 | L24: =IF('2016'!$I22>0,'2016'!$I22,"") -> 93.9 | M24: =IF('2017'!$I22>0,'2017'!$I22,"") -> 96.7 | N24: =IF('2018'!$F24>0,'2018'!$F24,"") -> 34.5
A25: Orangeville_Wind_Farm | I25: =IF('2013'!$I22>0,'2013'!$I22,"") -> 8.3 | J25: =IF('2014'!$I22>0,'2014'!$I22,"") -> 274.1 | K25: =IF('2015'!$I22>0,'2015'!$I22,"") -> 286.9 | L25: =IF('2016'!$I23>0,'2016'!$I23,"") -> 265 | M25: =IF('2017'!$I23>0,'2017'!$I23,"") -> 279.9 | N25: =IF('2018'!$F25>0,'2018'!$F25,"") -> 88.5
A26: Steel_Wind | B26: =IF('2006'!$I22>0,'2006'!$I22,"") | C26: =IF('2007'!$I22>0,'2007'!$I22,"") -> 10.3 | D26: =IF('2008'!$I22>0,'2008'!$I22,"") -> 37.394 | E26: =IF('2009'!$I22>0,'2009'!$I22,"") -> 42.3 | F26: =IF('2010'!$I22>0,'2010'!$I22,"") -> 48.3 | G26: =IF('2011'!$I22>0,'2011'!$I22,"") -> 38.4 | H26: =IF('2012'!$I22>0,'2012'!$I22,"") -> 48.5 | I26: =IF('2013'!$I22>0,'2013'!$I22,"") -> 8.3 | J26: =IF('2014'!$I22>0,'2014'!$I22,"") -> 274.1 | K26: =IF('2015'!$I22>0,'2015'!$I22,"") -> 286.9 | L26: =IF('2016'!$I24>0,'2016'!$I24,"") -> 55.7 | M26: =IF('2017'!$I24>0,'2017'!$I24,"") -> 51.8 | N26: =IF('2018'!$F26>0,'2018'!$F26,"") -> 20
A27: Western_NY_Wind_Power | B27: =IF('2006'!$I23>0,'2006'!$I23,"") -> 14.438 | C27: =IF('2007'!$I23>0,'2007'!$I23,"") -> 15.537 | D27: =IF('2008'!$I23>0,'2008'!$I23,"") -> 11.37 | E27: =IF('2009'!$I23>0,'2009'!$I23,"") -> 13.7 | F27: =IF('2010'!$I23>0,'2010'!$I23,"") -> 13.3 | G27: =IF('2011'!$I23>0,'2011'!$I23,"") -> 13.4 | H27: =IF('2012'!$I23>0,'2012'!$I23,"") -> 12 | I27: =IF('2013'!$I23>0,'2013'!$I23,"") -> 53.5 | J27: =IF('2014'!$I23>0,'2014'!$I23,"") -> 46.6 | K27: =IF('2015'!$I23>0,'2015'!$I23,"") -> 50.6 | L27: =IF('2016'!$I25>0,'2016'!$I25,"") -> 12.5 | M27: =IF('2017'!$I25>0,'2017'!$I25,"") -> 7.1 | N27: =IF('2018'!$F27>0,'2018'!$F27,"") -> 6.6
A28: Wethersfield_Wind_Power | B28: =IF('2006'!$I24>0,'2006'!$I24,"") | C28: =IF('2007'!$I24>0,'2007'!$I24,"") | D28: =IF('2008'!$I24>0,'2008'!$I24,"") | E28: =IF('2009'!$I24>0,'2009'!$I24,"") -> 92.7 | F28: =IF('2010'!$I24>0,'2010'!$I24,"") -> 255.4 | G28: =IF('2011'!$I24>0,'2011'!$I24,"") -> 256.5 | H28: =IF('2012'!$I24>0,'2012'!$I24,"") -> 249.3 | I28: =IF('2013'!$I24>0,'2013'!$I24,"") -> 9.6 | J28: =IF('2014'!$I24>0,'2014'!$I24,"") -> 9.3 | K28: =IF('2015'!$I24>0,'2015'!$I24,"") -> 13.6 | L28: =IF('2016'!$I26>0,'2016'!$I26,"") -> 264.8 | M28: =IF('2017'!$I26>0,'2017'!$I26,"") -> 272.1 | N28: =IF('2018'!$F28>0,'2018'!$F28,"") -> 126
A29: State Wide Totals | B29: =SUM(B5:B28) -> 518.427 | C29: =SUM(C5:C28) -> 800.181 | D29: =SUM(D5:D28) -> 1282.325 | E29: =SUM(E5:E28) -> 2108.3 | F29: =SUM(F5:F28) -> 2532.8 | G29: =SUM(G5:G28) -> 2780.6 | H29: =SUM(H5:H28) -> 3060.2 | I29: =SUM(I5:I28) -> 3285.7 | ... N29: =SUM(N5:N28) -> 1621.3

Sheet 2021
A1: NY 2021 Wind Facilities in the 2022 Gold Book
D3: In-Service | E3: Name Plate | F3: CRIS Sum | G3: 2022 Capability | I3: 2021 Net | J3: Capacity | K3: Annual
A4: Station | B4: Zone | C4: Town | D4: Date | E4: Rating (MW) | F4: Cap. (MW) | G4: Summer | H4: Winter | I4: Energy (GWh) | J4: Factor | K4: Capacity
A5: Altona_Wind_Power | B5: D | C5: Altona | D5: 39714 | E5: 97.5 | F5: 97.5 | G5: 97.5 | H5: 97.5 | I5: 162.5 | J5: =(I5*1000)/(8760*E5) -> 0.19025875 | K5: =E5*8760/1000 -> 854.1 | L5: =E5*8760/1000 -> 854.1
A6: Arkwright_Summit_Wind_Farm | B6: A | C6: Arkwright | D6: 43344 | E6: 78.4 | F6: 78.4 | G6: 78.4 | H6: 78.4 | I6: 233.3 | J6: =(I6*1000)/(8760*E6) -> 0.33969924 | K6: =E6*8760/1000 -> 686.784 | L6: =E6*8760/1000 -> 686.784
A7: Bliss_Wind_Power | B7: A | C7: Bliss | D7: 39527 | E7: 100.5 | F7: 100.5 | G7: 100.5 | H7: 100.5 | I7: 175.5 | J7: =(I7*1000)/(8760*E7) -> 0.19934574 | K7: =E7*8760/1000 -> 880.38 | L7: =E7*8760/1000 -> 880.38
A8: Canandaigua_Wind_Power | B8: C | C8: Avoca | D8: 39787 | E8: 125 | F8: 125 | G8: 125 | H8: 125 | I8: 162.4 | J8: =(I8*1000)/(8760*E8) -> 0.1483105 | K8: =E8*8760/1000 -> 1095 | L8: =E8*8760/1000 -> 1095
A9: Cassadaga_Wind | B9: A | C9: Charlotte | D9: 44287 | E9: 126 | F9: 126 | G9: 0 | H9: 0 | I9: 126.9 | J9: =(I9*1000)/(8760*E9*0.75) -> 0.15329419 | K9: =0.75*E9*8760/1000 -> 827.82 | L9: =0.75*E9*8760/1000 -> 827.82
A10: Chateaugay_Wind_Power | B10: D | C10: Chateaugay | D10: 39728 | E10: 106.5 | F10: 106.5 | G10: 106.5 | H10: 106.5 | I10: 175.3 | J10: =(I10*1000)/(8760*E10) -> 0.18790062 | K10: =E10*8760/1000 -> 932.94 | L10: =E10*8760/1000 -> 932.94
A11: Clinton_Wind_Power | B11: D | C11: Clinton | D11: 39547 | E11: 100.5 | F11: 100.5 | G11: 100.5 | H11: 100.5 | I11: 151.4 | J11: =(I11*1000)/(8760*E11) -> 0.17197119 | K11: =E11*8760/1000 -> 880.38 | L11: =E11*8760/1000 -> 880.38
A12: Copenhagen_Wind_Farm | B12: E | C12: Copenhagen | D12: 43435 | E12: 79.9 | F12: 79.9 | G12: 0 | H12: 0 | I12: 239.8 | J12: =(I12*1000)/(8760*E12) -> 0.34260863 | K12: =E12*8760/1000 -> 699.924 | L12: =E12*8760/1000 -> 699.924
A13: Ellenburg_Wind_Power | B13: D | C13: Ellenburg | D13: 39538 | E13: 81 | F13: 81 | G13: 81 | H13: 81 | I13: 144.9 | J13: =(I13*1000)/(8760*E13) -> 0.20421106 | K13: =E13*8760/1000 -> 709.56 | L13: =E13*8760/1000 -> 709.56
A14: Erie_Wind | B14: A | C14: Lackawanna | D14: 40940 | E14: 15 | F14: 0 | G14: 0 | H14: 0 | I14: 26.1 | J14: =(I14*1000)/(8760*E14) -> 0.19863014 | K14: =E14*8760/1000 -> 131.4 | L14: =E14*8760/1000 -> 131.4
A15: Fenner_Wind_Power | B15: C | C15: Fenner | D15: 37226 | E15: 30 | F15: 0 | G15: 0 | H15: 0 | I15: 73.2 | J15: =(I15*1000)/(8760*E15) -> 0.27853881 | K15: =E15*8760/1000 -> 262.8 | L15: =E15*8760/1000 -> 262.8
A16: Hardscrabble_Wind | B16: E | C16: Fairfield | D16: 40575 | E16: 74 | F16: 74 | G16: 74 | H16: 74 | I16: 159.1 | J16: =(I16*1000)/(8760*E16) -> 0.24543379 | K16: =E16*8760/1000 -> 648.24 | L16: =E16*8760/1000 -> 648.24
A17: High Sheldon Wind Farm | B17: C | C17: Sheldon | D17: 39845 | E17: 118.1 | F17: 112.5 | G17: 112.5 | H17: 118.1 | I17: 222.2 | J17: =(I17*1000)/(8760*E17) -> 0.21477813 | K17: =E17*8760/1000 -> 1034.556 | L17: =E17*8760/1000 -> 1034.556
A18: Howard_Wind | B18: C | C18: Howard | D18: 40878 | E18: 55.4 | F18: 57.4 | G18: 55.4 | H18: 55.4 | I18: 109.3 | J18: =(I18*1000)/(8760*E18) -> 0.22521966 | K18: =E18*8760/1000 -> 485.304 | L18: =E18*8760/1000 -> 485.304
A19: Jericho_Rise_Wind | B19: D | C19: Chateaugay | D19: 42705 | E19: 77.7 | F19: 77.7 | G19: 77.7 | H19: 77.7 | I19: 200.9 | J19: =(I19*1000)/(8760*E19) -> 0.29515817 | K19: =E19*8760/1000 -> 680.652 | L19: =E19*8760/1000 -> 680.652
A20: Madison_Wind_Power | B20: E | C20: Madison | D20: 36770 | E20: 11.6 | F20: 11.5 | G20: 11.5 | H20: 11.6 | I20: 10.3 | J20: =(I20*1000)/(8760*E20) -> 0.10136199 | K20: =E20*8760/1000 -> 101.616 | L20: =E20*8760/1000 -> 101.616
A21: Maple_Ridge_Wind_1 | B21: E | C21: Lowville | D21: 38718 | E21: 231 | F21: 231 | G21: 231 | H21: 231 | I21: 454.2 | J21: =(I21*1000)/(8760*E21) -> 0.22445591 | K21: =E21*8760/1000 -> 2023.56 | L21: =E21*8760/1000 -> 2023.56
... A26: Orangeville_Wind_Farm | B26: C | C26: Orangeville | D26: 41609 | E26: 93.9 | F26: 94.4 | G26: 93.9 | H26: 93.9 | I26: 245.8 | J26: =(I26*1000)/(8760*E26) -> 0.29882173 | K26: =E26*8760/1000 -> 822.564 | L26: =E26*8760/1000 -> 822.564
A27: Roaring_Brook_Wind | B27: E | C27: Martingsburg | D27: 44438 | E27: 79.7 | F27: 79.7 | G27: 0 | H27: 0 | I27: 29.5 | J27: =(I27*1000)/(8760*E27*0.34) -> 0.12427411 | K27: =0.34*E27*8760/1000 -> 237.37848 | L27: =0.34*E27*8760/1000 -> 237.37848
A28: Steel_Wind | B28: A | C28: Lackawanna | D28: 39105 | E28: 20 | F28: 0 | G28: 0 | H28: 0 | I28: 34 | J28: =(I28*1000)/(8760*E28) -> 0.19406393 | K28: =E28*8760/1000 -> 175.2 | L28: =E28*8760/1000 -> 175.2
A29: Western_NY_Wind_Power | B29: B | C29: Wethersfield | D29: 36800 | E29: 6.6 | F29: 0 | G29: 0 | H29: 0 | I29: 1.7 | J29: =(I29*1000)/(8760*E29) -> 0.029403625 | K29: =E29*8760/1000 -> 57.816 | L29: =E29*8760/1000 -> 57.816
A30: Wethersfield_Wind_Power | B30: C | C30: Wethersfield | D30: 39793 | E30: 126 | F30: 126 | G30: 126 | H30: 126 | I30: 227.9 | J30: =(I30*1000)/(8760*E30) -> 0.20647605 | K30: =E30*8760/1000 -> 1103.76 | L30: =E30*8760/1000 -> 1103.76
A31: State Wide Totals | E31: =SUM(E5:E30) -> 2190.9 | F31: =SUM(F5:F30) -> 2099.9 | G31: =SUM(G5:G30) -> 1811.9 | H31: =SUM(H5:H30) -> 1817.6 | I31: =SUM(I5:I30) -> 4110.7 | J31: =I31/K31 -> 0.22273516 | K31: =SUM(K5:K30) -> 18455.55 | L31: =E31*8760/1000 -> 19192.284
D33: 44197 | E33: =E34-E9 -> 1985.2
D34: 44287 | E34: =E35-E27 -> 2111.2
D35: 44438 | E35: =E31 -> 2190.9

Sheet 2020
A1: NY 2020 Wind Facilities in the 2021 Gold Book
D3: In-Service | E3: Name Plate | F3: CRIS Sum | G3: 2021 Capability | I3: 2020 Net | J3: Capacity | K3: Annual
A4: Station | B4: Zone | C4: Town | D4: Date | E4: Rating (MW) | F4: Cap. (MW) | G4: Summer | H4: Winter | I4: Energy (GWh) | J4: Factor | K4: Capacity
A5: Altona_Wind_Power | B5: D | C5: Altona | D5: 39714 | E5: 97.5 | F5: 97.5 | G5: 97.5 | H5: 97.5 | I5: 184.6 | J5: =(I5*1000)/(8760*E5) -> 0.21613394 | K5: =E5*8760/1000 -> 854.1 | L5: =E5*8760/1000 -> 854.1
A6: Arkwright_Summit_Wind_Farm | B6: A | C6: Arkwright | D6: 43344 | E6: 78.4 | F6: 78.4 | G6: 78.4 | H6: 78.4 | I6: 255.8 | J6: =(I6*1000)/(8760*E6) -> 0.37246063 | K6: =E6*8760/1000 -> 686.784 | L6: =E6*8760/1000 -> 686.784
A7: Bliss_Wind_Power | B7: A | C7: Bliss | D7: 39527 | E7: 100.5 | F7: 100.5 | G7: 100.5 | H7: 100.5 | I7: 196.3 | J7: =(I7*1000)/(8760*E7) -> 0.2229719 | K7: =E7*8760/1000 -> 880.38 | L7: =E7*8760/1000 -> 880.38
A8: Canandaigua_Wind_Power | B8: C | C8: Avoca | D8: 39787 | E8: 125 | F8: 125 | G8: 125 | H8: 125 | I8: 66 | J8: =(I8*1000)/(8760*E8) -> 0.060273973 | K8: =E8*8760/1000 -> 1095 | L8: =E8*8760/1000 -> 1095
A9: Chateaugay_Wind_Power | B9: D | C9: Chateaugay | D9: 39728 | E9: 106.5 | F9: 106.5 | G9: 106.5 | H9: 106.5 | I9: 207 | J9: =(I9*1000)/(8760*E9) -> 0.22187922 | K9: =E9*8760/1000 -> 932.94 | L9: =E9*8760/1000 -> 932.94
A10: Clinton_Wind_Power | B10: D | C10: Clinton | D10: 39547 | E10: 100.5 | F10: 100.5 | G10: 100.5 | H10: 100.5 | I10: 175.9 | J10: =(I10*1000)/(8760*E10) -> 0.19980009 | K10: =E10*8760/1000 -> 880.38 | L10: =E10*8760/1000 -> 880.38
A11: Copenhagen_Wind_Farm | B11: E | C11: Copenhagen | D11: 43435 | E11: 79.9 | F11: 79.9 | G11: 0 | H11: 0 | I11: 274.6 | J11: =(I11*1000)/(8760*E11) -> 0.39232831 | K11: =E11*8760/1000 -> 699.924 | L11: =E11*8760/1000 -> 699.924
A12: Ellenburg_Wind_Power | B12: D | C12: Ellenburg | D12: 39538 | E12: 81 | F12: 81 | G12: 81 | H12: 81 | I12: 167.2 | J12: =(I12*1000)/(8760*E12) -> 0.23563899 | K12: =E12*8760/1000 -> 709.56 | L12: =E12*8760/1000 -> 709.56
A13: Erie_Wind | B13: A | C13: Lackawanna | D13: 40940 | E13: 15 | F13: 0 | G13: 0 | H13: 0 | I13: 9.4 | J13: =(I13*1000)/(8760*E13) -> 0.071537291 | K13: =E13*8760/1000 -> 131.4 | L13: =E13*8760/1000 -> 131.4
A14: Fenner_Wind_Power | B14: C | C14: Fenner | D14: 37226 | E14: 30 | F14: 0 | G14: 0 | H14: 0 | I14: 33.1 | J14: =(I14*1000)/(8760*E14) -> 0.12595129 | K14: =E14*8760/1000 -> 262.8 | L14: =E14*8760/1000 -> 262.8
A15: Hardscrabble_Wind | B15: E | C15: Fairfield | D15: 40575 | E15: 74 | F15: 74 | G15: 74 | H15: 74 | I15: 68.8 | J15: =(I15*1000)/(8760*E15) -> 0.10613353 | K15: =E15*8760/1000 -> 648.24 | L15: =E15*8760/1000 -> 648.24
A16: High Sheldon Wind Farm | B16: C | C16: Sheldon | D16: 39845 | E16: 118.1 | F16: 112.5 | G16: 118.1 | H16: 118.1 | I16: 258.7 | J16: =(I16*1000)/(8760*E16) -> 0.25005896 | K16: =E16*8760/1000 -> 1034.556 | L16: =E16*8760/1000 -> 1034.556
... A28: Wethersfield_Wind_Power | B28: C | C28: Wethersfield | D28: 39793 | E28: 126 | F28: 126 | G28: 126 | H28: 126 | I28: 264.7 | J28: =(I28*1000)/(8760*E28) -> 0.23981663 | K28: =E28*8760/1000 -> 1103.76 | L28: =E28*8760/1000 -> 1103.76
A29: State Wide Totals | E29: =SUM(E5:E28) -> 1985.3 | F29: =SUM(F5:F28) -> 1894.2 | G29: =SUM(G5:G28) -> 1817.6 | H29: =SUM(H5:H28) -> 1817.6 | I29: =SUM(I5:I28) -> 4161.9 | J29: =I29/K29 -> 0.2393103 | K29: =SUM(K5:K28) -> 17391.228 | L29: =E29*8760/1000 -> 17391.228

Sheet 2019
A1: NY 2019 Wind Facilities in the 2020 Gold Book
D3: In-Service | E3: Name Plate | F3: CRIS Sum | G3: 2020 Capability | I3: 2019 Net | J3: Capacity | K3: Annual
A4: Station | B4: Zone | C4: Town | D4: Date | E4: Rating (MW) | F4: Cap. (MW) | G4: Summer | H4: Winter | I4: Emergy (GWh) | J4: Factor | K4: Capacity | S4: Check
A5: Altona_Wind_Power | B5: D | C5: Altona | D5: 39714 | E5: 97.5 | F5: 97.5 | G5: 97.5 | H5: 97.5 | I5: 171.5 | J5: =(I5*1000)/(8760*E5) -> 0.20079616 | K5: =E5*8760/1000 -> 854.1 | L5: =E5*8760/1000 -> 854.1 | S5: =IF(I5='2018'!I5,'2018'!I5,"OK") -> OK
A6: Arkwright_Summit_Wind_Farm | B6: A | C6: Arkwright | D6: 43344 | E6: 78.4 | F6: 0 | G6: 0 | H6: 0 | I6: 256.8 | J6: =(I6*1000)/(8760*E6) -> 0.37391669 | K6: =E6*8760/1000 -> 686.784 | L6: =E6*8760/1000 -> 686.784 | S6: =IF(I6='2018'!I6,'2018'!I6,"OK") -> OK
A7: Bliss_Wind_Power | B7: A | C7: Bliss | D7: 39527 | E7: 100.5 | F7: 100.5 | G7: 100.5 | H7: 100.5 | I7: 170.3 | J7: =(I7*1000)/(8760*E7) -> 0.1934392 | K7: =E7*8760/1000 -> 880.38 | L7: =E7*8760/1000 -> 880.38 | S7: =IF(I7='2018'!I7,'2018'!I7,"OK") -> OK
A8: Canandaigua_Wind_Power | B8: C | C8: Avoca | D8: 39787 | E8: 125 | F8: 125 | G8: 125 | H8: 125 | I8: 208.4 | J8: =(I8*1000)/(8760*E8) -> 0.19031963 | K8: =E8*8760/1000 -> 1095 | L8: =E8*8760/1000 -> 1095 | S8: =IF(I8='2018'!I8,'2018'!I8,"OK") -> OK
A9: Chateaugay_Wind_Power | B9: D | C9: Chateaugay | D9: 39728 | E9: 106.5 | F9: 106.5 | G9: 106.5 | H9: 106.5 | I9: 197.1 | J9: =(I9*1000)/(8760*E9) -> 0.21126761 | K9: =E9*8760/1000 -> 932.94 | L9: =E9*8760/1000 -> 932.94 | S9: =IF(I9='2018'!I9,'2018'!I9,"OK") -> OK
A10: Clinton_Wind_Power | B10: D | C10: Clinton | D10: 39547 | E10: 100.5 | F10: 100.5 | G10: 100.5 | H10: 100.5 | I10: 170.3 | J10: =(I10*1000)/(8760*E10) -> 0.1934392 | K10: =E10*8760/1000 -> 880.38 | L10: =E10*8760/1000 -> 880.38 | S10: =IF(I10='2018'!I10,'2018'!I10,"OK") -> OK
A11: Copenhagen_Wind_Farm | B11: E | C11: Copenhagen | D11: 43435 | E11: 79.9 | F11: 79.9 | G11: 0 | H11: 0 | I11: 246.6 | J11: =(I11*1000)/(8760*E11) -> 0.35232397 | K11: =E11*8760/1000 -> 699.924 | L11: =E11*8760/1000 -> 699.924 | S11: =IF(I11='2018'!I11,'2018'!I11,"OK") -> OK
A12: Ellenburg_Wind_Power | B12: D | C12: Ellenburg | D12: 39538 | E12: 81 | F12: 81 | G12: 81 | H12: 81 | I12: 158.1 | J12: =(I12*1000)/(8760*E12) -> 0.22281414 | K12: =E12*8760/1000 -> 709.56 | L12: =E12*8760/1000 -> 709.56 | S12: =IF(I12='2018'!I12,'2018'!I12,"OK") -> OK
A13: Erie_Wind | B13: A | C13: Lackawanna | D13: 40940 | E13: 15 | F13: 0 | G13: 0 | I13: 18.5 | J13: =(I13*1000)/(8760*E13) -> 0.14079148 | K13: =E13*8760/1000 -> 131.4 | L13: =E13*8760/1000 -> 131.4 | S13: =IF(I13='2018'!I13,'2018'!I13,"OK") -> OK
A14: Fenner_Wind_Power | B14: C | C14: Fenner | D14: 37226 | E14: 30 | F14: 0 | G14: 0 | H14: 0 | I14: 72.5 | J14: =(I14*1000)/(8760*E14) -> 0.27587519 | K14: =E14*8760/1000 -> 262.8 | L14: =E14*8760/1000 -> 262.8 | S14: =IF(I14='2018'!I14,'2018'!I14,"OK") -> OK
A15: Hardscrabble_Wind | B15: E | C15: Fairfield | D15: 40575 | E15: 74 | F15: 74 | G15: 74 | H15: 74 | I15: 184.4 | J15: =(I15*1000)/(8760*E15) -> 0.28446254 | K15: =E15*8760/1000 -> 648.24 | L15: =E15*8760/1000 -> 648.24 | S15: =IF(I15='2018'!I15,'2018'!I15,"OK") -> OK
A16: High Sheldon Wind Farm | B16: C | C16: Sheldon | D16: 39845 | E16: 118.1 | F16: 112.5 | G16: 112.5 | H16: 112.5 | I16: 256.3 | J16: =(I16*1000)/(8760*E16) -> 0.24773913 | K16: =E16*8760/1000 -> 1034.556 | L16: =E16*8760/1000 -> 1034.556 | S16: =IF(I16='2018'!I16,'2018'!I16,"OK") -> OK
A17: Howard_Wind | B17: C | C17: Howard | D17: 40878 | E17: 55.4 | F17: 57.4 | G17: 55.4 | H17: 55.4 | I17: 129.1 | J17: =(I17*1000)/(8760*E17) -> 0.26601883 | K17: =E17*8760/1000 -> 485.304 | L17: =E17*8760/1000 -> 485.304 | S17: =IF(I17='2018'!I17,'2018'!I17,"OK") -> OK
A18: Jericho_Rise_Wind | B18: D | C18: Chateaugay | D18: 42705 | E18: 77.7 | F18: 77.7 | G18: 77.7 | H18: 77.7 | I18: 227.5 | J18: =(I18*1000)/(8760*E18) -> 0.33423835 | K18: =E18*8760/1000 -> 680.652 | L18: =E18*8760/1000 -> 680.652 | S18: =IF(I18='2018'!I18,'2018'!I18,"OK") -> OK
A19: Madison_Wind_Power | B19: E | C19: Madison | D19: 36770 | E19: 11.6 | F19: 11.5 | G19: 11.6 | H19: 11.6 | I19: 18.8 | J19: =(I19*1000)/(8760*E19) -> 0.18501023 | K19: =E19*8760/1000 -> 101.616 | L19: =E19*8760/1000 -> 101.616 | S19: =IF(I19='2018'!I19,'2018'!I19,"OK") -> OK
A20: Maple_Ridge_Wind_1 | B20: E | C20: Lowville | D20: 38718 | E20: 231 | F20: 231 | G20: 231 | H20: 231 | I20: 536.2 | J20: =(I20*1000)/(8760*E20) -> 0.26497855 | K20: =E20*8760/1000 -> 2023.56 | L20: =E20*8760/1000 -> 2023.56 | S20: =IF(I20='2018'!I20,'2018'!I20,"OK") -> OK
A21: Maple_Ridge_Wind_2 | B21: E | C21: Lowville | D21: 39417 | E21: 90.7 | F21: 90.7 | G21: 90.7 | H21: 90.8 | I21: 200.8 | J21: =(I21*1000)/(8760*E21) -> 0.25272739 | K21: =E21*8760/1000 -> 794.532 | L21: =E21*8760/1000 -> 794.532 | S21: =IF(I21='2018'!I21,'2018'!I21,"OK") -> OK
A22: Marble_River_Wind | B22: D | C22: Ellenburg | D22: 41091 | E22: 215.2 | F22: 215.2 | G22: 215.2 | H22: 215.2 | I22: 519.8 | J22: =(I22*1000)/(8760*E22) -> 0.27573373 | K22: =E22*8760/1000 -> 1885.152 | L22: =E22*8760/1000 -> 1885.152 | S22: =IF(I22='2018'!I22,'2018'!I22,"OK") -> OK
A23: Marsh Hill Wind Farm | B23: C | C23: Jasper | D23: 41974 | E23: 16.2 | F23: 0 | G23: 0 | H23: 0 | I23: 50.4 | J23: =(I23*1000)/(8760*E23) -> 0.35514967 | K23: =E23*8760/1000 -> 141.912 | L23: =E23*8760/1000 -> 141.912 | S23: =IF(I23='2018'!I23,'2018'!I23,"OK") -> OK
A24: Munnsville_Wind_Power | B24: E | C24: Bouckville | D24: 39314 | E24: 34.5 | F24: 34.5 | G24: 34.5 | H24: 34.5 | I24: 33.8 | J24: =(I24*1000)/(8760*E24) -> 0.11183906 | K24: =E24*8760/1000 -> 302.22 | L24: =E24*8760/1000 -> 302.22 | S24: =IF(I24='2018'!I24,'2018'!I24,"OK") -> OK
A25: Orangeville_Wind_Farm | B25: C | C25: Orangeville | D25: 41609 | E25: 93.9 | F25: 94.4 | G25: 93.9 | H25: 93.9 | I25: 275.6 | J25: =(I25*1000)/(8760*E25) -> 0.33504992 | K25: =E25*8760/1000 -> 822.564 | L25: =E25*8760/1000 -> 822.564 | S25: =IF(I25='2018'!I25,'2018'!I25,"OK") -> OK
... A28: Wethersfield_Wind_Power | B28: C | C28: Wethersfield | D28: 39793 | E28: 126 | F28: 126 | G28: 126 | H28: 126 | I28: 266.6 | J28: =(I28*1000)/(8760*E28) -> 0.24153802 | K28: =E28*8760/1000 -> 1103.76 | L28: =E28*8760/1000 -> 1103.76 | S28: =IF(I28='2018'!I28,'2018'!I28,"OK") -> OK
A29: State Wide Totals | E29: =SUM(E5:E28) -> 1985.2 | F29: =SUM(F5:F28) -> 1822.4 | G29: =SUM(G5:G28) -> 1733.5 | H29: =SUM(H5:H28) -> 1733.6 | I29: =SUM(I5:I28) -> 4399.5 | J29: =I29/K29 -> 0.2529851 | K29: =SUM(K5:K28) -> 17390.352 | L29: =E29*8760/1000 -> 17390.352
A31: Canisteo | E31: 290.7 | I31: 858.7 | J31: =(I31*1000)/(8760*E31) -> 0.3372037
E33: =E29 -> 1985.2 | F33: =E33*8.76 -> 17390.352
E34: 7995
F35: =E34/F33 -> 0.45973768
E38: =I38/(J38*8760) -> 1.9852 | I38: =I29 -> 4399.5 | J38: =J29 -> 0.2529851

Sheet 2018
A1: NY 2018 Wind Facilities in the 2019 Gold Book
D3: In-Service | E3: Name Plate | F3: CRIS Sum | G3: 2019 Capability | I3: 2018 Net | J3: Capacity | K3: Annual
A4: Station | B4: Zone | C4: Town | D4: Date | E4: Rating (MW) | F4: Cap. (MW) | G4: Summer | H4: Winter | I4: Emergy (GWh) | J4: Factor | K4: Capacity
A5: Altona_Wind_Power | B5: D | C5: Altona | D5: 39714 | E5: 97.5 | F5: 97.5 | G5: 97.5 | H5: 97.5 | I5: 168.6 | J5: =(I5*1000)/(8760*E5) -> 0.19740077 | K5: =E5*8760/1000 -> 854.1 | L5: =E5*8760/1000 -> 854.1
A6: Arkwright_Summit_Wind_Farm | B6: A | C6: Arkwright | D6: 43344 | E6: 78.4 | F6: 0 | G6: 0 | H6: 0 | I6: 82 | J6: =(I6*1000)/(24*(30+31+30+31)*E6) -> 0.35721256 | K6: =E6*(30+31+31+30)*24/1000 -> 229.5552 | L6: =E6*8760/1000 -> 686.784
A7: Bliss_Wind_Power | B7: A | C7: Bliss | D7: 39527 | E7: 100.5 | F7: 100.5 | G7: 100.5 | H7: 100.5 | I7: 192.8 | J7: =(I7*1000)/(8760*E7) -> 0.21899634 | K7: =E7*8760/1000 -> 880.38 | L7: =E7*8760/1000 -> 880.38
A8: Canandaigua_Wind_Power | B8: C | C8: Avoca | D8: 39787 | E8: 125 | F8: 125 | G8: 125 | H8: 125 | I8: 245.5 | J8: =(I8*1000)/(8760*E8) -> 0.22420091 | K8: =E8*8760/1000 -> 1095 | L8: =E8*8760/1000 -> 1095 | N8: https://www.dansvilleonline.com/news/20200121/blade-breaks-off-wind-turbine-in-cohocton
A9: Chateaugay_Wind_Power | B9: D | C9: Chateaugay | D9: 39728 | E9: 106.5 | F9: 106.5 | G9: 106.5 | H9: 106.5 | I9: 190.9 | J9: =(I9*1000)/(8760*E9) -> 0.20462195 | K9: =E9*8760/1000 -> 932.94 | L9: =E9*8760/1000 -> 932.94 | N9: https://en.wikipedia.org/wiki/Dutch_Hill/Cohocton_Wind_Farm
A10: Clinton_Wind_Power | B10: D | C10: Clinton | D10: 39547 | E10: 100.5 | F10: 100.5 | G10: 100.5 | H10: 100.5 | I10: 146.9 | J10: =(I10*1000)/(8760*E10) -> 0.16685977 | K10: =E10*8760/1000 -> 880.38 | L10: =E10*8760/1000 -> 880.38
A11: Copenhagen_Wind_Farm | B11: E | C11: Copenhagen | D11: 43435 | E11: 79.9 | F11: 79.9 | G11: 0 | H11: 0 | I11: 8.2 | J11: =(I11*1000)/(24*(31)*E11) -> 0.13794124 | K11: =E11*31*24/1000 -> 59.4456 | L11: =E11*8760/1000 -> 699.924
A12: Ellenburg_Wind_Power | B12: D | C12: Ellenburg | D12: 39538 | E12: 81 | F12: 81 | G12: 81 | H12: 81 | I12: 144 | J12: =(I12*1000)/(8760*E12) -> 0.20294267 | K12: =E12*8760/1000 -> 709.56 | L12: =E12*8760/1000 -> 709.56
A13: Erie_Wind | B13: A | C13: Lackawanna | D13: 40940 | E13: 15 | F13: 0 | G13: 0 | I13: 26.2 | J13: =(I13*1000)/(8760*E13) -> 0.19939117 | K13: =E13*8760/1000 -> 131.4 | L13: =E13*8760/1000 -> 131.4
A14: Fenner_Wind_Power | B14: C | C14: Fenner | D14: 37226 | E14: 30 | F14: 0 | G14: 0 | H14: 0 | I14: 54.5 | J14: =(I14*1000)/(8760*E14) -> 0.20738204 | K14: =E14*8760/1000 -> 262.8 | L14: =E14*8760/1000 -> 262.8
A15: Hardscrabble_Wind | B15: E | C15: Fairfield | D15: 40575 | E15: 74 | F15: 74 | G15: 74 | H15: 74 | I15: 176.8 | J15: =(I15*1000)/(8760*E15) -> 0.27273849 | K15: =E15*8760/1000 -> 648.24 | L15: =E15*8760/1000 -> 648.24
A16: High Sheldon Wind Farm | B16: C | C16: Sheldon | D16: 39845 | E16: 112.5 | F16: 112.5 | G16: 112.5 | H16: 112.5 | I16: 247.7 | J16: =(I16*1000)/(8760*E16) -> 0.2513445 | K16: =E16*8760/1000 -> 985.5 | L16: =E16*8760/1000 -> 985.5
A17: Howard_Wind | B17: C | C17: Howard | D17: 40878 | E17: 57.4 | F17: 57.4 | G17: 57.4 | H17: 57.4 | I17: 125.1 | J17: =(I17*1000)/(8760*E17) -> 0.24879481 | K17: =E17*8760/1000 -> 502.824 | L17: =E17*8760/1000 -> 502.824
A18: Jericho_Rise_Wind | B18: D | C18: Chateaugay | D18: 42705 | E18: 77.7 | F18: 77.7 | G18: 77.7 | H18: 77.7 | I18: 226.1 | J18: =(I18*1000)/(8760*E18) -> 0.3321815 | K18: =E18*8760/1000 -> 680.652 | L18: =E18*8760/1000 -> 680.652
A19: Madison_Wind_Power | B19: E | C19: Madison | D19: 36770 | E19: 11.6 | F19: 11.5 | G19: 11.6 | H19: 11.6 | I19: 18.7 | J19: =(I19*1000)/(8760*E19) -> 0.18402614 | K19: =E19*8760/1000 -> 101.616 | L19: =E19*8760/1000 -> 101.616
A20: Maple_Ridge_Wind_1 | B20: E | C20: Lowville | D20: 38718 | E20: 231 | F20: 231 | G20: 231 | H20: 231 | I20: 536 | J20: =(I20*1000)/(8760*E20) -> 0.26487972 | K20: =E20*8760/1000 -> 2023.56 | L20: =E20*8760/1000 -> 2023.56
A21: Maple_Ridge_Wind_2 | B21: E | C21: Lowville | D21: 39417 | E21: 90.7 | F21: 90.7 | G21: 90.7 | H21: 90.8 | I21: 203.2 | J21: =(I21*1000)/(8760*E21) -> 0.25574804 | K21: =E21*8760/1000 -> 794.532 | L21: =E21*8760/1000 -> 794.532
A22: Marble_River_Wind | B22: D | C22: Ellenburg | D22: 41091 | E22: 215.5 | F22: 0 | G22: 0 | H22: 0 | I22: 488.9 | J22: =(I22*1000)/(8760*E22) -> 0.25898145 | K22: =E22*8760/1000 -> 1887.78 | L22: =E22*8760/1000 -> 1887.78
A23: Marsh Hill Wind Farm | B23: C | C23: Jasper | D23: 41974 | E23: 16.2 | F23: 0 | G23: 0 | H23: 0 | I23: 46.4 | J23: =(I23*1000)/(8760*E23) -> 0.32696319 | K23: =E23*8760/1000 -> 141.912 | L23: =E23*8760/1000 -> 141.912
A24: Munnsville_Wind_Power | B24: E | C24: Bouckville | D24: 39314 | E24: 34.5 | F24: 34.5 | G24: 34.5 | H24: 34.5 | I24: 58.2 | J24: =(I24*1000)/(8760*E24) -> 0.19257495 | K24: =E24*8760/1000 -> 302.22 | L24: =E24*8760/1000 -> 302.22
A25: Orangeville_Wind_Farm | B25: C | C25: Orangeville | D25: 41609 | E25: 93.9 | F25: 88.5 | G25: 93.9 | H25: 93.9 | I25: 289.6 | J25: =(I25*1000)/(8760*E25) -> 0.35206987 | K25: =E25*8760/1000 -> 822.564 | L25: =E25*8760/1000 -> 822.564
... A28: Wethersfield_Wind_Power | B28: C | C28: Wethersfield | D28: 39793 | E28: 126 | F28: 126 | G28: 126 | H28: 126 | I28: 257.3 | J28: =(I28*1000)/(8760*E28) -> 0.23311227 | K28: =E28*8760/1000 -> 1103.76 | L28: =E28*8760/1000 -> 1103.76
A29: State Wide Totals | E29: =SUM(E5:E28) -> 1981.9 | F29: =SUM(F5:F28) -> 1621.3 | G29: =SUM(G5:G28) -> 1540.3 | H29: =SUM(H5:H28) -> 1540.4 | I29: =SUM(I5:I28) -> 3985.1 | J29: =I29/K29 -> 0.24502979 | K29: =SUM(K5:K28) -> 16263.737 | L29: =E29*8760/1000 -> 17361.444
F30: Without new facilities | I30: =I29-I6-I11 -> 3894.9 | J30: =I30/K30 -> 0.24381624 | K30: =K29-K6-K11 -> 15974.736
A31: 2006 Trend | E31: =E14+E19+E20+E27 -> 279.2 | F31: =F14+F19+F20+F27 -> 249.1 | G31: =G14+G19+G20+G27 -> 242.6 | H31: =H14+H19+H20+H27 -> 242.6 | I31: =I14+I19+I20+I27 -> 613.8

Sheet 2017
A1: NY 2017 Wind Facilities in the 2018 Gold Book
D3: In-Service | E3: Name Plate | F3: CRIS Sum | G3: 2018 Capability | I3: 2017 Net | J3: Capacity | K3: Annual
A4: Station | B4: Zone | C4: Town | D4: Date | E4: Rating (MW) | F4: Cap. (MW) | G4: Summer | H4: Winter | I4: Emergy (GWh) | J4: Factor | K4: Capacity
A5: Altona_Wind_Power | B5: D | C5: Altona | D5: 39714 | E5: 97.5 | F5: 97.5 | G5: 97.5 | H5: 97.5 | I5: 175.6 | J5: =(I5*1000)/(8760*E5) -> 0.20559653 | K5: =E5*8760/1000 -> 854.1 | L5: =E5*8760/1000 -> 854.1
A6: Bliss_Wind_Power | B6: A | C6: Bliss | D6: 39527 | E6: 100.5 | F6: 100.5 | G6: 100.5 | H6: 100.5 | I6: 210.4 | J6: =(I6*1000)/(8760*E6) -> 0.23898771 | K6: =E6*8760/1000 -> 880.38 | L6: =E6*8760/1000 -> 880.38
A7: Canandaigua_Wind_Power | B7: C | C7: Avoca | D7: 39787 | E7: 125 | F7: 125 | G7: 125 | H7: 125 | I7: 264.6 | J7: =(I7*1000)/(8760*E7) -> 0.24164384 | K7: =E7*8760/1000 -> 1095 | L7: =E7*8760/1000 -> 1095
A8: Chateaugay_Wind_Power | B8: D | C8: Chateaugay | D8: 39728 | E8: 106.5 | F8: 106.5 | G8: 106.5 | H8: 106.5 | I8: 208.5 | J8: =(I8*1000)/(8760*E8) -> 0.22348704 | K8: =E8*8760/1000 -> 932.94 | L8: =E8*8760/1000 -> 932.94
A9: Clinton_Wind_Power | B9: D | C9: Clinton | D9: 39547 | E9: 100.5 | F9: 100.5 | G9: 100.5 | H9: 100.5 | I9: 170.9 | J9: =(I9*1000)/(8760*E9) -> 0.19412072 | K9: =E9*8760/1000 -> 880.38 | L9: =E9*8760/1000 -> 880.38
A10: Ellenburg_Wind_Power | B10: D | C10: Ellenburg | D10: 39538 | E10: 81 | F10: 81 | G10: 81 | H10: 81 | I10: 173.2 | J10: =(I10*1000)/(8760*E10) -> 0.24409493 | K10: =E10*8760/1000 -> 709.56 | L10: =E10*8760/1000 -> 709.56
A11: Erie_Wind | B11: A | C11: Lackawanna | D11: 40940 | E11: 15 | F11: 0 | G11: 0 | I11: 36.8 | J11: =(I11*1000)/(8760*E11) -> 0.28006088 | K11: =E11*8760/1000 -> 131.4 | L11: =E11*8760/1000 -> 131.4
A12: Fenner_Wind_Power | B12: C | C12: Fenner | D12: 37226 | E12: 30 | F12: 0 | G12: 0 | H12: 0 | I12: 44.4 | J12: =(I12*1000)/(8760*E12) -> 0.16894977 | K12: =E12*8760/1000 -> 262.8 | L12: =E12*8760/1000 -> 262.8
A13: Hardscrabble_Wind | B13: E | C13: Fairfield | D13: 40575 | E13: 74 | F13: 74 | G13: 74 | H13: 74 | I13: 177.6 | J13: =(I13*1000)/(8760*E13) -> 0.2739726 | K13: =E13*8760/1000 -> 648.24 | L13: =E13*8760/1000 -> 648.24
A14: High Sheldon Wind Farm | B14: C | C14: Sheldon | D14: 39845 | E14: 112.5 | F14: 112.5 | G14: 112.5 | H14: 112.5 | I14: 268.4 | J14: =(I14*1000)/(8760*E14) -> 0.27234906 | K14: =E14*8760/1000 -> 985.5 | L14: =E14*8760/1000 -> 985.5
A15: Howard_Wind | B15: C | C15: Howard | D15: 40878 | E15: 57.4 | F15: 57.4 | G15: 57.4 | H15: 57.4 | I15: 133.6 | J15: =(I15*1000)/(8760*E15) -> 0.26569933 | K15: =E15*8760/1000 -> 502.824 | L15: =E15*8760/1000 -> 502.824
A16: Jericho_Rise_Wind | B16: D | C16: Chateaugay | D16: 42705 | E16: 77.7 | F16: 77.7 | G16: 77.7 | H16: 77.7 | I16: 246.3 | J16: =(I16*1000)/(8760*E16) -> 0.36185892 | K16: =E16*8760/1000 -> 680.652 | L16: =E16*8760/1000 -> 680.652
A17: Madison_Wind_Power | B17: E | C17: Madison | D17: 36770 | E17: 11.6 | F17: 11.5 | G17: 11.6 | H17: 11.6 | I17: 20.8 | J17: =(I17*1000)/(8760*E17) -> 0.20469217 | K17: =E17*8760/1000 -> 101.616 | L17: =E17*8760/1000 -> 101.616
A18: Maple_Ridge_Wind_1 | B18: E | C18: Lowville | D18: 38718 | E18: 231 | F18: 231 | G18: 231 | H18: 231 | I18: 570.5 | J18: =(I18*1000)/(8760*E18) -> 0.28192888 | K18: =E18*8760/1000 -> 2023.56 | L18: =E18*8760/1000 -> 2023.56
A19: Maple_Ridge_Wind_2 | B19: E | C19: Lowville | D19: 39417 | E19: 90.7 | F19: 90.7 | G19: 90.7 | H19: 90.8 | I19: 218.6 | J19: =(I19*1000)/(8760*E19) -> 0.27513052 | K19: =E19*8760/1000 -> 794.532 | L19: =E19*8760/1000 -> 794.532
A20: Marble_River_Wind | B20: D | C20: Ellenburg | D20: 41091 | E20: 215.5 | F20: 0 | G20: 0 | H20: 0 | I20: 542.2 | J20: =(I20*1000)/(8760*E20) -> 0.28721567 | K20: =E20*8760/1000 -> 1887.78 | L20: =E20*8760/1000 -> 1887.78
A21: Marsh Hill Wind Farm | B21: C | C21: Jasper | D21: 41974 | E21: 16.2 | F21: 0 | G21: 0 | H21: 0 | I21: 48.8 | J21: =(I21*1000)/(8760*E21) -> 0.34387508 | K21: =E21*8760/1000 -> 141.912 | L21: =E21*8760/1000 -> 141.912
A22: Munnsville_Wind_Power | B22: E | C22: Bouckville | D22: 39314 | E22: 34.5 | F22: 34.5 | G22: 34.5 | H22: 34.5 | I22: 96.7 | J22: =(I22*1000)/(8760*E22) -> 0.31996559 | K22: =E22*8760/1000 -> 302.22 | L22: =E22*8760/1000 -> 302.22
A23: Orangeville_Wind_Farm | B23: C | C23: Orangeville | D23: 41609 | E23: 93.9 | F23: 88.5 | G23: 93.9 | H23: 93.9 | I23: 279.9 | J23: =(I23*1000)/(8760*E23) -> 0.34027747 | K23: =E23*8760/1000 -> 822.564 | L23: =E23*8760/1000 -> 822.564
... A26: Wethersfield_Wind_Power | B26: C | C26: Wethersfield | D26: 39793 | E26: 126 | F26: 126 | G26: 126 | H26: 126 | I26: 272.1 | J26: =(I26*1000)/(8760*E26) -> 0.24652098 | K26: =E26*8760/1000 -> 1103.76 | L26: =E26*8760/1000 -> 1103.76
A27: State Wide Totals | E27: =SUM(E5:E26) -> 1823.6 | F27: =SUM(F5:F26) -> 1541.4 | G27: =SUM(G5:G26) -> 1540.3 | H27: =SUM(H5:H26) -> 1540.4 | I27: =SUM(I5:I26) -> 4218.8 | J27: =I27/K27 -> 0.264092 | K27: =SUM(K5:K26) -> 15974.736 | L27: =E27*8760/1000 -> 15974.736
A29: 2006 Trend | E29: =E12+E17+E18+E25 -> 279.2 | F29: =F12+F17+F18+F25 -> 249.1 | G29: =G12+G17+G18+G25 -> 242.6 | H29: =H12+H17+H18+H25 -> 242.6 | I29: =I12+I17+I18+I25 -> 642.8

Sheet 2016
A1: NY 2016 Wind Facilities in the 2017 Gold Book
D3: In-Service | E3: Name Plate | F3: CRIS Sum | G3: 2017 Capability | I3: 2016 Net | J3: Capacity | K3: Annual
A4: Station | B4: Zone | C4: Town | D4: Date | E4: Rating (MW) | F4: Cap. (MW) | G4: Summer | H4: Winter | I4: Emergy (GWh) | J4: Factor | K4: Capacity
A5: Altona_Wind_Power | B5: D | C5: Altona | D5: 39714 | E5: 97.5 | F5: 97.5 | G5: 97.5 | H5: 97.5 | I5: 170.1 | J5: =(I5*1000)/(8760*E5) -> 0.19915701 | K5: =E5*8760/1000 -> 854.1
A6: Bliss_Wind_Power | B6: A | C6: Bliss | D6: 39527 | E6: 100.5 | F6: 100.5 | G6: 100.5 | H6: 100.5 | I6: 204.4 | J6: =(I6*1000)/(8760*E6) -> 0.23217247 | K6: =E6*8760/1000 -> 880.38
A7: Canandaigua_Wind_Power | B7: C | C7: Avoca | D7: 39787 | E7: 125 | F7: 125 | G7: 125 | H7: 125 | I7: 258.7 | J7: =(I7*1000)/(8760*E7) -> 0.23625571 | K7: =E7*8760/1000 -> 1095
A8: Chateaugay_Wind_Power | B8: D | C8: Chateaugay | D8: 39728 | E8: 106.5 | F8: 106.5 | G8: 106.5 | H8: 106.5 | I8: 209.6 | J8: =(I8*1000)/(8760*E8) -> 0.22466611 | K8: =E8*8760/1000 -> 932.94
A9: Clinton_Wind_Power | B9: D | C9: Clinton | D9: 39547 | E9: 100.5 | F9: 100.5 | G9: 100.5 | H9: 100.5 | I9: 175.1 | J9: =(I9*1000)/(8760*E9) -> 0.19889139 | K9: =E9*8760/1000 -> 880.38
A10: Ellenburg_Wind_Power | B10: D | C10: Ellenburg | D10: 39538 | E10: 81 | F10: 81 | G10: 81 | H10: 81 | I10: 168.8 | J10: =(I10*1000)/(8760*E10) -> 0.23789391 | K10: =E10*8760/1000 -> 709.56
A11: Erie_Wind | B11: A | C11: Lackawanna | D11: 40940 | E11: 15 | F11: 0 | G11: 0 | I11: 38.1 | J11: =(I11*1000)/(8760*E11) -> 0.28995434 | K11: =E11*8760/1000 -> 131.4
A12: Fenner_Wind_Power | B12: C | C12: Fenner | D12: 37226 | E12: 30 | F12: 0 | G12: 0 | H12: 0 | I12: 62.4 | J12: =(I12*1000)/(8760*E12) -> 0.23744292 | K12: =E12*8760/1000 -> 262.8
A13: Hardscrabble_Wind | B13: E | C13: Fairfield | D13: 40575 | E13: 74 | F13: 74 | G13: 74 | H13: 74 | I13: 182 | J13: =(I13*1000)/(8760*E13) -> 0.28076021 | K13: =E13*8760/1000 -> 648.24
A14: High Sheldon Wind Farm | B14: C | C14: Sheldon | D14: 39845 | E14: 112.5 | F14: 112.5 | G14: 112.5 | H14: 112.5 | I14: 267.6 | J14: =(I14*1000)/(8760*E14) -> 0.27153729 | K14: =E14*8760/1000 -> 985.5
A15: Howard_Wind | B15: C | C15: Howard | D15: 40878 | E15: 57.4 | F15: 57.4 | G15: 57.4 | H15: 57.4 | I15: 133.8 | J15: =(I15*1000)/(8760*E15) -> 0.26609708 | K15: =E15*8760/1000 -> 502.824
A16: Jericho_Rise_Wind | B16: D | C16: Chateaugay | D16: 42705 | E16: 77.7 | F16: 77.7 | G16: 77.7 | H16: 77.7 | I16: 15.3 | J16: =(I16*1000*12)/(8760*E16) -> 0.26974137 | K16: =E16*31*24/1000 -> 57.8088
A17: Madison_Wind_Power | B17: E | C17: Madison | D17: 36770 | E17: 11.6 | F17: 11.5 | G17: 11.6 | H17: 11.6 | I17: 20 | J17: =(I17*1000)/(8760*E17) -> 0.1968194 | K17: =E17*8760/1000 -> 101.616
A18: Maple_Ridge_Wind_1 | B18: E | C18: Lowville | D18: 38718 | E18: 231 | F18: 231 | G18: 231 | H18: 231 | I18: 554.9 | J18: =(I18*1000)/(8760*E18) -> 0.27421969 | K18: =E18*8760/1000 -> 2023.56
A19: Maple_Ridge_Wind_2 | B19: E | C19: Lowville | D19: 39417 | E19: 90.7 | F19: 90.7 | G19: 90.7 | H19: 90.8 | I19: 212 | J19: =(I19*1000)/(8760*E19) -> 0.26682374 | K19: =E19*8760/1000 -> 794.532
A20: Marble_River_Wind | B20: D | C20: Ellenburg | D20: 41091 | E20: 215.5 | F20: 0 | G20: 0 | H20: 0 | I20: 523.6 | J20: =(I20*1000)/(8760*E20) -> 0.27736283 | K20: =E20*8760/1000 -> 1887.78
A21: Marsh Hill Wind Farm | B21: C | C21: Jasper | D21: 41974 | E21: 16.2 | F21: 0 | G21: 0 | H21: 0 | I21: 55 | J21: =(I21*1000)/(8760*E21) -> 0.38756412 | K21: =E21*8760/1000 -> 141.912
A22: Munnsville_Wind_Power | B22: E | C22: Bouckville | D22: 39314 | E22: 34.5 | F22: 34.5 | G22: 34.5 | H22: 34.5 | I22: 93.9 | J22: =(I22*1000)/(8760*E22) -> 0.31070081 | K22: =E22*8760/1000 -> 302.22
A23: Orangeville_Wind_Farm | B23: C | C23: Orangeville | D23: 41609 | E23: 93.9 | F23: 88.5 | G23: 93.9 | H23: 93.9 | I23: 265 | J23: =(I23*1000)/(8760*E23) -> 0.32216338 | K23: =E23*8760/1000 -> 822.564
A24: Steel_Wind | B24: A | C24: Lackawanna | D24: 39105 | E24: 20 | F24: 20 | G24: 20 | H24: 20 | I24: 55.7 | J24: =(I24*1000)/(8760*E24) -> 0.31792237 | K24: =E24*8760/1000 -> 175.2
A25: Western_NY_Wind_Power | B25: B | C25: Wethersfield | D25: 36800 | E25: 6.6 | F25: 6.6 | G25: 0 | H25: 0 | I25: 12.5 | J25: =(I25*1000)/(8760*E25) -> 0.21620313 | K25: =E25*8760/1000 -> 57.816
A26: Wethersfield_Wind_Power | B26: C | C26: Wethersfield | D26: 39793 | E26: 126 | F26: 126 | G26: 126 | H26: 126 | I26: 264.8 | J26: =(I26*1000)/(8760*E26) -> 0.23990723 | K26: =E26*8760/1000 -> 1103.76
A27: State Wide Totals | E27: =SUM(E5:E26) -> 1823.6 | F27: =SUM(F5:F26) -> 1541.4 | G27: =SUM(G5:G26) -> 1540.3 | H27: =SUM(H5:H26) -> 1540.4 | I27: =SUM(I5:I26) -> 3943.3 | J27: =I27/K27 -> 0.25686083 | K27: =SUM(K5:K26) -> 15351.893
A29: 2006 Trend | E29: =E12+E17+E18+E25 -> 279.2 | F29: =F12+F17+F18+F25 -> 249.1 | G29: =G12+G17+G18+G25 -> 242.6 | H29: =H12+H17+H18+H25 -> 242.6 | I29: =I12+I17+I18+I25 -> 649.8

Sheet 2015
A1: NY 2015 Wind Facilities in the 2016 Gold Book
D3: In-Service | E3: Name Plate | F3: CRIS Sum | G3: 2016 Capability | I3: 2015 Net | J3: Capacity | K3: Annual
A4: Station | B4: Zone | C4: Town | D4: Date | E4: Rating (MW) | F4: Cap. (MW) | G4: Summer | H4: Winter | I4: Emergy (GWh) | J4: Factor | K4: Capacity
A5: Altona_Wind_Power | B5: D | C5: Altona | D5: 39714 | E5: 97.5 | F5: 97.5 | G5: 97.5 | H5: 97.5 | I5: 170.1 | J5: =(I5*1000)/(8760*E5) -> 0.19915701 | K5: =E5*8760/1000 -> 854.1
A6: Bliss_Wind_Power | B6: A | C6: Bliss | D6: 39527 | E6: 100.5 | F6: 100.5 | G6: 100.5 | H6: 100.5 | I6: 205.3 | J6: =(I6*1000)/(8760*E6) -> 0.23319476 | K6: =E6*8760/1000 -> 880.38
A7: Canandaigua_Wind_Power | B7: C | C7: Avoca | D7: 39787 | E7: 125 | F7: 125 | G7: 125 | H7: 125 | I7: 261 | J7: =(I7*1000)/(8760*E7) -> 0.23835616 | K7: =E7*8760/1000 -> 1095
A8: Chateaugay_Wind_Power | B8: D | C8: Chateaugay | D8: 39728 | E8: 106.5 | F8: 106.5 | G8: 106.5 | H8: 106.5 | I8: 211.4 | J8: =(I8*1000)/(8760*E8) -> 0.22659549 | K8: =E8*8760/1000 -> 932.94
A9: Clinton_Wind_Power | B9: D | C9: Clinton | D9: 39547 | E9: 100.5 | F9: 100.5 | G9: 100.5 | H9: 100.5 | I9: 174.9 | J9: =(I9*1000)/(8760*E9) -> 0.19866421 | K9: =E9*8760/1000 -> 880.38
A10: Ellenburg_Wind_Power | B10: D | C10: Ellenburg | D10: 39538 | E10: 81 | F10: 81 | G10: 81 | H10: 81 | I10: 173.5 | J10: =(I10*1000)/(8760*E10) -> 0.24451773 | K10: =E10*8760/1000 -> 709.56
A11: Erie_Wind | B11: A | C11: Lackawanna | D11: 40940 | E11: 15 | F11: 0 | G11: 0 | I11: 38 | J11: =(I11*1000)/(8760*E11) -> 0.2891933 | K11: =E11*8760/1000 -> 131.4
A12: Fenner_Wind_Power | B12: C | C12: Fenner | D12: 37226 | E12: 30 | F12: 30 | G12: 0 | H12: 0 | I12: 67.4 | J12: =(I12*1000)/(8760*E12) -> 0.2564688 | K12: =E12*8760/1000 -> 262.8
A13: Hardscrabble_Wind | B13: E | C13: Fairfield | D13: 40575 | E13: 74 | F13: 74 | G13: 74 | H13: 74 | I13: 183.5 | J13: =(I13*1000)/(8760*E13) -> 0.28307417 | K13: =E13*8760/1000 -> 648.24
A14: High Sheldon Wind Farm | B14: C | C14: Sheldon | D14: 39845 | E14: 112.5 | F14: 112.5 | G14: 112.5 | H14: 112.5 | I14: 258.4 | J14: =(I14*1000)/(8760*E14) -> 0.26220193 | K14: =E14*8760/1000 -> 985.5
A15: Howard_Wind | B15: C | C15: Howard | D15: 40878 | E15: 57.4 | F15: 57.4 | G15: 57.4 | H15: 57.4 | I15: 128.9 | J15: =(I15*1000)/(8760*E15) -> 0.25635212 | K15: =E15*8760/1000 -> 502.824
A16: Madison_Wind_Power | B16: E | C16: Madison | D16: 36770 | E16: 11.6 | F16: 11.5 | G16: 11.6 | H16: 11.6 | I16: 19.7 | J16: =(I16*1000)/(8760*E16) -> 0.19386711 | K16: =E16*8760/1000 -> 101.616
A17: Maple_Ridge_Wind_1 | B17: E | C17: Lowville | D17: 38718 | E17: 231 | F17: 231 | G17: 231 | H17: 231 | I17: 568.4 | J17: =(I17*1000)/(8760*E17) -> 0.2808911 | K17: =E17*8760/1000 -> 2023.56
A18: Maple_Ridge_Wind_2 | B18: E | C18: Lowville | D18: 39417 | E18: 90.7 | F18: 90.7 | G18: 90.7 | H18: 90.8 | I18: 217 | J18: =(I18*1000)/(8760*E18) -> 0.27311675 | K18: =E18*8760/1000 -> 794.532
A19: Marble_River_Wind | B19: D | C19: Ellenburg | D19: 41091 | E19: 215.5 | F19: 0 | G19: 0 | H19: 0 | I19: 543.4 | J19: =(I19*1000)/(8760*E19) -> 0.28785134 | K19: =E19*8760/1000 -> 1887.78
A20: Marsh Hill Wind Farm | B20: C | C20: Jasper | D20: 41974 | E20: 162 | F20: 0 | G20: 0 | H20: 0 | I20: 56.3 | J20: =(I20*1000*12)/(8760*E20) -> 0.47606968 | K20: =E20*24*31/1000 -> 120.528
A21: Munnsville_Wind_Power | B21: E | C21: Bouckville | D21: 39314 | E21: 34.5 | F21: 34.5 | G21: 34.5 | H21: 34.5 | I21: 91.3 | J21: =(I21*1000)/(8760*E21) -> 0.30209781 | K21: =24*153*E21/1000 -> 126.684
A22: Orangeville_Wind_Farm | B22: C | C22: Orangeville | D22: 41609 | E22: 93.9 | F22: 88.5 | G22: 93.9 | H22: 93.9 | I22: 286.9 | J22: =(I22*1000)/(8760*E22) -> 0.34878745 | K22: =E22*31*24/1000 -> 69.8616
A23: Steel_Wind | B23: A | C23: Lackawanna | D23: 39105 | E23: 20 | F23: 20 | G23: 20 | H23: 20 | I23: 50.6 | J23: =(I23*1000)/(8760*E23) -> 0.28881279 | K23: =E23*8760/1000 -> 175.2
A24: Western_NY_Wind_Power | B24: B | C24: Wethersfield | D24: 36800 | E24: 6.6 | F24: 6.6 | G24: 0 | H24: 0 | I24: 13.6 | J24: =(I24*1000)/(8760*E24) -> 0.235229 | K24: =E24*8760/1000 -> 57.816
A25: Wethersfield_Wind_Power | B25: C | C25: Wethersfield | D25: 39793 | E25: 126 | F25: 126 | G25: 126 | H25: 126 | I25: 264.2 | J25: =(I25*1000)/(8760*E25) -> 0.23936363 | K25: =E25*8760/1000 -> 1103.76
A26: State Wide Totals | E26: =SUM(E5:E25) -> 1891.7 | F26: =SUM(F5:F25) -> 1493.7 | G26: =SUM(G5:G25) -> 1462.6 | H26: =SUM(H5:H25) -> 1462.7 | I26: =SUM(I5:I25) -> 3983.8 | J26: =I26/K26 -> 0.27772391 | K26: =SUM(K5:K25) -> 14344.462
A29: 2006 Trend | E29: =E12+E16+E17+E24 -> 279.2 | F29: =F12+F16+F17+F24 -> 279.1 | G29: =G12+G16+G17+G24 -> 242.6 | H29: =H12+H16+H17+H24 -> 242.6 | I29: =I12+I16+I17+I24 -> 669.1

Sheet 2014
A1: NY 2014 Wind Facilities in the 2015 Gold Book
D3: In-Service | E3: Name Plate | F3: CRIS Sum | G3: 2015 Capability | I3: 2014 Net | J3: Capacity | K3: Annual
A4: Station | B4: Zone | C4: Town | D4: Date | E4: Rating (MW) | F4: Cap. (MW) | G4: Summer | H4: Winter | I4: Emergy (GWh) | J4: Factor | K4: Capacity
A5: Altona_Wind_Power | B5: D | C5: Altona | D5: 39714 | E5: 97.5 | F5: 97.5 | G5: 97.5 | H5: 97.5 | I5: 186.4 | J5: =(I5*1000)/(8760*E5) -> 0.21824142 | K5: =E5*8760/1000 -> 854.1
A6: Bliss_Wind_Power | B6: A | C6: Bliss | D6: 39527 | E6: 100.5 | F6: 100.5 | G6: 100.5 | H6: 100.5 | I6: 206.6 | J6: =(I6*1000)/(8760*E6) -> 0.23467139 | K6: =E6*8760/1000 -> 880.38
A7: Canandaigua_Wind_Power | B7: C | C7: Avoca | D7: 39787 | E7: 125 | F7: 125 | G7: 125 | H7: 125 | I7: 259.5 | J7: =(I7*1000)/(8760*E7) -> 0.2369863 | K7: =E7*8760/1000 -> 1095
A8: Chateaugay_Wind_Power | B8: D | C8: Chateaugay | D8: 39728 | E8: 106.5 | F8: 106.5 | G8: 106.5 | H8: 106.5 | I8: 200.5 | J8: =(I8*1000)/(8760*E8) -> 0.214912 | K8: =E8*8760/1000 -> 932.94
A9: Clinton_Wind_Power | B9: D | C9: Clinton | D9: 39547 | E9: 100.5 | F9: 100.5 | G9: 100.5 | H9: 100.5 | I9: 186.2 | J9: =(I9*1000)/(8760*E9) -> 0.21149958 | K9: =E9*8760/1000 -> 880.38
A10: Ellenburg_Wind_Power | B10: D | C10: Ellenburg | D10: 39538 | E10: 81 | F10: 81 | G10: 81 | H10: 81 | I10: 176.6 | J10: =(I10*1000)/(8760*E10) -> 0.24888663 | K10: =E10*8760/1000 -> 709.56
A11: Erie_Wind | B11: A | C11: Lackawanna | D11: 40940 | E11: 15 | F11: 0 | G11: 0 | I11: 39.3 | J11: =(I11*1000)/(8760*E11) -> 0.29908676 | K11: =E11*8760/1000 -> 131.4
A12: Fenner_Wind_Power | B12: C | C12: Fenner | D12: 37226 | E12: 30 | F12: 30 | G12: 0 | H12: 0 | I12: 66.8 | J12: =(I12*1000)/(8760*E12) -> 0.25418569 | K12: =E12*8760/1000 -> 262.8
A13: Hardscrabble_Wind | B13: E | C13: Fairfield | D13: 40575 | E13: 74 | F13: 74 | G13: 74 | H13: 74 | I13: 184.3 | J13: =(I13*1000)/(8760*E13) -> 0.28430828 | K13: =E13*8760/1000 -> 648.24
A14: High Sheldon Wind Farm | B14: C | C14: Sheldon | D14: 39845 | E14: 112.5 | F14: 112.5 | G14: 112.5 | H14: 112.5 | I14: 270.7 | J14: =(I14*1000)/(8760*E14) -> 0.2746829 | K14: =E14*8760/1000 -> 985.5
A15: Howard_Wind | B15: C | C15: Howard | D15: 40878 | E15: 57.4 | F15: 57.4 | G15: 57.4 | H15: 57.4 | I15: 133 | J15: =(I15*1000)/(8760*E15) -> 0.26450607 | K15: =E15*8760/1000 -> 502.824
A16: Madison_Wind_Power | B16: E | C16: Madison | D16: 36770 | E16: 11.6 | F16: 11.5 | G16: 11.6 | H16: 11.6 | I16: 21 | J16: =(I16*1000)/(8760*E16) -> 0.20666037 | K16: =E16*8760/1000 -> 101.616
A17: Maple_Ridge_Wind_1 | B17: E | C17: Lowville | D17: 38718 | E17: 231 | F17: 231 | G17: 231 | H17: 231 | I17: 587.4 | J17: =(I17*1000)/(8760*E17) -> 0.2902805 | K17: =E17*8760/1000 -> 2023.56
A18: Maple_Ridge_Wind_2 | B18: E | C18: Lowville | D18: 39417 | E18: 90.7 | F18: 90.7 | G18: 90.7 | H18: 90.8 | I18: 225.8 | J18: =(I18*1000)/(8760*E18) -> 0.28419246 | K18: =E18*8760/1000 -> 794.532
A19: Marble_River_Wind | B19: D | C19: Ellenburg | D19: 41091 | E19: 215.5 | F19: 0 | G19: 0 | H19: 0 | I19: 539.2 | J19: =(I19*1000)/(8760*E19) -> 0.2856265 | K19: =E19*8760/1000 -> 1887.78
A20: Marsh Hill Wind Farm | B20: C | C20: Jasper | D20: 41974 | E20: 162 | F20: 0 | G20: 0 | H20: 0 | I20: 8 | J20: =(I20*1000)/(8760*E20) -> 0.0056372964 | K20: 0
A21: Munnsville_Wind_Power | B21: E | C21: Bouckville | D21: 39314 | E21: 34.5 | F21: 34.5 | G21: 34.5 | H21: 34.5 | I21: 96 | J21: =(I21*1000)/(8760*E21) -> 0.31764939 | K21: =24*153*E21/1000 -> 126.684
A22: Orangeville_Wind_Farm | B22: C | C22: Orangeville | D22: 41609 | E22: 93.9 | F22: 88.5 | G22: 93.9 | H22: 93.9 | I22: 274.1 | J22: =(I22*1000)/(8760*E22) -> 0.33322635 | K22: =E22*31*24/1000 -> 69.8616
A23: Steel_Wind | B23: A | C23: Lackawanna | D23: 39105 | E23: 20 | F23: 20 | G23: 20 | H23: 20 | I23: 46.6 | J23: =(I23*1000)/(8760*E23) -> 0.26598174 | K23: =E23*8760/1000 -> 175.2
A24: Western_NY_Wind_Power | B24: B | C24: Wethersfield | D24: 36800 | E24: 6.6 | F24: 6.6 | G24: 0 | H24: 0 | I24: 9.3 | J24: =(I24*1000)/(8760*E24) -> 0.16085513 | K24: =E24*8760/1000 -> 57.816
A25: Wethersfield_Wind_Power | B25: C | C25: Wethersfield | D25: 39793 | E25: 126 | F25: 126 | G25: 126 | H25: 126 | I25: 267.8 | J25: =(I25*1000)/(8760*E25) -> 0.24262521 | K25: =E25*8760/1000 -> 1103.76
A26: State Wide Totals | E26: =SUM(E5:E25) -> 1891.7 | F26: =SUM(F5:F25) -> 1493.7 | G26: =SUM(G5:G25) -> 1462.6 | H26: =SUM(H5:H25) -> 1462.7 | I26: =SUM(I5:I25) -> 3985.1 | J26: =I26/K26 -> 0.28016863 | K26: =SUM(K5:K25) -> 14223.934
A29: 2006 Trend | E29: =E12+E16+E17+E24 -> 279.2 | F29: =F12+F16+F17+F24 -> 279.1 | G29: =G12+G16+G17+G24 -> 242.6 | H29: =H12+H16+H17+H24 -> 242.6 | I29: =I12+I16+I17+I24 -> 684.5

Sheet 2013
A1: NY 2013 Wind Facilities in the 2014 Gold Book
D3: In-Service | E3: Name Plate | F3: CRIS Sum | G3: 2013 Capability | I3: 2012 Net | J3: Capacity | K3: Annual
A4: Station | B4: Zone | C4: Town | D4: Date | E4: Rating (MW) | F4: Cap. (MW) | G4: Summer | H4: Winter | I4: Emergy (GWh) | J4: Factor | K4: Capacity
A5: Altona_Wind_Power | B5: D | C5: Altona | D5: 39714 | E5: 97.5 | F5: 97.5 | G5: 97.5 | H5: 97.5 | I5: 162.1 | J5: =(I5*1000)/(8760*E5) -> 0.18979042 | K5: =E5*8760/1000 -> 854.1
A6: Bliss_Wind_Power | B6: A | C6: Bliss | D6: 39527 | E6: 100.5 | F6: 100.5 | G6: 100.5 | H6: 100.5 | I6: 204.6 | J6: =(I6*1000)/(8760*E6) -> 0.23239965 | K6: =E6*8760/1000 -> 880.38
A7: Canandaigua_Wind_Power | B7: C | C7: Avoca | D7: 39787 | E7: 125 | F7: 125 | G7: 125 | H7: 125 | I7: 240.9 | J7: =(I7*1000)/(8760*E7) -> 0.22 | K7: =E7*8760/1000 -> 1095
A8: Chateaugay_Wind_Power | B8: D | C8: Chateaugay | D8: 39728 | E8: 106.5 | F8: 106.5 | G8: 106.5 | H8: 106.5 | I8: 188.5 | J8: =(I8*1000)/(8760*E8) -> 0.20204944 | K8: =E8*8760/1000 -> 932.94
A9: Clinton_Wind_Power | B9: D | C9: Clinton | D9: 39547 | E9: 100.5 | F9: 100.5 | G9: 100.5 | H9: 100.5 | I9: 176.3 | J9: =(I9*1000)/(8760*E9) -> 0.20025444 | K9: =E9*8760/1000 -> 880.38
A10: Ellenburg_Wind_Power | B10: D | C10: Ellenburg | D10: 39538 | E10: 81 | F10: 81 | G10: 81 | H10: 81 | I10: 164.4 | J10: =(I10*1000)/(8760*E10) -> 0.23169288 | K10: =E10*8760/1000 -> 709.56
A11: Erie_Wind | B11: A | C11: Lackawanna | D11: 40940 | E11: 15 | F11: 0 | G11: 0 | I11: 41.4 | J11: =(I11*1000)/(8760*E11) -> 0.31506849 | K11: =E11*8760/1000 -> 131.4
A12: Fenner_Wind_Power | B12: C | C12: Fenner | D12: 37226 | E12: 30 | F12: 30 | G12: 0 | H12: 0 | I12: 68.3 | J12: =(I12*1000)/(8760*E12) -> 0.25989346 | K12: =E12*8760/1000 -> 262.8
A13: Hardscrabble_Wind | B13: E | C13: Fairfield | D13: 40575 | E13: 74 | F13: 74 | G13: 74 | H13: 74 | I13: 181.1 | J13: =(I13*1000)/(8760*E13) -> 0.27937184 | K13: =E13*8760/1000 -> 648.24
A14: High Sheldon Wind Farm | B14: C | C14: Sheldon | D14: 39845 | E14: 112.5 | F14: 112.5 | G14: 112.5 | H14: 112.5 | I14: 267.5 | J14: =(I14*1000)/(8760*E14) -> 0.27143582 | K14: =E14*8760/1000 -> 985.5
A15: Howard_Wind | B15: C | C15: Howard | D15: 40878 | E15: 57.4 | F15: 57.4 | G15: 57.4 | H15: 57.4 | I15: 134.1 | J15: =(I15*1000)/(8760*E15) -> 0.26669371 | K15: =E15*8760/1000 -> 502.824
A16: Madison_Wind_Power | B16: E | C16: Madison | D16: 36770 | E16: 11.6 | F16: 11.5 | G16: 11.6 | H16: 11.6 | I16: 20.5 | J16: =(I16*1000)/(8760*E16) -> 0.20173988 | K16: =E16*8760/1000 -> 101.616
A17: Maple_Ridge_Wind_1 | B17: E | C17: Lowville | D17: 38718 | E17: 231 | F17: 231 | G17: 231 | H17: 231 | I17: 544.6 | J17: =(I17*1000)/(8760*E17) -> 0.26912965 | K17: =E17*8760/1000 -> 2023.56
A18: Maple_Ridge_Wind_2 | B18: E | C18: Lowville | D18: 39417 | E18: 90.7 | F18: 90.7 | G18: 90.7 | H18: 90.7 | I18: 209.2 | J18: =(I18*1000)/(8760*E18) -> 0.26329965 | K18: =E18*8760/1000 -> 794.532
A19: Marble_River_Wind | B19: D | C19: Ellenburg | D19: 41091 | E19: 215.5 | F19: 0 | G19: 0 | H19: 0 | I19: 513 | J19: =(I19*1000)/(8760*E19) -> 0.27174777 | K19: =E19*8760/1000 -> 1887.78
A20: Marsh Hill Wind Farm | B20: C | C20: Jasper | D20: 41974
A21: Munnsville_Wind_Power | B21: E | C21: Bouckville | D21: 39314 | E21: 34.5 | F21: 34.5 | G21: 34.5 | H21: 34.5 | I21: 89.5 | J21: =(I21*1000)/(8760*E21) -> 0.29614188 | K21: =24*153*E21/1000 -> 126.684
A22: Orangeville_Wind_Farm | B22: C | C22: Orangeville | D22: 41609 | E22: 93.9 | F22: 88.5 | G22: 93.9 | H22: 93.9 | I22: 8.3 | J22: =(I22*1000)/(31*24*E22) -> 0.11880633 | L22: Unit produced power 12/13
A23: Steel_Wind | B23: A | C23: Lackawanna | D23: 39105 | E23: 20 | F23: 20 | G23: 20 | H23: 20 | I23: 53.5 | J23: =(I23*1000)/(8760*E23) -> 0.3053653 | K23: =E23*8760/1000 -> 175.2
A24: Western_NY_Wind_Power | B24: B | C24: Wethersfield | D24: 36800 | E24: 6.6 | F24: 0 | G24: 0 | H24: 0 | I24: 9.6 | J24: =(I24*1000)/(8760*E24) -> 0.166044 | K24: =E24*8760/1000 -> 57.816
A25: Wethersfield_Wind_Power | B25: C | C25: Wethersfield | D25: 39793 | E25: 126 | F25: 126 | G25: 126 | H25: 126 | I25: 263.4 | J25: =(I25*1000)/(8760*E25) -> 0.23863883 | K25: =E25*8760/1000 -> 1103.76
A26: State Wide Totals | E26: =SUM(E5:E25) -> 1729.7 | F26: =SUM(F5:F25) -> 1487.1 | G26: =SUM(G5:G25) -> 1462.6 | H26: =SUM(H5:H25) -> 1462.6 | I26: =SUM(I5:I25) -> 3540.8 | J26: =I26/K26 -> 0.25016123 | K26: =SUM(K5:K25) -> 14154.072
A29: 2006 Trend | E29: =E12+E16+E17+E24 -> 279.2 | F29: =F12+F16+F17+F24 -> 272.5 | G29: =G12+G16+G17+G24 -> 242.6 | H29: =H12+H16+H17+H24 -> 242.6 | I29: =I12+I16+I17+I24 -> 643

Sheet 2012
A1: NY 2012 Wind Facilities in the 2013 Gold Book
D3: In-Service | E3: Name Plate | F3: CRIS Sum | G3: 2013 Capability | I3: 2012 Net | J3: Capacity | K3: Annual
A4: Station | B4: Zone | C4: Town | D4: Date | E4: Rating (MW) | F4: Cap. (MW) | G4: Summer | H4: Winter | I4: Emergy (GWh) | J4: Factor | K4: Capacity
A5: Altona_Wind_Power | B5: D | C5: Altona | D5: 39714 | E5: 97.5 | F5: 97.5 | G5: 97.5 | H5: 97.5 | I5: 172.5 | J5: =(I5*1000)/(8760*E5) -> 0.20196698 | K5: =E5*8760/1000 -> 854.1
A6: Bliss_Wind_Power | B6: A | C6: Bliss | D6: 39527 | E6: 100.5 | F6: 100.5 | G6: 100.5 | H6: 100.5 | I6: 205 | J6: =(I6*1000)/(8760*E6) -> 0.23285399 | K6: =E6*8760/1000 -> 880.38
A7: Canandaigua_Wind_Power | B7: C | C7: Avoca | D7: 39787 | E7: 125 | F7: 125 | G7: 125 | H7: 125 | I7: 247 | J7: =(I7*1000)/(8760*E7) -> 0.22557078 | K7: =E7*8760/1000 -> 1095
A8: Chateaugay_Wind_Power | B8: D | C8: Chateaugay | D8: 39728 | E8: 106.5 | F8: 106.5 | G8: 106.5 | H8: 106.5 | I8: 191.8 | J8: =(I8*1000)/(8760*E8) -> 0.20558664 | K8: =E8*8760/1000 -> 932.94
A9: Clinton_Wind_Power | B9: D | C9: Clinton | D9: 39547 | E9: 100.5 | F9: 100.5 | G9: 100.5 | H9: 100.5 | I9: 167.5 | J9: =(I9*1000)/(8760*E9) -> 0.19025875 | K9: =E9*8760/1000 -> 880.38
A10: Ellenburg_Wind_Power | B10: D | C10: Ellenburg | D10: 39538 | E10: 81 | F10: 81 | G10: 81 | H10: 81 | I10: 157.8 | J10: =(I10*1000)/(8760*E10) -> 0.22239134 | K10: =E10*8760/1000 -> 709.56
A11: Erie_Wind | B11: A | C11: Lackawanna | D11: 40940 | E11: 15 | F11: 0 | G11: 0 | H11: 0 | I11: 33.3 | J11: =(I11*1000)/(8760*E11) -> 0.25342466 | K11: =E11*8760/1000 -> 131.4
A12: Fenner_Wind_Power | B12: C | C12: Fenner | D12: 37226 | E12: 30 | F12: 30 | G12: 0 | H12: 0 | I12: 59 | J12: =(I12*1000)/(8760*E12) -> 0.22450533 | K12: =E12*8760/1000 -> 262.8
A13: Hardscrabble_Wind | B13: E | C13: Fairfield | D13: 40575 | E13: 74 | F13: 74 | G13: 74 | H13: 74 | I13: 172.1 | J13: =(I13*1000)/(8760*E13) -> 0.26548809 | K13: =E13*8760/1000 -> 648.24
A14: High Sheldon Wind Farm | B14: C | C14: Sheldon | D14: 39845 | E14: 112.5 | F14: 112.5 | G14: 112.5 | H14: 112.5 | I14: 254.6 | J14: =(I14*1000)/(8760*E14) -> 0.25834602 | K14: =E14*8760/1000 -> 985.5
A15: Howard_Wind | B15: C | C15: Howard | D15: 40878 | E15: 55.4 | F15: 57.4 | G15: 55.4 | H15: 55.4 | I15: 115.1 | J15: =(I15*1000)/(8760*E15) -> 0.23717093 | K15: =E15*8760/1000 -> 485.304
A16: Madison_Wind_Power | B16: E | C16: Madison | D16: 36770 | E16: 11.6 | F16: 11.5 | G16: 11.6 | H16: 11.6 | I16: 19 | J16: =(I16*1000)/(8760*E16) -> 0.18697843 | K16: =E16*8760/1000 -> 101.616
... A18: Maple_Ridge_Wind_2 | B18: E | C18: Lowville | D18: 39417 | E18: 90.8 | F18: 90.7 | G18: 90.8 | H18: 90.8 | I18: 201.3 | J18: =(I18*1000)/(8760*E18) -> 0.25307767 | K18: =E18*8760/1000 -> 795.408
A19: Marble_River_Wind | B19: D | C19: Ellenburg | D19: 41091 | E19: 215.5 | F19: 215.2 | G19: 0 | H19: 0 | I19: 142.6 | J19: =(I19*1000)/(24*153*E19) -> 0.18020614 | K19: =24*153*E19/1000 -> 791.316 | L19: Unit produced power during months Jul - Dec, 2012.
A20: Marsh Hill Wind Farm | B20: C | C20: Jasper | D20: 41974
A21: Munnsville_Wind_Power | B21: E | C21: Bouckville | D21: 39314 | E21: 34.5 | F21: 34.5 | G21: 34.5 | H21: 34.5 | I21: 86.7 | J21: =(I21*1000)/(8760*E21) -> 0.28687711 | K21: =E21*8760/1000 -> 302.22
A22: Steel_Wind | B22: A | C22: Lackawanna | D22: 39105 | E22: 20 | F22: 20 | G22: 20 | H22: 20 | I22: 48.5 | J22: =(I22*1000)/(8760*E22) -> 0.27682648 | K22: =E22*8760/1000 -> 175.2
A23: Western_NY_Wind_Power | B23: B | C23: Wethersfield | D23: 36800 | E23: 6.6 | F23: 6.6 | G23: 0 | H23: 0 | I23: 12 | J23: =(I23*1000)/(8760*E23) -> 0.207555 | K23: =E23*8760/1000 -> 57.816
A24: Wethersfield_Wind_Power | B24: C | C24: Wethersfield | D24: 39793 | E24: 126 | F24: 126 | G24: 126 | H24: 126 | I24: 249.3 | J24: =(I24*1000)/(8760*E24) -> 0.22586432 | K24: =E24*8760/1000 -> 1103.76
A25: State Wide Totals | E25: =SUM(E5:E24) -> 1633.9 | F25: =SUM(F5:F24) -> 1620.4 | G25: =SUM(G5:G24) -> 1366.8 | H25: =SUM(H5:H24) -> 1366.8 | I25: =SUM(I5:I24) -> 3060.2 | J25: =I25/K25 -> 0.2315439 | K25: =SUM(K5:K24) -> 13216.5
A29: 2006 Trend | E29: =E12+E16+E17+E23 -> 279.2 | F29: =F12+F16+F17+F23 -> 279.1 | G29: =G12+G16+G17+G23 -> 242.6 | H29: =H12+H16+H17+H23 -> 242.6 | I29: =I12+I16+I17+I23 -> 615.1

Sheet 2011
A1: NY 2011 Wind Facilities in the 2012 Gold Book
D3: In-Service | E3: Name Plate | F3: CRIS Sum | G3: 2012 Capability | I3: 2011 Net | J3: Capacity | K3: Annual
A4: Station | B4: Zone | C4: Town | D4: Date | E4: Rating (MW) | F4: Cap. (MW) | G4: Summer | H4: Winter | I4: Emergy (GWh) | J4: Factor | K4: Capacity
A5: Altona_Wind_Power | B5: D | C5: Altona | D5: 39714 | E5: 97.5 | F5: 97.5 | G5: 97.5 | H5: 97.5 | I5: 178.7 | J5: =(I5*1000)/(8760*E5) -> 0.20922609 | K5: =E5*8760/1000 -> 854.1
A6: Bliss_Wind_Power | B6: A | C6: Bliss | D6: 39527 | E6: 100.5 | F6: 100.5 | G6: 100.5 | H6: 100.5 | I6: 190.8 | J6: =(I6*1000)/(8760*E6) -> 0.2167246 | K6: =E6*8760/1000 -> 880.38
A7: Canandaigua_Wind_Power | B7: C | C7: Avoca | D7: 39787 | E7: 125 | F7: 125 | G7: 125 | H7: 125 | I7: 242.4 | J7: =(I7*1000)/(8760*E7) -> 0.22136986 | K7: =E7*8760/1000 -> 1095
A8: Chateaugay_Wind_Power | B8: D | C8: Chateaugay | D8: 39728 | E8: 106.5 | F8: 106.5 | G8: 106.5 | H8: 106.5 | I8: 201.8 | J8: =(I8*1000)/(8760*E8) -> 0.21630544 | K8: =E8*8760/1000 -> 932.94
A9: Clinton_Wind_Power | B9: D | C9: Clinton | D9: 39547 | E9: 100.5 | F9: 100.5 | G9: 100.5 | H9: 100.5 | I9: 174.4 | J9: =(I9*1000)/(8760*E9) -> 0.19809628 | K9: =E9*8760/1000 -> 880.38
A10: Ellenburg_Wind_Power | B10: D | C10: Ellenburg | D10: 39538 | E10: 81 | F10: 81 | G10: 81 | H10: 81 | I10: 167.9 | J10: =(I10*1000)/(8760*E10) -> 0.23662551 | K10: =E10*8760/1000 -> 709.56
A11: Erie_Wind | B11: A | C11: Lackawanna | D11: 40940
A12: Fenner_Wind_Power | B12: C | C12: Fenner | D12: 37226 | E12: 30 | F12: 30 | G12: 0 | H12: 0 | I12: 66 | J12: =(I12*1000)/(8760*E12) -> 0.25114155 | K12: =E12*8760/1000 -> 262.8
A13: Hardscrabble_Wind | B13: E | C13: Fairfield | D13: 40575 | E13: 74 | F13: 74 | G13: 74 | H13: 74 | I13: 147.7 | J13: =(I13*1000)/(8760*E13) -> 0.22784771 | K13: =E13*8760/1000 -> 648.24
A14: High Sheldon Wind Farm | B14: C | C14: Sheldon | D14: 39845 | E14: 112.5 | F14: 112.5 | G14: 112.5 | H14: 112.5 | I14: 261.1 | J14: =(I14*1000)/(8760*E14) -> 0.26494165 | K14: =E14*8760/1000 -> 985.5
A15: Howard_Wind | B15: C | C15: Howard | D15: 40878
A16: Madison_Wind_Power | B16: E | C16: Madison | D16: 36770 | E16: 11.6 | F16: 11.5 | G16: 11.6 | H16: 11.6 | I16: 21.7 | J16: =(I16*1000)/(8760*E16) -> 0.21354905 | K16: =E16*8760/1000 -> 101.616
A17: Maple_Ridge_Wind_1 | B17: E | C17: Lowville | D17: 38718 | E17: 231 | F17: 231 | G17: 231 | H17: 231 | I17: 530.2 | J17: =(I17*1000)/(8760*E17) -> 0.26201348 | K17: =E17*8760/1000 -> 2023.56
A18: Maple_Ridge_Wind_2 | B18: E | C18: Lowville | D18: 39417 | E18: 90.8 | F18: 90.7 | G18: 90.8 | H18: 90.8 | I18: 202.1 | J18: =(I18*1000)/(8760*E18) -> 0.25408344 | K18: =E18*8760/1000 -> 795.408
A19: Marble_River_Wind | B19: D | C19: Ellenburg | D19: 41091
A20: Marsh Hill Wind Farm | B20: C | C20: Jasper | D20: 41974
A21: Munnsville_Wind_Power | B21: E | C21: Bouckville | D21: 39314 | E21: 34.5 | F21: 34.5 | G21: 34.5 | H21: 34.5 | I21: 87.5 | J21: =(I21*1000)/(8760*E21) -> 0.28952419 | K21: =E21*8760/1000 -> 302.22
A22: Steel_Wind | B22: A | C22: Lackawanna | D22: 39105 | E22: 20 | F22: 20 | G22: 20 | H22: 20 | I22: 38.4 | J22: =(I22*1000)/(8760*E22) -> 0.21917808 | K22: =E22*8760/1000 -> 175.2
A23: Western_NY_Wind_Power | B23: B | C23: Wethersfield | D23: 36800 | E23: 6.6 | F23: 6.6 | G23: 0 | H23: 0 | I23: 13.4 | J23: =(I23*1000)/(8760*E23) -> 0.23176975 | K23: =E23*8760/1000 -> 57.816
A24: Wethersfield_Wind_Power | B24: C | C24: Wethersfield | D24: 39793 | E24: 126 | F24: 126 | G24: 126 | H24: 126 | I24: 256.5 | J24: =(I24*1000)/(8760*E24) -> 0.23238748 | K24: =E24*8760/1000 -> 1103.76
A25: State Wide Totals | E25: =SUM(E4:E21) -> 1195.4 | F25: =SUM(F4:F21) -> 1195.2 | G25: =SUM(G4:G21) -> 1165.4 | H25: =SUM(H4:H21) -> 1165.4 | I25: =SUM(I4:I21) -> 2472.3 | J25: =I25/K25 -> 0.20936649 | K25: =SUM(K5:K24) -> 11808.48
A29: 2006 Trend | E29: =E12+E16+E17+E23 -> 279.2 | F29: =F12+F16+F17+F23 -> 279.1 | G29: =G12+G16+G17+G23 -> 242.6 | H29: =H12+H16+H17+H23 -> 242.6 | I29: =I12+I16+I17+I23 -> 631.3

Sheet 2010
A1: NY 2010 Wind Facilities in the 2011 Gold Book
D3: In-Service | E3: Name Plate | F3: CRIS Sum | G3: 2012 Capability | I3: 2010 Net | J3: Capacity | K3: Annual
A4: Station | B4: Zone | C4: Town | D4: Date | E4: Rating (MW) | F4: Cap. (MW) | G4: Summer | H4: Winter | I4: Emergy (GWh) | J4: Factor | K4: Capacity
A5: Altona_Wind_Power | B5: D | C5: Altona | D5: 39714 | E5: 97.5 | F5: 97.5 | G5: 97.5 | H5: 97.5 | I5: 188.1 | J5: =(I5*1000)/(8760*E5) -> 0.22023182 | K5: =E5*8760/1000 -> 854.1 | L5: 65 | M5: 65 GE 1.5 MW turbines.
A6: Bliss_Wind_Power | B6: A | C6: Bliss | D6: 39527 | E6: 100.5 | F6: 100.5 | G6: 100.5 | H6: 100.5 | I6: 187.6 | J6: =(I6*1000)/(8760*E6) -> 0.2130898 | K6: =E6*8760/1000 -> 880.38 | L6: 67 | M6: 67 GE 1.5 MW turbines
A7: Canandaigua_Wind_Power | B7: C | C7: Avoca | D7: 39787 | E7: 125 | F7: 125 | G7: 125 | H7: 125 | I7: 258.5 | J7: =(I7*1000)/(8760*E7) -> 0.23607306 | K7: =E7*8760/1000 -> 1095 | L7: 84 | M7: 84 GE 1.5 MW turbines
A8: Chateaugay_Wind_Power | B8: D | C8: Chateaugay | D8: 39728 | E8: 106.5 | F8: 106.5 | G8: 106.5 | H8: 106.5 | I8: 192.2 | J8: =(I8*1000)/(8760*E8) -> 0.20601539 | K8: =E8*8760/1000 -> 932.94 | L8: 71 | M8: 71 GE 1.5 MW turbines.
A9: Clinton_Wind_Power | B9: D | C9: Clinton | D9: 39547 | E9: 100.5 | F9: 100.5 | G9: 100.5 | H9: 100.5 | I9: 173.8 | J9: =(I9*1000)/(8760*E9) -> 0.19741475 | K9: =E9*8760/1000 -> 880.38 | L9: 67 | M9: 67 GE 1.5 MW turbines
A10: Ellenburg_Wind_Power | B10: D | C10: Ellenburg | D10: 39538 | E10: 81 | F10: 81 | G10: 81 | H10: 81 | I10: 157.5 | J10: =(I10*1000)/(8760*E10) -> 0.22196854 | K10: =E10*8760/1000 -> 709.56 | L10: 54 | M10: 54 GE 1.5 MW turbines.
A11: Erie_Wind | B11: A | C11: Lackawanna | D11: 40940
A12: Fenner_Wind_Power | B12: C | C12: Fenner | D12: 37226 | E12: 30 | F12: 30 | G12: 0 | H12: 0 | I12: 26.1 | J12: =(I12*1000)/(8760*E12) -> 0.099315068 | K12: =E12*8760/1000 -> 262.8 | L12: 20 | M12: 20 1.5 MW
A13: Hardscrabble_Wind | B13: E | C13: Fairfield | D13: 40575 | E13: 74 | F13: 74 | G13: 74 | H13: 74 | I13: 0 | J13: =(I13*1000)/(8760*E13) -> 0 | K13: =E13*8760/1000 -> 648.24 | L13: 37 | M13: 37 1.5 MW
A14: High Sheldon Wind Farm | B14: C | C14: Sheldon | D14: 39845 | E14: 112.5 | F14: 112.5 | G14: 112.5 | H14: 112.5 | I14: 241 | J14: =(I14*1000)/(8760*E14) -> 0.24454592 | K14: =E14*8760/1000 -> 985.5
A15: Howard_Wind | B15: C | C15: Howard | D15: 40878 | L15: 27 | M15: 27 REpower MM92 turbines each with a nameplate rating of 2.05 MW
A16: Madison_Wind_Power | B16: E | C16: Madison | D16: 36770 | E16: 11.6 | F16: 11.5 | G16: 11.6 | H16: 11.6 | I16: 18 | J16: =(I16*1000)/(8760*E16) -> 0.17713746 | K16: =E16*8760/1000 -> 101.616 | L16: 7 | M16: 7 Vestas 1.65 MW
A17: Maple_Ridge_Wind_1 | B17: E | C17: Lowville | D17: 38718 | E17: 231 | F17: 231 | G17: 231 | H17: 231 | I17: 494.7 | J17: =(I17*1000)/(8760*E17) -> 0.24447014 | K17: =E17*8760/1000 -> 2023.56 | L17: 140 | M17: 140 Vestas V82 1.65 MW turbines
A18: Maple_Ridge_Wind_2 | B18: E | C18: Lowville | D18: 39417 | E18: 90.8 | F18: 90.7 | G18: 90.8 | H18: 90.8 | I18: 193.6 | J18: =(I18*1000)/(8760*E18) -> 0.2433971 | K18: =E18*8760/1000 -> 795.408 | L18: 55 | M18: 55 Vestas V82 1.65 MW turbines
A19: Marble_River_Wind | B19: D | C19: Ellenburg | D19: 41091
A20: Marsh Hill Wind Farm | B20: C | C20: Jasper | D20: 41974
A21: Munnsville_Wind_Power | B21: E | C21: Bouckville | D21: 39314 | E21: 34.5 | F21: 34.5 | G21: 34.5 | H21: 34.5 | I21: 84.7 | J21: =(I21*1000)/(8760*E21) -> 0.28025941 | K21: =E21*8760/1000 -> 302.22 | L21: 23 | M21: 23 GE 1.5 XLE Wind Turbine
A22: Steel_Wind | B22: A | C22: Lackawanna | D22: 39105 | E22: 20 | F22: 20 | G22: 20 | H22: 20 | I22: 48.3 | J22: =(I22*1000)/(8760*E22) -> 0.27568493 | K22: =E22*8760/1000 -> 175.2 | L22: 8 | M22: 8 2.5 MW wind turbines
A23: Western_NY_Wind_Power | B23: B | C23: Wethersfield | D23: 36800 | E23: 6.6 | F23: 6.6 | G23: 0 | H23: 0 | I23: 13.3 | J23: =(I23*1000)/(8760*E23) -> 0.23004013 | K23: =E23*8760/1000 -> 57.816 | L23: 10 | M23: 10 Vestas V-47 wind turbines rated at 660 kW
A24: Wethersfield_Wind_Power | B24: C | C24: Wethersfield | D24: 39793 | E24: 126 | F24: 126 | G24: 126 | H24: 126 | I24: 255.4 | J24: =(I24*1000)/(8760*E24) -> 0.23139088 | K24: =E24*8760/1000 -> 1103.76 | L24: 10 | M24: 10 Vestas V-47 wind turbines rated at 660 kW each
A25: State Wide Totals | E25: =SUM(E5:E21) -> 1195.4 | F25: =SUM(F5:F21) -> 1195.2 | G25: =SUM(G4:G21) -> 1165.4 | H25: =SUM(H4:H21) -> 1165.4 | I25: =SUM(I5:I21) -> 2215.8 | J25: =I25/K25 -> 0.18764481 | K25: =SUM(K5:K24) -> 11808.48 | L25: =SUM(L5:L24) -> 745
A29: 2006 Trend | E29: =E12+E16+E17+E23 -> 279.2 | F29: =F12+F16+F17+F23 -> 279.1 | G29: =G12+G16+G17+G23 -> 242.6 | H29: =H12+H16+H17+H23 -> 242.6 | I29: =I12+I16+I17+I23 -> 552.1

Sheet 2009
A1: NY 2009 Wind Facilities in the 2010 Gold Book
D3: In-Service | E3: Name Plate | F3: CRIS Sum | G3: 2012 Capability | I3: 2009 Net | J3: Capacity | K3: Annual
A4: Station | B4: Zone | C4: Town | D4: Date | E4: Rating (MW) | F4: Cap. (MW) | G4: Summer | H4: Winter | I4: Emergy (GWh) | J4: Factor | K4: Capacity
A5: Altona_Wind_Power | B5: D | C5: Altona | D5: 39714 | E5: 97.5 | F5: 97.5 | G5: 97.5 | H5: 97.5 | I5: 62.4 | J5: =(I5*1000)/(L5*E5) -> 0.17429194 | K5: =E5*(31+30+31+30+31)*24/1000 -> 358.02 | L5: =(31+30+31+30+31)*24 -> 3672 | M5: August - December 2009
A6: Bliss_Wind_Power | B6: A | C6: Bliss | D6: 39527 | E6: 100.5 | F6: 100.5 | G6: 100.5 | H6: 100.5 | I6: 193.8 | J6: =(I6*1000)/(8760*E6) -> 0.22013222 | K6: =E6*8760/1000 -> 880.38
A7: Canandaigua_Wind_Power | B7: C | C7: Avoca | D7: 39787 | E7: 125 | F7: 125 | G7: 125 | H7: 125 | I7: 198.9 | J7: =(I7*1000)/(L7*E7) -> 0.19850299 | K7: =E7*(31+30+31+30+31+31+30+31+30+31+28)*24/1000 -> 1002 | L7: =(31+30+31+30+31+31+30+31+30+31+28)*24 -> 8016 | M7: Feb - Dec 2009
A8: Chateaugay_Wind_Power | B8: D | C8: Chateaugay | D8: 39728 | E8: 106.5 | F8: 106.5 | G8: 106.5 | H8: 106.5 | I8: 72 | J8: =(I8*1000)/(L8*E8) -> 0.1841112 | K8: =E8*(31+30+31+30+31)*24/1000 -> 391.068 | L8: =(31+30+31+30+31)*24 -> 3672 | M8: August - December 2009
A9: Clinton_Wind_Power | B9: D | C9: Clinton | D9: 39547 | E9: 100.5 | F9: 100.5 | G9: 100.5 | H9: 100.5 | I9: 178 | J9: =(I9*1000)/(8760*E9) -> 0.20218542 | K9: =E9*8760/1000 -> 880.38
A10: Ellenburg_Wind_Power | B10: D | C10: Ellenburg | D10: 39538 | E10: 81 | F10: 81 | G10: 81 | H10: 81 | I10: 161.7 | J10: =(I10*1000)/(8760*E10) -> 0.22788771 | K10: =E10*8760/1000 -> 709.56
A11: Erie_Wind | B11: A | C11: Lackawanna | D11: 40940
A12: Fenner_Wind_Power | B12: C | C12: Fenner | D12: 37226 | E12: 30 | F12: 30 | G12: 0 | H12: 0 | I12: 68.6 | J12: =(I12*1000)/(8760*E12) -> 0.26103501 | K12: =E12*8760/1000 -> 262.8
A13: Hardscrabble_Wind | B13: E | C13: Fairfield | D13: 40575 | E13: 74 | F13: 74 | G13: 74 | H13: 74 | I13: 0 | J13: =(I13*1000)/(8760*E13) -> 0 | K13: =E13*8760/1000 -> 648.24
A14: High Sheldon Wind Farm | B14: C | C14: Sheldon | D14: 39845 | E14: 112.5 | F14: 112.5 | G14: 112.5 | H14: 112.5 | I14: 184.3 | J14: =(I14*1000)/(L14*E14) -> 0.22306947 | K14: =E14*(31+30+31+30+31+31+30+31+30+31)*24/1000 -> 826.2 | L14: =(31+30+31+30+31+31+30+31+30+31)*24 -> 7344 | M14: March - December 2009
A15: Howard_Wind | B15: C | C15: Howard | D15: 40878 | E15: 55.4 | F15: 57.4 | G15: 55.4 | H15: 55.4 | I15: 0 | J15: =(I15*1000)/(8760*E15) -> 0 | K15: =E15*8760/1000 -> 485.304
A16: Madison_Wind_Power | B16: E | C16: Madison | D16: 36770 | E16: 11.6 | F16: 11.5 | G16: 11.6 | H16: 11.6 | I16: 19.7 | J16: =(I16*1000)/(8760*E16) -> 0.19386711 | K16: =E16*8760/1000 -> 101.616
A17: Maple_Ridge_Wind_1 | B17: E | C17: Lowville | D17: 38718 | E17: 231 | F17: 231 | G17: 231 | H17: 231 | I17: 527.9 | J17: =(I17*1000)/(8760*E17) -> 0.26087687 | K17: =E17*8760/1000 -> 2023.56
A18: Maple_Ridge_Wind_2 | B18: E | C18: Lowville | D18: 39417 | E18: 90.8 | F18: 90.7 | G18: 90.8 | H18: 90.8 | I18: 203.4 | J18: =(I18*1000)/(8760*E18) -> 0.25571782 | K18: =E18*8760/1000 -> 795.408
A19: Marble_River_Wind | B19: D | C19: Ellenburg | D19: 41091
A20: Marsh Hill Wind Farm | B20: C | C20: Jasper | D20: 41974
A21: Munnsville_Wind_Power | B21: E | C21: Bouckville | D21: 39314 | E21: 34.5 | F21: 34.5 | G21: 34.5 | H21: 34.5 | I21: 88.9 | J21: =(I21*1000)/(8760*E21) -> 0.29415657 | K21: =E21*8760/1000 -> 302.22
A22: Steel_Wind | B22: A | C22: Lackawanna | D22: 39105 | E22: 20 | F22: 20 | G22: 20 | H22: 20 | I22: 42.3 | J22: =(I22*1000)/(8760*E22) -> 0.24143836 | K22: =E22*8760/1000 -> 175.2
A23: Western_NY_Wind_Power | B23: B | C23: Wethersfield | D23: 36800 | E23: 6.6 | F23: 6.6 | G23: 0 | H23: 0 | I23: 13.7 | J23: =(I23*1000)/(8760*E23) -> 0.23695863 | K23: =E23*8760/1000 -> 57.816
A24: Wethersfield_Wind_Power | B24: C | C24: Wethersfield | D24: 39793 | E24: 126 | F24: 126 | G24: 126 | H24: 126 | I24: 92.7 | J24: =(I24*1000)/(L24*E24) -> 0.20035792 | K24: =E24*(31+30+31+30+31)*24/1000 -> 462.672 | L24: =(31+30+31+30+31)*24 -> 3672 | M24: August - December 2009
A25: State Wide Totals | E25: =SUM(E4:E21) -> 1250.8 | F25: =SUM(F4:F21) -> 1252.6 | G25: =SUM(G4:G21) -> 1220.8 | H25: =SUM(H4:H21) -> 1220.8 | I25: =SUM(I4:I21) -> 1959.6 | J25: =I25/K25 -> 0.18910597 | K25: =SUM(K5:K24) -> 10362.444
A29: 2006 Trend | E29: =E12+E16+E17+E23 -> 279.2 | F29: =F12+F16+F17+F23 -> 279.1 | G29: =G12+G16+G17+G23 -> 242.6 | H29: =H12+H16+H17+H23 -> 242.6 | I29: =I12+I16+I17+I23 -> 629.9

Sheet 2008
A1: NY 2008 Wind Facilities in the 2009 Gold Book
D3: In-Service | E3: Name Plate | F3: CRIS Sum | G3: 2012 Capability | I3: 2008 Net | J3: Capacity | K3: Annual
A4: Station | B4: Zone | C4: Town | D4: Date | E4: Rating (MW) | F4: Cap. (MW) | G4: Summer | H4: Winter | I4: Emergy (GWh) | J4: Factor | K4: Capacity
A5: Altona_Wind_Power | B5: D | C5: Altona | D5: 39714 | E5: 97.5 | F5: 97.5 | G5: 97.5 | H5: 97.5 | I5: 0.703 | J5: =I5/K5 -> 0.0096912049 | K5: =E5*31*24/1000 -> 72.54 | L5: Generation (Dec 2008).
A6: Bliss_Wind_Power | B6: A | C6: Bliss | D6: 39527 | E6: 100.5 | F6: 100.5 | G6: 100.5 | H6: 100.5 | I6: 124.101 | J6: =I6/K6 -> 0.16814213 | K6: =E6*306*24/1000 -> 738.072 | L6: Generation (Mar-Dec 2008).
A7: Canandaigua_Wind_Power | B7: C | C7: Avoca | D7: 39787 | E7: 125 | F7: 125 | G7: 125 | H7: 125 | I7: 10.155 | J7: =I7/K7 -> 0.055491803 | K7: =E7*61*24/1000 -> 183 | L7: Generation (Nov-Dec 2008).
A8: Chateaugay_Wind_Power | B8: D | C8: Chateaugay | D8: 39728 | E8: 106.5 | F8: 106.5 | G8: 106.5 | H8: 106.5 | I8: 16.095 | J8: =I8/K8 -> 0.10322866 | K8: =E8*61*24/1000 -> 155.916 | L8: Generation (Nov-Dec 2008).
A9: Clinton_Wind_Power | B9: D | C9: Clinton | D9: 39547 | E9: 100.5 | F9: 100.5 | G9: 100.5 | H9: 100.5 | I9: 75.71 | J9: =I9/K9 -> 0.11414141 | K9: =E9*275*24/1000 -> 663.3 | L9: Generation (Apr-Dec 2008).
A10: Ellenburg_Wind_Power | B10: D | C10: Ellenburg | D10: 39538 | E10: 81 | F10: 81 | G10: 81 | H10: 81 | I10: 76.55 | J10: =I10/K10 -> 0.12868488 | K10: =E10*306*24/1000 -> 594.864 | L10: Generation (Mar-Dec 2008).
A11: Erie_Wind | B11: A | C11: Lackawanna | D11: 40940
A12: Fenner_Wind_Power | B12: C | C12: Fenner | D12: 37226 | E12: 30 | F12: 30 | G12: 0 | H12: 0 | I12: 70.914 | J12: =I12/K12 -> 0.26984018 | K12: =E12*8760/1000 -> 262.8
A13: Hardscrabble_Wind | B13: E | C13: Fairfield | D13: 40575
A14: High Sheldon Wind Farm | B14: C | C14: Sheldon | D14: 39845 | E14: 112.5
A15: Howard_Wind | B15: C | C15: Howard | D15: 40878 | K15: =E15*8760/1000 -> 0
A16: Madison_Wind_Power | B16: E | C16: Madison | D16: 36770 | E16: 11.6 | F16: 11.5 | G16: 11.6 | H16: 11.6 | I16: 19.064 | J16: =I16/K16 -> 0.18760825 | K16: =E16*8760/1000 -> 101.616
A17: Maple_Ridge_Wind_1 | B17: E | C17: Lowville | D17: 38718 | E17: 231 | F17: 231 | G17: 231 | H17: 231 | I17: 537.916 | J17: =I17/K17 -> 0.26582656 | K17: =E17*8760/1000 -> 2023.56
A18: Maple_Ridge_Wind_2 | B18: E | C18: Lowville | D18: 39417 | E18: 90.8 | F18: 90.7 | G18: 90.8 | H18: 90.8 | I18: 213.281 | J18: =I18/K18 -> 0.26814038 | K18: =E18*8760/1000 -> 795.408
A19: Marble_River_Wind | B19: D | C19: Ellenburg | D19: 41091
A20: Marsh Hill Wind Farm | B20: C | C20: Jasper | D20: 41974
A21: Munnsville_Wind_Power | B21: E | C21: Bouckville | D21: 39314 | E21: 34.5 | F21: 34.5 | G21: 34.5 | H21: 34.5 | I21: 89.072 | J21: =I21/K21 -> 0.2947257 | K21: =E21*8760/1000 -> 302.22
A22: Steel_Wind | B22: A | C22: Lackawanna | D22: 39105 | E22: 20 | F22: 20 | G22: 20 | H22: 20 | I22: 37.394 | J22: =I22/K22 -> 0.21343607 | K22: =E22*8760/1000 -> 175.2
A23: Western_NY_Wind_Power | B23: B | C23: Wethersfield | D23: 36800 | E23: 6.6 | F23: 6.6 | G23: 0 | H23: 0 | I23: 11.37 | J23: =I23/K23 -> 0.19665836 | K23: =E23*8760/1000 -> 57.816
A24: Wethersfield_Wind_Power | B24: C | C24: Wethersfield | D24: 39793
A25: State Wide Totals | E25: =SUM(E5:E24) -> 1148 | F25: =SUM(F5:F24) -> 1035.3 | G25: =SUM(G4:G21) -> 978.9 | H25: =SUM(H4:H21) -> 978.9 | I25: =SUM(I5:I24) -> 1282.325 | J25: =I25/K25 -> 0.20931435 | K25: =SUM(K5:K24) -> 6126.312
A29: 2006 Trend | E29: =E12+E16+E17+E23 -> 279.2 | F29: =F12+F16+F17+F23 -> 279.1 | G29: =G12+G16+G17+G23 -> 242.6 | H29: =H12+H16+H17+H23 -> 242.6 | I29: =I12+I16+I17+I23 -> 639.264

Sheet 2007
A1: NY 2007 Wind Facilities in the 2008 Gold Book
D3: In-Service | E3: Name Plate | F3: CRIS Sum | G3: 2012 Capability | I3: 2011 Net | J3: Capacity | K3: Annual
A4: Station | B4: Zone | C4: Town | D4: Date | E4: Rating (MW) | F4: Cap. (MW) | G4: Summer | H4: Winter | I4: Emergy (GWh) | J4: Factor | K4: Capacity
A5: Altona_Wind_Power | B5: D | C5: Altona | D5: 39714
A6: Bliss_Wind_Power | B6: A | C6: Bliss | D6: 39527
A7: Canandaigua_Wind_Power | B7: C | C7: Avoca | D7: 39787
A8: Chateaugay_Wind_Power | B8: D | C8: Chateaugay | D8: 39728
A9: Clinton_Wind_Power | B9: D | C9: Clinton | D9: 39547
A10: Ellenburg_Wind_Power | B10: D | C10: Ellenburg | D10: 39538
A11: Erie_Wind | B11: A | C11: Lackawanna | D11: 40940
A12: Fenner_Wind_Power | B12: C | C12: Fenner | D12: 37226 | E12: 30 | F12: 30 | G12: 0 | H12: 0 | I12: 23.855 | J12: =(I12*1000)/(M12*E12) -> 0.36012983 | K12: =E12*92*24/1000 -> 66.24 | L12: Oct to Dec 2007 | M12: =92*24 -> 2208
A13: Hardscrabble_Wind | B13: E | C13: Fairfield | D13: 40575
A14: High Sheldon Wind Farm | B14: C | C14: Sheldon | D14: 39845
A15: Howard_Wind | B15: C | C15: Howard | D15: 40878
A16: Madison_Wind_Power | B16: E | C16: Madison | D16: 36770 | E16: 11.6 | F16: 11.5 | G16: 11.6 | H16: 11.6 | I16: 21.254 | J16: =(I16*1000)/(8760*E16) -> 0.20915997 | K16: =E16*8760/1000 -> 101.616
A17: Maple_Ridge_Wind_1 | B17: E | C17: Lowville | D17: 38718 | E17: 231 | F17: 231 | G17: 231 | H17: 231 | I17: 729.235 | J17: =((I18+I17)*1000)/(8760*(E18+E17)) -> 0.25868864 | K17: =(E17+E18)*8760/1000 -> 2818.968 | L17: Station total
A18: Maple_Ridge_Wind_2 | B18: E | C18: Lowville | D18: 39417 | E18: 90.8 | F18: 90.7 | G18: 90.8 | H18: 90.8
A19: Marble_River_Wind | B19: D | C19: Ellenburg | D19: 41091
A20: Marsh Hill Wind Farm | B20: C | C20: Jasper | D20: 41974
A21: Munnsville_Wind_Power | B21: E | C21: Bouckville | D21: 39314
A22: Steel_Wind | B22: A | C22: Lackawanna | D22: 39105 | E22: 20 | F22: 20 | G22: 20 | H22: 20 | I22: 10.3 | J22: =(I22*1000)/(8760*E22) -> 0.058789954
A23: Western_NY_Wind_Power | B23: B | C23: Wethersfield | D23: 36800 | E23: 6.6 | F23: 6.6 | G23: 0 | H23: 0 | I23: 15.537 | J23: =(I23*1000)/(8760*E23) -> 0.26873184 | K23: =E23*8760/1000 -> 57.816
A24: Wethersfield_Wind_Power | B24: C | C24: Wethersfield | D24: 39793
A25: State Wide Totals | E25: =SUM(E5:E24) -> 390 | F25: =SUM(F5:F24) -> 389.8 | G25: =SUM(G5:G24) -> 353.4 | H25: =SUM(H5:H24) -> 353.4 | I25: =SUM(I5:I24) -> 800.181 | J25: =I25/K25 -> 0.26281629 | K25: =SUM(K4:K24) -> 3044.64
A29: 2006 Trend | E29: =E12+E16+E17+E23 -> 279.2 | F29: =F12+F16+F17+F23 -> 279.1 | G29: =G12+G16+G17+G23 -> 242.6 | H29: =H12+H16+H17+H23 -> 242.6 | I29: =I12+I16+I17+I23 -> 789.881

Sheet 2006
A1: NY 2006 Wind Facilities in the 2007 Gold Book
D3: In-Service | E3: Name Plate | F3: CRIS Sum | G3: 2007 Capability | I3: 2006 Net | J3: Capacity | K3: Annual
A4: Station | B4: Zone | C4: Town | D4: Date | E4: Rating (MW) | F4: Cap. (MW) | G4: Summer | H4: Winter | I4: Emergy (GWh) | J4: Factor | K4: Capacity
A5: Altona_Wind_Power | B5: D | C5: Altona | D5: 39714
A6: Bliss_Wind_Power | B6: A | C6: Bliss | D6: 39527
A7: Canandaigua_Wind_Power | B7: C | C7: Avoca | D7: 39787
A8: Chateaugay_Wind_Power | B8: D | C8: Chateaugay | D8: 39728
A9: Clinton_Wind_Power | B9: D | C9: Clinton | D9: 39547
A10: Ellenburg_Wind_Power | B10: D | C10: Ellenburg | D10: 39538
A11: Erie_Wind | B11: A | C11: Lackawanna | D11: 40940
A12: Fenner_Wind_Power | B12: C | C12: Fenner | D12: 37226 | E12: 30 | F12: 30 | G12: 3 | H12: 9 | I12: 77.273 | J12: =(I12*1000)/(8760*E12) -> 0.29403729 | K12: =E12*8760/1000 -> 262.8 | L12: Wind Generators - Sum Rating = 10% of Nameplate, Win Rating = 30% of Nameplate
A13: Hardscrabble_Wind | B13: E | C13: Fairfield | D13: 40575
A14: High Sheldon Wind Farm | B14: C | C14: Sheldon | D14: 39845
A15: Howard_Wind | B15: C | C15: Howard | D15: 40878
A16: Madison_Wind_Power | B16: E | C16: Madison | D16: 36770 | E16: 11.6 | F16: 11.5 | G16: 11.6 | H16: 11.6 | I16: 20.207 | J16: =(I16*1000)/(8760*E16) -> 0.19885648 | K16: =E16*8760/1000 -> 101.616 | L16: Wind Generators - Sum Rating = 10% of Nameplate, Win Rating = 30% of Nameplate
A17: Maple_Ridge_Wind_1 | B17: E | C17: Lowville | D17: 38718 | E17: 231 | F17: 231 | G17: 231 | H17: 231 | I17: 406.509 | J17: =(I17*1000)/(8760*E17) -> 0.20088804 | K17: =E17*8760/1000 -> 2023.56 | L17: Wind Generators - Sum Rating = 10% of Nameplate, Win Rating = 30% of Nameplate
A18: Maple_Ridge_Wind_2 | B18: E | C18: Lowville | D18: 39417
A19: Marble_River_Wind | B19: D | C19: Ellenburg | D19: 41091
A20: Marsh Hill Wind Farm | B20: C | C20: Jasper | D20: 41974
A21: Munnsville_Wind_Power | B21: E | C21: Bouckville | D21: 39314
A22: Steel_Wind | B22: A | C22: Lackawanna | D22: 39105 | L22: No 2006 generation
A23: Western_NY_Wind_Power | B23: B | C23: Wethersfield | D23: 36800 | E23: 6.6 | F23: 6.6 | G23: 0.6 | H23: 1.9 | I23: 14.438 | J23: =(I23*1000)/(8760*E23) -> 0.24972326 | K23: =E23*8760/1000 -> 57.816 | L23: Wind Generators - Sum Rating = 10% of Nameplate, Win Rating = 30% of Nameplate
A24: Wethersfield_Wind_Power | B24: C | C24: Wethersfield | D24: 39793
A25: State Wide Totals | E25: =SUM(E4:E24) -> 279.2 | F25: =SUM(F4:F24) -> 279.1 | G25: =SUM(G4:G24) -> 246.2 | H25: =SUM(H4:H24) -> 253.5 | I25: =SUM(I4:I24) -> 518.427 | J25: =(I25*1000)/(8760*E25) -> 0.21196692 | K25: =SUM(K4:K24) -> 2445.792
A29: 2006 Trend | E29: =E12+E16+E17+E23 -> 279.2 | F29: =F12+F16+F17+F23 -> 279.1 | G29: =G12+G16+G17+G23 -> 246.2 | H29: =H12+H16+H17+H23 -> 253.5 | I29: =I12+I16+I17+I23 -> 518.427

Sheet 2013 Goldbook wind
A1: Wind Energy Facilities in New York - 2012 Data
A2: http://www.nyiso.com/public/webdocs/markets_operations/services/planning/Documents_and_Resources/Planning_Data_and_Reference_Docs/Data_and_Reference_Docs/2013_GoldBook.pdf
G4: In-Service | H4: Name Plate | I4: CRIS Sum | J4: 2013 Capability | L4: Unit | M4: Type | N4: 2012 Net
A5: Station | B5: Zone | C5: PTID | D5: Town | E5: County | F5: State | G5: Date | H5: Rating (MW) | I5: Cap. (MW) | J5: Summer | K5: Winter | L5: Type | M5: Code | N5: Emergy (GWh) | O5: Notes
A6: Altona_Wind_Power | B6: D | C6: 323606 | D6: Altona | E6: 19 | F6: 36 | G6: 39714 | H6: 97.5 | I6: 97.5 | J6: 97.5 | K6: 97.5 | L6: WT | M6: WND | N6: 172.5 | P6: 65 GE 1.5 MW turbines.
A7: Bliss_Wind_Power | B7: A | C7: 323608 | D7: Bliss | E7: 121 | F7: 36 | G7: 39527 | H7: 100.5 | I7: 100.5 | J7: 100.5 | K7: 100.5 | L7: WT | M7: WND | N7: 205 | P7: 67 GE 1.5 MW turbines
A8: Canandaigua_Wind_Power | B8: C | C8: 323617 | D8: Avoca | E8: 101 | F8: 36 | G8: 39787 | H8: 125 | I8: 125 | J8: 125 | K8: 125 | L8: WT | M8: WND | N8: 247 | P8: 84 GE 1.5 MW turbines
A9: Chateaugay_Wind_Power | B9: D | C9: 323614 | D9: Chateaugay | E9: 33 | F9: 36 | G9: 39728 | H9: 106.5 | I9: 106.5 | J9: 106.5 | K9: 106.5 | L9: WT | M9: WND | N9: 191.8 | P9: 71 GE 1.5 MW turbines.
A10: Clinton_Wind_Power | B10: D | C10: 323605 | D10: Clinton | E10: 19 | F10: 36 | G10: 39547 | H10: 100.5 | I10: 100.5 | J10: 100.5 | K10: 100.5 | L10: WT | M10: WND | N10: 167.5 | P10: 67 GE 1.5 MW turbines
A11: Ellenburg_Wind_Power | B11: D | C11: 323604 | D11: Ellenburg | E11: 19 | F11: 36 | G11: 39538 | H11: 81 | I11: 81 | J11: 81 | K11: 81 | L11: WT | M11: WND | N11: 157.8 | P11: 54 GE 1.5 MW turbines.
A12: Erie_Wind | B12: A | C12: 323693 | D12: Lackawanna | E12: 29 | F12: 36 | G12: 40940 | H12: 15 | I12: 0 | J12: 0 | K12: 0 | L12: WT | M12: WND | N12: 33.3 | P12: 6 2.5-MW Liberty Series
A13: Fenner_Wind_Power | B13: C | C13: 24204 | D13: Fenner | E13: 53 | F13: 36 | G13: 37226 | H13: 30 | I13: 30 | J13: 0 | K13: 0 | L13: WT | M13: WND | N13: 59 | P13: 20 1.5 MW
A14: Hardscrabble_Wind | B14: E | C14: 323673 | D14: Fairfield | E14: 43 | F14: 36 | G14: 40575 | H14: 74 | I14: 74 | J14: 74 | K14: 74 | L14: WT | M14: WND | N14: 172.1 | P14: 37 1.5 MW
A15: Howard_Wind | B15: C | C15: 323690 | D15: Howard | E15: 101 | F15: 36 | G15: 40878 | H15: 55.4 | I15: 57.4 | J15: 55.4 | K15: 55.4 | L15: WT | M15: WND | N15: 115.1 | P15: 27 REpower MM92 turbines each with a nameplate rating of 2.05 MW
A16: Madison_Wind_Power | B16: E | C16: 24146 | D16: Madison | E16: 53 | F16: 36 | G16: 36770 | H16: 11.6 | I16: 11.5 | J16: 11.6 | K16: 11.6 | L16: WT | M16: WND | N16: 19 | P16: 7 Vestas 1.65 MW
A17: Maple_Ridge_Wind_1 | B17: E | C17: 323574 | D17: Lowville | E17: 49 | F17: 36 | G17: 38718 | H17: 231 | I17: 231 | J17: 231 | K17: 231 | L17: WT | M17: WND | N17: 525.1 | P17: 140 Vestas V82 1.65 MW turbines
A18: Maple_Ridge_Wind_2 | B18: E | C18: 323611 | D18: Lowville | E18: 49 | F18: 36 | G18: 39417 | H18: 90.8 | I18: 90.7 | J18: 90.8 | K18: 90.8 | L18: WT | M18: WND | N18: 201.3 | P18: 55 Vestas V82 1.65 MW turbines
A19: Marble_River_Wind | B19: D | C19: 323696 | D19: Ellenburg | E19: 19 | F19: 36 | G19: 41091 | H19: 215.5 | I19: 215.2 | J19: 0 | K19: 0 | L19: WT | M19: WND | N19: 142.6 | O19: Unit produced power during months Jul - Dec, 2012. | P19: 109 2MW model G90 manufactured by Gamesa Eolica
A20: Munnsville_Wind_Power | B20: E | C20: 323609 | D20: Bouckville | E20: 53 | F20: 36 | G20: 39314 | H20: 34.5 | I20: 34.5 | J20: 34.5 | K20: 34.5 | L20: WT | M20: WND | N20: 86.7 | P20: 23 GE 1.5 XLE Wind Turbine
A21: Steel_Wind | B21: A | C21: 323596 | D21: Lackawanna | E21: 29 | F21: 36 | G21: 39105 | H21: 20 | I21: 20 | J21: 20 | K21: 20 | L21: WT | M21: WND | N21: 48.5 | P21: 8 2.5 MW wind turbines
A22: Western_NY_Wind_Power | B22: B | C22: 24143 | D22: Wethersfield | E22: 121 | F22: 36 | G22: 36800 | H22: 6.6 | I22: 6.6 | J22: 0 | K22: 0 | L22: WT | M22: WND | N22: 12 | P22: 10 Vestas V-47 wind turbines rated at 660 kW
A23: Wethersfield_Wind_Power | B23: C | C23: 323626 | D23: Wethersfield | E23: 121 | F23: 36 | G23: 39793 | H23: 126 | I23: 126 | J23: 126 | K23: 126 | L23: WT | M23: WND | N23: 249.3 | P23: 10 Vestas V-47 wind turbines rated at 660 kW each
H26: =H20/1.5 -> 23

Sheet NY 2012 Wind
A1: NY 2012 Wind Facilities in the Gold Book
A2: http://www.nyiso.com/public/webdocs/markets_operations/services/planning/Documents_and_Resources/Planning_Data_and_Reference_Docs/Data_and_Reference_Docs/2013_GoldBook.pdf
D4: In-Service | E4: Name Plate | F4: CRIS Sum | G4: 2013 Capability | I4: 2012 Net | J4: Capacity
A5: Station | B5: Zone | C5: Town | D5: Date | E5: Rating (MW) | F5: Cap. (MW) | G5: Summer | H5: Winter | I5: Emergy (GWh) | J5: Factor
A6: Canandaigua_Wind_Power | B6: C | C6: Avoca | D6: 39787 | E6: 125 | F6: 125 | G6: 125 | H6: 125 | I6: 247 | J6: =(I6*1000)/(8760*E6) -> 0.22557078 | K6: =E6*8760 -> 1095000
A7: Fenner_Wind_Power | B7: C | C7: Fenner | D7: 37226 | E7: 30 | F7: 30 | G7: 0 | H7: 0 | I7: 59 | J7: =(I7*1000)/(8760*E7) -> 0.22450533 | K7: =E7*8760 -> 262800
A8: Steel_Wind | B8: A | C8: Lackawanna | D8: 39105 | E8: 20 | F8: 20 | G8: 20 | H8: 20 | I8: 48.5 | J8: =(I8*1000)/(8760*E8) -> 0.27682648 | K8: =E8*8760 -> 175200
A9: Erie_Wind | B9: A | C9: Lackawanna | D9: 40940 | E9: 15 | F9: 0 | G9: 0 | H9: 0 | I9: 33.3 | J9: =(I9*1000)/(8760*E9) -> 0.25342466 | K9: =E9*8760 -> 131400
A10: Maple_Ridge_Wind_2 | B10: E | C10: Lowville | D10: 39417 | E10: 90.8 | F10: 90.7 | G10: 90.8 | H10: 90.8 | I10: 201.3 | J10: =(I10*1000)/(8760*E10) -> 0.25307767 | K10: =E10*8760 -> 795408
A11: Maple_Ridge_Wind_1 | B11: E | C11: Lowville | D11: 38718 | E11: 231 | F11: 231 | G11: 231 | H11: 231 | I11: 525.1 | J11: =(I11*1000)/(8760*E11) -> 0.25949317 | K11: =E11*8760 -> 2023560
A12: Hardscrabble_Wind | B12: E | C12: Fairfield | D12: 40575 | E12: 74 | F12: 74 | G12: 74 | H12: 74 | I12: 172.1 | J12: =(I12*1000)/(8760*E12) -> 0.26548809 | K12: =E12*8760 -> 648240
A13: Howard_Wind | B13: C | C13: Howard | D13: 40878 | E13: 55.4 | F13: 57.4 | G13: 55.4 | H13: 55.4 | I13: 115.1 | J13: =(I13*1000)/(8760*E13) -> 0.23717093 | K13: =E13*8760 -> 485304
A14: Madison_Wind_Power | B14: E | C14: Madison | D14: 36770 | E14: 11.6 | F14: 11.5 | G14: 11.6 | H14: 11.6 | I14: 19 | J14: =(I14*1000)/(8760*E14) -> 0.18697843 | K14: =E14*8760 -> 101616
A15: Marble_River_Wind | B15: D | C15: Ellenburg | D15: 41091 | E15: 215.5 | F15: 215.2 | G15: 0 | H15: 0 | I15: 142.6 | J15: =(I15*1000)/(24*153*E15) -> 0.18020614 | K15: =24*153*E15 -> 791316 | L15: Unit produced power during months Jul - Dec, 2012.
A16: High Sheldon Wind Farm | B16: C | C16: Sheldon | D16: 39845 | E16: 112.5 | F16: 112.5 | G16: 112.5 | H16: 112.5 | I16: 254.6 | J16: =(I16*1000)/(8760*E16) -> 0.25834602 | K16: =E16*8760 -> 985500
A17: Altona_Wind_Power | B17: D | C17: Altona | D17: 39714 | E17: 97.5 | F17: 97.5 | G17: 97.5 | H17: 97.5 | I17: 172.5 | J17: =(I17*1000)/(8760*E17) -> 0.20196698 | K17: =E17*8760 -> 854100
A18: Bliss_Wind_Power | B18: A | C18: Bliss | D18: 39527 | E18: 100.5 | F18: 100.5 | G18: 100.5 | H18: 100.5 | I18: 205 | J18: =(I18*1000)/(8760*E18) -> 0.23285399 | K18: =E18*8760 -> 880380
A19: Chateaugay_Wind_Power | B19: D | C19: Chateaugay | D19: 39728 | E19: 106.5 | F19: 106.5 | G19: 106.5 | H19: 106.5 | I19: 191.8 | J19: =(I19*1000)/(8760*E19) -> 0.20558664 | K19: =E19*8760 -> 932940
A20: Clinton_Wind_Power | B20: D | C20: Clinton | D20: 39547 | E20: 100.5 | F20: 100.5 | G20: 100.5 | H20: 100.5 | I20: 167.5 | J20: =(I20*1000)/(8760*E20) -> 0.19025875 | K20: =E20*8760 -> 880380
A21: Ellenburg_Wind_Power | B21: D | C21: Ellenburg | D21: 39538 | E21: 81 | F21: 81 | G21: 81 | H21: 81 | I21: 157.8 | J21: =(I21*1000)/(8760*E21) -> 0.22239134 | K21: =E21*8760 -> 709560
A22: Wethersfield_Wind_Power | B22: C | C22: Wethersfield | D22: 39793 | E22: 126 | F22: 126 | G22: 126 | H22: 126 | I22: 249.3 | J22: =(I22*1000)/(8760*E22) -> 0.22586432 | K22: =E22*8760 -> 1103760
A23: Munnsville_Wind_Power | B23: E | C23: Bouckville | D23: 39314 | E23: 34.5 | F23: 34.5 | G23: 34.5 | H23: 34.5 | I23: 86.7 | J23: =(I23*1000)/(8760*E23) -> 0.28687711 | K23: =E23*8760 -> 302220
A24: Western_NY_Wind_Power | B24: B | C24: Wethersfield | D24: 36800 | E24: 6.6 | F24: 6.6 | G24: 0 | H24: 0 | I24: 12 | J24: =(I24*1000)/(8760*E24) -> 0.207555 | K24: =E24*8760 -> 57816
A25: State Wide Totals | E25: =SUM(E6:E24) -> 1633.9 | F25: =SUM(F6:F24) -> 1620.4 | G25: =SUM(G6:G24) -> 1366.8 | H25: =SUM(H6:H24) -> 1366.8 | I25: =SUM(I6:I24) -> 3060.2 | J25: =1000*I25/K25 -> 0.2315439 | K25: =SUM(K6:K24) -> 13216500
A26: Total without Marble River | E26: =E25-E15 -> 1418.4 | F26: =F25-F15 -> 1405.2 | G26: =G25-G15 -> 1366.8 | H26: =H25-H15 -> 1366.8 | I26: =I25-I15 -> 2917.6 | J26: =(I26*1000)/(8760*E26) -> 0.23481342
D36: In-Service | E36: Name Plate | F36: CRIS Sum | G36: 2012 Capability | I36: 2011 Net | J36: Capacity
A37: Station | B37: Zone | C37: Town | D37: Date | E37: Rating (MW) | F37: Cap. (MW) | G37: Summer | H37: Winter | I37: Emergy (GWh) | J37: Factor
A38: Canandaigua_Wind_Power | B38: C | C38: Avoca | D38: 39787 | E38: 125 | F38: 125 | G38: 125 | H38: 125 | I38: 242.4 | J38: =(I38*1000)/(8760*E38) -> 0.22136986
A39: Fenner_Wind_Power | B39: C | C39: Fenner | D39: 37226 | E39: 30 | F39: 30 | G39: 0 | H39: 0 | I39: 66 | J39: =(I39*1000)/(8760*E39) -> 0.25114155
A40: Steel_Wind | B40: A | C40: Lackawanna | D40: 39105 | E40: 20 | F40: 20 | G40: 20 | H40: 20 | I40: 38.4 | J40: =(I40*1000)/(8760*E40) -> 0.21917808
A41: Maple_Ridge_Wind_2 | B41: E | C41: Lowville | D41: 39417 | E41: 90.8 | F41: 90.7 | G41: 90.8 | H41: 90.8 | I41: 202.1 | J41: =(I41*1000)/(8760*E41) -> 0.25408344
A42: Maple_Ridge_Wind_1 | B42: E | C42: Lowville | D42: 38718 | E42: 231 | F42: 231 | G42: 231 | H42: 231 | I42: 530.2 | J42: =(I42*1000)/(8760*E42) -> 0.26201348
A43: Madison_Wind_Power | B43: E | C43: Madison | D43: 36770 | E43: 11.6 | F43: 11.5 | G43: 11.6 | H43: 11.6 | I43: 21.7 | J43: =(I43*1000)/(8760*E43) -> 0.21354905
A44: Altona_Wind_Power | B44: D | C44: Altona | D44: 39714 | E44: 97.5 | F44: 97.5 | G44: 97.5 | H44: 97.5 | I44: 178.7 | J44: =(I44*1000)/(8760*E44) -> 0.20922609
A45: High Sheldon Wind Farm | B45: C | C45: Sheldon | D45: 39845 | E45: 112.5 | F45: 112.5 | G45: 112.5 | H45: 112.5 | I45: 261.1 | J45: =(I45*1000)/(8760*E45) -> 0.26494165
A46: Bliss_Wind_Power | B46: A | C46: Bliss | D46: 39527 | E46: 100.5 | F46: 100.5 | G46: 100.5 | H46: 100.5 | I46: 190.8 | J46: =(I46*1000)/(8760*E46) -> 0.2167246
A47: Chateaugay_Wind_Power | B47: D | C47: Chateaugay | D47: 39728 | E47: 106.5 | F47: 106.5 | G47: 106.5 | H47: 106.5 | I47: 201.8 | J47: =(I47*1000)/(8760*E47) -> 0.21630544
A48: Clinton_Wind_Power | B48: D | C48: Clinton | D48: 39547 | E48: 100.5 | F48: 100.5 | G48: 100.5 | H48: 100.5 | I48: 174.4 | J48: =(I48*1000)/(8760*E48) -> 0.19809628
A49: Ellenburg_Wind_Power | B49: D | C49: Ellenburg | D49: 39538 | E49: 81 | F49: 81 | G49: 81 | H49: 81 | I49: 167.9 | J49: =(I49*1000)/(8760*E49) -> 0.23662551
... A52: Western_NY_Wind_Power | B52: B | C52: Wethersfield | D52: 36800 | E52: 6.6 | F52: 6.6 | G52: 0 | H52: 0 | I52: 13.4 | J52: =(I52*1000)/(8760*E52) -> 0.23176975
A53: State Wide Totals | E53: =SUM(E37:E52) -> 1274 | F53: =SUM(F37:F52) -> 1273.8 | G53: =SUM(G37:G52) -> 1237.4 | H53: =SUM(H37:H52) -> 1237.4 | I53: =SUM(I37:I52) -> 2632.9 | J53: =(I53*1000)/(8760*E53) -> 0.23591787
A55: Erie_Wind | B55: A | C55: Lackawanna | D55: 40940 | E55: 15 | F55: 0 | G55: 0 | H55: 0 | I55: 0 | J55: =(I55*1000)/(8760*E55) -> 0
A56: Hardscrabble_Wind | B56: E | C56: Fairfield | D56: 40575 | E56: 74 | F56: 74 | G56: 74 | H56: 74 | I56: 147.7 | J56: =(I56*1000)/(8760*E56) -> 0.22784771
A57: Howard_Wind | B57: C | C57: Howard | D57: 40878 | E57: 55.4 | F57: 57.4 | G57: 55.4 | H57: 55.4 | I57: 6.5 | J57: =(I57*1000)/(8760*E57) -> 0.013393667
D69: In-Service | E69: Name Plate | F69: CRIS Sum | G69: 2007 Capability | I69: 2006 Net | J69: Capacity
A70: Station | B70: Zone | C70: Town | D70: Date | E70: Rating (MW) | F70: Cap. (MW) | G70: Summer | H70: Winter | I70: Emergy (GWh) | J70: Factor
A71: Fenner_Wind_Power | B71: C | C71: Fenner | D71: 37226 | E71: 30 | F71: 30 | G71: 3 | H71: 9 | I71: 77.273 | J71: =(J7-'2006'!J5)/'2006'!J5 -> #DIV/0!
A72: Western_NY_Wind_Power | B72: B | C72: Wethersfield | D72: 36800 | E72: 6.6 | F72: 6.6 | G72: 0.6 | H72: 1.9 | I72: 14.438 | J72: =(J25-'2006'!J6)/'2006'!J6 -> #DIV/0!
A73: Maple_Ridge_Wind_1 | B73: E | C73: Lowville | D73: 38718 | E73: 321 | F73: 231 | G73: 231 | H73: 231 | I73: 406.509 | J73: =(J10-'2006'!J8)/'2006'!J8 -> #DIV/0!
A74: Madison_Wind_Power | B74: E | C74: Madison | D74: 36770 | E74: 11.6 | F74: 11.5 | G74: 11.6 | H74: 11.6 | I74: 20.207 | J74: =(J14-'2006'!J9)/'2006'!J9 -> #DIV/0!
