Workbook

Sheet Comparison
B2: NYISO Outlook Study Scenarios and Integration Analysis Mitigation Scenarios Installed Capacity (MW) | X2: NYISO Outlook Study Scenarios and Integration Analysis Mitigation Scenarios Installed Capacity (MW)
C3: NYISO Outlook Scenario 1 | G3: NYISO Outlook Scenario 2 | K3: Strategic Use of Low-Carbon Fuels | O3: Accelerated Transition from Combustion | S3: Beyond 85% Reduction | Y3: Resource 1 | AB3: Resource 2 | AE3: Integration 2 | AH3: Integration 3 | AK3: Integration 4
B4: Resource | C4: 2019 | D4: 2030 | E4: 2035 | F4: 2040 | G4: 2019 | H4: 2030 | I4: 2035 | J4: 2040 | K4: 2020 | L4: 2030 | M4: 2035 | N4: 2040 | O4: 2020 | P4: 2030 | Q4: 2035 | R4: 2040 | S4: 2020 | T4: 2030 | U4: 2035 | V4: 2040 | X4: Resource | Y4: 2030 | Z4: 2035 | AA4: 2040 | AB4: 2030 | AC4: 2035 | AD4: 2040 | AE4: 2030 | AF4: 2035 | AG4: 2040 | AH4: 2030 | AI4: 2035 | AJ4: 2040 | AK4: 2030 | AL4: 2035 | AM4: 2040
B5: Nuclear | C5: =NYISO!B8 -> 5400.1001 | D5: =NYISO!D8 -> 3363.5 | E5: =NYISO!E8 -> 3364.2 | F5: =NYISO!F8 -> 3364.2 | G5: =NYISO!I8 -> 5400.1001 | H5: =NYISO!K8 -> 3346.1 | I5: =NYISO!L8 -> 3364.2 | J5: =NYISO!M8 -> 3364.2 | K5: ='Integration Analysis'!D4 -> 4860.2 | L5: ='Integration Analysis'!F4 -> 3355.2 | M5: ='Integration Analysis'!G4 -> 3355.2 | N5: ='Integration Analysis'!H4 -> 3355.2 | O5: ='Integration Analysis'!D22 -> 4860.2 | P5: ='Integration Analysis'!F22 -> 3355.2 | Q5: ='Integration Analysis'!G22 -> 3355.2 | R5: ='Integration Analysis'!H22 -> 3355.2 | S5: ='Integration Analysis'!D40 -> 4860.2 | T5: ='Integration Analysis'!F40 -> 3355.2 | U5: ='Integration Analysis'!G40 -> 3355.2 | V5: ='Integration Analysis'!H40 -> 3355.2 | X5: Nuclear | Y5: =(D5-C5)/C5 -> -0.37714118 | Z5: =(E5-C5)/C5 -> -0.37701155 | AA5: =(F5-C5)/C5 -> -0.37701155 | AB5: =(H5-G5)/G5 -> -0.38036334 | AC5: =(I5-G5)/G5 -> -0.37701155 | AD5: =(J5-G5)/G5 -> -0.37701155 | AE5: =(L5-K5)/K5 -> -0.30965804 | AF5: =(M5-K5)/K5 -> -0.30965804 | AG5: =(N5-K5)/K5 -> -0.30965804 | AH5: =(P5-O5)/O5 -> -0.30965804 | AI5: =(Q5-O5)/O5 -> -0.30965804 | AJ5: =(R5-O5)/O5 -> -0.30965804 | AK5: =(T5-S5)/S5 -> -0.30965804 | AL5: =(U5-S5)/S5 -> -0.30965804 | AM5: =(V5-S5)/S5 -> -0.30965804
B6: Fossil | C6: =NYISO!B9 -> 26262 | D6: =NYISO!D9 -> 21231.7 | E6: =NYISO!E9 -> 21233.7 | F6: =NYISO!F9 -> 0 | G6: =NYISO!I9 -> 26262 | H6: =NYISO!K9 -> 17650 | I6: =NYISO!L9 -> 16070.54 | J6: =NYISO!M9 -> 0 | K6: ='Integration Analysis'!D5 -> 26388.1 | L6: ='Integration Analysis'!F5 -> 21578.92 | M6: ='Integration Analysis'!G5 -> 18078.2 | N6: ='Integration Analysis'!H5 -> 0 | O6: ='Integration Analysis'!D23 -> 26388.1 | P6: ='Integration Analysis'!F23 -> 22397.68 | Q6: ='Integration Analysis'!G23 -> 14292.33 | R6: ='Integration Analysis'!H23 -> 0 | S6: ='Integration Analysis'!D41 -> 26388.1 | T6: ='Integration Analysis'!F41 -> 21579.05 | U6: ='Integration Analysis'!G41 -> 20326.41 | V6: ='Integration Analysis'!H41 -> 0 | X6: Fossil | Y6: =(D6-C6)/C6 -> -0.19154291 | Z6: =(E6-C6)/C6 -> -0.19146676 | AA6: =(F6-C6)/C6 -> -1 | AB6: =(H6-G6)/G6 -> -0.32792628 | AC6: =(I6-G6)/G6 -> -0.38806869 | AD6: =(J6-G6)/G6 -> -1 | AE6: =(L6-K6)/K6 -> -0.18224806 | AF6: =(M6-K6)/K6 -> -0.31491089 | AG6: =(N6-K6)/K6 -> -1 | AH6: =(P6-O6)/O6 -> -0.15122044 | AI6: =(Q6-O6)/O6 -> -0.45837972 | AJ6: =(R6-O6)/O6 -> -1 | AK6: =(T6-S6)/S6 -> -0.18224313 | AL6: =(U6-S6)/S6 -> -0.22971301 | AM6: =(V6-S6)/S6 -> -1 | AO6: =(I6-H6)/H6 -> -0.089487819
B7: Hydro | C7: =NYISO!B13 -> 6330.7199 | D7: =NYISO!D13 -> 7537.06 | E7: =NYISO!E13 -> 7539.66 | F7: =NYISO!F13 -> 7540.06 | G7: =NYISO!I13 -> 6330.7199 | H7: =NYISO!K13 -> 7660.27 | I7: =NYISO!L13 -> 7583.76 | J7: =NYISO!M13 -> 7584.16 | K7: ='Integration Analysis'!D8+'Integration Analysis'!D9+'Integration Analysis'!D10 -> 5753.86 | L7: ='Integration Analysis'!F8+'Integration Analysis'!F9+'Integration Analysis'!F10 -> 7344.86 | M7: ='Integration Analysis'!G8+'Integration Analysis'!G9+'Integration Analysis'!G10 -> 7344.86 | N7: ='Integration Analysis'!H8+'Integration Analysis'!H9+'Integration Analysis'!H10 -> 7348.19 | O7: ='Integration Analysis'!D26+'Integration Analysis'!D27+'Integration Analysis'!D28 -> 5753.86 | P7: ='Integration Analysis'!F26+'Integration Analysis'!F27+'Integration Analysis'!F28 -> 7344.86 | Q7: ='Integration Analysis'!G26+'Integration Analysis'!G27+'Integration Analysis'!G28 -> 7348.19 | R7: ='Integration Analysis'!H26+'Integration Analysis'!H27+'Integration Analysis'!H28 -> 7348.19 | S7: ='Integration Analysis'!D44+'Integration Analysis'!D45+'Integration Analysis'!D46 -> 5753.86 | T7: ='Integration Analysis'!F44+'Integration Analysis'!F45+'Integration Analysis'!F46 -> 7344.86 | U7: ='Integration Analysis'!G44+'Integration Analysis'!G45+'Integration Analysis'!G46 -> 7348.19 | V7: ='Integration Analysis'!H44+'Integration Analysis'!H45+'Integration Analysis'!H46 -> 7348.19 | X7: Hydro | Y7: =(D7-C7)/C7 -> 0.19055339 | Z7: =(E7-C7)/C7 -> 0.19096409 | AA7: =(F7-C7)/C7 -> 0.19102727 | AB7: =(H7-G7)/G7 -> 0.21001563 | AC7: =(I7-G7)/G7 -> 0.19793012 | AD7: =(J7-G7)/G7 -> 0.1979933 | AE7: =(L7-K7)/K7 -> 0.27651003 | AF7: =(M7-K7)/K7 -> 0.27651003 | AG7: =(N7-K7)/K7 -> 0.27708877 | AH7: =(P7-O7)/O7 -> 0.27651003 | AI7: =(Q7-O7)/O7 -> 0.27708877 | AJ7: =(R7-O7)/O7 -> 0.27708877 | AK7: =(T7-S7)/S7 -> 0.27651003 | AL7: =(U7-S7)/S7 -> 0.27708877 | AM7: =(V7-S7)/S7 -> 0.27708877
B8: LBW | C8: =NYISO!B14 -> 1985.3 | D8: =NYISO!D14 -> 9086.2 | E8: =NYISO!E14 -> 12611.9 | F8: =NYISO!F14 -> 19087.2 | G8: =NYISO!I14 -> 1985.3 | H8: =NYISO!K14 -> 5889.83 | I8: =NYISO!L14 -> 12366.4 | J8: =NYISO!M14 -> 19087.2 | K8: ='Integration Analysis'!D11+'Integration Analysis'!D12 -> 1916.9 | L8: ='Integration Analysis'!F11+'Integration Analysis'!F12 -> 5573.93 | M8: ='Integration Analysis'!G11+'Integration Analysis'!G12 -> 10059.83 | N8: ='Integration Analysis'!H11+'Integration Analysis'!H12 -> 12242.2 | O8: ='Integration Analysis'!D29+'Integration Analysis'!D30 -> 1916.9 | P8: ='Integration Analysis'!F29+'Integration Analysis'!F30 -> 7021.13 | Q8: ='Integration Analysis'!G29+'Integration Analysis'!G30 -> 10668.14 | R8: ='Integration Analysis'!H29+'Integration Analysis'!H30 -> 12522.63 | S8: ='Integration Analysis'!D47+'Integration Analysis'!D48 -> 1916.9 | T8: ='Integration Analysis'!F47+'Integration Analysis'!F48 -> 6508.42 | U8: ='Integration Analysis'!G47+'Integration Analysis'!G48 -> 10461.43 | V8: ='Integration Analysis'!H47+'Integration Analysis'!H48 -> 12679.25 | X8: LBW | Y8: =(D8-C8)/C8 -> 3.576739 | Z8: =(E8-C8)/C8 -> 5.3526419 | AA8: =(F8-C8)/C8 -> 8.6142648 | AB8: =(H8-G8)/G8 -> 1.9667204 | AC8: =(I8-G8)/G8 -> 5.228983 | AD8: =(J8-G8)/G8 -> 8.6142648 | AE8: =(L8-K8)/K8 -> 1.9077834 | AF8: =(M8-K8)/K8 -> 4.2479681 | AG8: =(N8-K8)/K8 -> 5.3864573 | AH8: =(P8-O8)/O8 -> 2.6627524 | AI8: =(Q8-O8)/O8 -> 4.5653086 | AJ8: =(R8-O8)/O8 -> 5.5327508 | AK8: =(T8-S8)/S8 -> 2.3952841 | AL8: =(U8-S8)/S8 -> 4.457473 | AM8: =(V8-S8)/S8 -> 5.6144556 | AO8: =AVERAGE(F8,J8) -> 19087.2 | AP8: =AVERAGE(N8,R8,V8) -> 12481.36 | AQ8: =AO8-AP8 -> 6605.84 | AR8: =AQ8/AP8 -> 0.52925643
B9: OSW | C9: =NYISO!B15 -> 0 | D9: =NYISO!D15 -> 5036 | E9: =NYISO!E15 -> 9000 | F9: =NYISO!F15 -> 9000 | G9: =NYISO!I15 -> 0 | H9: =NYISO!K15 -> 7436 | I9: =NYISO!L15 -> 9000 | J9: =NYISO!M15 -> 9720 | K9: ='Integration Analysis'!D13 -> 0 | L9: ='Integration Analysis'!F13 -> 6200 | M9: ='Integration Analysis'!G13 -> 9906.4 | N9: ='Integration Analysis'!H13 -> 14363.65 | O9: ='Integration Analysis'!D31 -> 0 | P9: ='Integration Analysis'!F31 -> 6600 | Q9: ='Integration Analysis'!G31 -> 10422.76 | R9: ='Integration Analysis'!H31 -> 16756.49 | S9: ='Integration Analysis'!D49 -> 0 | T9: ='Integration Analysis'!F49 -> 6600 | U9: ='Integration Analysis'!G49 -> 9967.44 | V9: ='Integration Analysis'!H49 -> 15874.67 | X9: OSW | AO9: =AVERAGE(F9,J9) -> 9360 | AP9: =AVERAGE(N9,R9,V9) -> 15664.937 | AQ9: =AO9-AP9 -> -6304.9367 | AR9: =AQ9/AP9 -> -0.40248721
B10: Solar | C10: =NYISO!B16+NYISO!B17 -> 2147.5 | D10: =NYISO!D16+NYISO!D17 -> 14731.1 | E10: =NYISO!E16+NYISO!E17 -> 15504.1 | F10: =NYISO!F16+NYISO!F17 -> 15874.1 | G10: =NYISO!I16+NYISO!I17 -> 2147.5 | H10: =NYISO!K16+NYISO!K17 -> 14199.1 | I10: =NYISO!L16+NYISO!L17 -> 25049.09 | J10: =NYISO!M16+NYISO!M17 -> 44369.72 | K10: ='Integration Analysis'!D14 -> 2591.84 | L10: ='Integration Analysis'!F14 -> 18851.97 | M10: ='Integration Analysis'!G14 -> 28993.94 | N10: ='Integration Analysis'!H14 -> 43431.95 | O10: ='Integration Analysis'!D32 -> 2591.84 | P10: ='Integration Analysis'!F32 -> 16762.46 | Q10: ='Integration Analysis'!G32 -> 28625.44 | R10: ='Integration Analysis'!H32 -> 41420.31 | S10: ='Integration Analysis'!D50 -> 2591.84 | T10: ='Integration Analysis'!F50 -> 18060.33 | U10: ='Integration Analysis'!G50 -> 29841.48 | V10: ='Integration Analysis'!H50 -> 41623.44 | X10: Solar | Y10: =(D10-C10)/C10 -> 5.8596508 | Z10: =(E10-C10)/C10 -> 6.2196042 | AA10: =(F10-C10)/C10 -> 6.3918976 | AB10: =(H10-G10)/G10 -> 5.6119208 | AC10: =(I10-G10)/G10 -> 10.664303 | AD10: =(J10-G10)/G10 -> 19.661104 | AE10: =(L10-K10)/K10 -> 6.2735856 | AF10: =(M10-K10)/K10 -> 10.186624 | AG10: =(N10-K10)/K10 -> 15.757188 | AH10: =(P10-O10)/O10 -> 5.4673977 | AI10: =(Q10-O10)/O10 -> 10.044447 | AJ10: =(R10-O10)/O10 -> 14.981044 | AK10: =(T10-S10)/S10 -> 5.96815 | AL10: =(U10-S10)/S10 -> 10.513627 | AM10: =(V10-S10)/S10 -> 15.059417 | AO10: =F10 -> 15874.1 | AP10: =AVERAGE(N10,R10,V10,J10) -> 42711.355 | AQ10: =AO10-AP10 -> -26837.255 | AR10: =AQ10/AP10 -> -0.62834005
B11: Storage | C11: =NYISO!B18 -> 1405.1 | D11: =NYISO!D18 -> 4409.9 | E11: =NYISO!E18 -> 5792.57 | F11: =NYISO!F18 -> 11450.03 | G11: =NYISO!I18 -> 1405.1 | H11: =NYISO!K18 -> 4409.9 | I11: =NYISO!L18 -> 6147.47 | J11: =NYISO!M18 -> 12809.9 | K11: ='Integration Analysis'!D15+'Integration Analysis'!D16 -> 2185.4 | L11: ='Integration Analysis'!F15+'Integration Analysis'!F16 -> 4435.46 | M11: ='Integration Analysis'!G15+'Integration Analysis'!G16 -> 7226.42 | N11: ='Integration Analysis'!H15+'Integration Analysis'!H16 -> 12148.57 | O11: ='Integration Analysis'!D33+'Integration Analysis'!D34 -> 2185.42 | P11: ='Integration Analysis'!F33+'Integration Analysis'!F34 -> 4435.46 | Q11: ='Integration Analysis'!G33+'Integration Analysis'!G34 -> 9525.35 | R11: ='Integration Analysis'!H33+'Integration Analysis'!H34 -> 13642.42 | S11: ='Integration Analysis'!D51+'Integration Analysis'!D52 -> 2185.4 | T11: ='Integration Analysis'!F51+'Integration Analysis'!F52 -> 4435.42 | U11: ='Integration Analysis'!G51+'Integration Analysis'!G52 -> 7745.92 | V11: ='Integration Analysis'!H51+'Integration Analysis'!H52 -> 13011.59 | X11: Storage | Y11: =(D11-C11)/C11 -> 2.1384955 | Z11: =(E11-C11)/C11 -> 3.1225323 | AA11: =(F11-C11)/C11 -> 7.1489077 | AB11: =(H11-G11)/G11 -> 2.1384955 | AC11: =(I11-G11)/G11 -> 3.3751122 | AD11: =(J11-G11)/G11 -> 8.1167178 | AE11: =(L11-K11)/K11 -> 1.0295873 | AF11: =(M11-K11)/K11 -> 2.3066807 | AG11: =(N11-K11)/K11 -> 4.5589686 | AH11: =(P11-O11)/O11 -> 1.0295687 | AI11: =(Q11-O11)/O11 -> 3.3585901 | AJ11: =(R11-O11)/O11 -> 5.2424706 | AK11: =(T11-S11)/S11 -> 1.029569 | AL11: =(U11-S11)/S11 -> 2.5443946 | AM11: =(V11-S11)/S11 -> 4.9538711
B12: DEFR | C12: =SUM(NYISO!B10:B12) -> 0 | D12: =SUM(NYISO!D10:D12) -> 419.64 | E12: =SUM(NYISO!E10:E12) -> 7052.56 | F12: =SUM(NYISO!F10:F12) -> 44750.23 | G12: =SUM(NYISO!I10:I12) -> 0 | H12: =SUM(NYISO!K10:K12) -> 819.31 | I12: =SUM(NYISO!L10:L12) -> 3990.04 | J12: =SUM(NYISO!M10:M12) -> 27200 | K12: ='Integration Analysis'!D6 -> 0 | L12: ='Integration Analysis'!F6 -> 0 | M12: ='Integration Analysis'!G6 -> 0 | N12: ='Integration Analysis'!H6 -> 21015.35 | O12: ='Integration Analysis'!D24 -> 0 | P12: ='Integration Analysis'!F24 -> 0 | Q12: ='Integration Analysis'!G24 -> 5489.27 | R12: ='Integration Analysis'!H24 -> 23521.59 | S12: ='Integration Analysis'!D42 -> 0 | T12: ='Integration Analysis'!F42 -> 0 | U12: ='Integration Analysis'!G42 -> 0 | V12: ='Integration Analysis'!H42 -> 23676.28 | X12: DEFR | AO12: =F12 -> 44750.23 | AP12: =AVERAGE(N12,R12,V12,J12) -> 23853.305 | AQ12: =AO12-AP12 -> 20896.925 | AR12: =AQ12/AP12 -> 0.87605994
B13: Other | K13: ='Integration Analysis'!D7 -> 327 | L13: ='Integration Analysis'!F7 -> 327 | M13: ='Integration Analysis'!G7 -> 327 | N13: ='Integration Analysis'!H7 -> 327 | O13: ='Integration Analysis'!D25 -> 327 | P13: ='Integration Analysis'!F25 -> 327 | Q13: ='Integration Analysis'!G25 -> 327 | R13: ='Integration Analysis'!H25 -> 327 | S13: ='Integration Analysis'!D43 -> 327 | T13: ='Integration Analysis'!F43 -> 327 | U13: ='Integration Analysis'!G43 -> 327 | V13: ='Integration Analysis'!H43 -> 327 | X13: Other
B14: Total | C14: =SUM(C5:C13) -> 43530.72 | D14: =SUM(D5:D13) -> 65815.1 | E14: =SUM(E5:E13) -> 82098.69 | F14: =SUM(F5:F13) -> 111065.82 | G14: =SUM(G5:G13) -> 43530.72 | H14: =SUM(H5:H13) -> 61410.51 | I14: =SUM(I5:I13) -> 83571.5 | J14: =SUM(J5:J13) -> 124135.18 | ... V14: =SUM(V5:V13) -> 117895.62 | X14: Total | AT14: =(L14-H14)/H14 -> 0.10188533
B16: NYISO Outlook Study Scenarios and Integration Analysis Mitigation Scenarios Generation (GWhr) | X16: NYISO Outlook Study Scenarios and Integration Analysis Mitigation Scenarios Generation (GWhr)
C17: NYISO Outlook Scenario 1 | G17: NYISO Outlook Scenario 2 | K17: Strategic Use of Low-Carbon Fuels | O17: Accelerated Transition from Combustion | S17: Beyond 85% Reduction | Y17: Resource 1 | AB17: Resource 2 | AE17: Integration 2 | AH17: Integration 3 | AK17: Integration 4
B18: Resource | C18: 2019 | D18: 2030 | E18: 2035 | F18: 2040 | G18: 2019 | H18: 2030 | I18: 2035 | J18: 2040 | K18: 2020 | L18: 2030 | M18: 2035 | N18: 2040 | O18: 2020 | P18: 2030 | Q18: 2035 | R18: 2040 | S18: 2020 | T18: 2030 | U18: 2035 | V18: 2040 | X18: Resource | Y18: 2030 | Z18: 2035 | AA18: 2040 | AB18: 2030 | AC18: 2035 | AD18: 2040 | AE18: 2030 | AF18: 2035 | AG18: 2040 | AH18: 2030 | AI18: 2035 | AJ18: 2040 | AK18: 2030 | AL18: 2035 | AM18: 2040
B19: Nuclear | C19: =NYISO!B23 -> 45428.501 | D19: =NYISO!D23 -> 27444.03 | E19: =NYISO!E23 -> 28338.13 | F19: =NYISO!F23 -> 27092.16 | G19: =NYISO!I23 -> 45428.501 | H19: =NYISO!K23 -> 27444.03 | I19: =NYISO!L23 -> 28338.13 | J19: =NYISO!M23 -> 27092.16 | K19: ='Integration Analysis'!O4 -> 38317.817 | L19: ='Integration Analysis'!Q4 -> 26452.397 | M19: ='Integration Analysis'!R4 -> 26452.397 | N19: ='Integration Analysis'!S4 -> 26452.397 | O19: ='Integration Analysis'!O22 -> 38317.817 | P19: ='Integration Analysis'!Q22 -> 26452.397 | Q19: ='Integration Analysis'!R22 -> 26452.397 | R19: ='Integration Analysis'!S22 -> 26452.397 | S19: ='Integration Analysis'!O40 -> 38317.817 | T19: ='Integration Analysis'!Q40 -> 26452.397 | U19: ='Integration Analysis'!R40 -> 26452.397 | V19: ='Integration Analysis'!S40 -> 26452.397 | X19: Nuclear | Y19: =(D19-C19)/C19 -> -0.39588519 | Z19: =(E19-C19)/C19 -> -0.37620371 | AA19: =(F19-C19)/C19 -> -0.40363077 | AB19: =(H19-G19)/G19 -> -0.39588519 | AC19: =(I19-G19)/G19 -> -0.37620371 | AD19: =(J19-G19)/G19 -> -0.40363077 | AE19: =(L19-K19)/K19 -> -0.30965804 | AF19: =(M19-K19)/K19 -> -0.30965804 | AG19: =(N19-K19)/K19 -> -0.30965804 | AH19: =(P19-O19)/O19 -> -0.30965804 | AI19: =(Q19-O19)/O19 -> -0.30965804 | AJ19: =(R19-O19)/O19 -> -0.30965804 | AK19: =(T19-S19)/S19 -> -0.30965804 | AL19: =(U19-S19)/S19 -> -0.30965804 | AM19: =(V19-S19)/S19 -> -0.30965804
B20: Fossil | C20: =NYISO!B24 -> 50519.666 | D20: =NYISO!D24 -> 19987.32 | E20: =NYISO!E24 -> 14516.19 | F20: =NYISO!F24 -> 0 | G20: =NYISO!I24 -> 50519.666 | H20: =NYISO!K24 -> 20066.34 | I20: =NYISO!L24 -> 18908.41 | J20: =NYISO!M24 -> 0 | K20: ='Integration Analysis'!O5 -> 70449.428 | L20: ='Integration Analysis'!Q5 -> 24561.805 | M20: ='Integration Analysis'!R5 -> 19650.905 | N20: ='Integration Analysis'!S5 -> 0 | O20: ='Integration Analysis'!O23 -> 70460.574 | P20: ='Integration Analysis'!Q23 -> 25668.426 | Q20: ='Integration Analysis'!R23 -> 21230.791 | R20: ='Integration Analysis'!S23 -> 0 | S20: ='Integration Analysis'!O41 -> 70458.67 | T20: ='Integration Analysis'!Q41 -> 25586.595 | U20: ='Integration Analysis'!R41 -> 20849.757 | V20: ='Integration Analysis'!S41 -> 0 | X20: Fossil | Y20: =(D20-C20)/C20 -> -0.60436555 | Z20: =(E20-C20)/C20 -> -0.71266259 | AA20: =(F20-C20)/C20 -> -1 | AB20: =(H20-G20)/G20 -> -0.60280141 | AC20: =(I20-G20)/G20 -> -0.62572179 | AD20: =(J20-G20)/G20 -> -1 | AE20: =(L20-K20)/K20 -> -0.6513555 | AF20: =(M20-K20)/K20 -> -0.72106367 | AG20: =(N20-K20)/K20 -> -1 | AH20: =(P20-O20)/O20 -> -0.63570513 | AI20: =(Q20-O20)/O20 -> -0.69868552 | AJ20: =(R20-O20)/O20 -> -1 | AK20: =(T20-S20)/S20 -> -0.63685669 | AL20: =(U20-S20)/S20 -> -0.70408528 | AM20: =(V20-S20)/S20 -> -1
B21: Hydro | C21: =NYISO!B28 -> 40033.57 | D21: =NYISO!D28 -> 46342.39 | E21: =NYISO!E28 -> 46392.32 | F21: =NYISO!F28 -> 46391.01 | G21: =NYISO!I28 -> 40033.57 | H21: =NYISO!K28 -> 46342.39 | I21: =NYISO!L28 -> 46392.32 | J21: =NYISO!M28 -> 46391.01 | K21: ='Integration Analysis'!O8+'Integration Analysis'!O9+'Integration Analysis'!O10 -> 37481.409 | L21: ='Integration Analysis'!Q8+'Integration Analysis'!Q9+'Integration Analysis'!Q10 -> 49977.606 | M21: ='Integration Analysis'!R8+'Integration Analysis'!R9+'Integration Analysis'!R10 -> 50083.89 | N21: ='Integration Analysis'!S8+'Integration Analysis'!S9+'Integration Analysis'!S10 -> 49165.462 | O21: ='Integration Analysis'!O26+'Integration Analysis'!O27+'Integration Analysis'!O28 -> 37481.772 | P21: ='Integration Analysis'!Q26+'Integration Analysis'!Q27+'Integration Analysis'!Q28 -> 49990.875 | Q21: ='Integration Analysis'!R26+'Integration Analysis'!R27+'Integration Analysis'!R28 -> 50113.877 | R21: ='Integration Analysis'!S26+'Integration Analysis'!S27+'Integration Analysis'!S28 -> 49102.749 | S21: ='Integration Analysis'!O44+'Integration Analysis'!O45+'Integration Analysis'!O46 -> 37481.687 | T21: ='Integration Analysis'!Q44+'Integration Analysis'!Q45+'Integration Analysis'!Q46 -> 49987.055 | U21: ='Integration Analysis'!R44+'Integration Analysis'!R45+'Integration Analysis'!R46 -> 50114.8 | V21: ='Integration Analysis'!S44+'Integration Analysis'!S45+'Integration Analysis'!S46 -> 49143.857 | X21: Hydro | Y21: =(D21-C21)/C21 -> 0.15758823 | Z21: =(E21-C21)/C21 -> 0.15883544 | AA21: =(F21-C21)/C21 -> 0.15880271 | AB21: =(H21-G21)/G21 -> 0.15758823 | AC21: =(I21-G21)/G21 -> 0.15883544 | AD21: =(J21-G21)/G21 -> 0.15880271 | AE21: =(L21-K21)/K21 -> 0.33339719 | AF21: =(M21-K21)/K21 -> 0.33623285 | AG21: =(N21-K21)/K21 -> 0.31172928 | AH21: =(P21-O21)/O21 -> 0.33373833 | AI21: =(Q21-O21)/O21 -> 0.33701997 | AJ21: =(R21-O21)/O21 -> 0.31004343 | AK21: =(T21-S21)/S21 -> 0.33363941 | AL21: =(U21-S21)/S21 -> 0.3370476 | AM21: =(V21-S21)/S21 -> 0.31114314
B22: LBW | C22: =NYISO!B29 -> 4415.606 | D22: =NYISO!D29 -> 26971.24 | E22: =NYISO!E29 -> 38296.81 | F22: =NYISO!F29 -> 59361.62 | G22: =NYISO!I29 -> 4415.606 | H22: =NYISO!K29 -> 16493.5 | I22: =NYISO!L29 -> 37460.47 | J22: =NYISO!M29 -> 59361.62 | K22: ='Integration Analysis'!O11+'Integration Analysis'!O12 -> 4796.1884 | L22: ='Integration Analysis'!Q11+'Integration Analysis'!Q12 -> 16817.042 | M22: ='Integration Analysis'!R11+'Integration Analysis'!R12 -> 34039.035 | N22: ='Integration Analysis'!S11+'Integration Analysis'!S12 -> 41165.243 | O22: ='Integration Analysis'!O29+'Integration Analysis'!O30 -> 4796.1919 | P22: ='Integration Analysis'!Q29+'Integration Analysis'!Q30 -> 21840.594 | Q22: ='Integration Analysis'!R29+'Integration Analysis'!R30 -> 35518.856 | R22: ='Integration Analysis'!S29+'Integration Analysis'!S30 -> 41801.617 | S22: ='Integration Analysis'!O47+'Integration Analysis'!O48 -> 4796.2038 | T22: ='Integration Analysis'!Q47+'Integration Analysis'!Q48 -> 20415.059 | U22: ='Integration Analysis'!R47+'Integration Analysis'!R48 -> 35310.601 | V22: ='Integration Analysis'!S47+'Integration Analysis'!S48 -> 42309.507 | X22: LBW | Y22: =(D22-C22)/C22 -> 5.1081627 | Z22: =(E22-C22)/C22 -> 7.6730587 | AA22: =(F22-C22)/C22 -> 12.443595 | AB22: =(H22-G22)/G22 -> 2.7352744 | AC22: =(I22-G22)/G22 -> 7.4836532 | AD22: =(J22-G22)/G22 -> 12.443595 | AE22: =(L22-K22)/K22 -> 2.5063348 | AF22: =(M22-K22)/K22 -> 6.0971013 | AG22: =(N22-K22)/K22 -> 7.582908 | AH22: =(P22-O22)/O22 -> 3.5537365 | AI22: =(Q22-O22)/O22 -> 6.4056369 | AJ22: =(R22-O22)/O22 -> 7.7155847 | AK22: =(T22-S22)/S22 -> 3.2565037 | AL22: =(U22-S22)/S22 -> 6.3621977 | AM22: =(V22-S22)/S22 -> 7.8214573 | AO22: =AVERAGE(F22,J22) -> 59361.62 | AP22: =AVERAGE(N22,R22,V22) -> 41758.789 | AQ22: =AO22-AP22 -> 17602.831 | AR22: =AQ22/AP22 -> 0.42153595
B23: OSW | C23: =NYISO!B30 -> 0 | D23: =NYISO!D30 -> 20185.51 | E23: =NYISO!E30 -> 35459.62 | F23: =NYISO!F30 -> 35646.87 | G23: =NYISO!I30 -> 0 | H23: =NYISO!K30 -> 28865.32 | I23: =NYISO!L30 -> 35247 | J23: =NYISO!M30 -> 38387.81 | K23: ='Integration Analysis'!O13 -> 0 | L23: ='Integration Analysis'!Q13 -> 25656.994 | M23: ='Integration Analysis'!R13 -> 41015.964 | N23: ='Integration Analysis'!S13 -> 59777.951 | O23: ='Integration Analysis'!O31 -> 0 | P23: ='Integration Analysis'!Q31 -> 27293.351 | Q23: ='Integration Analysis'!R31 -> 43152.869 | R23: ='Integration Analysis'!S31 -> 69388.446 | S23: ='Integration Analysis'!O49 -> 0 | T23: ='Integration Analysis'!Q49 -> 27293.368 | U23: ='Integration Analysis'!R49 -> 41237.053 | V23: ='Integration Analysis'!S49 -> 65700.344 | X23: OSW | AO23: =AVERAGE(F23,J23) -> 37017.34 | AP23: =AVERAGE(N23,R23,V23) -> 64955.58 | AQ23: =AO23-AP23 -> -27938.24 | AR23: =AQ23/AP23 -> -0.43011301
B24: Solar | C24: =NYISO!B31+NYISO!B32 -> 2811.847 | D24: =NYISO!D31+NYISO!D32 -> 19884.22 | E24: =NYISO!E31+NYISO!E32 -> 20799.87 | F24: =NYISO!F31+NYISO!F32 -> 21272.79 | G24: =NYISO!I31+NYISO!I32 -> 2811.847 | H24: =NYISO!K31+NYISO!K32 -> 23277.55 | I24: =NYISO!L31+NYISO!L32 -> 36884.02 | J24: =NYISO!M31+NYISO!M32 -> 60924.59 | K24: ='Integration Analysis'!O14 -> 3908.3566 | L24: ='Integration Analysis'!Q14 -> 32964.64 | M24: ='Integration Analysis'!R14 -> 52780.975 | N24: ='Integration Analysis'!S14 -> 80619.97 | O24: ='Integration Analysis'!O32 -> 3908.3553 | P24: ='Integration Analysis'!Q32 -> 28595.687 | Q24: ='Integration Analysis'!R32 -> 51328.322 | R24: ='Integration Analysis'!S32 -> 75966.091 | S24: ='Integration Analysis'!O50 -> 3908.3879 | T24: ='Integration Analysis'!Q50 -> 31293.232 | U24: ='Integration Analysis'!R50 -> 53920.945 | V24: ='Integration Analysis'!S50 -> 76464.763 | X24: Solar | Y24: =(D24-C24)/C24 -> 6.0715868 | Z24: =(E24-C24)/C24 -> 6.3972268 | AA24: =(F24-C24)/C24 -> 6.5654152 | AB24: =(H24-G24)/G24 -> 7.2783843 | AC24: =(I24-G24)/G24 -> 12.117364 | AD24: =(J24-G24)/G24 -> 20.667107 | AE24: =(L24-K24)/K24 -> 7.4343992 | AF24: =(M24-K24)/K24 -> 12.504647 | AG24: =(N24-K24)/K24 -> 19.627588 | AH24: =(P24-O24)/O24 -> 6.3165525 | AI24: =(Q24-O24)/O24 -> 12.132973 | AJ24: =(R24-O24)/O24 -> 18.436844 | AK24: =(T24-S24)/S24 -> 7.0066854 | AL24: =(U24-S24)/S24 -> 12.796211 | AM24: =(V24-S24)/S24 -> 18.564272 | AO24: =F24 -> 21272.79 | AP24: =AVERAGE(N24,R24,V24,J24) -> 73493.853 | AQ24: =AO24-AP24 -> -52221.063 | AR24: =AQ24/AP24 -> -0.71055008
B25: Storage | C25: =NYISO!B33 -> 611.56729 | D25: =NYISO!D33 -> 7003.71 | E25: =NYISO!E33 -> 10084.12 | F25: =NYISO!F33 -> 21339.48 | G25: =NYISO!I33 -> 611.56729 | H25: =NYISO!K33 -> 2085.91 | I25: =NYISO!L33 -> 4492.14 | J25: =NYISO!M33 -> 13413.65 | K25: ='Integration Analysis'!O15+'Integration Analysis'!O16 -> -89.958801 | L25: ='Integration Analysis'!Q15+'Integration Analysis'!Q16 -> -1007.0577 | M25: ='Integration Analysis'!R15+'Integration Analysis'!R16 -> -1666.4707 | N25: ='Integration Analysis'!S15+'Integration Analysis'!S16 -> -2543.3679 | O25: ='Integration Analysis'!O33+'Integration Analysis'!O34 -> -89.870237 | P25: ='Integration Analysis'!Q33+'Integration Analysis'!Q34 -> -1044.7773 | Q25: ='Integration Analysis'!R33+'Integration Analysis'!R34 -> -1989.1164 | R25: ='Integration Analysis'!S33+'Integration Analysis'!S34 -> -2730.4351 | S25: ='Integration Analysis'!O51+'Integration Analysis'!O52 -> -89.501483 | T25: ='Integration Analysis'!Q51+'Integration Analysis'!Q52 -> -1031.9951 | U25: ='Integration Analysis'!R51+'Integration Analysis'!R52 -> -1943.7356 | V25: ='Integration Analysis'!S51+'Integration Analysis'!S52 -> -2725.9938 | X25: Storage | Y25: =(D25-C25)/C25 -> 10.452068 | Z25: =(E25-C25)/C25 -> 15.488979 | AA25: =(F25-C25)/C25 -> 33.893102 | AB25: =(H25-G25)/G25 -> 2.4107612 | AC25: =(I25-G25)/G25 -> 6.3452914 | AD25: =(J25-G25)/G25 -> 20.933236 | AE25: =(L25-K25)/K25 -> 10.194654 | AF25: =(M25-K25)/K25 -> 17.524821 | AG25: =(N25-K25)/K25 -> 27.272585 | AH25: =(P25-O25)/O25 -> 10.625399 | AI25: =(Q25-O25)/O25 -> 21.133205 | AJ25: =(R25-O25)/O25 -> 29.381973 | AK25: =(T25-S25)/S25 -> 10.53048 | AL25: =(U25-S25)/S25 -> 20.717356 | AM25: =(V25-S25)/S25 -> 29.457526
B26: DEFR | C26: =SUM(NYISO!B25:B27) -> 0 | D26: =SUM(NYISO!D25:D27) -> 0 | E26: =SUM(NYISO!E25:E27) -> 0 | F26: =SUM(NYISO!F25:F27) -> 34005.49 | G26: =SUM(NYISO!I25:I27) -> 0 | H26: =SUM(NYISO!K25:K27) -> 0 | I26: =SUM(NYISO!L25:L27) -> 0 | J26: =SUM(NYISO!M25:M27) -> 5583.72 | K26: ='Integration Analysis'!O6 -> 0 | L26: ='Integration Analysis'!Q6 -> 0 | M26: ='Integration Analysis'!R6 -> 0 | N26: ='Integration Analysis'!S6 -> 3342.2618 | O26: ='Integration Analysis'!O24 -> 0 | P26: ='Integration Analysis'!Q24 -> 0 | Q26: ='Integration Analysis'!R24 -> 0 | R26: ='Integration Analysis'!S24 -> 4439.5272 | S26: ='Integration Analysis'!O42 -> 0 | T26: ='Integration Analysis'!Q42 -> 0 | U26: ='Integration Analysis'!R42 -> 0 | V26: ='Integration Analysis'!S42 -> 4643.5427 | X26: DEFR | AO26: =F26 -> 34005.49 | AP26: =AVERAGE(N26,R26,V26,J26) -> 4502.2629 | AQ26: =AO26-AP26 -> 29503.227 | AR26: =AQ26/AP26 -> 6.5529774
B27: Other | K27: ='Integration Analysis'!O7 -> 2721.2064 | L27: ='Integration Analysis'!Q7 -> 2721.2064 | M27: ='Integration Analysis'!R7 -> 2721.2064 | N27: ='Integration Analysis'!S7 -> 2721.2064 | O27: ='Integration Analysis'!O25 -> 2721.2064 | P27: ='Integration Analysis'!Q25 -> 2721.2064 | Q27: ='Integration Analysis'!R25 -> 2721.2064 | R27: ='Integration Analysis'!S25 -> 2721.2064 | S27: ='Integration Analysis'!O43 -> 2721.2064 | T27: ='Integration Analysis'!Q43 -> 2721.2064 | U27: ='Integration Analysis'!R43 -> 2721.2064 | V27: ='Integration Analysis'!S43 -> 2721.2064 | X27: Other
B28: Total | C28: =SUM(C19:C27) -> 143820.76 | D28: =SUM(D19:D27) -> 167818.42 | E28: =SUM(E19:E27) -> 193887.06 | F28: =SUM(F19:F27) -> 245109.42 | G28: =SUM(G19:G27) -> 143820.76 | H28: =SUM(H19:H27) -> 164575.04 | I28: =SUM(I19:I27) -> 207722.49 | J28: =SUM(J19:J27) -> 251154.56 | ... V28: =SUM(V19:V27) -> 264709.62 | X28: Total | AT28: =(L28-H28)/H28 -> 0.082452313
B30: NYISO Outlook Study Scenarios and Integration Analysis Mitigation Scenarios capacity Factors (%)
C31: NYISO Outlook Scenario 1 | G31: NYISO Outlook Scenario 2 | K31: Strategic Use of Low-Carbon Fuels | O31: Accelerated Transition from Combustion | S31: Beyond 85% Reduction
B32: Resource | C32: 2019 | D32: 2030 | E32: 2035 | F32: 2040 | G32: 2019 | H32: 2030 | I32: 2035 | J32: 2040 | K32: 2020 | L32: 2030 | M32: 2035 | N32: 2040 | O32: 2020 | P32: 2030 | Q32: 2035 | R32: 2040 | S32: 2020 | T32: 2030 | U32: 2035 | V32: 2040
B33: Nuclear | C33: =IF(C5>0,C19/(C5*8.76),"") -> 0.9603344 | D33: =IF(D5>0,D19/(D5*8.76),"") -> 0.93143456 | E33: =IF(E5>0,E19/(E5*8.76),"") -> 0.96157968 | F33: =IF(F5>0,F19/(F5*8.76),"") -> 0.91930097 | G33: =IF(G5>0,G19/(G5*8.76),"") -> 0.9603344 | H33: =IF(H5>0,H19/(H5*8.76),"") -> 0.9362781 | I33: =IF(I5>0,I19/(I5*8.76),"") -> 0.96157968 | J33: =IF(J5>0,J19/(J5*8.76),"") -> 0.91930097 | ... V33: =IF(V5>0,V19/(V5*8.76),"") -> 0.9
B34: Fossil | C34: =IF(C6>0,C20/(C6*8.76),"") -> 0.21959809 | D34: =IF(D6>0,D20/(D6*8.76),"") -> 0.10746467 | E34: =IF(E6>0,E20/(E6*8.76),"") -> 0.078041006 | F34: =IF(F6>0,F20/(F6*8.76),"") | G34: =IF(G6>0,G20/(G6*8.76),"") -> 0.21959809 | H34: =IF(H6>0,H20/(H6*8.76),"") -> 0.12978346 | I34: =IF(I6>0,I20/(I6*8.76),"") -> 0.13431374 | J34: =IF(J6>0,J20/(J6*8.76),"") | ... V34: =IF(V6>0,V20/(V6*8.76),"")
B35: Hydro | C35: =IF(C7>0,C21/(C7*8.76),"") -> 0.72188351 | D35: =IF(D7>0,D21/(D7*8.76),"") -> 0.70189532 | E35: =IF(E7>0,E21/(E7*8.76),"") -> 0.70240925 | F35: =IF(F7>0,F21/(F7*8.76),"") -> 0.70235216 | G35: =IF(G7>0,G21/(G7*8.76),"") -> 0.72188351 | H35: =IF(H7>0,H21/(H7*8.76),"") -> 0.69060584 | I35: =IF(I7>0,I21/(I7*8.76),"") -> 0.6983247 | J35: =IF(J7>0,J21/(J7*8.76),"") -> 0.69826815 | ... V35: =IF(V7>0,V21/(V7*8.76),"") -> 0.7634573
B36: LBW | C36: =IF(C8>0,C22/(C8*8.76),"") -> 0.25389846 | D36: =IF(D8>0,D22/(D8*8.76),"") -> 0.33885548 | E36: =IF(E8>0,E22/(E8*8.76),"") -> 0.34663944 | F36: =IF(F8>0,F22/(F8*8.76),"") -> 0.35502539 | G36: =IF(G8>0,G22/(G8*8.76),"") -> 0.25389846 | H36: =IF(H8>0,H22/(H8*8.76),"") -> 0.319673 | I36: =IF(I8>0,I22/(I8*8.76),"") -> 0.34580067 | J36: =IF(J8>0,J22/(J8*8.76),"") -> 0.35502539 | ... V36: =IF(V8>0,V22/(V8*8.76),"") -> 0.38092572
B37: OSW | C37: =IF(C9>0,C23/(C9*8.76),"") | D37: =IF(D9>0,D23/(D9*8.76),"") -> 0.45756195 | E37: =IF(E9>0,E23/(E9*8.76),"") -> 0.44976687 | F37: =IF(F9>0,F23/(F9*8.76),"") -> 0.45214193 | G37: =IF(G9>0,G23/(G9*8.76),"") | H37: =IF(H9>0,H23/(H9*8.76),"") -> 0.44313177 | I37: =IF(I9>0,I23/(I9*8.76),"") -> 0.44707002 | J37: =IF(J9>0,J23/(J9*8.76),"") -> 0.45084054 | ... V37: =IF(V9>0,V23/(V9*8.76),"") -> 0.47245324
B38: Solar | C38: =IF(C10>0,C24/(C10*8.76),"") -> 0.14947013 | D38: =IF(D10>0,D24/(D10*8.76),"") -> 0.15408816 | E38: =IF(E10>0,E24/(E10*8.76),"") -> 0.15314751 | F38: =IF(F10>0,F24/(F10*8.76),"") -> 0.15297879 | G38: =IF(G10>0,G24/(G10*8.76),"") -> 0.14947013 | H38: =IF(H10>0,H24/(H10*8.76),"") -> 0.18714246 | I38: =IF(I10>0,I24/(I10*8.76),"") -> 0.16809012 | J38: =IF(J10>0,J24/(J10*8.76),"") -> 0.15674793 | ... V38: =IF(V10>0,V24/(V10*8.76),"") -> 0.20971006
B39: Storage | C39: =IF(C11>0,C25/(C11*8.76),"") -> 0.049685872 | D39: =IF(D11>0,D25/(D11*8.76),"") -> 0.18129896 | E39: =IF(E11>0,E25/(E11*8.76),"") -> 0.19872962 | F39: =IF(F11>0,F25/(F11*8.76),"") -> 0.21275173 | G39: =IF(G11>0,G25/(G11*8.76),"") -> 0.049685872 | H39: =IF(H11>0,H25/(H11*8.76),"") -> 0.05399614 | I39: =IF(I11>0,I25/(I11*8.76),"") -> 0.083416653 | J39: =IF(J11>0,J25/(J11*8.76),"") -> 0.11953556 | ... V39: =IF(V11>0,V25/(V11*8.76),"") -> -0.023916101
B40: DEFR | C40: =IF(C12>0,C26/(C12*8.76),"") | D40: =IF(D12>0,D26/(D12*8.76),"") -> 0 | E40: =IF(E12>0,E26/(E12*8.76),"") -> 0 | F40: =IF(F12>0,F26/(F12*8.76),"") -> 0.08674604 | G40: =IF(G12>0,G26/(G12*8.76),"") | H40: =IF(H12>0,H26/(H12*8.76),"") -> 0 | I40: =IF(I12>0,I26/(I12*8.76),"") -> 0 | J40: =IF(J12>0,J26/(J12*8.76),"") -> 0.023434226 | ... V40: =IF(V12>0,V26/(V12*8.76),"") -> 0.022388855
B41: Other | C41: =IF(C13>0,C27/(C13*8.76),"") | D41: =IF(D13>0,D27/(D13*8.76),"") | E41: =IF(E13>0,E27/(E13*8.76),"") | F41: =IF(F13>0,F27/(F13*8.76),"") | G41: =IF(G13>0,G27/(G13*8.76),"") | H41: =IF(H13>0,H27/(H13*8.76),"") | I41: =IF(I13>0,I27/(I13*8.76),"") | J41: =IF(J13>0,J27/(J13*8.76),"") | ... V41: =IF(V13>0,V27/(V13*8.76),"") -> 0.94996942

Sheet CAC IA
B2: NYISO Outlook Study Scenarios and Integration Analysis Mitigation Scenario 2 Installed Capacity (MW) | P2: NYISO Outlook Study Scenarios and Integration Analysis Mitigation Scenarios Installed Capacity (MW)
C3: NYISO Outlook Scenario 1 | G3: NYISO Outlook Scenario 2 | K3: Strategic Use of Low-Carbon Fuels | Q3: Resource 1 | T3: Resource 2 | W3: Integration 2 | Z3: Integration 3 | AC3: Integration 4
B4: Resource | C4: 2019 | D4: 2030 | E4: 2035 | F4: 2040 | G4: 2019 | H4: 2030 | I4: 2035 | J4: 2040 | K4: 2020 | L4: 2030 | M4: 2035 | N4: 2040 | P4: Resource | Q4: 2030 | R4: 2035 | S4: 2040 | T4: 2030 | U4: 2035 | V4: 2040 | W4: 2030 | X4: 2035 | Y4: 2040 | Z4: 2030 | AA4: 2035 | AB4: 2040 | AC4: 2030 | AD4: 2035 | AE4: 2040
B5: Nuclear | C5: =NYISO!B8 -> 5400.1001 | D5: =NYISO!D8 -> 3363.5 | E5: =NYISO!E8 -> 3364.2 | F5: =NYISO!F8 -> 3364.2 | G5: =NYISO!I8 -> 5400.1001 | H5: =NYISO!K8 -> 3346.1 | I5: =NYISO!L8 -> 3364.2 | J5: =NYISO!M8 -> 3364.2 | K5: ='Integration Analysis'!D4 -> 4860.2 | L5: ='Integration Analysis'!F4 -> 3355.2 | M5: ='Integration Analysis'!G4 -> 3355.2 | N5: ='Integration Analysis'!H4 -> 3355.2 | P5: Nuclear | Q5: =(D5-C5)/C5 -> -0.37714118 | R5: =(E5-C5)/C5 -> -0.37701155 | S5: =(F5-C5)/C5 -> -0.37701155 | T5: =(H5-G5)/G5 -> -0.38036334 | U5: =(I5-G5)/G5 -> -0.37701155 | V5: =(J5-G5)/G5 -> -0.37701155 | W5: =(L5-K5)/K5 -> -0.30965804 | X5: =(M5-K5)/K5 -> -0.30965804 | Y5: =(N5-K5)/K5 -> -0.30965804 | Z5: =(#REF!-#REF!)/#REF! -> #REF! | AA5: =(#REF!-#REF!)/#REF! -> #REF! | AB5: =(#REF!-#REF!)/#REF! -> #REF! | AC5: =(#REF!-#REF!)/#REF! -> #REF! | AD5: =(#REF!-#REF!)/#REF! -> #REF! | AE5: =(#REF!-#REF!)/#REF! -> #REF!
B6: Fossil | C6: =NYISO!B9 -> 26262 | D6: =NYISO!D9 -> 21231.7 | E6: =NYISO!E9 -> 21233.7 | F6: =NYISO!F9 -> 0 | G6: =NYISO!I9 -> 26262 | H6: =NYISO!K9 -> 17650 | I6: =NYISO!L9 -> 16070.54 | J6: =NYISO!M9 -> 0 | K6: ='Integration Analysis'!D5 -> 26388.1 | L6: ='Integration Analysis'!F5 -> 21578.92 | M6: ='Integration Analysis'!G5 -> 18078.2 | N6: ='Integration Analysis'!H5 -> 0 | P6: Fossil | Q6: =(D6-C6)/C6 -> -0.19154291 | R6: =(E6-C6)/C6 -> -0.19146676 | S6: =(F6-C6)/C6 -> -1 | T6: =(H6-G6)/G6 -> -0.32792628 | U6: =(I6-G6)/G6 -> -0.38806869 | V6: =(J6-G6)/G6 -> -1 | W6: =(L6-K6)/K6 -> -0.18224806 | X6: =(M6-K6)/K6 -> -0.31491089 | Y6: =(N6-K6)/K6 -> -1 | Z6: =(#REF!-#REF!)/#REF! -> #REF! | AA6: =(#REF!-#REF!)/#REF! -> #REF! | AB6: =(#REF!-#REF!)/#REF! -> #REF! | AC6: =(#REF!-#REF!)/#REF! -> #REF! | AD6: =(#REF!-#REF!)/#REF! -> #REF! | AE6: =(#REF!-#REF!)/#REF! -> #REF! | AG6: =(I6-H6)/H6 -> -0.089487819
B7: Hydro | C7: =NYISO!B13 -> 6330.7199 | D7: =NYISO!D13 -> 7537.06 | E7: =NYISO!E13 -> 7539.66 | F7: =NYISO!F13 -> 7540.06 | G7: =NYISO!I13 -> 6330.7199 | H7: =NYISO!K13 -> 7660.27 | I7: =NYISO!L13 -> 7583.76 | J7: =NYISO!M13 -> 7584.16 | K7: ='Integration Analysis'!D8+'Integration Analysis'!D9+'Integration Analysis'!D10 -> 5753.86 | L7: ='Integration Analysis'!F8+'Integration Analysis'!F9+'Integration Analysis'!F10 -> 7344.86 | M7: ='Integration Analysis'!G8+'Integration Analysis'!G9+'Integration Analysis'!G10 -> 7344.86 | N7: ='Integration Analysis'!H8+'Integration Analysis'!H9+'Integration Analysis'!H10 -> 7348.19 | P7: Hydro | Q7: =(D7-C7)/C7 -> 0.19055339 | R7: =(E7-C7)/C7 -> 0.19096409 | S7: =(F7-C7)/C7 -> 0.19102727 | T7: =(H7-G7)/G7 -> 0.21001563 | U7: =(I7-G7)/G7 -> 0.19793012 | V7: =(J7-G7)/G7 -> 0.1979933 | W7: =(L7-K7)/K7 -> 0.27651003 | X7: =(M7-K7)/K7 -> 0.27651003 | Y7: =(N7-K7)/K7 -> 0.27708877 | Z7: =(#REF!-#REF!)/#REF! -> #REF! | AA7: =(#REF!-#REF!)/#REF! -> #REF! | AB7: =(#REF!-#REF!)/#REF! -> #REF! | AC7: =(#REF!-#REF!)/#REF! -> #REF! | AD7: =(#REF!-#REF!)/#REF! -> #REF! | AE7: =(#REF!-#REF!)/#REF! -> #REF!
B8: LBW | C8: =NYISO!B14 -> 1985.3 | D8: =NYISO!D14 -> 9086.2 | E8: =NYISO!E14 -> 12611.9 | F8: =NYISO!F14 -> 19087.2 | G8: =NYISO!I14 -> 1985.3 | H8: =NYISO!K14 -> 5889.83 | I8: =NYISO!L14 -> 12366.4 | J8: =NYISO!M14 -> 19087.2 | K8: ='Integration Analysis'!D11+'Integration Analysis'!D12 -> 1916.9 | L8: ='Integration Analysis'!F11+'Integration Analysis'!F12 -> 5573.93 | M8: ='Integration Analysis'!G11+'Integration Analysis'!G12 -> 10059.83 | N8: ='Integration Analysis'!H11+'Integration Analysis'!H12 -> 12242.2 | P8: LBW | Q8: =(D8-C8)/C8 -> 3.576739 | R8: =(E8-C8)/C8 -> 5.3526419 | S8: =(F8-C8)/C8 -> 8.6142648 | T8: =(H8-G8)/G8 -> 1.9667204 | U8: =(I8-G8)/G8 -> 5.228983 | V8: =(J8-G8)/G8 -> 8.6142648 | W8: =(L8-K8)/K8 -> 1.9077834 | X8: =(M8-K8)/K8 -> 4.2479681 | Y8: =(N8-K8)/K8 -> 5.3864573 | Z8: =(#REF!-#REF!)/#REF! -> #REF! | AA8: =(#REF!-#REF!)/#REF! -> #REF! | AB8: =(#REF!-#REF!)/#REF! -> #REF! | AC8: =(#REF!-#REF!)/#REF! -> #REF! | AD8: =(#REF!-#REF!)/#REF! -> #REF! | AE8: =(#REF!-#REF!)/#REF! -> #REF! | AG8: =AVERAGE(F8,J8) -> 19087.2 | AH8: =AVERAGE(N8,#REF!,#REF!) -> #REF! | AI8: =AG8-AH8 -> #REF! | AJ8: =AI8/AH8 -> #REF!
B9: OSW | C9: =NYISO!B15 -> 0 | D9: =NYISO!D15 -> 5036 | E9: =NYISO!E15 -> 9000 | F9: =NYISO!F15 -> 9000 | G9: =NYISO!I15 -> 0 | H9: =NYISO!K15 -> 7436 | I9: =NYISO!L15 -> 9000 | J9: =NYISO!M15 -> 9720 | K9: ='Integration Analysis'!D13 -> 0 | L9: ='Integration Analysis'!F13 -> 6200 | M9: ='Integration Analysis'!G13 -> 9906.4 | N9: ='Integration Analysis'!H13 -> 14363.65 | P9: OSW | AG9: =AVERAGE(F9,J9) -> 9360 | AH9: =AVERAGE(N9,#REF!,#REF!) -> #REF! | AI9: =AG9-AH9 -> #REF! | AJ9: =AI9/AH9 -> #REF!
B10: Solar | C10: =NYISO!B16+NYISO!B17 -> 2147.5 | D10: =NYISO!D16+NYISO!D17 -> 14731.1 | E10: =NYISO!E16+NYISO!E17 -> 15504.1 | F10: =NYISO!F16+NYISO!F17 -> 15874.1 | G10: =NYISO!I16+NYISO!I17 -> 2147.5 | H10: =NYISO!K16+NYISO!K17 -> 14199.1 | I10: =NYISO!L16+NYISO!L17 -> 25049.09 | J10: =NYISO!M16+NYISO!M17 -> 44369.72 | K10: ='Integration Analysis'!D14 -> 2591.84 | L10: ='Integration Analysis'!F14 -> 18851.97 | M10: ='Integration Analysis'!G14 -> 28993.94 | N10: ='Integration Analysis'!H14 -> 43431.95 | P10: Solar | Q10: =(D10-C10)/C10 -> 5.8596508 | R10: =(E10-C10)/C10 -> 6.2196042 | S10: =(F10-C10)/C10 -> 6.3918976 | T10: =(H10-G10)/G10 -> 5.6119208 | U10: =(I10-G10)/G10 -> 10.664303 | V10: =(J10-G10)/G10 -> 19.661104 | W10: =(L10-K10)/K10 -> 6.2735856 | X10: =(M10-K10)/K10 -> 10.186624 | Y10: =(N10-K10)/K10 -> 15.757188 | Z10: =(#REF!-#REF!)/#REF! -> #REF! | AA10: =(#REF!-#REF!)/#REF! -> #REF! | AB10: =(#REF!-#REF!)/#REF! -> #REF! | AC10: =(#REF!-#REF!)/#REF! -> #REF! | AD10: =(#REF!-#REF!)/#REF! -> #REF! | AE10: =(#REF!-#REF!)/#REF! -> #REF! | AG10: =F10 -> 15874.1 | AH10: =AVERAGE(N10,#REF!,#REF!,J10) -> #REF! | AI10: =AG10-AH10 -> #REF! | AJ10: =AI10/AH10 -> #REF!
B11: Storage | C11: =NYISO!B18 -> 1405.1 | D11: =NYISO!D18 -> 4409.9 | E11: =NYISO!E18 -> 5792.57 | F11: =NYISO!F18 -> 11450.03 | G11: =NYISO!I18 -> 1405.1 | H11: =NYISO!K18 -> 4409.9 | I11: =NYISO!L18 -> 6147.47 | J11: =NYISO!M18 -> 12809.9 | K11: ='Integration Analysis'!D15+'Integration Analysis'!D16 -> 2185.4 | L11: ='Integration Analysis'!F15+'Integration Analysis'!F16 -> 4435.46 | M11: ='Integration Analysis'!G15+'Integration Analysis'!G16 -> 7226.42 | N11: ='Integration Analysis'!H15+'Integration Analysis'!H16 -> 12148.57 | P11: Storage | Q11: =(D11-C11)/C11 -> 2.1384955 | R11: =(E11-C11)/C11 -> 3.1225323 | S11: =(F11-C11)/C11 -> 7.1489077 | T11: =(H11-G11)/G11 -> 2.1384955 | U11: =(I11-G11)/G11 -> 3.3751122 | V11: =(J11-G11)/G11 -> 8.1167178 | W11: =(L11-K11)/K11 -> 1.0295873 | X11: =(M11-K11)/K11 -> 2.3066807 | Y11: =(N11-K11)/K11 -> 4.5589686 | Z11: =(#REF!-#REF!)/#REF! -> #REF! | AA11: =(#REF!-#REF!)/#REF! -> #REF! | AB11: =(#REF!-#REF!)/#REF! -> #REF! | AC11: =(#REF!-#REF!)/#REF! -> #REF! | AD11: =(#REF!-#REF!)/#REF! -> #REF! | AE11: =(#REF!-#REF!)/#REF! -> #REF!
B12: DEFR | C12: =SUM(NYISO!B10:B12) -> 0 | D12: =SUM(NYISO!D10:D12) -> 419.64 | E12: =SUM(NYISO!E10:E12) -> 7052.56 | F12: =SUM(NYISO!F10:F12) -> 44750.23 | G12: =SUM(NYISO!I10:I12) -> 0 | H12: =SUM(NYISO!K10:K12) -> 819.31 | I12: =SUM(NYISO!L10:L12) -> 3990.04 | J12: =SUM(NYISO!M10:M12) -> 27200 | K12: ='Integration Analysis'!D6 -> 0 | L12: ='Integration Analysis'!F6 -> 0 | M12: ='Integration Analysis'!G6 -> 0 | N12: ='Integration Analysis'!H6 -> 21015.35 | P12: DEFR | AG12: =F12 -> 44750.23 | AH12: =AVERAGE(N12,#REF!,#REF!,J12) -> #REF! | AI12: =AG12-AH12 -> #REF! | AJ12: =AI12/AH12 -> #REF!
B13: Other | K13: ='Integration Analysis'!D7 -> 327 | L13: ='Integration Analysis'!F7 -> 327 | M13: ='Integration Analysis'!G7 -> 327 | N13: ='Integration Analysis'!H7 -> 327 | P13: Other
B14: Total | C14: =SUM(C5:C13) -> 43530.72 | D14: =SUM(D5:D13) -> 65815.1 | E14: =SUM(E5:E13) -> 82098.69 | F14: =SUM(F5:F13) -> 111065.82 | G14: =SUM(G5:G13) -> 43530.72 | H14: =SUM(H5:H13) -> 61410.51 | I14: =SUM(I5:I13) -> 83571.5 | J14: =SUM(J5:J13) -> 124135.18 | ... N14: =SUM(N5:N13) -> 114232.11 | P14: Total | AL14: =(L14-H14)/H14 -> 0.10188533
B16: NYISO Outlook Study Scenarios and Integration Analysis Mitigation Scenario 2 Generation (GWhr) | P16: NYISO Outlook Study Scenarios and Integration Analysis Mitigation Scenarios Generation (GWhr)
C17: NYISO Outlook Scenario 1 | G17: NYISO Outlook Scenario 2 | K17: Strategic Use of Low-Carbon Fuels | Q17: Resource 1 | T17: Resource 2 | W17: Integration 2 | Z17: Integration 3 | AC17: Integration 4
B18: Resource | C18: 2019 | D18: 2030 | E18: 2035 | F18: 2040 | G18: 2019 | H18: 2030 | I18: 2035 | J18: 2040 | K18: 2020 | L18: 2030 | M18: 2035 | N18: 2040 | P18: Resource | Q18: 2030 | R18: 2035 | S18: 2040 | T18: 2030 | U18: 2035 | V18: 2040 | W18: 2030 | X18: 2035 | Y18: 2040 | Z18: 2030 | AA18: 2035 | AB18: 2040 | AC18: 2030 | AD18: 2035 | AE18: 2040
B19: Nuclear | C19: =NYISO!B23 -> 45428.501 | D19: =NYISO!D23 -> 27444.03 | E19: =NYISO!E23 -> 28338.13 | F19: =NYISO!F23 -> 27092.16 | G19: =NYISO!I23 -> 45428.501 | H19: =NYISO!K23 -> 27444.03 | I19: =NYISO!L23 -> 28338.13 | J19: =NYISO!M23 -> 27092.16 | K19: ='Integration Analysis'!O4 -> 38317.817 | L19: ='Integration Analysis'!Q4 -> 26452.397 | M19: ='Integration Analysis'!R4 -> 26452.397 | N19: ='Integration Analysis'!S4 -> 26452.397 | P19: Nuclear | Q19: =(D19-C19)/C19 -> -0.39588519 | R19: =(E19-C19)/C19 -> -0.37620371 | S19: =(F19-C19)/C19 -> -0.40363077 | T19: =(H19-G19)/G19 -> -0.39588519 | U19: =(I19-G19)/G19 -> -0.37620371 | V19: =(J19-G19)/G19 -> -0.40363077 | W19: =(L19-K19)/K19 -> -0.30965804 | X19: =(M19-K19)/K19 -> -0.30965804 | Y19: =(N19-K19)/K19 -> -0.30965804 | Z19: =(#REF!-#REF!)/#REF! -> #REF! | AA19: =(#REF!-#REF!)/#REF! -> #REF! | AB19: =(#REF!-#REF!)/#REF! -> #REF! | AC19: =(#REF!-#REF!)/#REF! -> #REF! | AD19: =(#REF!-#REF!)/#REF! -> #REF! | AE19: =(#REF!-#REF!)/#REF! -> #REF!
B20: Fossil | C20: =NYISO!B24 -> 50519.666 | D20: =NYISO!D24 -> 19987.32 | E20: =NYISO!E24 -> 14516.19 | F20: =NYISO!F24 -> 0 | G20: =NYISO!I24 -> 50519.666 | H20: =NYISO!K24 -> 20066.34 | I20: =NYISO!L24 -> 18908.41 | J20: =NYISO!M24 -> 0 | K20: ='Integration Analysis'!O5 -> 70449.428 | L20: ='Integration Analysis'!Q5 -> 24561.805 | M20: ='Integration Analysis'!R5 -> 19650.905 | N20: ='Integration Analysis'!S5 -> 0 | P20: Fossil | Q20: =(D20-C20)/C20 -> -0.60436555 | R20: =(E20-C20)/C20 -> -0.71266259 | S20: =(F20-C20)/C20 -> -1 | T20: =(H20-G20)/G20 -> -0.60280141 | U20: =(I20-G20)/G20 -> -0.62572179 | V20: =(J20-G20)/G20 -> -1 | W20: =(L20-K20)/K20 -> -0.6513555 | X20: =(M20-K20)/K20 -> -0.72106367 | Y20: =(N20-K20)/K20 -> -1 | Z20: =(#REF!-#REF!)/#REF! -> #REF! | AA20: =(#REF!-#REF!)/#REF! -> #REF! | AB20: =(#REF!-#REF!)/#REF! -> #REF! | AC20: =(#REF!-#REF!)/#REF! -> #REF! | AD20: =(#REF!-#REF!)/#REF! -> #REF! | AE20: =(#REF!-#REF!)/#REF! -> #REF!
B21: Hydro | C21: =NYISO!B28 -> 40033.57 | D21: =NYISO!D28 -> 46342.39 | E21: =NYISO!E28 -> 46392.32 | F21: =NYISO!F28 -> 46391.01 | G21: =NYISO!I28 -> 40033.57 | H21: =NYISO!K28 -> 46342.39 | I21: =NYISO!L28 -> 46392.32 | J21: =NYISO!M28 -> 46391.01 | K21: ='Integration Analysis'!O8+'Integration Analysis'!O9+'Integration Analysis'!O10 -> 37481.409 | L21: ='Integration Analysis'!Q8+'Integration Analysis'!Q9+'Integration Analysis'!Q10 -> 49977.606 | M21: ='Integration Analysis'!R8+'Integration Analysis'!R9+'Integration Analysis'!R10 -> 50083.89 | N21: ='Integration Analysis'!S8+'Integration Analysis'!S9+'Integration Analysis'!S10 -> 49165.462 | P21: Hydro | Q21: =(D21-C21)/C21 -> 0.15758823 | R21: =(E21-C21)/C21 -> 0.15883544 | S21: =(F21-C21)/C21 -> 0.15880271 | T21: =(H21-G21)/G21 -> 0.15758823 | U21: =(I21-G21)/G21 -> 0.15883544 | V21: =(J21-G21)/G21 -> 0.15880271 | W21: =(L21-K21)/K21 -> 0.33339719 | X21: =(M21-K21)/K21 -> 0.33623285 | Y21: =(N21-K21)/K21 -> 0.31172928 | Z21: =(#REF!-#REF!)/#REF! -> #REF! | AA21: =(#REF!-#REF!)/#REF! -> #REF! | AB21: =(#REF!-#REF!)/#REF! -> #REF! | AC21: =(#REF!-#REF!)/#REF! -> #REF! | AD21: =(#REF!-#REF!)/#REF! -> #REF! | AE21: =(#REF!-#REF!)/#REF! -> #REF!
B22: LBW | C22: =NYISO!B29 -> 4415.606 | D22: =NYISO!D29 -> 26971.24 | E22: =NYISO!E29 -> 38296.81 | F22: =NYISO!F29 -> 59361.62 | G22: =NYISO!I29 -> 4415.606 | H22: =NYISO!K29 -> 16493.5 | I22: =NYISO!L29 -> 37460.47 | J22: =NYISO!M29 -> 59361.62 | K22: ='Integration Analysis'!O11+'Integration Analysis'!O12 -> 4796.1884 | L22: ='Integration Analysis'!Q11+'Integration Analysis'!Q12 -> 16817.042 | M22: ='Integration Analysis'!R11+'Integration Analysis'!R12 -> 34039.035 | N22: ='Integration Analysis'!S11+'Integration Analysis'!S12 -> 41165.243 | P22: LBW | Q22: =(D22-C22)/C22 -> 5.1081627 | R22: =(E22-C22)/C22 -> 7.6730587 | S22: =(F22-C22)/C22 -> 12.443595 | T22: =(H22-G22)/G22 -> 2.7352744 | U22: =(I22-G22)/G22 -> 7.4836532 | V22: =(J22-G22)/G22 -> 12.443595 | W22: =(L22-K22)/K22 -> 2.5063348 | X22: =(M22-K22)/K22 -> 6.0971013 | Y22: =(N22-K22)/K22 -> 7.582908 | Z22: =(#REF!-#REF!)/#REF! -> #REF! | AA22: =(#REF!-#REF!)/#REF! -> #REF! | AB22: =(#REF!-#REF!)/#REF! -> #REF! | AC22: =(#REF!-#REF!)/#REF! -> #REF! | AD22: =(#REF!-#REF!)/#REF! -> #REF! | AE22: =(#REF!-#REF!)/#REF! -> #REF! | AG22: =AVERAGE(F22,J22) -> 59361.62 | AH22: =AVERAGE(N22,#REF!,#REF!) -> #REF! | AI22: =AG22-AH22 -> #REF! | AJ22: =AI22/AH22 -> #REF!
B23: OSW | C23: =NYISO!B30 -> 0 | D23: =NYISO!D30 -> 20185.51 | E23: =NYISO!E30 -> 35459.62 | F23: =NYISO!F30 -> 35646.87 | G23: =NYISO!I30 -> 0 | H23: =NYISO!K30 -> 28865.32 | I23: =NYISO!L30 -> 35247 | J23: =NYISO!M30 -> 38387.81 | K23: ='Integration Analysis'!O13 -> 0 | L23: ='Integration Analysis'!Q13 -> 25656.994 | M23: ='Integration Analysis'!R13 -> 41015.964 | N23: ='Integration Analysis'!S13 -> 59777.951 | P23: OSW | AG23: =AVERAGE(F23,J23) -> 37017.34 | AH23: =AVERAGE(N23,#REF!,#REF!) -> #REF! | AI23: =AG23-AH23 -> #REF! | AJ23: =AI23/AH23 -> #REF!
B24: Solar | C24: =NYISO!B31+NYISO!B32 -> 2811.847 | D24: =NYISO!D31+NYISO!D32 -> 19884.22 | E24: =NYISO!E31+NYISO!E32 -> 20799.87 | F24: =NYISO!F31+NYISO!F32 -> 21272.79 | G24: =NYISO!I31+NYISO!I32 -> 2811.847 | H24: =NYISO!K31+NYISO!K32 -> 23277.55 | I24: =NYISO!L31+NYISO!L32 -> 36884.02 | J24: =NYISO!M31+NYISO!M32 -> 60924.59 | K24: ='Integration Analysis'!O14 -> 3908.3566 | L24: ='Integration Analysis'!Q14 -> 32964.64 | M24: ='Integration Analysis'!R14 -> 52780.975 | N24: ='Integration Analysis'!S14 -> 80619.97 | P24: Solar | Q24: =(D24-C24)/C24 -> 6.0715868 | R24: =(E24-C24)/C24 -> 6.3972268 | S24: =(F24-C24)/C24 -> 6.5654152 | T24: =(H24-G24)/G24 -> 7.2783843 | U24: =(I24-G24)/G24 -> 12.117364 | V24: =(J24-G24)/G24 -> 20.667107 | W24: =(L24-K24)/K24 -> 7.4343992 | X24: =(M24-K24)/K24 -> 12.504647 | Y24: =(N24-K24)/K24 -> 19.627588 | Z24: =(#REF!-#REF!)/#REF! -> #REF! | AA24: =(#REF!-#REF!)/#REF! -> #REF! | AB24: =(#REF!-#REF!)/#REF! -> #REF! | AC24: =(#REF!-#REF!)/#REF! -> #REF! | AD24: =(#REF!-#REF!)/#REF! -> #REF! | AE24: =(#REF!-#REF!)/#REF! -> #REF! | AG24: =F24 -> 21272.79 | AH24: =AVERAGE(N24,#REF!,#REF!,J24) -> #REF! | AI24: =AG24-AH24 -> #REF! | AJ24: =AI24/AH24 -> #REF!
B25: Storage | C25: =NYISO!B33 -> 611.56729 | D25: =NYISO!D33 -> 7003.71 | E25: =NYISO!E33 -> 10084.12 | F25: =NYISO!F33 -> 21339.48 | G25: =NYISO!I33 -> 611.56729 | H25: =NYISO!K33 -> 2085.91 | I25: =NYISO!L33 -> 4492.14 | J25: =NYISO!M33 -> 13413.65 | K25: ='Integration Analysis'!O15+'Integration Analysis'!O16 -> -89.958801 | L25: ='Integration Analysis'!Q15+'Integration Analysis'!Q16 -> -1007.0577 | M25: ='Integration Analysis'!R15+'Integration Analysis'!R16 -> -1666.4707 | N25: ='Integration Analysis'!S15+'Integration Analysis'!S16 -> -2543.3679 | P25: Storage | Q25: =(D25-C25)/C25 -> 10.452068 | R25: =(E25-C25)/C25 -> 15.488979 | S25: =(F25-C25)/C25 -> 33.893102 | T25: =(H25-G25)/G25 -> 2.4107612 | U25: =(I25-G25)/G25 -> 6.3452914 | V25: =(J25-G25)/G25 -> 20.933236 | W25: =(L25-K25)/K25 -> 10.194654 | X25: =(M25-K25)/K25 -> 17.524821 | Y25: =(N25-K25)/K25 -> 27.272585 | Z25: =(#REF!-#REF!)/#REF! -> #REF! | AA25: =(#REF!-#REF!)/#REF! -> #REF! | AB25: =(#REF!-#REF!)/#REF! -> #REF! | AC25: =(#REF!-#REF!)/#REF! -> #REF! | AD25: =(#REF!-#REF!)/#REF! -> #REF! | AE25: =(#REF!-#REF!)/#REF! -> #REF!
B26: DEFR | C26: =SUM(NYISO!B25:B27) -> 0 | D26: =SUM(NYISO!D25:D27) -> 0 | E26: =SUM(NYISO!E25:E27) -> 0 | F26: =SUM(NYISO!F25:F27) -> 34005.49 | G26: =SUM(NYISO!I25:I27) -> 0 | H26: =SUM(NYISO!K25:K27) -> 0 | I26: =SUM(NYISO!L25:L27) -> 0 | J26: =SUM(NYISO!M25:M27) -> 5583.72 | K26: ='Integration Analysis'!O6 -> 0 | L26: ='Integration Analysis'!Q6 -> 0 | M26: ='Integration Analysis'!R6 -> 0 | N26: ='Integration Analysis'!S6 -> 3342.2618 | P26: DEFR | AG26: =F26 -> 34005.49 | AH26: =AVERAGE(N26,#REF!,#REF!,J26) -> #REF! | AI26: =AG26-AH26 -> #REF! | AJ26: =AI26/AH26 -> #REF!
B27: Other | K27: ='Integration Analysis'!O7 -> 2721.2064 | L27: ='Integration Analysis'!Q7 -> 2721.2064 | M27: ='Integration Analysis'!R7 -> 2721.2064 | N27: ='Integration Analysis'!S7 -> 2721.2064 | P27: Other
B28: Total | C28: =SUM(C19:C27) -> 143820.76 | D28: =SUM(D19:D27) -> 167818.42 | E28: =SUM(E19:E27) -> 193887.06 | F28: =SUM(F19:F27) -> 245109.42 | G28: =SUM(G19:G27) -> 143820.76 | H28: =SUM(H19:H27) -> 164575.04 | I28: =SUM(I19:I27) -> 207722.49 | J28: =SUM(J19:J27) -> 251154.56 | ... N28: =SUM(N19:N27) -> 260701.12 | P28: Total | AL28: =(L28-H28)/H28 -> 0.082452313
B30: NYISO Outlook Study Scenarios and Integration Analysis Mitigation Scenario 2 Capacity Factors (%)
C31: NYISO Outlook Scenario 1 | G31: NYISO Outlook Scenario 2 | K31: Strategic Use of Low-Carbon Fuels
B32: Resource | C32: 2019 | D32: 2030 | E32: 2035 | F32: 2040 | G32: 2019 | H32: 2030 | I32: 2035 | J32: 2040 | K32: 2020 | L32: 2030 | M32: 2035 | N32: 2040
B33: Nuclear | C33: =IF(C5>0,C19/(C5*8.76),"") -> 0.9603344 | D33: =IF(D5>0,D19/(D5*8.76),"") -> 0.93143456 | E33: =IF(E5>0,E19/(E5*8.76),"") -> 0.96157968 | F33: =IF(F5>0,F19/(F5*8.76),"") -> 0.91930097 | G33: =IF(G5>0,G19/(G5*8.76),"") -> 0.9603344 | H33: =IF(H5>0,H19/(H5*8.76),"") -> 0.9362781 | I33: =IF(I5>0,I19/(I5*8.76),"") -> 0.96157968 | J33: =IF(J5>0,J19/(J5*8.76),"") -> 0.91930097 | ... N33: =IF(N5>0,N19/(N5*8.76),"") -> 0.9
B34: Fossil | C34: =IF(C6>0,C20/(C6*8.76),"") -> 0.21959809 | D34: =IF(D6>0,D20/(D6*8.76),"") -> 0.10746467 | E34: =IF(E6>0,E20/(E6*8.76),"") -> 0.078041006 | F34: =IF(F6>0,F20/(F6*8.76),"") | G34: =IF(G6>0,G20/(G6*8.76),"") -> 0.21959809 | H34: =IF(H6>0,H20/(H6*8.76),"") -> 0.12978346 | I34: =IF(I6>0,I20/(I6*8.76),"") -> 0.13431374 | J34: =IF(J6>0,J20/(J6*8.76),"") | ... N34: =IF(N6>0,N20/(N6*8.76),"")
B35: Hydro | C35: =IF(C7>0,C21/(C7*8.76),"") -> 0.72188351 | D35: =IF(D7>0,D21/(D7*8.76),"") -> 0.70189532 | E35: =IF(E7>0,E21/(E7*8.76),"") -> 0.70240925 | F35: =IF(F7>0,F21/(F7*8.76),"") -> 0.70235216 | G35: =IF(G7>0,G21/(G7*8.76),"") -> 0.72188351 | H35: =IF(H7>0,H21/(H7*8.76),"") -> 0.69060584 | I35: =IF(I7>0,I21/(I7*8.76),"") -> 0.6983247 | J35: =IF(J7>0,J21/(J7*8.76),"") -> 0.69826815 | ... N35: =IF(N7>0,N21/(N7*8.76),"") -> 0.76379294
B36: LBW | C36: =IF(C8>0,C22/(C8*8.76),"") -> 0.25389846 | D36: =IF(D8>0,D22/(D8*8.76),"") -> 0.33885548 | E36: =IF(E8>0,E22/(E8*8.76),"") -> 0.34663944 | F36: =IF(F8>0,F22/(F8*8.76),"") -> 0.35502539 | G36: =IF(G8>0,G22/(G8*8.76),"") -> 0.25389846 | H36: =IF(H8>0,H22/(H8*8.76),"") -> 0.319673 | I36: =IF(I8>0,I22/(I8*8.76),"") -> 0.34580067 | J36: =IF(J8>0,J22/(J8*8.76),"") -> 0.35502539 | ... N36: =IF(N8>0,N22/(N8*8.76),"") -> 0.38385492
B37: OSW | C37: =IF(C9>0,C23/(C9*8.76),"") | D37: =IF(D9>0,D23/(D9*8.76),"") -> 0.45756195 | E37: =IF(E9>0,E23/(E9*8.76),"") -> 0.44976687 | F37: =IF(F9>0,F23/(F9*8.76),"") -> 0.45214193 | G37: =IF(G9>0,G23/(G9*8.76),"") | H37: =IF(H9>0,H23/(H9*8.76),"") -> 0.44313177 | I37: =IF(I9>0,I23/(I9*8.76),"") -> 0.44707002 | J37: =IF(J9>0,J23/(J9*8.76),"") -> 0.45084054 | ... N37: =IF(N9>0,N23/(N9*8.76),"") -> 0.47508586
B38: Solar | C38: =IF(C10>0,C24/(C10*8.76),"") -> 0.14947013 | D38: =IF(D10>0,D24/(D10*8.76),"") -> 0.15408816 | E38: =IF(E10>0,E24/(E10*8.76),"") -> 0.15314751 | F38: =IF(F10>0,F24/(F10*8.76),"") -> 0.15297879 | G38: =IF(G10>0,G24/(G10*8.76),"") -> 0.14947013 | H38: =IF(H10>0,H24/(H10*8.76),"") -> 0.18714246 | I38: =IF(I10>0,I24/(I10*8.76),"") -> 0.16809012 | J38: =IF(J10>0,J24/(J10*8.76),"") -> 0.15674793 | ... N38: =IF(N10>0,N24/(N10*8.76),"") -> 0.21189914
B39: Storage | C39: =IF(C11>0,C25/(C11*8.76),"") -> 0.049685872 | D39: =IF(D11>0,D25/(D11*8.76),"") -> 0.18129896 | E39: =IF(E11>0,E25/(E11*8.76),"") -> 0.19872962 | F39: =IF(F11>0,F25/(F11*8.76),"") -> 0.21275173 | G39: =IF(G11>0,G25/(G11*8.76),"") -> 0.049685872 | H39: =IF(H11>0,H25/(H11*8.76),"") -> 0.05399614 | I39: =IF(I11>0,I25/(I11*8.76),"") -> 0.083416653 | J39: =IF(J11>0,J25/(J11*8.76),"") -> 0.11953556 | ... N39: =IF(N11>0,N25/(N11*8.76),"") -> -0.02389901
B40: DEFR | C40: =IF(C12>0,C26/(C12*8.76),"") | D40: =IF(D12>0,D26/(D12*8.76),"") -> 0 | E40: =IF(E12>0,E26/(E12*8.76),"") -> 0 | F40: =IF(F12>0,F26/(F12*8.76),"") -> 0.08674604 | G40: =IF(G12>0,G26/(G12*8.76),"") | H40: =IF(H12>0,H26/(H12*8.76),"") -> 0 | I40: =IF(I12>0,I26/(I12*8.76),"") -> 0 | J40: =IF(J12>0,J26/(J12*8.76),"") -> 0.023434226 | ... N40: =IF(N12>0,N26/(N12*8.76),"") -> 0.018155145
B41: Other | C41: =IF(C13>0,C27/(C13*8.76),"") | D41: =IF(D13>0,D27/(D13*8.76),"") | E41: =IF(E13>0,E27/(E13*8.76),"") | F41: =IF(F13>0,F27/(F13*8.76),"") | G41: =IF(G13>0,G27/(G13*8.76),"") | H41: =IF(H13>0,H27/(H13*8.76),"") | I41: =IF(I13>0,I27/(I13*8.76),"") | J41: =IF(J13>0,J27/(J13*8.76),"") | ... N41: =IF(N13>0,N27/(N13*8.76),"") -> 0.94996942

Sheet NYISO
A1: NYISO 2021-2040 System & Resource Outlook Data
A2: https://www.nyiso.com/documents/20142/32810936/2021-2040_System_Resource_Outlook_Data.xlsx/86359d07-fd48-4544-24c3-8049bb0f1d23
A4: NYISO Outlook Study Figure 44: S1 Capacity and Generation Results | H4: NYISO Outlook Study Figure 45: S2 Capacity and Generation Results
A6: Installed Capacity (MW) | H6: Installed Capacity (MW)
A7: Resource | B7: 2019 | C7: 2025 | D7: 2030 | E7: 2035 | F7: 2040 | H7: Resource | I7: 2019 | J7: 2025 | K7: 2030 | L7: 2035 | M7: 2040
A8: Nuclear | B8: 5400.1001 | C8: 3346.1 | D8: 3363.5 | E8: 3364.2 | F8: 3364.2 | H8: Nuclear | I8: 5400.1001 | J8: 3346.1 | K8: 3346.1 | L8: 3364.2 | M8: 3364.2
A9: Fossil | B9: 26262 | C9: 21309.83 | D9: 21231.7 | E9: 21233.7 | F9: 0 | H9: Fossil | I9: 26262 | J9: 19988.2 | K9: 17650 | L9: 16070.54 | M9: 0
A10: DEFR - HcLo | B10: 0 | C10: 0 | D10: 0 | E10: 0 | F10: 3811.75 | H10: DEFR - HcLo | I10: 0 | J10: 0 | K10: 0 | L10: 0 | M10: 0
A11: DEFR - McMo | B11: 0 | C11: 0 | D11: 0 | E11: 0 | F11: 0 | H11: DEFR - McMo | I11: 0 | J11: 0 | K11: 819.31 | L11: 3990.04 | M11: 27200
A12: DEFR- LcHo | B12: 0 | C12: 0 | D12: 419.64 | E12: 7052.56 | F12: 40938.48 | H12: DEFR- LcHo | I12: 0 | J12: 0 | K12: 0 | L12: 0 | M12: 0
A13: Hydro | B13: 6330.7199 | C13: 6301.86 | D13: 7537.06 | E13: 7539.66 | F13: 7540.06 | H13: Hydro | I13: 6330.7199 | J13: 6414.52 | K13: 7660.27 | L13: 7583.76 | M13: 7584.16
A14: LBW | B14: 1985.3 | C14: 3334.78 | D14: 9086.2 | E14: 12611.9 | F14: 19087.2 | H14: LBW | I14: 1985.3 | J14: 3137.78 | K14: 5889.83 | L14: 12366.4 | M14: 19087.2
A15: OSW | B15: 0 | C15: 1826 | D15: 5036 | E15: 9000 | F15: 9000 | H15: OSW | I15: 0 | J15: 1826 | K15: 7436 | L15: 9000 | M15: 9720
A16: UPV | B16: 31.5 | C16: 4676.1 | D16: 4676.1 | E16: 4676.1 | F16: 4676.1 | H16: UPV | I16: 31.5 | J16: 4676.1 | K16: 4676.1 | L16: 13448.09 | M16: 28605.72
A17: BTM-PV | B17: 2116 | C17: 6834 | D17: 10055 | E17: 10828 | F17: 11198 | H17: BTM-PV | I17: 2116 | J17: 6000 | K17: 9523 | L17: 11601 | M17: 15764
A18: Storage | B18: 1405.1 | C18: 2909.9 | D18: 4409.9 | E18: 5792.57 | F18: 11450.03 | H18: Storage | I18: 1405.1 | J18: 2909.9 | K18: 4409.9 | L18: 6147.47 | M18: 12809.9
A19: Total | B19: =SUM(B8:B18) -> 43530.72 | C19: =SUM(C8:C18) -> 50538.57 | D19: =SUM(D8:D18) -> 65815.1 | E19: =SUM(E8:E18) -> 82098.69 | F19: =SUM(F8:F18) -> 111065.82 | H19: Total | I19: 43838.12 | J19: 48522.7 | K19: 62453.92 | L19: 87786.64 | M19: 124135.18
A21: Generation (GWh) | H21: Generation (GWh)
A22: Resource | B22: 2019 | C22: 2025 | D22: 2030 | E22: 2035 | F22: 2040 | H22: Resource | I22: 2019 | J22: 2025 | K22: 2030 | L22: 2035 | M22: 2040
A23: Nuclear | B23: 45428.501 | C23: 28337.96 | D23: 27444.03 | E23: 28338.13 | F23: 27092.16 | H23: Nuclear | I23: 45428.501 | J23: 28337.96 | K23: 27444.03 | L23: 28338.13 | M23: 27092.16
A24: Fossil | B24: 50519.666 | C24: 54173.71 | D24: 19987.32 | E24: 14516.19 | F24: 0 | H24: Fossil | I24: 50519.666 | J24: 52436.5 | K24: 20066.34 | L24: 18908.41 | M24: 0
A25: DEFR - HcLo | B25: 0 | C25: 0 | D25: 0 | E25: 0 | F25: 33482.39 | H25: DEFR - HcLo | I25: 0 | J25: 0 | K25: 0 | L25: 0 | M25: 0
A26: DEFR - McMo | B26: 0 | C26: 0 | D26: 0 | E26: 0 | F26: 0 | H26: DEFR - McMo | I26: 0 | J26: 0 | K26: 0 | L26: 0 | M26: 5583.72
A27: DEFR - LcHo | B27: 0 | C27: 0 | D27: 0 | E27: 0 | F27: 523.1 | H27: DEFR - LcHo | I27: 0 | J27: 0 | K27: 0 | L27: 0 | M27: 0
A28: Hydro | B28: 40033.57 | C28: 36417.65 | D28: 46342.39 | E28: 46392.32 | F28: 46391.01 | H28: Hydro | I28: 40033.57 | J28: 36417.65 | K28: 46342.39 | L28: 46392.32 | M28: 46391.01
A29: LBW | B29: 4415.606 | C29: 8189.24 | D29: 26971.24 | E29: 38296.81 | F29: 59361.62 | H29: LBW | I29: 4415.606 | J29: 7518.12 | K29: 16493.5 | L29: 37460.47 | M29: 59361.62
A30: OSW | B30: 0 | C30: 7331.05 | D30: 20185.51 | E30: 35459.62 | F30: 35646.87 | H30: OSW | I30: 0 | J30: 7331.05 | K30: 28865.32 | L30: 35247 | M30: 38387.81
A31: UPV | B31: 50.522 | C31: 8816.62 | D31: 8816.21 | E31: 8816.92 | F31: 8818.83 | H31: UPV | I31: 50.522 | J31: 8816.62 | K31: 8816.21 | L31: 19661.12 | M31: 37704.52
A32: BTM-PV | B32: 2761.325 | C32: 7483.13 | D32: 11068.01 | E32: 11982.95 | F32: 12453.96 | H32: BTM-PV | I32: 2761.325 | J32: 7631.17 | K32: 14461.34 | L32: 17222.9 | M32: 23220.07
A33: Storage | B33: 611.56729 | C33: 4346.75 | D33: 7003.71 | E33: 10084.12 | F33: 21339.48 | H33: Storage | I33: 611.56729 | J33: 4006.64 | K33: 2085.91 | L33: 4492.14 | M33: 13413.65
... A40: %ZE[ZE/(Load+Charge)] | B40: 0.6147423 | C40: 0.64245564 | D40: 0.87056364 | E40: 0.91572081 | F40: 0.99999996 | H40: %ZE[ZE/(Load+Charge)] | I40: 0.6147423 | J40: 0.64768223 | K40: 0.86756898 | L40: 0.90033711 | M40: 0.99999996
A42: Emissions (million tons) | H42: Emissions (million tons)
B43: 2019 | C43: 2025 | D43: 2030 | E43: 2035 | F43: 2040 | I43: 2019 | J43: 2025 | K43: 2030 | L43: 2035 | M43: 2040
A44: CO2 (million tons) | B44: 22.24 | C44: 23.53 | D44: 8.5 | E44: 6.22 | F44: 0 | H44: CO2 (million tons) | I44: 22.24 | J44: 23.53 | K44: 8.5 | L44: 6.22 | M44: 0

Sheet Integration Analysis
A1: Mitigation Scenarios Summary Fuel Mix (Capacity) | L1: Mitigation Scenarios Summary Annual Fuel Mix Generation (GWh) | W1: Mitigation Scenarios Summary Capacity Factors
A3: Scenario 2 | B3: Unit | D3: 2020 | E3: 2025 | F3: 2030 | G3: 2035 | H3: 2040 | I3: 2045 | J3: 2050 | L3: Scenario 2 | M3: Unit | O3: 2020 | P3: 2025 | Q3: 2030 | R3: 2035 | S3: 2040 | T3: 2045 | U3: 2050 | W3: Scenario 2 | X3: 2020 | Y3: 2025 | Z3: 2030 | AA3: 2035 | AB3: 2040 | AC3: 2045 | AD3: 2050
A4: Nuclear | B4: MW | D4: 4860.2 | E4: 3355.2 | F4: 3355.2 | G4: 3355.2 | H4: 3355.2 | I4: 3355.2 | J4: 2135.4 | L4: Nuclear | M4: GWh | O4: 38317.817 | P4: 26452.397 | Q4: 26452.397 | R4: 26452.397 | S4: 26452.397 | T4: 26452.397 | U4: 16835.494 | W4: Nuclear | X4: =IF(D4>0,O4/(D4*8.76),"") -> 0.9 | Y4: =IF(E4>0,P4/(E4*8.76),"") -> 0.9 | Z4: =IF(F4>0,Q4/(F4*8.76),"") -> 0.9 | AA4: =IF(G4>0,R4/(G4*8.76),"") -> 0.9 | AB4: =IF(H4>0,S4/(H4*8.76),"") -> 0.9 | AC4: =IF(I4>0,T4/(I4*8.76),"") -> 0.9 | AD4: =IF(J4>0,U4/(J4*8.76),"") -> 0.9
A5: Gas & FO | B5: MW | D5: 26388.1 | E5: 25775.2 | F5: 21578.92 | G5: 18078.2 | H5: 0 | I5: 0 | J5: 0 | L5: Gas & FO | M5: GWh | O5: 70449.428 | P5: 58305.219 | Q5: 24561.805 | R5: 19650.905 | S5: 0 | T5: 0 | U5: 0 | W5: Gas & FO | X5: =IF(D5>0,O5/(D5*8.76),"") -> 0.30476511 | Y5: =IF(E5>0,P5/(E5*8.76),"") -> 0.25822678 | Z5: =IF(F5>0,Q5/(F5*8.76),"") -> 0.1299351 | AA5: =IF(G5>0,R5/(G5*8.76),"") -> 0.12408613 | AB5: =IF(H5>0,S5/(H5*8.76),"") | AC5: =IF(I5>0,T5/(I5*8.76),"") | AD5: =IF(J5>0,U5/(J5*8.76),"")
A6: Zero-Carbon Firm Resource | B6: MW | D6: 0 | E6: 0 | F6: 0 | G6: 0 | H6: 21015.35 | I6: 21575.5 | J6: 21289.9 | L6: Zero-Carbon Firm Resource | M6: GWh | O6: 0 | P6: 0 | Q6: 0 | R6: 0 | S6: 3342.2618 | T6: 3675.0183 | U6: 4152.5855 | W6: Zero-Carbon Firm Resource | X6: =IF(D6>0,O6/(D6*8.76),"") | Y6: =IF(E6>0,P6/(E6*8.76),"") | Z6: =IF(F6>0,Q6/(F6*8.76),"") | AA6: =IF(G6>0,R6/(G6*8.76),"") | AB6: =IF(H6>0,S6/(H6*8.76),"") -> 0.018155145 | AC6: =IF(I6>0,T6/(I6*8.76),"") -> 0.019444399 | AD6: =IF(J6>0,U6/(J6*8.76),"") -> 0.022265931
A7: Biomass | B7: MW | D7: 327 | E7: 327 | F7: 327 | G7: 327 | H7: 327 | I7: 275 | J7: 177.9 | L7: Biomass | M7: GWh | O7: 2721.2064 | P7: 2721.2064 | Q7: 2721.2064 | R7: 2721.2064 | S7: 2721.2064 | T7: 2288.4624 | U7: 1480.44 | W7: Biomass | X7: =IF(D7>0,O7/(D7*8.76),"") -> 0.94996942 | Y7: =IF(E7>0,P7/(E7*8.76),"") -> 0.94996942 | Z7: =IF(F7>0,Q7/(F7*8.76),"") -> 0.94996942 | AA7: =IF(G7>0,R7/(G7*8.76),"") -> 0.94996942 | AB7: =IF(H7>0,S7/(H7*8.76),"") -> 0.94996942 | AC7: =IF(I7>0,T7/(I7*8.76),"") -> 0.94996364 | AD7: =IF(J7>0,U7/(J7*8.76),"") -> 0.94997189
A8: In-State Hydro | B8: MW | D8: 4268.86 | E8: 4268.86 | F8: 4609.86 | G8: 4609.86 | H8: 4613.19 | I8: 4613.19 | J8: 4613.19 | L8: In-State Hydro | M8: GWh | O8: 27120.868 | P8: 27011.134 | Q8: 30857.066 | R8: 30963.35 | S8: 30044.922 | T8: 30020.974 | U8: 30009.423 | W8: In-State Hydro | X8: =IF(D8>0,O8/(D8*8.76),"") -> 0.72524972 | Y8: =IF(E8>0,P8/(E8*8.76),"") -> 0.72231527 | Z8: =IF(F8>0,Q8/(F8*8.76),"") -> 0.76412215 | AA8: =IF(G8>0,R8/(G8*8.76),"") -> 0.76675409 | AB8: =IF(H8>0,S8/(H8*8.76),"") -> 0.74347373 | AC8: =IF(I8>0,T8/(I8*8.76),"") -> 0.74288114 | AD8: =IF(J8>0,U8/(J8*8.76),"") -> 0.7425953
A9: Hydro Imports (Existing) | B9: MW | D9: 1485 | E9: 1485 | F9: 1485 | G9: 1485 | H9: 1485 | I9: 1485 | J9: 1485 | L9: Hydro Imports (Existing) | M9: GWh | O9: 10360.541 | P9: 10360.538 | Q9: 10360.54 | R9: 10360.536 | S9: 10360.541 | T9: 10360.535 | U9: 10360.523 | W9: Hydro Imports (Existing) | X9: =IF(D9>0,O9/(D9*8.76),"") -> 0.79643783 | Y9: =IF(E9>0,P9/(E9*8.76),"") -> 0.79643762 | Z9: =IF(F9>0,Q9/(F9*8.76),"") -> 0.79643775 | AA9: =IF(G9>0,R9/(G9*8.76),"") -> 0.7964374 | AB9: =IF(H9>0,S9/(H9*8.76),"") -> 0.79643783 | AC9: =IF(I9>0,T9/(I9*8.76),"") -> 0.79643739 | AD9: =IF(J9>0,U9/(J9*8.76),"") -> 0.79643641
A10: Hydro Imports (New) | B10: MW | D10: 0 | E10: 0 | F10: 1250 | G10: 1250 | H10: 1250 | I10: 1250 | J10: 1250 | L10: Hydro Imports (New) | M10: GWh | O10: 0 | P10: 0 | Q10: 8759.9994 | R10: 8760.0047 | S10: 8759.9992 | T10: 8760.006 | U10: 8760.0058 | W10: Hydro Imports (New) | X10: =IF(D10>0,O10/(D10*8.76),"") | Y10: =IF(E10>0,P10/(E10*8.76),"") | Z10: =IF(F10>0,Q10/(F10*8.76),"") -> 0.79999995 | AA10: =IF(G10>0,R10/(G10*8.76),"") -> 0.80000043 | AB10: =IF(H10>0,S10/(H10*8.76),"") -> 0.79999993 | AC10: =IF(I10>0,T10/(I10*8.76),"") -> 0.80000055 | AD10: =IF(J10>0,U10/(J10*8.76),"") -> 0.80000053
A11: Wind | B11: MW | D11: 1916.9 | E11: 3292.48 | F11: 3814.08 | G11: 4263.35 | H11: 5845.41 | I11: 7780.65 | J11: 9445.26 | L11: Wind | M11: GWh | O11: 4796.1884 | P11: 8238.0029 | Q11: 9873.3771 | R11: 11228.536 | S11: 16034.869 | T11: 21853.698 | U11: 26935.988 | W11: Wind | X11: =IF(D11>0,O11/(D11*8.76),"") -> 0.28562267 | Y11: =IF(E11>0,P11/(E11*8.76),"") -> 0.28562399 | Z11: =IF(F11>0,Q11/(F11*8.76),"") -> 0.29550975 | AA11: =IF(G11>0,R11/(G11*8.76),"") -> 0.30065473 | AB11: =IF(H11>0,S11/(H11*8.76),"") -> 0.31314561 | AC11: =IF(I11>0,T11/(I11*8.76),"") -> 0.32063059 | AD11: =IF(J11>0,U11/(J11*8.76),"") -> 0.32554789
A12: Wind Imports | B12: MW | D12: 0 | E12: 0 | F12: 1759.85 | G12: 5796.48 | H12: 6396.79 | I12: 6396.79 | J12: 6396.8 | L12: Wind Imports | M12: GWh | O12: 0 | P12: 0 | Q12: 6943.6651 | R12: 22810.499 | S12: 25130.375 | T12: 24915.913 | U12: 24930.758 | W12: Wind Imports | X12: =IF(D12>0,O12/(D12*8.76),"") | Y12: =IF(E12>0,P12/(E12*8.76),"") | Z12: =IF(F12>0,Q12/(F12*8.76),"") -> 0.45041102 | AA12: =IF(G12>0,R12/(G12*8.76),"") -> 0.4492275 | AB12: =IF(H12>0,S12/(H12*8.76),"") -> 0.44846935 | AC12: =IF(I12>0,T12/(I12*8.76),"") -> 0.44464212 | AD12: =IF(J12>0,U12/(J12*8.76),"") -> 0.44490636
A13: Wind_Offshore | B13: MW | D13: 0 | E13: 1826 | F13: 6200 | G13: 9906.4 | H13: 14363.65 | I13: 16392.51 | J13: 16392.59 | L13: Wind_Offshore | M13: GWh | O13: 0 | P13: 7611.0293 | Q13: 25656.994 | R13: 41015.964 | S13: 59777.951 | T13: 68286.81 | U13: 68521.522 | W13: Wind_Offshore | X13: =IF(D13>0,O13/(D13*8.76),"") | Y13: =IF(E13>0,P13/(E13*8.76),"") -> 0.47581542 | Z13: =IF(F13>0,Q13/(F13*8.76),"") -> 0.47240009 | AA13: =IF(G13>0,R13/(G13*8.76),"") -> 0.47264271 | AB13: =IF(H13>0,S13/(H13*8.76),"") -> 0.47508586 | AC13: =IF(I13>0,T13/(I13*8.76),"") -> 0.47554023 | AD13: =IF(J13>0,U13/(J13*8.76),"") -> 0.4771724
A14: Solar | B14: MW | D14: 2591.84 | E14: 8201.47 | F14: 18851.97 | G14: 28993.94 | H14: 43431.95 | I14: 53088.55 | J14: 64621.08 | L14: Solar | M14: GWh | O14: 3908.3566 | P14: 13086.901 | Q14: 32964.64 | R14: 52780.975 | S14: 80619.97 | T14: 100947.78 | U14: 125291.56 | W14: Solar | X14: =IF(D14>0,O14/(D14*8.76),"") -> 0.17214004 | Y14: =IF(E14>0,P14/(E14*8.76),"") -> 0.18215496 | Z14: =IF(F14>0,Q14/(F14*8.76),"") -> 0.19961239 | AA14: =IF(G14>0,R14/(G14*8.76),"") -> 0.20780982 | AB14: =IF(H14>0,S14/(H14*8.76),"") -> 0.21189914 | AC14: =IF(I14>0,T14/(I14*8.76),"") -> 0.21706599 | AD14: =IF(J14>0,U14/(J14*8.76),"") -> 0.22133164
A15: Battery Storage | B15: MW | D15: 750 | E15: 1500.01 | F15: 3000.06 | G15: 5791.02 | H15: 10713.17 | I15: 17046.02 | J15: 21464.92 | L15: Battery Storage | M15: GWh | O15: -16.364503 | P15: 46.679415 | Q15: -774.28839 | R15: -1543.0934 | S15: -2195.546 | T15: -3406.1498 | U15: -4318.6474 | W15: Battery Storage | X15: =IF(D15>0,O15/(D15*8.76),"") -> -0.0024907919 | Y15: =IF(E15>0,P15/(E15*8.76),"") -> 0.0035524432 | Z15: =IF(F15>0,Q15/(F15*8.76),"") -> -0.029462439 | AA15: =IF(G15>0,R15/(G15*8.76),"") -> -0.030418168 | AB15: =IF(H15>0,S15/(H15*8.76),"") -> -0.023394859 | AC15: =IF(I15>0,T15/(I15*8.76),"") -> -0.022810596 | AD15: =IF(J15>0,U15/(J15*8.76),"") -> -0.022967534
A16: Pumped Storage | B16: MW | D16: 1435.4 | E16: 1435.4 | F16: 1435.4 | G16: 1435.4 | H16: 1435.4 | I16: 1435.4 | J16: 1435.4 | L16: Pumped Storage | M16: GWh | O16: -73.594298 | P16: -50.000414 | Q16: -232.76929 | R16: -123.37724 | S16: -347.82186 | T16: -379.57444 | U16: -476.33678 | W16: Pumped Storage | X16: =IF(D16>0,O16/(D16*8.76),"") -> -0.0058528463 | Y16: =IF(E16>0,P16/(E16*8.76),"") -> -0.0039764594 | Z16: =IF(F16>0,Q16/(F16*8.76),"") -> -0.018511799 | AA16: =IF(G16>0,R16/(G16*8.76),"") -> -0.0098120106 | AB16: =IF(H16>0,S16/(H16*8.76),"") -> -0.027661761 | AC16: =IF(I16>0,T16/(I16*8.76),"") -> -0.030186997 | AD16: =IF(J16>0,U16/(J16*8.76),"") -> -0.037882364
L17: Imports* | M17: GWh | O17: 4694.4529 | P17: 3826.7323 | Q17: 2308.6486 | R17: 4572.8033 | S17: 13545.206 | T17: 14265.549 | U17: 14817.576
L18: Exports | M18: GWh | O18: -3319.6928 | P18: -6628.3234 | Q18: -10716.401 | R18: -13457.741 | S18: -13545.199 | T18: -14265.571 | U18: -14817.628
L19: Load | M19: GWh | O19: 158963.4 | P19: 150985.13 | Q19: 169743.74 | R19: 216201.1 | S19: 260708.06 | T19: 293785.66 | U19: 312488.38
A21: Scenario 3 | B21: Unit | D21: 2020 | E21: 2025 | F21: 2030 | G21: 2035 | H21: 2040 | I21: 2045 | J21: 2050 | L21: Scenario 3 | M21: Unit | O21: 2020 | P21: 2025 | Q21: 2030 | R21: 2035 | S21: 2040 | T21: 2045 | U21: 2050 | W21: Scenario 3 | X21: 2020 | Y21: 2025 | Z21: 2030 | AA21: 2035 | AB21: 2040 | AC21: 2045 | AD21: 2050
A22: Nuclear | B22: MW | D22: 4860.2 | E22: 3355.2 | F22: 3355.2 | G22: 3355.2 | H22: 3355.2 | I22: 3355.2 | J22: 2135.4 | L22: Nuclear | M22: GWh | O22: 38317.817 | P22: 26452.397 | Q22: 26452.397 | R22: 26452.397 | S22: 26452.397 | T22: 26452.397 | U22: 16835.494 | W22: Nuclear | X22: =IF(D22>0,O22/(D22*8.76),"") -> 0.9 | Y22: =IF(E22>0,P22/(E22*8.76),"") -> 0.9 | Z22: =IF(F22>0,Q22/(F22*8.76),"") -> 0.9 | AA22: =IF(G22>0,R22/(G22*8.76),"") -> 0.9 | AB22: =IF(H22>0,S22/(H22*8.76),"") -> 0.9 | AC22: =IF(I22>0,T22/(I22*8.76),"") -> 0.9 | AD22: =IF(J22>0,U22/(J22*8.76),"") -> 0.9
A23: Gas & FO | B23: MW | D23: 26388.1 | E23: 25775.2 | F23: 22397.68 | G23: 14292.33 | H23: 0 | I23: 0 | J23: 0 | L23: Gas & FO | M23: GWh | O23: 70460.574 | P23: 57868.726 | Q23: 25668.426 | R23: 21230.791 | S23: 0 | T23: 0 | U23: 0 | W23: Gas & FO | X23: =IF(D23>0,O23/(D23*8.76),"") -> 0.30481333 | Y23: =IF(E23>0,P23/(E23*8.76),"") -> 0.25629361 | Z23: =IF(F23>0,Q23/(F23*8.76),"") -> 0.13082541 | AA23: =IF(G23>0,R23/(G23*8.76),"") -> 0.16957391 | AB23: =IF(H23>0,S23/(H23*8.76),"") | AC23: =IF(I23>0,T23/(I23*8.76),"") | AD23: =IF(J23>0,U23/(J23*8.76),"")
A24: Zero-Carbon Firm Resource | B24: MW | D24: 0 | E24: 0 | F24: 0 | G24: 5489.27 | H24: 23521.59 | I24: 25230.2 | J24: 25359.33 | L24: Zero-Carbon Firm Resource | M24: GWh | O24: 0 | P24: 0 | Q24: 0 | R24: 0 | S24: 4439.5272 | T24: 5418.7917 | U24: 6398.9417 | W24: Zero-Carbon Firm Resource | X24: =IF(D24>0,O24/(D24*8.76),"") | Y24: =IF(E24>0,P24/(E24*8.76),"") | Z24: =IF(F24>0,Q24/(F24*8.76),"") | AA24: =IF(G24>0,R24/(G24*8.76),"") -> 0 | AB24: =IF(H24>0,S24/(H24*8.76),"") -> 0.021545964 | AC24: =IF(I24>0,T24/(I24*8.76),"") -> 0.024517583 | AD24: =IF(J24>0,U24/(J24*8.76),"") -> 0.028804893
A25: Biomass | B25: MW | D25: 327 | E25: 327 | F25: 327 | G25: 327 | H25: 327 | I25: 275 | J25: 177.9 | L25: Biomass | M25: GWh | O25: 2721.2064 | P25: 2721.2064 | Q25: 2721.2064 | R25: 2721.2064 | S25: 2721.2064 | T25: 2288.4624 | U25: 1480.44 | W25: Biomass | X25: =IF(D25>0,O25/(D25*8.76),"") -> 0.94996942 | Y25: =IF(E25>0,P25/(E25*8.76),"") -> 0.94996942 | Z25: =IF(F25>0,Q25/(F25*8.76),"") -> 0.94996942 | AA25: =IF(G25>0,R25/(G25*8.76),"") -> 0.94996942 | AB25: =IF(H25>0,S25/(H25*8.76),"") -> 0.94996942 | AC25: =IF(I25>0,T25/(I25*8.76),"") -> 0.94996364 | AD25: =IF(J25>0,U25/(J25*8.76),"") -> 0.94997189
A26: In-State Hydro | B26: MW | D26: 4268.86 | E26: 4268.86 | F26: 4609.86 | G26: 4613.19 | H26: 4613.19 | I26: 4613.19 | J26: 4613.19 | L26: In-State Hydro | M26: GWh | O26: 27121.229 | P26: 26994.797 | Q26: 30870.341 | R26: 30993.342 | S26: 29982.217 | T26: 29995.662 | U26: 29997.189 | W26: In-State Hydro | X26: =IF(D26>0,O26/(D26*8.76),"") -> 0.72525937 | Y26: =IF(E26>0,P26/(E26*8.76),"") -> 0.7218784 | Z26: =IF(F26>0,Q26/(F26*8.76),"") -> 0.76445088 | AA26: =IF(G26>0,R26/(G26*8.76),"") -> 0.76694279 | AB26: =IF(H26>0,S26/(H26*8.76),"") -> 0.74192209 | AC26: =IF(I26>0,T26/(I26*8.76),"") -> 0.74225479 | AD26: =IF(J26>0,U26/(J26*8.76),"") -> 0.74229256
A27: Hydro Imports (Existing) | B27: MW | D27: 1485 | E27: 1485 | F27: 1485 | G27: 1485 | H27: 1485 | I27: 1485 | J27: 1485 | L27: Hydro Imports (Existing) | M27: GWh | O27: 10360.542 | P27: 10360.54 | Q27: 10360.534 | R27: 10360.534 | S27: 10360.529 | T27: 10360.537 | U27: 10360.53 | W27: Hydro Imports (Existing) | X27: =IF(D27>0,O27/(D27*8.76),"") -> 0.79643793 | Y27: =IF(E27>0,P27/(E27*8.76),"") -> 0.79643775 | Z27: =IF(F27>0,Q27/(F27*8.76),"") -> 0.79643725 | AA27: =IF(G27>0,R27/(G27*8.76),"") -> 0.79643725 | AB27: =IF(H27>0,S27/(H27*8.76),"") -> 0.79643692 | AC27: =IF(I27>0,T27/(I27*8.76),"") -> 0.79643749 | AD27: =IF(J27>0,U27/(J27*8.76),"") -> 0.79643699
A28: Hydro Imports (New) | B28: MW | D28: 0 | E28: 0 | F28: 1250 | G28: 1250 | H28: 1250 | I28: 1250 | J28: 1250 | L28: Hydro Imports (New) | M28: GWh | O28: 0 | P28: 0 | Q28: 8760.0007 | R28: 8760.0012 | S28: 8760.0019 | T28: 8760.0087 | U28: 8760.0024 | W28: Hydro Imports (New) | X28: =IF(D28>0,O28/(D28*8.76),"") | Y28: =IF(E28>0,P28/(E28*8.76),"") | Z28: =IF(F28>0,Q28/(F28*8.76),"") -> 0.80000006 | AA28: =IF(G28>0,R28/(G28*8.76),"") -> 0.80000011 | AB28: =IF(H28>0,S28/(H28*8.76),"") -> 0.80000017 | AC28: =IF(I28>0,T28/(I28*8.76),"") -> 0.80000079 | AD28: =IF(J28>0,U28/(J28*8.76),"") -> 0.80000022
A29: Wind | B29: MW | D29: 1916.9 | E29: 3292.48 | F29: 4600.06 | G29: 5219.95 | H29: 6125.85 | I29: 8250.12 | J29: 10153.7 | L29: Wind | M29: GWh | O29: 4796.1919 | P29: 8238.0057 | Q29: 12296.277 | R29: 14129.972 | S29: 16799.354 | T29: 23199.946 | U29: 28946.758 | W29: Wind | X29: =IF(D29>0,O29/(D29*8.76),"") -> 0.28562288 | Y29: =IF(E29>0,P29/(E29*8.76),"") -> 0.28562409 | Z29: =IF(F29>0,Q29/(F29*8.76),"") -> 0.30514485 | AA29: =IF(G29>0,R29/(G29*8.76),"") -> 0.3090088 | AB29: =IF(H29>0,S29/(H29*8.76),"") -> 0.31305606 | AC29: =IF(I29>0,T29/(I29*8.76),"") -> 0.32101299 | AD29: =IF(J29>0,U29/(J29*8.76),"") -> 0.32544042
A30: Wind Imports | B30: MW | D30: 0 | E30: 0 | F30: 2421.07 | G30: 5448.19 | H30: 6396.78 | I30: 6592.94 | J30: 6592.94 | L30: Wind Imports | M30: GWh | O30: 0 | P30: 0 | Q30: 9544.317 | R30: 21388.884 | S30: 25002.263 | T30: 25563.204 | U30: 25546.197 | W30: Wind Imports | X30: =IF(D30>0,O30/(D30*8.76),"") | Y30: =IF(E30>0,P30/(E30*8.76),"") | Z30: =IF(F30>0,Q30/(F30*8.76),"") -> 0.45002165 | AA30: =IF(G30>0,R30/(G30*8.76),"") -> 0.44815864 | AB30: =IF(H30>0,S30/(H30*8.76),"") -> 0.4461838 | AC30: =IF(I30>0,T30/(I30*8.76),"") -> 0.44262104 | AD30: =IF(J30>0,U30/(J30*8.76),"") -> 0.44232657
A31: Wind_Offshore | B31: MW | D31: 0 | E31: 1826 | F31: 6600 | G31: 10422.76 | H31: 16756.49 | I31: 19277.82 | J31: 19277.83 | L31: Wind_Offshore | M31: GWh | O31: 0 | P31: 7611.0392 | Q31: 27293.351 | R31: 43152.869 | S31: 69388.446 | T31: 79539.797 | U31: 80046.089 | W31: Wind_Offshore | X31: =IF(D31>0,O31/(D31*8.76),"") | Y31: =IF(E31>0,P31/(E31*8.76),"") -> 0.47581604 | Z31: =IF(F31>0,Q31/(F31*8.76),"") -> 0.47207262 | AA31: =IF(G31>0,R31/(G31*8.76),"") -> 0.47263168 | AB31: =IF(H31>0,S31/(H31*8.76),"") -> 0.47271567 | AC31: =IF(I31>0,T31/(I31*8.76),"") -> 0.47100167 | AD31: =IF(J31>0,U31/(J31*8.76),"") -> 0.47399948
A32: Solar | B32: MW | D32: 2591.84 | E32: 8201.47 | F32: 16762.46 | G32: 28625.44 | H32: 41420.31 | I32: 49041.98 | J32: 60604.13 | L32: Solar | M32: GWh | O32: 3908.3553 | P32: 13086.911 | Q32: 28595.687 | R32: 51328.322 | S32: 75966.091 | T32: 92093.941 | U32: 116044.46 | W32: Solar | X32: =IF(D32>0,O32/(D32*8.76),"") -> 0.17213998 | Y32: =IF(E32>0,P32/(E32*8.76),"") -> 0.1821551 | Z32: =IF(F32>0,Q32/(F32*8.76),"") -> 0.19474157 | AA32: =IF(G32>0,R32/(G32*8.76),"") -> 0.20469196 | AB32: =IF(H32>0,S32/(H32*8.76),"") -> 0.20936415 | AC32: =IF(I32>0,T32/(I32*8.76),"") -> 0.21436751 | AD32: =IF(J32>0,U32/(J32*8.76),"") -> 0.21858386
A33: Battery Storage | B33: MW | D33: 750.02 | E33: 1500.02 | F33: 3000.06 | G33: 8089.95 | H33: 12207.02 | I33: 16382.72 | J33: 19212.41 | L33: Battery Storage | M33: GWh | O33: -15.827633 | P33: 65.955794 | Q33: -821.78575 | R33: -1874.5951 | S33: -2442.6132 | T33: -3249.0675 | U33: -4080.5904 | W33: Battery Storage | X33: =IF(D33>0,O33/(D33*8.76),"") -> -0.0024090123 | Y33: =IF(E33>0,P33/(E33*8.76),"") -> 0.0050193999 | Z33: =IF(F33>0,Q33/(F33*8.76),"") -> -0.031269761 | AA33: =IF(G33>0,R33/(G33*8.76),"") -> -0.02645194 | AB33: =IF(H33>0,S33/(H33*8.76),"") -> -0.022842358 | AC33: =IF(I33>0,T33/(I33*8.76),"") -> -0.022639593 | AD33: =IF(J33>0,U33/(J33*8.76),"") -> -0.02424583
A34: Pumped Storage | B34: MW | D34: 1435.4 | E34: 1435.4 | F34: 1435.4 | G34: 1435.4 | H34: 1435.4 | I34: 1435.4 | J34: 1435.4 | L34: Pumped Storage | M34: GWh | O34: -74.042604 | P34: -63.711581 | Q34: -222.99159 | R34: -114.52132 | S34: -287.82186 | T34: -310.1544 | U34: -394.97272 | W34: Pumped Storage | X34: =IF(D34>0,O34/(D34*8.76),"") -> -0.0058884994 | Y34: =IF(E34>0,P34/(E34*8.76),"") -> -0.0050668883 | Z34: =IF(F34>0,Q34/(F34*8.76),"") -> -0.017734193 | AA34: =IF(G34>0,R34/(G34*8.76),"") -> -0.0091077122 | AB34: =IF(H34>0,S34/(H34*8.76),"") -> -0.022890049 | AC34: =IF(I34>0,T34/(I34*8.76),"") -> -0.024666123 | AD34: =IF(J34>0,U34/(J34*8.76),"") -> -0.0314116
L35: Imports* | M35: GWh | O35: 4695.1879 | P35: 3832.1472 | Q35: 3330.3215 | R35: 5004.8701 | S35: 13978.025 | T35: 14458.736 | U35: 15072.684
L36: Exports | M36: GWh | O36: -3319.3042 | P36: -6656.9921 | Q36: -11479.502 | R36: -14461.43 | S36: -13978.054 | T36: -14458.749 | U36: -15072.713
L37: Load | M37: GWh | O37: 158973.37 | P37: 150511.73 | Q37: 173371.29 | R37: 219076.04 | S37: 267142.85 | T37: 300115.14 | U37: 319942.3
A39: Scenario 4 | B39: Unit | D39: 2020 | E39: 2025 | F39: 2030 | G39: 2035 | H39: 2040 | I39: 2045 | J39: 2050 | L39: Scenario 4 | M39: Unit | O39: 2020 | P39: 2025 | Q39: 2030 | R39: 2035 | S39: 2040 | T39: 2045 | U39: 2050 | W39: Scenario 4 | X39: 2020 | Y39: 2025 | Z39: 2030 | AA39: 2035 | AB39: 2040 | AC39: 2045 | AD39: 2050
A40: Nuclear | B40: MW | D40: 4860.2 | E40: 3355.2 | F40: 3355.2 | G40: 3355.2 | H40: 3355.2 | I40: 3355.2 | J40: 2135.4 | L40: Nuclear | M40: GWh | O40: 38317.817 | P40: 26452.397 | Q40: 26452.397 | R40: 26452.397 | S40: 26452.397 | T40: 26452.397 | U40: 16835.494 | W40: Nuclear | X40: =IF(D40>0,O40/(D40*8.76),"") -> 0.9 | Y40: =IF(E40>0,P40/(E40*8.76),"") -> 0.9 | Z40: =IF(F40>0,Q40/(F40*8.76),"") -> 0.9 | AA40: =IF(G40>0,R40/(G40*8.76),"") -> 0.9 | AB40: =IF(H40>0,S40/(H40*8.76),"") -> 0.9 | AC40: =IF(I40>0,T40/(I40*8.76),"") -> 0.9 | AD40: =IF(J40>0,U40/(J40*8.76),"") -> 0.9
A41: Gas & FO | B41: MW | D41: 26388.1 | E41: 25775.2 | F41: 21579.05 | G41: 20326.41 | H41: 0 | I41: 0 | J41: 0 | L41: Gas & FO | M41: GWh | O41: 70458.67 | P41: 58123.621 | Q41: 25586.595 | R41: 20849.757 | S41: 0 | T41: 0 | U41: 0 | W41: Gas & FO | X41: =IF(D41>0,O41/(D41*8.76),"") -> 0.30480509 | Y41: =IF(E41>0,P41/(E41*8.76),"") -> 0.2574225 | Z41: =IF(F41>0,Q41/(F41*8.76),"") -> 0.13535555 | AA41: =IF(G41>0,R41/(G41*8.76),"") -> 0.11709442 | AB41: =IF(H41>0,S41/(H41*8.76),"") | AC41: =IF(I41>0,T41/(I41*8.76),"") | AD41: =IF(J41>0,U41/(J41*8.76),"")
A42: Zero-Carbon Firm Resource | B42: MW | D42: 0 | E42: 0 | F42: 0 | G42: 0 | H42: 23676.28 | I42: 24333.41 | J42: 24047.84 | L42: Zero-Carbon Firm Resource | M42: GWh | O42: 0 | P42: 0 | Q42: 0 | R42: 0 | S42: 4643.5427 | T42: 5613.6863 | U42: 6608.501 | W42: Zero-Carbon Firm Resource | X42: =IF(D42>0,O42/(D42*8.76),"") | Y42: =IF(E42>0,P42/(E42*8.76),"") | Z42: =IF(F42>0,Q42/(F42*8.76),"") | AA42: =IF(G42>0,R42/(G42*8.76),"") | AB42: =IF(H42>0,S42/(H42*8.76),"") -> 0.022388855 | AC42: =IF(I42>0,T42/(I42*8.76),"") -> 0.026335469 | AD42: =IF(J42>0,U42/(J42*8.76),"") -> 0.031370597
A43: Biomass | B43: MW | D43: 327 | E43: 327 | F43: 327 | G43: 327 | H43: 327 | I43: 275 | J43: 177.9 | L43: Biomass | M43: GWh | O43: 2721.2064 | P43: 2721.2064 | Q43: 2721.2064 | R43: 2721.2064 | S43: 2721.2064 | T43: 2288.4624 | U43: 1480.44 | W43: Biomass | X43: =IF(D43>0,O43/(D43*8.76),"") -> 0.94996942 | Y43: =IF(E43>0,P43/(E43*8.76),"") -> 0.94996942 | Z43: =IF(F43>0,Q43/(F43*8.76),"") -> 0.94996942 | AA43: =IF(G43>0,R43/(G43*8.76),"") -> 0.94996942 | AB43: =IF(H43>0,S43/(H43*8.76),"") -> 0.94996942 | AC43: =IF(I43>0,T43/(I43*8.76),"") -> 0.94996364 | AD43: =IF(J43>0,U43/(J43*8.76),"") -> 0.94997189
A44: In-State Hydro | B44: MW | D44: 4268.86 | E44: 4268.86 | F44: 4609.86 | G44: 4613.19 | H44: 4613.19 | I44: 4613.19 | J44: 4613.19 | L44: In-State Hydro | M44: GWh | O44: 27121.146 | P44: 27000.279 | Q44: 30866.505 | R44: 30994.26 | S44: 30023.32 | T44: 30008.149 | U44: 30005.963 | W44: In-State Hydro | X44: =IF(D44>0,O44/(D44*8.76),"") -> 0.72525714 | Y44: =IF(E44>0,P44/(E44*8.76),"") -> 0.72202499 | Z44: =IF(F44>0,Q44/(F44*8.76),"") -> 0.76435589 | AA44: =IF(G44>0,R44/(G44*8.76),"") -> 0.7669655 | AB44: =IF(H44>0,S44/(H44*8.76),"") -> 0.74293918 | AC44: =IF(I44>0,T44/(I44*8.76),"") -> 0.74256377 | AD44: =IF(J44>0,U44/(J44*8.76),"") -> 0.74250967
A45: Hydro Imports (Existing) | B45: MW | D45: 1485 | E45: 1485 | F45: 1485 | G45: 1485 | H45: 1485 | I45: 1485 | J45: 1485 | L45: Hydro Imports (Existing) | M45: GWh | O45: 10360.541 | P45: 10360.543 | Q45: 10360.545 | R45: 10360.534 | S45: 10360.535 | T45: 10360.525 | U45: 10360.548 | W45: Hydro Imports (Existing) | X45: =IF(D45>0,O45/(D45*8.76),"") -> 0.79643785 | Y45: =IF(E45>0,P45/(E45*8.76),"") -> 0.796438 | Z45: =IF(F45>0,Q45/(F45*8.76),"") -> 0.79643815 | AA45: =IF(G45>0,R45/(G45*8.76),"") -> 0.79643731 | AB45: =IF(H45>0,S45/(H45*8.76),"") -> 0.79643739 | AC45: =IF(I45>0,T45/(I45*8.76),"") -> 0.79643659 | AD45: =IF(J45>0,U45/(J45*8.76),"") -> 0.79643837
A46: Hydro Imports (New) | B46: MW | D46: 0 | E46: 0 | F46: 1250 | G46: 1250 | H46: 1250 | I46: 1250 | J46: 1250 | L46: Hydro Imports (New) | M46: GWh | O46: 0 | P46: 0 | Q46: 8760.0048 | R46: 8760.005 | S46: 8760.0016 | T46: 8760.0065 | U46: 8760.0046 | W46: Hydro Imports (New) | X46: =IF(D46>0,O46/(D46*8.76),"") | Y46: =IF(E46>0,P46/(E46*8.76),"") | Z46: =IF(F46>0,Q46/(F46*8.76),"") -> 0.80000043 | AA46: =IF(G46>0,R46/(G46*8.76),"") -> 0.80000046 | AB46: =IF(H46>0,S46/(H46*8.76),"") -> 0.80000015 | AC46: =IF(I46>0,T46/(I46*8.76),"") -> 0.8000006 | AD46: =IF(J46>0,U46/(J46*8.76),"") -> 0.80000042
A47: Wind | B47: MW | D47: 1916.9 | E47: 3292.48 | F47: 3859.26 | G47: 4491.1 | H47: 6282.46 | I47: 8304.67 | J47: 11052.12 | L47: Wind | M47: GWh | O47: 4796.2038 | P47: 8238.0132 | Q47: 9965.8499 | R47: 11855.775 | S47: 17274.43 | T47: 23376.107 | U47: 31606.466 | W47: Wind | X47: =IF(D47>0,O47/(D47*8.76),"") -> 0.28562358 | Y47: =IF(E47>0,P47/(E47*8.76),"") -> 0.28562435 | Z47: =IF(F47>0,Q47/(F47*8.76),"") -> 0.29478555 | AA47: =IF(G47>0,R47/(G47*8.76),"") -> 0.30135133 | AB47: =IF(H47>0,S47/(H47*8.76),"") -> 0.31388452 | AC47: =IF(I47>0,T47/(I47*8.76),"") -> 0.32132588 | AD47: =IF(J47>0,U47/(J47*8.76),"") -> 0.32645719
A48: Wind Imports | B48: MW | D48: 0 | E48: 0 | F48: 2649.16 | G48: 5970.33 | H48: 6396.79 | I48: 6396.8 | J48: 6396.8 | L48: Wind Imports | M48: GWh | O48: 0 | P48: 0 | Q48: 10449.209 | R48: 23454.826 | S48: 25035.077 | T48: 24848.886 | U48: 24810.832 | W48: Wind Imports | X48: =IF(D48>0,O48/(D48*8.76),"") | Y48: =IF(E48>0,P48/(E48*8.76),"") | Z48: =IF(F48>0,Q48/(F48*8.76),"") -> 0.45026805 | AA48: =IF(G48>0,R48/(G48*8.76),"") -> 0.44846625 | AB48: =IF(H48>0,S48/(H48*8.76),"") -> 0.44676869 | AC48: =IF(I48>0,T48/(I48*8.76),"") -> 0.44344529 | AD48: =IF(J48>0,U48/(J48*8.76),"") -> 0.44276619
A49: Wind_Offshore | B49: MW | D49: 0 | E49: 1826 | F49: 6600 | G49: 9967.44 | H49: 15874.67 | I49: 18065.78 | J49: 18310 | L49: Wind_Offshore | M49: GWh | O49: 0 | P49: 7611.0622 | Q49: 27293.368 | R49: 41237.053 | S49: 65700.344 | T49: 74599.701 | U49: 76263.205 | W49: Wind_Offshore | X49: =IF(D49>0,O49/(D49*8.76),"") | Y49: =IF(E49>0,P49/(E49*8.76),"") -> 0.47581748 | Z49: =IF(F49>0,Q49/(F49*8.76),"") -> 0.47207292 | AA49: =IF(G49>0,R49/(G49*8.76),"") -> 0.47228036 | AB49: =IF(H49>0,S49/(H49*8.76),"") -> 0.47245324 | AC49: =IF(I49>0,T49/(I49*8.76),"") -> 0.47138555 | AD49: =IF(J49>0,U49/(J49*8.76),"") -> 0.47546943
A50: Solar | B50: MW | D50: 2591.84 | E50: 8201.47 | F50: 18060.33 | G50: 29841.48 | H50: 41623.44 | I50: 53450.27 | J50: 65210.26 | L50: Solar | M50: GWh | O50: 3908.3879 | P50: 13086.921 | Q50: 31293.232 | R50: 53920.945 | S50: 76464.763 | T50: 101266.97 | U50: 125979.67 | W50: Solar | X50: =IF(D50>0,O50/(D50*8.76),"") -> 0.17214141 | Y50: =IF(E50>0,P50/(E50*8.76),"") -> 0.18215525 | Z50: =IF(F50>0,Q50/(F50*8.76),"") -> 0.19779743 | AA50: =IF(G50>0,R50/(G50*8.76),"") -> 0.20626856 | AB50: =IF(H50>0,S50/(H50*8.76),"") -> 0.20971006 | AC50: =IF(I50>0,T50/(I50*8.76),"") -> 0.21627872 | AD50: =IF(J50>0,U50/(J50*8.76),"") -> 0.22053647
A51: Battery Storage | B51: MW | D51: 750 | E51: 1500 | F51: 3000.02 | G51: 6310.52 | H51: 11576.19 | I51: 18972.91 | J51: 22955.77 | L51: Battery Storage | M51: GWh | O51: -15.673759 | P51: 60.996793 | Q51: -812.22104 | R51: -1780.6385 | S51: -2381.0387 | T51: -3843.7474 | U51: -4823.215 | W51: Battery Storage | X51: =IF(D51>0,O51/(D51*8.76),"") -> -0.0023856559 | Y51: =IF(E51>0,P51/(E51*8.76),"") -> 0.0046420695 | Z51: =IF(F51>0,Q51/(F51*8.76),"") -> -0.030906226 | AA51: =IF(G51>0,R51/(G51*8.76),"") -> -0.03221117 | AB51: =IF(H51>0,S51/(H51*8.76),"") -> -0.023479925 | AC51: =IF(I51>0,T51/(I51*8.76),"") -> -0.023126866 | AD51: =IF(J51>0,U51/(J51*8.76),"") -> -0.023985051
A52: Pumped Storage | B52: MW | D52: 1435.4 | E52: 1435.4 | F52: 1435.4 | G52: 1435.4 | H52: 1435.4 | I52: 1435.4 | J52: 1435.4 | L52: Pumped Storage | M52: GWh | O52: -73.827724 | P52: -59.059861 | Q52: -219.77404 | R52: -163.09711 | S52: -344.95504 | T52: -306.36568 | U52: -425.66441 | W52: Pumped Storage | X52: =IF(D52>0,O52/(D52*8.76),"") -> -0.0058714103 | Y52: =IF(E52>0,P52/(E52*8.76),"") -> -0.0046969439 | Z52: =IF(F52>0,Q52/(F52*8.76),"") -> -0.017478306 | AA52: =IF(G52>0,R52/(G52*8.76),"") -> -0.012970873 | AB52: =IF(H52>0,S52/(H52*8.76),"") -> -0.027433767 | AC52: =IF(I52>0,T52/(I52*8.76),"") -> -0.024364812 | AD52: =IF(J52>0,U52/(J52*8.76),"") -> -0.033852465
L53: Imports* | M53: GWh | O53: 4694.3453 | P53: 3834.1523 | Q53: 3303.0165 | R53: 5017.0371 | S53: 14006.348 | T53: 14780.468 | U53: 15101.097
L54: Exports | M54: GWh | O54: -3318.332 | P54: -6628.3596 | Q54: -10778.698 | R54: -14091.912 | S54: -14006.351 | T54: -14780.485 | U54: -15101.072
L55: Load | M55: GWh | O55: 158973.36 | P55: 150804.15 | Q55: 175244.94 | R55: 219592.7 | S55: 264711.7 | T55: 303430.59 | U55: 327470.18
A57: Reference Case | B57: Unit | D57: 2020 | E57: 2025 | F57: 2030 | G57: 2035 | H57: 2040 | I57: 2045 | J57: 2050
A58: Nuclear | B58: MW | D58: 4860.2 | E58: 3355.2 | F58: 2135.4 | G58: 1287.2 | H58: 1287.2 | I58: 1287.2 | J58: 0
A59: Gas & FO | B59: MW | D59: 26388.1 | E59: 25775.2 | F59: 20756.06 | G59: 15352.17 | H59: 16318.98 | I59: 17822.41 | J59: 18638.61
A60: Zero-Carbon Firm Resource | B60: MW | D60: 0 | E60: 0 | F60: 0 | G60: 0 | H60: 0 | I60: 0 | J60: 0
A61: Biomass | B61: MW | D61: 327 | E61: 327 | F61: 327 | G61: 327 | H61: 327 | I61: 275 | J61: 177.9
A62: In-State Hydro | B62: MW | D62: 4268.86 | E62: 4268.86 | F62: 4609.85 | G62: 4609.85 | H62: 4609.85 | I62: 4609.85 | J62: 4609.85
A63: Hydro Imports (Existing) | B63: MW | D63: 1485 | E63: 1485 | F63: 1485 | G63: 1485 | H63: 1485 | I63: 1485 | J63: 1485
A64: Hydro Imports (New) | B64: MW | D64: 0 | E64: 0 | F64: 1250 | G64: 1250 | H64: 1250 | I64: 1250 | J64: 1250
A65: Wind | B65: MW | D65: 1916.9 | E65: 3292.48 | F65: 3786.66 | G65: 3786.66 | H65: 3786.66 | I65: 3786.66 | J65: 3786.66
A66: Wind Imports | B66: MW | D66: 0 | E66: 0 | F66: 0 | G66: 0 | H66: 0 | I66: 0 | J66: 0
A67: Wind_Offshore | B67: MW | D67: 0 | E67: 1826 | F67: 6200 | G67: 9000 | H67: 9000 | I67: 9000 | J67: 9000
A68: Solar | B68: MW | D68: 2591.84 | E68: 8201.47 | F68: 13644.09 | G68: 14387 | H68: 14660.64 | I68: 14941.74 | J68: 19956.35
... A70: Pumped Storage | B70: MW | D70: 1435.4 | E70: 1435.4 | F70: 1435.4 | G70: 1435.4 | H70: 1435.4 | I70: 1435.4 | J70: 1435.4
A72: Delta relative to Reference Case
A73: Scenario 2 | B73: Unit | D73: 2020 | E73: 2025 | F73: 2030 | G73: 2035 | H73: 2040 | I73: 2045 | J73: 2050
A74: Nuclear | B74: MW | D74: =D4-D$58 -> 0 | E74: =E4-E58 -> 0 | F74: =F4-F58 -> 1219.8 | G74: =G4-G58 -> 2068 | H74: =H4-H58 -> 2068 | I74: =I4-I58 -> 2068 | J74: =J4-J58 -> 2135.4
A75: Gas & FO | B75: MW | D75: =D5-D59 -> 0 | E75: =E5-E59 -> 0 | F75: =F5-F59 -> 822.86 | G75: =G5-G59 -> 2726.03 | H75: =H5-H59 -> -16318.98 | I75: =I5-I59 -> -17822.41 | J75: =J5-J59 -> -18638.61
A76: Zero-Carbon Firm Resource | B76: MW | D76: =D6-D60 -> 0 | E76: =E6-E60 -> 0 | F76: =F6-F60 -> 0 | G76: =G6-G60 -> 0 | H76: =H6-H60 -> 21015.35 | I76: =I6-I60 -> 21575.5 | J76: =J6-J60 -> 21289.9
A77: Biomass | B77: MW | D77: =D7-D61 -> 0 | E77: =E7-E61 -> 0 | F77: =F7-F61 -> 0 | G77: =G7-G61 -> 0 | H77: =H7-H61 -> 0 | I77: =I7-I61 -> 0 | J77: =J7-J61 -> 0
A78: In-State Hydro | B78: MW | D78: =D8-D62 -> 0 | E78: =E8-E62 -> 0 | F78: =F8-F62 -> 0.01 | G78: =G8-G62 -> 0.01 | H78: =H8-H62 -> 3.34 | I78: =I8-I62 -> 3.34 | J78: =J8-J62 -> 3.34
A79: Hydro Imports (Existing) | B79: MW | D79: =D9-D63 -> 0 | E79: =E9-E63 -> 0 | F79: =F9-F63 -> 0 | G79: =G9-G63 -> 0 | H79: =H9-H63 -> 0 | I79: =I9-I63 -> 0 | J79: =J9-J63 -> 0
A80: Hydro Imports (New) | B80: MW | D80: =D10-D64 -> 0 | E80: =E10-E64 -> 0 | F80: =F10-F64 -> 0 | G80: =G10-G64 -> 0 | H80: =H10-H64 -> 0 | I80: =I10-I64 -> 0 | J80: =J10-J64 -> 0
A81: Wind | B81: MW | D81: =D11-D65 -> 0 | E81: =E11-E65 -> 0 | F81: =F11-F65 -> 27.42 | G81: =G11-G65 -> 476.69 | H81: =H11-H65 -> 2058.75 | I81: =I11-I65 -> 3993.99 | J81: =J11-J65 -> 5658.6
A82: Wind Imports | B82: MW | D82: =D12-D66 -> 0 | E82: =E12-E66 -> 0 | F82: =F12-F66 -> 1759.85 | G82: =G12-G66 -> 5796.48 | H82: =H12-H66 -> 6396.79 | I82: =I12-I66 -> 6396.79 | J82: =J12-J66 -> 6396.8
A83: Wind_Offshore | B83: MW | D83: =D13-D67 -> 0 | E83: =E13-E67 -> 0 | F83: =F13-F67 -> 0 | G83: =G13-G67 -> 906.4 | H83: =H13-H67 -> 5363.65 | I83: =I13-I67 -> 7392.51 | J83: =J13-J67 -> 7392.59
A84: Solar | B84: MW | D84: =D14-D68 -> 0 | E84: =E14-E68 -> 0 | F84: =F14-F68 -> 5207.88 | G84: =G14-G68 -> 14606.94 | H84: =H14-H68 -> 28771.31 | I84: =I14-I68 -> 38146.81 | J84: =J14-J68 -> 44664.73
A85: Battery Storage | B85: MW | D85: =D15-D69 -> 0 | E85: =E15-E69 -> -0.02 | F85: =F15-F69 -> 0.04 | G85: =G15-G69 -> 1135.69 | H85: =H15-H69 -> 5840.89 | I85: =I15-I69 -> 11922.69 | J85: =J15-J69 -> 13239.68
A86: Pumped Storage | B86: MW | D86: =D16-D70 -> 0 | E86: =E16-E70 -> 0 | F86: =F16-F70 -> 0 | G86: =G16-G70 -> 0 | H86: =H16-H70 -> 0 | I86: =I16-I70 -> 0 | J86: =J16-J70 -> 0
A88: Scenario 3 | B88: Unit | D88: 2020 | E88: 2025 | F88: 2030 | G88: 2035 | H88: 2040 | I88: 2045 | J88: 2050
A89: Nuclear | B89: MW | D89: =D22-D58 -> 0 | E89: =E22-E58 -> 0 | F89: =F22-F58 -> 1219.8 | G89: =G22-G58 -> 2068 | H89: =H22-H58 -> 2068 | I89: =I22-I58 -> 2068 | J89: =J22-J58 -> 2135.4
A90: Gas & FO | B90: MW | D90: =D23-D59 -> 0 | E90: =E23-E59 -> 0 | F90: =F23-F59 -> 1641.62 | G90: =G23-G59 -> -1059.84 | H90: =H23-H59 -> -16318.98 | I90: =I23-I59 -> -17822.41 | J90: =J23-J59 -> -18638.61
A91: Zero-Carbon Firm Resource | B91: MW | D91: =D24-D60 -> 0 | E91: =E24-E60 -> 0 | F91: =F24-F60 -> 0 | G91: =G24-G60 -> 5489.27 | H91: =H24-H60 -> 23521.59 | I91: =I24-I60 -> 25230.2 | J91: =J24-J60 -> 25359.33
A92: Biomass | B92: MW | D92: =D25-D61 -> 0 | E92: =E25-E61 -> 0 | F92: =F25-F61 -> 0 | G92: =G25-G61 -> 0 | H92: =H25-H61 -> 0 | I92: =I25-I61 -> 0 | J92: =J25-J61 -> 0
A93: In-State Hydro | B93: MW | D93: =D26-D62 -> 0 | E93: =E26-E62 -> 0 | F93: =F26-F62 -> 0.01 | G93: =G26-G62 -> 3.34 | H93: =H26-H62 -> 3.34 | I93: =I26-I62 -> 3.34 | J93: =J26-J62 -> 3.34
A94: Hydro Imports (Existing) | B94: MW | D94: =D27-D63 -> 0 | E94: =E27-E63 -> 0 | F94: =F27-F63 -> 0 | G94: =G27-G63 -> 0 | H94: =H27-H63 -> 0 | I94: =I27-I63 -> 0 | J94: =J27-J63 -> 0
A95: Hydro Imports (New) | B95: MW | D95: =D28-D64 -> 0 | E95: =E28-E64 -> 0 | F95: =F28-F64 -> 0 | G95: =G28-G64 -> 0 | H95: =H28-H64 -> 0 | I95: =I28-I64 -> 0 | J95: =J28-J64 -> 0
A96: Wind | B96: MW | D96: =D29-D65 -> 0 | E96: =E29-E65 -> 0 | F96: =F29-F65 -> 813.4 | G96: =G29-G65 -> 1433.29 | H96: =H29-H65 -> 2339.19 | I96: =I29-I65 -> 4463.46 | J96: =J29-J65 -> 6367.04
A97: Wind Imports | B97: MW | D97: =D30-D66 -> 0 | E97: =E30-E66 -> 0 | F97: =F30-F66 -> 2421.07 | G97: =G30-G66 -> 5448.19 | H97: =H30-H66 -> 6396.78 | I97: =I30-I66 -> 6592.94 | J97: =J30-J66 -> 6592.94
A98: Wind_Offshore | B98: MW | D98: =D31-D67 -> 0 | E98: =E31-E67 -> 0 | F98: =F31-F67 -> 400 | G98: =G31-G67 -> 1422.76 | H98: =H31-H67 -> 7756.49 | I98: =I31-I67 -> 10277.82 | J98: =J31-J67 -> 10277.83
A99: Solar | B99: MW | D99: =D32-D68 -> 0 | E99: =E32-E68 -> 0 | F99: =F32-F68 -> 3118.37 | G99: =G32-G68 -> 14238.44 | H99: =H32-H68 -> 26759.67 | I99: =I32-I68 -> 34100.24 | J99: =J32-J68 -> 40647.78
A100: Battery Storage | B100: MW | D100: =D33-D69 -> 0.02 | E100: =E33-E69 -> -0.01 | F100: =F33-F69 -> 0.04 | G100: =G33-G69 -> 3434.62 | H100: =H33-H69 -> 7334.74 | I100: =I33-I69 -> 11259.39 | J100: =J33-J69 -> 10987.17
A101: Pumped Storage | B101: MW | D101: =D34-D70 -> 0 | E101: =E34-E70 -> 0 | F101: =F34-F70 -> 0 | G101: =G34-G70 -> 0 | H101: =H34-H70 -> 0 | I101: =I34-I70 -> 0 | J101: =J34-J70 -> 0
A103: Scenario 4 | B103: Unit | D103: 2020 | E103: 2025 | F103: 2030 | G103: 2035 | H103: 2040 | I103: 2045 | J103: 2050
A104: Nuclear | B104: MW | D104: =D40-D58 -> 0 | E104: =E40-E58 -> 0 | F104: =F40-F58 -> 1219.8 | G104: =G40-G58 -> 2068 | H104: =H40-H58 -> 2068 | I104: =I40-I58 -> 2068 | J104: =J40-J58 -> 2135.4
A105: Gas & FO | B105: MW | D105: =D41-D59 -> 0 | E105: =E41-E59 -> 0 | F105: =F41-F59 -> 822.99 | G105: =G41-G59 -> 4974.24 | H105: =H41-H59 -> -16318.98 | I105: =I41-I59 -> -17822.41 | J105: =J41-J59 -> -18638.61
A106: Zero-Carbon Firm Resource | B106: MW | D106: =D42-D60 -> 0 | E106: =E42-E60 -> 0 | F106: =F42-F60 -> 0 | G106: =G42-G60 -> 0 | H106: =H42-H60 -> 23676.28 | I106: =I42-I60 -> 24333.41 | J106: =J42-J60 -> 24047.84
A107: Biomass | B107: MW | D107: =D43-D61 -> 0 | E107: =E43-E61 -> 0 | F107: =F43-F61 -> 0 | G107: =G43-G61 -> 0 | H107: =H43-H61 -> 0 | I107: =I43-I61 -> 0 | J107: =J43-J61 -> 0
A108: In-State Hydro | B108: MW | D108: =D44-D62 -> 0 | E108: =E44-E62 -> 0 | F108: =F44-F62 -> 0.01 | G108: =G44-G62 -> 3.34 | H108: =H44-H62 -> 3.34 | I108: =I44-I62 -> 3.34 | J108: =J44-J62 -> 3.34
...

Sheet NREL Table 1
B1: Getting to 100%: Six strategies for the challenging last 10%,
E3: Resource | F3: Technology
B4: Strategy* | C4: Example technologies | D4: Economic factors1* | E4: constraints | F4: maturity | G4: Other considerations
B5: Ideal solution | C5: n/a | D5: low capex, low opex | E5: low | F5: high | G5: low environmental impact, synergistic interactions with other sectors
B6: Variable renewable energy | C6: wind, solar photovoltaics | D6: low-medium capex, low opex | E6: medium | F6: high | G6: electrical transmission and storage, land use, social acceptance, weather dependent
B7: Other renewable energy | C7: geothermal | D7: medium-high capex, low opex | E7: high | F7: high | G7: geographic constraints
C8: hydropower | D8: medium-high capex, low opex | E8: high | F8: high | G8: geographic constraints, shared water resource
C9: biopower | D9: high capex, medium opex | E9: high (feedstock) | F9: high | G9: biomass sustainability and competition
C10: biogas and biodiesel combustion turbine | D10: low capex, high opex | E10: high (feedstock) | F10: medium | G10: biomass sustainability and competition
B11: Nuclear and fossil with carbon capture | C11: advanced nuclear | D11: high capex, medium opex | E11: medium | F11: medium | G11: security, supply chain, regulatory and cost uncertainties
C12: fossil with carbon capture and storage | D12: high capex, medium opex | E12: medium | F12: low | G12: upstream emissions, CO2 transport and sequestration
B13: Seasonal storage | C13: H2 combustion turbine | D13: low capex, high opex | E13: low | F13: medium | G13: H2 storage and transport, H2 competition
C14: H2 fuel cell | D14: potential for low capex, high opex | E14: low | F14: low | G14: H2 storage and transport,
B15: Carbon dioxide removal | C15: bioenergy with carbon capture and storage | D15: high capex,0 high opex | E15: medium-high | F15: low | G15: biomass sustainability and competition, CO2 storage and transport
C16: direct air carbon capture and storage | D16: high capex, high opex | E16: low | F16: low | G16: CO2 storage and transport
B17: Demand-side resources | C17: varied | D17: low capex, uncertain opportunity cost | E17: unknown | F17: medium | G17: communications and control equipment, reliability
