Workbook
Name Category: Data!$F$2:$F$17000
Name CH420GWP: 'Value of Carbon'!$I$9
Name CH4GWP100: 'Value of Carbon'!$H$9
Name Conventional_Accounting: Data!$C$2:$C$17000
Name Economic_Sector: Data!$D$2:$D$17000
Name Gas: Data!$K$2:$K$17000
Name Gross: Data!$A$2:$A$17000
Name GrossYes: Summary!$AC$1
Name MT_CO2e_AR4_100_yr: Data!$M$2:$M$17000
Name MT_CO2e_AR5_20_yr: Data!$L$2:$L$17000
Name N2O100GWP: 'Value of Carbon'!$H$10
Name N2O20GWP: 'Value of Carbon'!$I$10
Name Net: Data!$B$2:$B$17000
Name Sector: Data!$E$2:$E$17000
Name SF6GWP100: 'Value of Carbon'!$H$21
Name SF6GWP20: 'Value of Carbon'!$I$21
Name SubCategory_1: Data!$G$2:$G$17000
Name SubCategory_2: Data!$H$2:$H$17000
Name SubCategory_3: Data!$I$2:$I$17000
Name Year: Data!$J$2:$J$17000

Sheet Summary
A1: Table 2: Statewide Greenhouse Gas Emissions: Beginning 1990 | AC1: Yes
B2: https://data.ny.gov/Energy-Environment/Statewide-Greenhouse-Gas-Emissions-Beginning-1990/5i6e-asw6
B4: Greenhouse Gas (MMT CO2e AR5 20 yr) | K4: Greenhouse Gas (MMT CO2e AR4 100 yr) | T4: GWP20 GHG - GWP100 GHG (MMT CO2e) | AB4: % Difference 1990 | AE4: % Difference 2005 | AG4: Delta 20 yr vs 100 yr
A5: Year | B5: CO2 | C5: N2O | D5: Biogenic CO2 | E5: CH4 | F5: HFCs | G5: NF3 | H5: PFCs | I5: SF6 | J5: Total | K5: CO2 | L5: N2O | M5: Biogenic CO2 | N5: CH4 | O5: HFCs | P5: NF3 | Q5: PFCs | R5: SF6 | S5: Total | T5: N2O | U5: CH4 | V5: HFCs | W5: NF3 | X5: PFCs | Y5: SF6 | Z5: Total | AA5: Year | AB5: AR5 20 yr | AC5: CO2e | AD5: AR 4 100 yr | AE5: AR5 20 yr | AF5: AR 4 100 yr
A6: 1990 | B6: =SUMIFS(MT_CO2e_AR5_20_yr,Year,$A6,Gas,B$5,Gross,GrossYes)/1000000 -> 256.42486 | C6: =SUMIFS(MT_CO2e_AR5_20_yr,Year,$A6,Gas,C$5,Gross,GrossYes)/1000000 -> 3.710771 | D6: =SUMIFS(MT_CO2e_AR5_20_yr,Year,$A6,Gas,D$5,Gross,GrossYes)/1000000 -> 8.476043 | E6: =SUMIFS(MT_CO2e_AR5_20_yr,Year,$A6,Gas,E$5,Gross,GrossYes)/1000000 -> 130.67854 | F6: =SUMIFS(MT_CO2e_AR5_20_yr,Year,$A6,Gas,F$5,Gross,GrossYes)/1000000 -> 0.044852 | G6: =SUMIFS(MT_CO2e_AR5_20_yr,Year,$A6,Gas,G$5,Gross,GrossYes)/1000000 -> 0.000489 | H6: =SUMIFS(MT_CO2e_AR5_20_yr,Year,$A6,Gas,H$5,Gross,GrossYes)/1000000 -> 0.903252 | I6: =SUMIFS(MT_CO2e_AR5_20_yr,Year,$A6,Gas,I$5,Gross,GrossYes)/1000000 -> 4.020918 | J6: =SUM(B6:I6) -> 404.25973 | K6: =SUMIFS(MT_CO2e_AR4_100_yr,Year,$A6,Gas,K$5,Gross,GrossYes)/1000000 -> 256.42486 | L6: =SUMIFS(MT_CO2e_AR4_100_yr,Year,$A6,Gas,L$5,Gross,GrossYes)/1000000 -> 3.985438 | M6: =SUMIFS(MT_CO2e_AR4_100_yr,Year,$A6,Gas,M$5,Gross,GrossYes)/1000000 -> 8.476043 | N6: =SUMIFS(MT_CO2e_AR4_100_yr,Year,$A6,Gas,N$5,Gross,GrossYes)/1000000 -> 38.892426 | O6: =SUMIFS(MT_CO2e_AR4_100_yr,Year,$A6,Gas,O$5,Gross,GrossYes)/1000000 -> 0.019413 | P6: =SUMIFS(MT_CO2e_AR4_100_yr,Year,$A6,Gas,P$5,Gross,GrossYes)/1000000 -> 0.000657 | Q6: =SUMIFS(MT_CO2e_AR4_100_yr,Year,$A6,Gas,Q$5,Gross,GrossYes)/1000000 -> 1.363153 | R6: =SUMIFS(MT_CO2e_AR4_100_yr,Year,$A6,Gas,R$5,Gross,GrossYes)/1000000 -> 5.238682 | S6: =SUM(K6:R6) -> 314.40067 | T6: =C6-L6 -> -0.274667 | U6: =E6-N6 -> 91.786118 | V6: =F6-O6 -> 0.025439 | W6: =G6-P6 -> -0.000168 | X6: =H6-Q6 -> -0.459901 | Y6: =I6-R6 -> -1.217764 | Z6: =J6-S6 -> 89.859057 | AA6: 1990 | AC6: =B6+D6+F6+G6+H6+I6 -> 269.87041 | AG6: =Z6/S6 -> 0.28581064
A7: 1991 | B7: =SUMIFS(MT_CO2e_AR5_20_yr,Year,$A7,Gas,B$5,Gross,GrossYes)/1000000 -> 253.103 | C7: =SUMIFS(MT_CO2e_AR5_20_yr,Year,$A7,Gas,C$5,Gross,GrossYes)/1000000 -> 3.596123 | D7: =SUMIFS(MT_CO2e_AR5_20_yr,Year,$A7,Gas,D$5,Gross,GrossYes)/1000000 -> 8.254588 | E7: =SUMIFS(MT_CO2e_AR5_20_yr,Year,$A7,Gas,E$5,Gross,GrossYes)/1000000 -> 134.31864 | F7: =SUMIFS(MT_CO2e_AR5_20_yr,Year,$A7,Gas,F$5,Gross,GrossYes)/1000000 -> 0.106272 | G7: =SUMIFS(MT_CO2e_AR5_20_yr,Year,$A7,Gas,G$5,Gross,GrossYes)/1000000 -> 0.000489 | H7: =SUMIFS(MT_CO2e_AR5_20_yr,Year,$A7,Gas,H$5,Gross,GrossYes)/1000000 -> 0.74552 | I7: =SUMIFS(MT_CO2e_AR5_20_yr,Year,$A7,Gas,I$5,Gross,GrossYes)/1000000 -> 3.841777 | J7: =SUM(B7:I7) -> 403.96641 | K7: =SUMIFS(MT_CO2e_AR4_100_yr,Year,$A7,Gas,K$5,Gross,GrossYes)/1000000 -> 253.103 | L7: =SUMIFS(MT_CO2e_AR4_100_yr,Year,$A7,Gas,L$5,Gross,GrossYes)/1000000 -> 3.86917 | M7: =SUMIFS(MT_CO2e_AR4_100_yr,Year,$A7,Gas,M$5,Gross,GrossYes)/1000000 -> 8.254588 | N7: =SUMIFS(MT_CO2e_AR4_100_yr,Year,$A7,Gas,N$5,Gross,GrossYes)/1000000 -> 39.975788 | O7: =SUMIFS(MT_CO2e_AR4_100_yr,Year,$A7,Gas,O$5,Gross,GrossYes)/1000000 -> 0.043085 | P7: =SUMIFS(MT_CO2e_AR4_100_yr,Year,$A7,Gas,P$5,Gross,GrossYes)/1000000 -> 0.000657 | Q7: =SUMIFS(MT_CO2e_AR4_100_yr,Year,$A7,Gas,Q$5,Gross,GrossYes)/1000000 -> 1.125043 | R7: =SUMIFS(MT_CO2e_AR4_100_yr,Year,$A7,Gas,R$5,Gross,GrossYes)/1000000 -> 5.005285 | S7: =SUM(K7:R7) -> 311.37662 | T7: =C7-L7 -> -0.273047 | U7: =E7-N7 -> 94.342852 | V7: =F7-O7 -> 0.063187 | W7: =G7-P7 -> -0.000168 | X7: =H7-Q7 -> -0.379523 | Y7: =I7-R7 -> -1.163508 | Z7: =J7-S7 -> 92.589793 | AA7: 1991 | AB7: =(J7-J$6)/J$6 -> -0.00072557561 | AC7: =B7+D7+F7+G7+H7+I7 -> 266.05165 | AD7: =(S7-S$6)/S$6 -> -0.0096184813 | AG7: =Z7/S7 -> 0.29735628
A8: 1992 | B8: =SUMIFS(MT_CO2e_AR5_20_yr,Year,$A8,Gas,B$5,Gross,GrossYes)/1000000 -> 259.64818 | C8: =SUMIFS(MT_CO2e_AR5_20_yr,Year,$A8,Gas,C$5,Gross,GrossYes)/1000000 -> 3.757546 | D8: =SUMIFS(MT_CO2e_AR5_20_yr,Year,$A8,Gas,D$5,Gross,GrossYes)/1000000 -> 9.069662 | E8: =SUMIFS(MT_CO2e_AR5_20_yr,Year,$A8,Gas,E$5,Gross,GrossYes)/1000000 -> 145.14002 | F8: =SUMIFS(MT_CO2e_AR5_20_yr,Year,$A8,Gas,F$5,Gross,GrossYes)/1000000 -> 0.111654 | G8: =SUMIFS(MT_CO2e_AR5_20_yr,Year,$A8,Gas,G$5,Gross,GrossYes)/1000000 -> 0.000489 | H8: =SUMIFS(MT_CO2e_AR5_20_yr,Year,$A8,Gas,H$5,Gross,GrossYes)/1000000 -> 0.68388 | I8: =SUMIFS(MT_CO2e_AR5_20_yr,Year,$A8,Gas,I$5,Gross,GrossYes)/1000000 -> 3.804773 | J8: =SUM(B8:I8) -> 422.2162 | K8: =SUMIFS(MT_CO2e_AR4_100_yr,Year,$A8,Gas,K$5,Gross,GrossYes)/1000000 -> 259.64818 | L8: =SUMIFS(MT_CO2e_AR4_100_yr,Year,$A8,Gas,L$5,Gross,GrossYes)/1000000 -> 4.035959 | M8: =SUMIFS(MT_CO2e_AR4_100_yr,Year,$A8,Gas,M$5,Gross,GrossYes)/1000000 -> 9.069662 | N8: =SUMIFS(MT_CO2e_AR4_100_yr,Year,$A8,Gas,N$5,Gross,GrossYes)/1000000 -> 43.196435 | O8: =SUMIFS(MT_CO2e_AR4_100_yr,Year,$A8,Gas,O$5,Gross,GrossYes)/1000000 -> 0.04516 | P8: =SUMIFS(MT_CO2e_AR4_100_yr,Year,$A8,Gas,P$5,Gross,GrossYes)/1000000 -> 0.000657 | Q8: =SUMIFS(MT_CO2e_AR4_100_yr,Year,$A8,Gas,Q$5,Gross,GrossYes)/1000000 -> 1.031942 | R8: =SUMIFS(MT_CO2e_AR4_100_yr,Year,$A8,Gas,R$5,Gross,GrossYes)/1000000 -> 4.957075 | S8: =SUM(K8:R8) -> 321.98507 | T8: =C8-L8 -> -0.278413 | U8: =E8-N8 -> 101.94358 | V8: =F8-O8 -> 0.066494 | W8: =G8-P8 -> -0.000168 | X8: =H8-Q8 -> -0.348062 | Y8: =I8-R8 -> -1.152302 | Z8: =J8-S8 -> 100.23113 | AA8: 1992 | AB8: =(J8-J$6)/J$6 -> 0.044418147 | AC8: =B8+D8+F8+G8+H8+I8 -> 273.31863 | AD8: =(S8-S$6)/S$6 -> 0.024123339 | AG8: =Z8/S8 -> 0.31129124
A9: 1993 | B9: =SUMIFS(MT_CO2e_AR5_20_yr,Year,$A9,Gas,B$5,Gross,GrossYes)/1000000 -> 256.26601 | C9: =SUMIFS(MT_CO2e_AR5_20_yr,Year,$A9,Gas,C$5,Gross,GrossYes)/1000000 -> 3.714136 | D9: =SUMIFS(MT_CO2e_AR5_20_yr,Year,$A9,Gas,D$5,Gross,GrossYes)/1000000 -> 10.603045 | E9: =SUMIFS(MT_CO2e_AR5_20_yr,Year,$A9,Gas,E$5,Gross,GrossYes)/1000000 -> 146.36267 | F9: =SUMIFS(MT_CO2e_AR5_20_yr,Year,$A9,Gas,F$5,Gross,GrossYes)/1000000 -> 0.118145 | G9: =SUMIFS(MT_CO2e_AR5_20_yr,Year,$A9,Gas,G$5,Gross,GrossYes)/1000000 -> 0.000611 | H9: =SUMIFS(MT_CO2e_AR5_20_yr,Year,$A9,Gas,H$5,Gross,GrossYes)/1000000 -> 0.663174 | I9: =SUMIFS(MT_CO2e_AR5_20_yr,Year,$A9,Gas,I$5,Gross,GrossYes)/1000000 -> 3.675627 | J9: =SUM(B9:I9) -> 421.40342 | K9: =SUMIFS(MT_CO2e_AR4_100_yr,Year,$A9,Gas,K$5,Gross,GrossYes)/1000000 -> 256.26601 | L9: =SUMIFS(MT_CO2e_AR4_100_yr,Year,$A9,Gas,L$5,Gross,GrossYes)/1000000 -> 3.988137 | M9: =SUMIFS(MT_CO2e_AR4_100_yr,Year,$A9,Gas,M$5,Gross,GrossYes)/1000000 -> 10.603045 | N9: =SUMIFS(MT_CO2e_AR4_100_yr,Year,$A9,Gas,N$5,Gross,GrossYes)/1000000 -> 43.560319 | O9: =SUMIFS(MT_CO2e_AR4_100_yr,Year,$A9,Gas,O$5,Gross,GrossYes)/1000000 -> 0.048194 | P9: =SUMIFS(MT_CO2e_AR4_100_yr,Year,$A9,Gas,P$5,Gross,GrossYes)/1000000 -> 0.000821 | Q9: =SUMIFS(MT_CO2e_AR4_100_yr,Year,$A9,Gas,Q$5,Gross,GrossYes)/1000000 -> 1.000691 | R9: =SUMIFS(MT_CO2e_AR4_100_yr,Year,$A9,Gas,R$5,Gross,GrossYes)/1000000 -> 4.788816 | S9: =SUM(K9:R9) -> 320.25603 | T9: =C9-L9 -> -0.274001 | U9: =E9-N9 -> 102.80235 | V9: =F9-O9 -> 0.069951 | W9: =G9-P9 -> -0.00021 | X9: =H9-Q9 -> -0.337517 | Y9: =I9-R9 -> -1.113189 | Z9: =J9-S9 -> 101.14738 | AA9: 1993 | AB9: =(J9-J$6)/J$6 -> 0.04240761 | AC9: =B9+D9+F9+G9+H9+I9 -> 271.32661 | AD9: =(S9-S$6)/S$6 -> 0.018623885 | AG9: =Z9/S9 -> 0.31583288
A10: 1994 | B10: =SUMIFS(MT_CO2e_AR5_20_yr,Year,$A10,Gas,B$5,Gross,GrossYes)/1000000 -> 257.23907 | C10: =SUMIFS(MT_CO2e_AR5_20_yr,Year,$A10,Gas,C$5,Gross,GrossYes)/1000000 -> 3.866187 | D10: =SUMIFS(MT_CO2e_AR5_20_yr,Year,$A10,Gas,D$5,Gross,GrossYes)/1000000 -> 10.333236 | E10: =SUMIFS(MT_CO2e_AR5_20_yr,Year,$A10,Gas,E$5,Gross,GrossYes)/1000000 -> 145.33412 | F10: =SUMIFS(MT_CO2e_AR5_20_yr,Year,$A10,Gas,F$5,Gross,GrossYes)/1000000 -> 0.360043 | G10: =SUMIFS(MT_CO2e_AR5_20_yr,Year,$A10,Gas,G$5,Gross,GrossYes)/1000000 -> 0.000672 | H10: =SUMIFS(MT_CO2e_AR5_20_yr,Year,$A10,Gas,H$5,Gross,GrossYes)/1000000 -> 0.589943 | I10: =SUMIFS(MT_CO2e_AR5_20_yr,Year,$A10,Gas,I$5,Gross,GrossYes)/1000000 -> 3.449014 | J10: =SUM(B10:I10) -> 421.17228 | K10: =SUMIFS(MT_CO2e_AR4_100_yr,Year,$A10,Gas,K$5,Gross,GrossYes)/1000000 -> 257.23907 | L10: =SUMIFS(MT_CO2e_AR4_100_yr,Year,$A10,Gas,L$5,Gross,GrossYes)/1000000 -> 4.138524 | M10: =SUMIFS(MT_CO2e_AR4_100_yr,Year,$A10,Gas,M$5,Gross,GrossYes)/1000000 -> 10.333236 | N10: =SUMIFS(MT_CO2e_AR4_100_yr,Year,$A10,Gas,N$5,Gross,GrossYes)/1000000 -> 43.254205 | O10: =SUMIFS(MT_CO2e_AR4_100_yr,Year,$A10,Gas,O$5,Gross,GrossYes)/1000000 -> 0.141904 | P10: =SUMIFS(MT_CO2e_AR4_100_yr,Year,$A10,Gas,P$5,Gross,GrossYes)/1000000 -> 0.000904 | Q10: =SUMIFS(MT_CO2e_AR4_100_yr,Year,$A10,Gas,Q$5,Gross,GrossYes)/1000000 -> 0.889984 | R10: =SUMIFS(MT_CO2e_AR4_100_yr,Year,$A10,Gas,R$5,Gross,GrossYes)/1000000 -> 4.493571 | S10: =SUM(K10:R10) -> 320.4914 | T10: =C10-L10 -> -0.272337 | U10: =E10-N10 -> 102.07991 | V10: =F10-O10 -> 0.218139 | W10: =G10-P10 -> -0.000232 | X10: =H10-Q10 -> -0.300041 | Y10: =I10-R10 -> -1.044557 | Z10: =J10-S10 -> 100.68088 | AA10: 1994 | AB10: =(J10-J$6)/J$6 -> 0.041835864 | AC10: =B10+D10+F10+G10+H10+I10 -> 271.97198 | AD10: =(S10-S$6)/S$6 -> 0.0193725 | AG10: =Z10/S10 -> 0.31414536
A11: 1995 | B11: =SUMIFS(MT_CO2e_AR5_20_yr,Year,$A11,Gas,B$5,Gross,GrossYes)/1000000 -> 261.62804 | C11: =SUMIFS(MT_CO2e_AR5_20_yr,Year,$A11,Gas,C$5,Gross,GrossYes)/1000000 -> 3.724413 | D11: =SUMIFS(MT_CO2e_AR5_20_yr,Year,$A11,Gas,D$5,Gross,GrossYes)/1000000 -> 10.437974 | E11: =SUMIFS(MT_CO2e_AR5_20_yr,Year,$A11,Gas,E$5,Gross,GrossYes)/1000000 -> 150.63982 | F11: =SUMIFS(MT_CO2e_AR5_20_yr,Year,$A11,Gas,F$5,Gross,GrossYes)/1000000 -> 2.272977 | G11: =SUMIFS(MT_CO2e_AR5_20_yr,Year,$A11,Gas,G$5,Gross,GrossYes)/1000000 -> 0.000849 | H11: =SUMIFS(MT_CO2e_AR5_20_yr,Year,$A11,Gas,H$5,Gross,GrossYes)/1000000 -> 0.585853 | I11: =SUMIFS(MT_CO2e_AR5_20_yr,Year,$A11,Gas,I$5,Gross,GrossYes)/1000000 -> 3.150445 | J11: =SUM(B11:I11) -> 432.44037 | K11: =SUMIFS(MT_CO2e_AR4_100_yr,Year,$A11,Gas,K$5,Gross,GrossYes)/1000000 -> 261.62804 | L11: =SUMIFS(MT_CO2e_AR4_100_yr,Year,$A11,Gas,L$5,Gross,GrossYes)/1000000 -> 3.995651 | M11: =SUMIFS(MT_CO2e_AR4_100_yr,Year,$A11,Gas,M$5,Gross,GrossYes)/1000000 -> 10.437974 | N11: =SUMIFS(MT_CO2e_AR4_100_yr,Year,$A11,Gas,N$5,Gross,GrossYes)/1000000 -> 44.833281 | O11: =SUMIFS(MT_CO2e_AR4_100_yr,Year,$A11,Gas,O$5,Gross,GrossYes)/1000000 -> 0.874452 | P11: =SUMIFS(MT_CO2e_AR4_100_yr,Year,$A11,Gas,P$5,Gross,GrossYes)/1000000 -> 0.001141 | Q11: =SUMIFS(MT_CO2e_AR4_100_yr,Year,$A11,Gas,Q$5,Gross,GrossYes)/1000000 -> 0.883761 | R11: =SUMIFS(MT_CO2e_AR4_100_yr,Year,$A11,Gas,R$5,Gross,GrossYes)/1000000 -> 4.104581 | S11: =SUM(K11:R11) -> 326.75888 | T11: =C11-L11 -> -0.271238 | U11: =E11-N11 -> 105.80654 | V11: =F11-O11 -> 1.398525 | W11: =G11-P11 -> -0.000292 | X11: =H11-Q11 -> -0.297908 | Y11: =I11-R11 -> -0.954136 | Z11: =J11-S11 -> 105.68149 | AA11: 1995 | AB11: =(J11-J$6)/J$6 -> 0.069709249 | AC11: =B11+D11+F11+G11+H11+I11 -> 278.07614 | AD11: =(S11-S$6)/S$6 -> 0.039307187 | AG11: =Z11/S11 -> 0.32342348
A12: 1996 | B12: =SUMIFS(MT_CO2e_AR5_20_yr,Year,$A12,Gas,B$5,Gross,GrossYes)/1000000 -> 261.22315 | C12: =SUMIFS(MT_CO2e_AR5_20_yr,Year,$A12,Gas,C$5,Gross,GrossYes)/1000000 -> 3.497461 | D12: =SUMIFS(MT_CO2e_AR5_20_yr,Year,$A12,Gas,D$5,Gross,GrossYes)/1000000 -> 11.765634 | E12: =SUMIFS(MT_CO2e_AR5_20_yr,Year,$A12,Gas,E$5,Gross,GrossYes)/1000000 -> 149.72574 | F12: =SUMIFS(MT_CO2e_AR5_20_yr,Year,$A12,Gas,F$5,Gross,GrossYes)/1000000 -> 3.047793 | G12: =SUMIFS(MT_CO2e_AR5_20_yr,Year,$A12,Gas,G$5,Gross,GrossYes)/1000000 -> 0.000943 | H12: =SUMIFS(MT_CO2e_AR5_20_yr,Year,$A12,Gas,H$5,Gross,GrossYes)/1000000 -> 0.616465 | I12: =SUMIFS(MT_CO2e_AR5_20_yr,Year,$A12,Gas,I$5,Gross,GrossYes)/1000000 -> 2.883949 | J12: =SUM(B12:I12) -> 432.76113 | K12: =SUMIFS(MT_CO2e_AR4_100_yr,Year,$A12,Gas,K$5,Gross,GrossYes)/1000000 -> 261.22315 | L12: =SUMIFS(MT_CO2e_AR4_100_yr,Year,$A12,Gas,L$5,Gross,GrossYes)/1000000 -> 3.771075 | M12: =SUMIFS(MT_CO2e_AR4_100_yr,Year,$A12,Gas,M$5,Gross,GrossYes)/1000000 -> 11.765634 | N12: =SUMIFS(MT_CO2e_AR4_100_yr,Year,$A12,Gas,N$5,Gross,GrossYes)/1000000 -> 44.561238 | O12: =SUMIFS(MT_CO2e_AR4_100_yr,Year,$A12,Gas,O$5,Gross,GrossYes)/1000000 -> 1.174923 | P12: =SUMIFS(MT_CO2e_AR4_100_yr,Year,$A12,Gas,P$5,Gross,GrossYes)/1000000 -> 0.001268 | Q12: =SUMIFS(MT_CO2e_AR4_100_yr,Year,$A12,Gas,Q$5,Gross,GrossYes)/1000000 -> 0.929951 | R12: =SUMIFS(MT_CO2e_AR4_100_yr,Year,$A12,Gas,R$5,Gross,GrossYes)/1000000 -> 3.757373 | S12: =SUM(K12:R12) -> 327.18461 | T12: =C12-L12 -> -0.273614 | U12: =E12-N12 -> 105.1645 | V12: =F12-O12 -> 1.87287 | W12: =G12-P12 -> -0.000325 | X12: =H12-Q12 -> -0.313486 | Y12: =I12-R12 -> -0.873424 | Z12: =J12-S12 -> 105.57652 | AA12: 1996 | AB12: =(J12-J$6)/J$6 -> 0.070502699 | AC12: =B12+D12+F12+G12+H12+I12 -> 279.53793 | AD12: =(S12-S$6)/S$6 -> 0.040661287 | AG12: =Z12/S12 -> 0.32268181
A13: 1997 | B13: =SUMIFS(MT_CO2e_AR5_20_yr,Year,$A13,Gas,B$5,Gross,GrossYes)/1000000 -> 266.01185 | C13: =SUMIFS(MT_CO2e_AR5_20_yr,Year,$A13,Gas,C$5,Gross,GrossYes)/1000000 -> 3.625557 | D13: =SUMIFS(MT_CO2e_AR5_20_yr,Year,$A13,Gas,D$5,Gross,GrossYes)/1000000 -> 15.650173 | E13: =SUMIFS(MT_CO2e_AR5_20_yr,Year,$A13,Gas,E$5,Gross,GrossYes)/1000000 -> 155.18327 | F13: =SUMIFS(MT_CO2e_AR5_20_yr,Year,$A13,Gas,F$5,Gross,GrossYes)/1000000 -> 3.602141 | G13: =SUMIFS(MT_CO2e_AR5_20_yr,Year,$A13,Gas,G$5,Gross,GrossYes)/1000000 -> 0.001225 | H13: =SUMIFS(MT_CO2e_AR5_20_yr,Year,$A13,Gas,H$5,Gross,GrossYes)/1000000 -> 0.555183 | I13: =SUMIFS(MT_CO2e_AR5_20_yr,Year,$A13,Gas,I$5,Gross,GrossYes)/1000000 -> 2.656253 | J13: =SUM(B13:I13) -> 447.28565 | K13: =SUMIFS(MT_CO2e_AR4_100_yr,Year,$A13,Gas,K$5,Gross,GrossYes)/1000000 -> 266.01185 | L13: =SUMIFS(MT_CO2e_AR4_100_yr,Year,$A13,Gas,L$5,Gross,GrossYes)/1000000 -> 3.909064 | M13: =SUMIFS(MT_CO2e_AR4_100_yr,Year,$A13,Gas,M$5,Gross,GrossYes)/1000000 -> 15.650173 | N13: =SUMIFS(MT_CO2e_AR4_100_yr,Year,$A13,Gas,N$5,Gross,GrossYes)/1000000 -> 46.185501 | O13: =SUMIFS(MT_CO2e_AR4_100_yr,Year,$A13,Gas,O$5,Gross,GrossYes)/1000000 -> 1.399838 | P13: =SUMIFS(MT_CO2e_AR4_100_yr,Year,$A13,Gas,P$5,Gross,GrossYes)/1000000 -> 0.001647 | Q13: =SUMIFS(MT_CO2e_AR4_100_yr,Year,$A13,Gas,Q$5,Gross,GrossYes)/1000000 -> 0.837421 | R13: =SUMIFS(MT_CO2e_AR4_100_yr,Year,$A13,Gas,R$5,Gross,GrossYes)/1000000 -> 3.460718 | S13: =SUM(K13:R13) -> 337.45621 | T13: =C13-L13 -> -0.283507 | U13: =E13-N13 -> 108.99776 | V13: =F13-O13 -> 2.202303 | W13: =G13-P13 -> -0.000422 | X13: =H13-Q13 -> -0.282238 | Y13: =I13-R13 -> -0.804465 | Z13: =J13-S13 -> 109.82944 | AA13: 1997 | AB13: =(J13-J$6)/J$6 -> 0.10643138 | AC13: =B13+D13+F13+G13+H13+I13 -> 288.47683 | AD13: =(S13-S$6)/S$6 -> 0.07333172 | AG13: =Z13/S13 -> 0.32546277
A14: 1998 | B14: =SUMIFS(MT_CO2e_AR5_20_yr,Year,$A14,Gas,B$5,Gross,GrossYes)/1000000 -> 265.38884 | C14: =SUMIFS(MT_CO2e_AR5_20_yr,Year,$A14,Gas,C$5,Gross,GrossYes)/1000000 -> 3.70361 | D14: =SUMIFS(MT_CO2e_AR5_20_yr,Year,$A14,Gas,D$5,Gross,GrossYes)/1000000 -> 13.976095 | E14: =SUMIFS(MT_CO2e_AR5_20_yr,Year,$A14,Gas,E$5,Gross,GrossYes)/1000000 -> 152.1016 | F14: =SUMIFS(MT_CO2e_AR5_20_yr,Year,$A14,Gas,F$5,Gross,GrossYes)/1000000 -> 3.976986 | G14: =SUMIFS(MT_CO2e_AR5_20_yr,Year,$A14,Gas,G$5,Gross,GrossYes)/1000000 -> 0.001503 | H14: =SUMIFS(MT_CO2e_AR5_20_yr,Year,$A14,Gas,H$5,Gross,GrossYes)/1000000 -> 0.467673 | I14: =SUMIFS(MT_CO2e_AR5_20_yr,Year,$A14,Gas,I$5,Gross,GrossYes)/1000000 -> 2.249893 | J14: =SUM(B14:I14) -> 441.8662 | K14: =SUMIFS(MT_CO2e_AR4_100_yr,Year,$A14,Gas,K$5,Gross,GrossYes)/1000000 -> 265.38884 | L14: =SUMIFS(MT_CO2e_AR4_100_yr,Year,$A14,Gas,L$5,Gross,GrossYes)/1000000 -> 3.985438 | M14: =SUMIFS(MT_CO2e_AR4_100_yr,Year,$A14,Gas,M$5,Gross,GrossYes)/1000000 -> 13.976095 | N14: =SUMIFS(MT_CO2e_AR4_100_yr,Year,$A14,Gas,N$5,Gross,GrossYes)/1000000 -> 45.268336 | O14: =SUMIFS(MT_CO2e_AR4_100_yr,Year,$A14,Gas,O$5,Gross,GrossYes)/1000000 -> 1.557607 | P14: =SUMIFS(MT_CO2e_AR4_100_yr,Year,$A14,Gas,P$5,Gross,GrossYes)/1000000 -> 0.002019 | Q14: =SUMIFS(MT_CO2e_AR4_100_yr,Year,$A14,Gas,Q$5,Gross,GrossYes)/1000000 -> 0.705326 | R14: =SUMIFS(MT_CO2e_AR4_100_yr,Year,$A14,Gas,R$5,Gross,GrossYes)/1000000 -> 2.931288 | S14: =SUM(K14:R14) -> 333.81495 | T14: =C14-L14 -> -0.281828 | U14: =E14-N14 -> 106.83327 | V14: =F14-O14 -> 2.419379 | W14: =G14-P14 -> -0.000516 | X14: =H14-Q14 -> -0.237653 | Y14: =I14-R14 -> -0.681395 | Z14: =J14-S14 -> 108.05125 | AA14: 1998 | AB14: =(J14-J$6)/J$6 -> 0.093025514 | AC14: =B14+D14+F14+G14+H14+I14 -> 286.06099 | AD14: =(S14-S$6)/S$6 -> 0.0617501 | AG14: =Z14/S14 -> 0.32368609
A15: 1999 | B15: =SUMIFS(MT_CO2e_AR5_20_yr,Year,$A15,Gas,B$5,Gross,GrossYes)/1000000 -> 273.0754 | C15: =SUMIFS(MT_CO2e_AR5_20_yr,Year,$A15,Gas,C$5,Gross,GrossYes)/1000000 -> 3.810797 | D15: =SUMIFS(MT_CO2e_AR5_20_yr,Year,$A15,Gas,D$5,Gross,GrossYes)/1000000 -> 14.390929 | E15: =SUMIFS(MT_CO2e_AR5_20_yr,Year,$A15,Gas,E$5,Gross,GrossYes)/1000000 -> 155.31918 | F15: =SUMIFS(MT_CO2e_AR5_20_yr,Year,$A15,Gas,F$5,Gross,GrossYes)/1000000 -> 4.376732 | G15: =SUMIFS(MT_CO2e_AR5_20_yr,Year,$A15,Gas,G$5,Gross,GrossYes)/1000000 -> 0.001525 | H15: =SUMIFS(MT_CO2e_AR5_20_yr,Year,$A15,Gas,H$5,Gross,GrossYes)/1000000 -> 0.456705 | I15: =SUMIFS(MT_CO2e_AR5_20_yr,Year,$A15,Gas,I$5,Gross,GrossYes)/1000000 -> 2.328968 | J15: =SUM(B15:I15) -> 453.76023 | K15: =SUMIFS(MT_CO2e_AR4_100_yr,Year,$A15,Gas,K$5,Gross,GrossYes)/1000000 -> 273.0754 | L15: =SUMIFS(MT_CO2e_AR4_100_yr,Year,$A15,Gas,L$5,Gross,GrossYes)/1000000 -> 4.095346 | M15: =SUMIFS(MT_CO2e_AR4_100_yr,Year,$A15,Gas,M$5,Gross,GrossYes)/1000000 -> 14.390929 | N15: =SUMIFS(MT_CO2e_AR4_100_yr,Year,$A15,Gas,N$5,Gross,GrossYes)/1000000 -> 46.225945 | O15: =SUMIFS(MT_CO2e_AR4_100_yr,Year,$A15,Gas,O$5,Gross,GrossYes)/1000000 -> 1.728497 | P15: =SUMIFS(MT_CO2e_AR4_100_yr,Year,$A15,Gas,P$5,Gross,GrossYes)/1000000 -> 0.002049 | Q15: =SUMIFS(MT_CO2e_AR4_100_yr,Year,$A15,Gas,Q$5,Gross,GrossYes)/1000000 -> 0.688751 | R15: =SUMIFS(MT_CO2e_AR4_100_yr,Year,$A15,Gas,R$5,Gross,GrossYes)/1000000 -> 3.034313 | S15: =SUM(K15:R15) -> 343.24123 | T15: =C15-L15 -> -0.284549 | U15: =E15-N15 -> 109.09323 | V15: =F15-O15 -> 2.648235 | W15: =G15-P15 -> -0.000524 | X15: =H15-Q15 -> -0.232046 | Y15: =I15-R15 -> -0.705345 | Z15: =J15-S15 -> 110.519 | AA15: 1999 | AB15: =(J15-J$6)/J$6 -> 0.12244728 | AC15: =B15+D15+F15+G15+H15+I15 -> 294.63026 | AD15: =(S15-S$6)/S$6 -> 0.091731849 | AG15: =Z15/S15 -> 0.32198639
A16: 2000 | B16: =SUMIFS(MT_CO2e_AR5_20_yr,Year,$A16,Gas,B$5,Gross,GrossYes)/1000000 -> 285.76233 | C16: =SUMIFS(MT_CO2e_AR5_20_yr,Year,$A16,Gas,C$5,Gross,GrossYes)/1000000 -> 3.68958 | D16: =SUMIFS(MT_CO2e_AR5_20_yr,Year,$A16,Gas,D$5,Gross,GrossYes)/1000000 -> 15.467185 | E16: =SUMIFS(MT_CO2e_AR5_20_yr,Year,$A16,Gas,E$5,Gross,GrossYes)/1000000 -> 155.05516 | F16: =SUMIFS(MT_CO2e_AR5_20_yr,Year,$A16,Gas,F$5,Gross,GrossYes)/1000000 -> 4.694715 | G16: =SUMIFS(MT_CO2e_AR5_20_yr,Year,$A16,Gas,G$5,Gross,GrossYes)/1000000 -> 0.002561 | H16: =SUMIFS(MT_CO2e_AR5_20_yr,Year,$A16,Gas,H$5,Gross,GrossYes)/1000000 -> 0.448327 | I16: =SUMIFS(MT_CO2e_AR5_20_yr,Year,$A16,Gas,I$5,Gross,GrossYes)/1000000 -> 2.19038 | J16: =SUM(B16:I16) -> 467.31024 | K16: =SUMIFS(MT_CO2e_AR4_100_yr,Year,$A16,Gas,K$5,Gross,GrossYes)/1000000 -> 285.76233 | L16: =SUMIFS(MT_CO2e_AR4_100_yr,Year,$A16,Gas,L$5,Gross,GrossYes)/1000000 -> 3.9811 | M16: =SUMIFS(MT_CO2e_AR4_100_yr,Year,$A16,Gas,M$5,Gross,GrossYes)/1000000 -> 15.467185 | N16: =SUMIFS(MT_CO2e_AR4_100_yr,Year,$A16,Gas,N$5,Gross,GrossYes)/1000000 -> 46.147373 | O16: =SUMIFS(MT_CO2e_AR4_100_yr,Year,$A16,Gas,O$5,Gross,GrossYes)/1000000 -> 1.864882 | P16: =SUMIFS(MT_CO2e_AR4_100_yr,Year,$A16,Gas,P$5,Gross,GrossYes)/1000000 -> 0.003441 | Q16: =SUMIFS(MT_CO2e_AR4_100_yr,Year,$A16,Gas,Q$5,Gross,GrossYes)/1000000 -> 0.676135 | R16: =SUMIFS(MT_CO2e_AR4_100_yr,Year,$A16,Gas,R$5,Gross,GrossYes)/1000000 -> 2.853751 | S16: =SUM(K16:R16) -> 356.7562 | T16: =C16-L16 -> -0.29152 | U16: =E16-N16 -> 108.90778 | V16: =F16-O16 -> 2.829833 | W16: =G16-P16 -> -0.00088 | X16: =H16-Q16 -> -0.227808 | Y16: =I16-R16 -> -0.663371 | Z16: =J16-S16 -> 110.55404 | AA16: 2000 | AB16: =(J16-J$6)/J$6 -> 0.15596535 | AC16: =B16+D16+F16+G16+H16+I16 -> 308.5655 | AD16: =(S16-S$6)/S$6 -> 0.13471831 | AG16: =Z16/S16 -> 0.3098868
A17: 2001 | B17: =SUMIFS(MT_CO2e_AR5_20_yr,Year,$A17,Gas,B$5,Gross,GrossYes)/1000000 -> 275.8877 | C17: =SUMIFS(MT_CO2e_AR5_20_yr,Year,$A17,Gas,C$5,Gross,GrossYes)/1000000 -> 3.634044 | D17: =SUMIFS(MT_CO2e_AR5_20_yr,Year,$A17,Gas,D$5,Gross,GrossYes)/1000000 -> 10.651503 | E17: =SUMIFS(MT_CO2e_AR5_20_yr,Year,$A17,Gas,E$5,Gross,GrossYes)/1000000 -> 154.24424 | F17: =SUMIFS(MT_CO2e_AR5_20_yr,Year,$A17,Gas,F$5,Gross,GrossYes)/1000000 -> 4.96328 | G17: =SUMIFS(MT_CO2e_AR5_20_yr,Year,$A17,Gas,G$5,Gross,GrossYes)/1000000 -> 0.002848 | H17: =SUMIFS(MT_CO2e_AR5_20_yr,Year,$A17,Gas,H$5,Gross,GrossYes)/1000000 -> 0.202682 | I17: =SUMIFS(MT_CO2e_AR5_20_yr,Year,$A17,Gas,I$5,Gross,GrossYes)/1000000 -> 2.085919 | J17: =SUM(B17:I17) -> 451.67222 | K17: =SUMIFS(MT_CO2e_AR4_100_yr,Year,$A17,Gas,K$5,Gross,GrossYes)/1000000 -> 275.8877 | L17: =SUMIFS(MT_CO2e_AR4_100_yr,Year,$A17,Gas,L$5,Gross,GrossYes)/1000000 -> 3.911319 | M17: =SUMIFS(MT_CO2e_AR4_100_yr,Year,$A17,Gas,M$5,Gross,GrossYes)/1000000 -> 10.651503 | N17: =SUMIFS(MT_CO2e_AR4_100_yr,Year,$A17,Gas,N$5,Gross,GrossYes)/1000000 -> 45.906029 | O17: =SUMIFS(MT_CO2e_AR4_100_yr,Year,$A17,Gas,O$5,Gross,GrossYes)/1000000 -> 1.974808 | P17: =SUMIFS(MT_CO2e_AR4_100_yr,Year,$A17,Gas,P$5,Gross,GrossYes)/1000000 -> 0.003827 | Q17: =SUMIFS(MT_CO2e_AR4_100_yr,Year,$A17,Gas,Q$5,Gross,GrossYes)/1000000 -> 0.30517 | R17: =SUMIFS(MT_CO2e_AR4_100_yr,Year,$A17,Gas,R$5,Gross,GrossYes)/1000000 -> 2.717654 | S17: =SUM(K17:R17) -> 341.35801 | T17: =C17-L17 -> -0.277275 | U17: =E17-N17 -> 108.33821 | V17: =F17-O17 -> 2.988472 | W17: =G17-P17 -> -0.000979 | X17: =H17-Q17 -> -0.102488 | Y17: =I17-R17 -> -0.631735 | Z17: =J17-S17 -> 110.31421 | AA17: 2001 | AB17: =(J17-J$6)/J$6 -> 0.11728224 | AC17: =B17+D17+F17+G17+H17+I17 -> 293.79393 | AD17: =(S17-S$6)/S$6 -> 0.085741989 | AG17: =Z17/S17 -> 0.32316278
A18: 2002 | B18: =SUMIFS(MT_CO2e_AR5_20_yr,Year,$A18,Gas,B$5,Gross,GrossYes)/1000000 -> 270.89773 | C18: =SUMIFS(MT_CO2e_AR5_20_yr,Year,$A18,Gas,C$5,Gross,GrossYes)/1000000 -> 3.556109 | D18: =SUMIFS(MT_CO2e_AR5_20_yr,Year,$A18,Gas,D$5,Gross,GrossYes)/1000000 -> 10.243037 | E18: =SUMIFS(MT_CO2e_AR5_20_yr,Year,$A18,Gas,E$5,Gross,GrossYes)/1000000 -> 156.84881 | F18: =SUMIFS(MT_CO2e_AR5_20_yr,Year,$A18,Gas,F$5,Gross,GrossYes)/1000000 -> 5.565829 | G18: =SUMIFS(MT_CO2e_AR5_20_yr,Year,$A18,Gas,G$5,Gross,GrossYes)/1000000 -> 0.0087 | H18: =SUMIFS(MT_CO2e_AR5_20_yr,Year,$A18,Gas,H$5,Gross,GrossYes)/1000000 -> 0.308369 | I18: =SUMIFS(MT_CO2e_AR5_20_yr,Year,$A18,Gas,I$5,Gross,GrossYes)/1000000 -> 1.96456 | J18: =SUM(B18:I18) -> 449.39315 | K18: =SUMIFS(MT_CO2e_AR4_100_yr,Year,$A18,Gas,K$5,Gross,GrossYes)/1000000 -> 270.89773 | L18: =SUMIFS(MT_CO2e_AR4_100_yr,Year,$A18,Gas,L$5,Gross,GrossYes)/1000000 -> 3.828109 | M18: =SUMIFS(MT_CO2e_AR4_100_yr,Year,$A18,Gas,M$5,Gross,GrossYes)/1000000 -> 10.243037 | N18: =SUMIFS(MT_CO2e_AR4_100_yr,Year,$A18,Gas,N$5,Gross,GrossYes)/1000000 -> 46.681197 | O18: =SUMIFS(MT_CO2e_AR4_100_yr,Year,$A18,Gas,O$5,Gross,GrossYes)/1000000 -> 2.222104 | P18: =SUMIFS(MT_CO2e_AR4_100_yr,Year,$A18,Gas,P$5,Gross,GrossYes)/1000000 -> 0.01169 | Q18: =SUMIFS(MT_CO2e_AR4_100_yr,Year,$A18,Gas,Q$5,Gross,GrossYes)/1000000 -> 0.464492 | R18: =SUMIFS(MT_CO2e_AR4_100_yr,Year,$A18,Gas,R$5,Gross,GrossYes)/1000000 -> 2.559541 | S18: =SUM(K18:R18) -> 336.9079 | T18: =C18-L18 -> -0.272 | U18: =E18-N18 -> 110.16762 | V18: =F18-O18 -> 3.343725 | W18: =G18-P18 -> -0.00299 | X18: =H18-Q18 -> -0.156123 | Y18: =I18-R18 -> -0.594981 | Z18: =J18-S18 -> 112.48525 | AA18: 2002 | AB18: =(J18-J$6)/J$6 -> 0.11164461 | AC18: =B18+D18+F18+G18+H18+I18 -> 288.98823 | AD18: =(S18-S$6)/S$6 -> 0.071587729 | AG18: =Z18/S18 -> 0.33387536
... A21: 2005 | B21: =SUMIFS(MT_CO2e_AR5_20_yr,Year,$A21,Gas,B$5,Gross,GrossYes)/1000000 -> 281.80239 | C21: =SUMIFS(MT_CO2e_AR5_20_yr,Year,$A21,Gas,C$5,Gross,GrossYes)/1000000 -> 3.531319 | D21: =SUMIFS(MT_CO2e_AR5_20_yr,Year,$A21,Gas,D$5,Gross,GrossYes)/1000000 -> 10.379488 | E21: =SUMIFS(MT_CO2e_AR5_20_yr,Year,$A21,Gas,E$5,Gross,GrossYes)/1000000 -> 156.9155 | F21: =SUMIFS(MT_CO2e_AR5_20_yr,Year,$A21,Gas,F$5,Gross,GrossYes)/1000000 -> 6.796505 | G21: =SUMIFS(MT_CO2e_AR5_20_yr,Year,$A21,Gas,G$5,Gross,GrossYes)/1000000 -> 0.00766 | H21: =SUMIFS(MT_CO2e_AR5_20_yr,Year,$A21,Gas,H$5,Gross,GrossYes)/1000000 -> 0.20278 | I21: =SUMIFS(MT_CO2e_AR5_20_yr,Year,$A21,Gas,I$5,Gross,GrossYes)/1000000 -> 1.620878 | J21: =SUM(B21:I21) -> 461.25652 | K21: =SUMIFS(MT_CO2e_AR4_100_yr,Year,$A21,Gas,K$5,Gross,GrossYes)/1000000 -> 281.80239 | L21: =SUMIFS(MT_CO2e_AR4_100_yr,Year,$A21,Gas,L$5,Gross,GrossYes)/1000000 -> 3.794598 | M21: =SUMIFS(MT_CO2e_AR4_100_yr,Year,$A21,Gas,M$5,Gross,GrossYes)/1000000 -> 10.379488 | N21: =SUMIFS(MT_CO2e_AR4_100_yr,Year,$A21,Gas,N$5,Gross,GrossYes)/1000000 -> 46.701042 | O21: =SUMIFS(MT_CO2e_AR4_100_yr,Year,$A21,Gas,O$5,Gross,GrossYes)/1000000 -> 2.769753 | P21: =SUMIFS(MT_CO2e_AR4_100_yr,Year,$A21,Gas,P$5,Gross,GrossYes)/1000000 -> 0.010293 | Q21: =SUMIFS(MT_CO2e_AR4_100_yr,Year,$A21,Gas,Q$5,Gross,GrossYes)/1000000 -> 0.305223 | R21: =SUMIFS(MT_CO2e_AR4_100_yr,Year,$A21,Gas,R$5,Gross,GrossYes)/1000000 -> 2.111774 | S21: =SUM(K21:R21) -> 347.87456 | T21: =C21-L21 -> -0.263279 | U21: =E21-N21 -> 110.21446 | V21: =F21-O21 -> 4.026752 | W21: =G21-P21 -> -0.002633 | X21: =H21-Q21 -> -0.102443 | Y21: =I21-R21 -> -0.490896 | Z21: =J21-S21 -> 113.38196 | AA21: 2005 | AB21: =(J21-J$6)/J$6 -> 0.14099053 | AC21: =B21+D21+F21+G21+H21+I21 -> 300.8097 | AD21: =(S21-S$6)/S$6 -> 0.10646887 | AG21: =Z21/S21 -> 0.32592773
A22: 2006 | B22: =SUMIFS(MT_CO2e_AR5_20_yr,Year,$A22,Gas,B$5,Gross,GrossYes)/1000000 -> 258.48327 | C22: =SUMIFS(MT_CO2e_AR5_20_yr,Year,$A22,Gas,C$5,Gross,GrossYes)/1000000 -> 3.543103 | D22: =SUMIFS(MT_CO2e_AR5_20_yr,Year,$A22,Gas,D$5,Gross,GrossYes)/1000000 -> 10.817582 | E22: =SUMIFS(MT_CO2e_AR5_20_yr,Year,$A22,Gas,E$5,Gross,GrossYes)/1000000 -> 156.20338 | F22: =SUMIFS(MT_CO2e_AR5_20_yr,Year,$A22,Gas,F$5,Gross,GrossYes)/1000000 -> 7.426949 | G22: =SUMIFS(MT_CO2e_AR5_20_yr,Year,$A22,Gas,G$5,Gross,GrossYes)/1000000 -> 0.010852 | H22: =SUMIFS(MT_CO2e_AR5_20_yr,Year,$A22,Gas,H$5,Gross,GrossYes)/1000000 -> 0.180628 | I22: =SUMIFS(MT_CO2e_AR5_20_yr,Year,$A22,Gas,I$5,Gross,GrossYes)/1000000 -> 1.192973 | J22: =SUM(B22:I22) -> 437.85873 | K22: =SUMIFS(MT_CO2e_AR4_100_yr,Year,$A22,Gas,K$5,Gross,GrossYes)/1000000 -> 258.48327 | L22: =SUMIFS(MT_CO2e_AR4_100_yr,Year,$A22,Gas,L$5,Gross,GrossYes)/1000000 -> 3.799612 | M22: =SUMIFS(MT_CO2e_AR4_100_yr,Year,$A22,Gas,M$5,Gross,GrossYes)/1000000 -> 10.817582 | N22: =SUMIFS(MT_CO2e_AR4_100_yr,Year,$A22,Gas,N$5,Gross,GrossYes)/1000000 -> 46.489101 | O22: =SUMIFS(MT_CO2e_AR4_100_yr,Year,$A22,Gas,O$5,Gross,GrossYes)/1000000 -> 3.04871 | P22: =SUMIFS(MT_CO2e_AR4_100_yr,Year,$A22,Gas,P$5,Gross,GrossYes)/1000000 -> 0.014583 | Q22: =SUMIFS(MT_CO2e_AR4_100_yr,Year,$A22,Gas,Q$5,Gross,GrossYes)/1000000 -> 0.271684 | R22: =SUMIFS(MT_CO2e_AR4_100_yr,Year,$A22,Gas,R$5,Gross,GrossYes)/1000000 -> 1.554275 | S22: =SUM(K22:R22) -> 324.47882 | T22: =C22-L22 -> -0.256509 | U22: =E22-N22 -> 109.71427 | V22: =F22-O22 -> 4.378239 | W22: =G22-P22 -> -0.003731 | X22: =H22-Q22 -> -0.091056 | Y22: =I22-R22 -> -0.361302 | Z22: =J22-S22 -> 113.37992 | AA22: 2006 | AB22: =(J22-J$6)/J$6 -> 0.083112414 | AC22: =B22+D22+F22+G22+H22+I22 -> 278.11225 | AD22: =(S22-S$6)/S$6 -> 0.032055094 | AE22: =(J22-J$21)/J$21 -> -0.050726199 | AF22: =(S22-S$21)/S$21 -> -0.067253386 | AG22: =Z22/S22 -> 0.34942163
A23: 2007 | B23: =SUMIFS(MT_CO2e_AR5_20_yr,Year,$A23,Gas,B$5,Gross,GrossYes)/1000000 -> 263.48074 | C23: =SUMIFS(MT_CO2e_AR5_20_yr,Year,$A23,Gas,C$5,Gross,GrossYes)/1000000 -> 3.423392 | D23: =SUMIFS(MT_CO2e_AR5_20_yr,Year,$A23,Gas,D$5,Gross,GrossYes)/1000000 -> 11.758446 | E23: =SUMIFS(MT_CO2e_AR5_20_yr,Year,$A23,Gas,E$5,Gross,GrossYes)/1000000 -> 160.69912 | F23: =SUMIFS(MT_CO2e_AR5_20_yr,Year,$A23,Gas,F$5,Gross,GrossYes)/1000000 -> 8.195832 | G23: =SUMIFS(MT_CO2e_AR5_20_yr,Year,$A23,Gas,G$5,Gross,GrossYes)/1000000 -> 0.011776 | H23: =SUMIFS(MT_CO2e_AR5_20_yr,Year,$A23,Gas,H$5,Gross,GrossYes)/1000000 -> 0.271361 | I23: =SUMIFS(MT_CO2e_AR5_20_yr,Year,$A23,Gas,I$5,Gross,GrossYes)/1000000 -> 0.868788 | J23: =SUM(B23:I23) -> 448.70946 | K23: =SUMIFS(MT_CO2e_AR4_100_yr,Year,$A23,Gas,K$5,Gross,GrossYes)/1000000 -> 263.48074 | L23: =SUMIFS(MT_CO2e_AR4_100_yr,Year,$A23,Gas,L$5,Gross,GrossYes)/1000000 -> 3.674293 | M23: =SUMIFS(MT_CO2e_AR4_100_yr,Year,$A23,Gas,M$5,Gross,GrossYes)/1000000 -> 11.758446 | N23: =SUMIFS(MT_CO2e_AR4_100_yr,Year,$A23,Gas,N$5,Gross,GrossYes)/1000000 -> 47.827123 | O23: =SUMIFS(MT_CO2e_AR4_100_yr,Year,$A23,Gas,O$5,Gross,GrossYes)/1000000 -> 3.383107 | P23: =SUMIFS(MT_CO2e_AR4_100_yr,Year,$A23,Gas,P$5,Gross,GrossYes)/1000000 -> 0.015824 | Q23: =SUMIFS(MT_CO2e_AR4_100_yr,Year,$A23,Gas,Q$5,Gross,GrossYes)/1000000 -> 0.408237 | R23: =SUMIFS(MT_CO2e_AR4_100_yr,Year,$A23,Gas,R$5,Gross,GrossYes)/1000000 -> 1.131907 | S23: =SUM(K23:R23) -> 331.67968 | T23: =C23-L23 -> -0.250901 | U23: =E23-N23 -> 112.872 | V23: =F23-O23 -> 4.812725 | W23: =G23-P23 -> -0.004048 | X23: =H23-Q23 -> -0.136876 | Y23: =I23-R23 -> -0.263119 | Z23: =J23-S23 -> 117.02978 | AA23: 2007 | AB23: =(J23-J$6)/J$6 -> 0.10995339 | AC23: =B23+D23+F23+G23+H23+I23 -> 284.58694 | AD23: =(S23-S$6)/S$6 -> 0.05495855 | AE23: =(J23-J$21)/J$21 -> -0.027201922 | AF23: =(S23-S$21)/S$21 -> -0.046553793 | AG23: =Z23/S23 -> 0.35283977
A24: 2008 | B24: =SUMIFS(MT_CO2e_AR5_20_yr,Year,$A24,Gas,B$5,Gross,GrossYes)/1000000 -> 251.76777 | C24: =SUMIFS(MT_CO2e_AR5_20_yr,Year,$A24,Gas,C$5,Gross,GrossYes)/1000000 -> 3.362527 | D24: =SUMIFS(MT_CO2e_AR5_20_yr,Year,$A24,Gas,D$5,Gross,GrossYes)/1000000 -> 12.758864 | E24: =SUMIFS(MT_CO2e_AR5_20_yr,Year,$A24,Gas,E$5,Gross,GrossYes)/1000000 -> 158.15386 | F24: =SUMIFS(MT_CO2e_AR5_20_yr,Year,$A24,Gas,F$5,Gross,GrossYes)/1000000 -> 9.221098 | G24: =SUMIFS(MT_CO2e_AR5_20_yr,Year,$A24,Gas,G$5,Gross,GrossYes)/1000000 -> 0.012159 | H24: =SUMIFS(MT_CO2e_AR5_20_yr,Year,$A24,Gas,H$5,Gross,GrossYes)/1000000 -> 0.203427 | I24: =SUMIFS(MT_CO2e_AR5_20_yr,Year,$A24,Gas,I$5,Gross,GrossYes)/1000000 -> 0.568242 | J24: =SUM(B24:I24) -> 436.04795 | K24: =SUMIFS(MT_CO2e_AR4_100_yr,Year,$A24,Gas,K$5,Gross,GrossYes)/1000000 -> 251.76777 | L24: =SUMIFS(MT_CO2e_AR4_100_yr,Year,$A24,Gas,L$5,Gross,GrossYes)/1000000 -> 3.605204 | M24: =SUMIFS(MT_CO2e_AR4_100_yr,Year,$A24,Gas,M$5,Gross,GrossYes)/1000000 -> 12.758864 | N24: =SUMIFS(MT_CO2e_AR4_100_yr,Year,$A24,Gas,N$5,Gross,GrossYes)/1000000 -> 47.069597 | O24: =SUMIFS(MT_CO2e_AR4_100_yr,Year,$A24,Gas,O$5,Gross,GrossYes)/1000000 -> 3.816933 | P24: =SUMIFS(MT_CO2e_AR4_100_yr,Year,$A24,Gas,P$5,Gross,GrossYes)/1000000 -> 0.016339 | Q24: =SUMIFS(MT_CO2e_AR4_100_yr,Year,$A24,Gas,Q$5,Gross,GrossYes)/1000000 -> 0.305619 | R24: =SUMIFS(MT_CO2e_AR4_100_yr,Year,$A24,Gas,R$5,Gross,GrossYes)/1000000 -> 0.740339 | S24: =SUM(K24:R24) -> 320.08067 | T24: =C24-L24 -> -0.242677 | U24: =E24-N24 -> 111.08426 | V24: =F24-O24 -> 5.404165 | W24: =G24-P24 -> -0.00418 | X24: =H24-Q24 -> -0.102192 | Y24: =I24-R24 -> -0.172097 | Z24: =J24-S24 -> 115.96728 | AA24: 2008 | AB24: =(J24-J$6)/J$6 -> 0.078633163 | AC24: =B24+D24+F24+G24+H24+I24 -> 274.53156 | AD24: =(S24-S$6)/S$6 -> 0.018066106 | AE24: =(J24-J$21)/J$21 -> -0.054651956 | AF24: =(S24-S$21)/S$21 -> -0.079896297 | AG24: =Z24/S24 -> 0.36230642
A25: 2009 | B25: =SUMIFS(MT_CO2e_AR5_20_yr,Year,$A25,Gas,B$5,Gross,GrossYes)/1000000 -> 231.83292 | C25: =SUMIFS(MT_CO2e_AR5_20_yr,Year,$A25,Gas,C$5,Gross,GrossYes)/1000000 -> 3.047939 | D25: =SUMIFS(MT_CO2e_AR5_20_yr,Year,$A25,Gas,D$5,Gross,GrossYes)/1000000 -> 9.036112 | E25: =SUMIFS(MT_CO2e_AR5_20_yr,Year,$A25,Gas,E$5,Gross,GrossYes)/1000000 -> 147.96178 | F25: =SUMIFS(MT_CO2e_AR5_20_yr,Year,$A25,Gas,F$5,Gross,GrossYes)/1000000 -> 10.590698 | G25: =SUMIFS(MT_CO2e_AR5_20_yr,Year,$A25,Gas,G$5,Gross,GrossYes)/1000000 -> 0.00964 | H25: =SUMIFS(MT_CO2e_AR5_20_yr,Year,$A25,Gas,H$5,Gross,GrossYes)/1000000 -> 0.129834 | I25: =SUMIFS(MT_CO2e_AR5_20_yr,Year,$A25,Gas,I$5,Gross,GrossYes)/1000000 -> 0.421003 | J25: =SUM(B25:I25) -> 403.02992 | K25: =SUMIFS(MT_CO2e_AR4_100_yr,Year,$A25,Gas,K$5,Gross,GrossYes)/1000000 -> 231.83292 | L25: =SUMIFS(MT_CO2e_AR4_100_yr,Year,$A25,Gas,L$5,Gross,GrossYes)/1000000 -> 3.268583 | M25: =SUMIFS(MT_CO2e_AR4_100_yr,Year,$A25,Gas,M$5,Gross,GrossYes)/1000000 -> 9.036112 | N25: =SUMIFS(MT_CO2e_AR4_100_yr,Year,$A25,Gas,N$5,Gross,GrossYes)/1000000 -> 44.036246 | O25: =SUMIFS(MT_CO2e_AR4_100_yr,Year,$A25,Gas,O$5,Gross,GrossYes)/1000000 -> 4.38086 | P25: =SUMIFS(MT_CO2e_AR4_100_yr,Year,$A25,Gas,P$5,Gross,GrossYes)/1000000 -> 0.012954 | Q25: =SUMIFS(MT_CO2e_AR4_100_yr,Year,$A25,Gas,Q$5,Gross,GrossYes)/1000000 -> 0.195079 | R25: =SUMIFS(MT_CO2e_AR4_100_yr,Year,$A25,Gas,R$5,Gross,GrossYes)/1000000 -> 0.548506 | S25: =SUM(K25:R25) -> 293.31125 | T25: =C25-L25 -> -0.220644 | U25: =E25-N25 -> 103.92553 | V25: =F25-O25 -> 6.209838 | W25: =G25-P25 -> -0.003314 | X25: =H25-Q25 -> -0.065245 | Y25: =I25-R25 -> -0.127503 | Z25: =J25-S25 -> 109.71866 | AA25: 2009 | AB25: =(J25-J$6)/J$6 -> -0.0030421284 | AC25: =B25+D25+F25+G25+H25+I25 -> 252.0202 | AD25: =(S25-S$6)/S$6 -> -0.067078155 | AE25: =(J25-J$21)/J$21 -> -0.12623475 | AF25: =(S25-S$21)/S$21 -> -0.15684764 | AG25: =Z25/S25 -> 0.37406906
A26: 2010 | B26: =SUMIFS(MT_CO2e_AR5_20_yr,Year,$A26,Gas,B$5,Gross,GrossYes)/1000000 -> 232.91689 | C26: =SUMIFS(MT_CO2e_AR5_20_yr,Year,$A26,Gas,C$5,Gross,GrossYes)/1000000 -> 3.215892 | D26: =SUMIFS(MT_CO2e_AR5_20_yr,Year,$A26,Gas,D$5,Gross,GrossYes)/1000000 -> 9.819842 | E26: =SUMIFS(MT_CO2e_AR5_20_yr,Year,$A26,Gas,E$5,Gross,GrossYes)/1000000 -> 151.05882 | F26: =SUMIFS(MT_CO2e_AR5_20_yr,Year,$A26,Gas,F$5,Gross,GrossYes)/1000000 -> 11.700735 | G26: =SUMIFS(MT_CO2e_AR5_20_yr,Year,$A26,Gas,G$5,Gross,GrossYes)/1000000 -> 0.011398 | H26: =SUMIFS(MT_CO2e_AR5_20_yr,Year,$A26,Gas,H$5,Gross,GrossYes)/1000000 -> 0.149779 | I26: =SUMIFS(MT_CO2e_AR5_20_yr,Year,$A26,Gas,I$5,Gross,GrossYes)/1000000 -> 0.288089 | J26: =SUM(B26:I26) -> 409.16145 | K26: =SUMIFS(MT_CO2e_AR4_100_yr,Year,$A26,Gas,K$5,Gross,GrossYes)/1000000 -> 232.91689 | L26: =SUMIFS(MT_CO2e_AR4_100_yr,Year,$A26,Gas,L$5,Gross,GrossYes)/1000000 -> 3.443142 | M26: =SUMIFS(MT_CO2e_AR4_100_yr,Year,$A26,Gas,M$5,Gross,GrossYes)/1000000 -> 9.819842 | N26: =SUMIFS(MT_CO2e_AR4_100_yr,Year,$A26,Gas,N$5,Gross,GrossYes)/1000000 -> 44.957986 | O26: =SUMIFS(MT_CO2e_AR4_100_yr,Year,$A26,Gas,O$5,Gross,GrossYes)/1000000 -> 4.806674 | P26: =SUMIFS(MT_CO2e_AR4_100_yr,Year,$A26,Gas,P$5,Gross,GrossYes)/1000000 -> 0.015316 | Q26: =SUMIFS(MT_CO2e_AR4_100_yr,Year,$A26,Gas,Q$5,Gross,GrossYes)/1000000 -> 0.224832 | R26: =SUMIFS(MT_CO2e_AR4_100_yr,Year,$A26,Gas,R$5,Gross,GrossYes)/1000000 -> 0.375339 | S26: =SUM(K26:R26) -> 296.56002 | T26: =C26-L26 -> -0.22725 | U26: =E26-N26 -> 106.10083 | V26: =F26-O26 -> 6.894061 | W26: =G26-P26 -> -0.003918 | X26: =H26-Q26 -> -0.075053 | Y26: =I26-R26 -> -0.08725 | Z26: =J26-S26 -> 112.60142 | AA26: 2010 | AB26: =(J26-J$6)/J$6 -> 0.012125165 | AC26: =B26+D26+F26+G26+H26+I26 -> 254.88673 | AD26: =(S26-S$6)/S$6 -> -0.056744952 | AE26: =(J26-J$21)/J$21 -> -0.11294166 | AF26: =(S26-S$21)/S$21 -> -0.14750874 | AG26: =Z26/S26 -> 0.37969185
A27: 2011 | B27: =SUMIFS(MT_CO2e_AR5_20_yr,Year,$A27,Gas,B$5,Gross,GrossYes)/1000000 -> 231.1951 | C27: =SUMIFS(MT_CO2e_AR5_20_yr,Year,$A27,Gas,C$5,Gross,GrossYes)/1000000 -> 3.530421 | D27: =SUMIFS(MT_CO2e_AR5_20_yr,Year,$A27,Gas,D$5,Gross,GrossYes)/1000000 -> 10.328569 | E27: =SUMIFS(MT_CO2e_AR5_20_yr,Year,$A27,Gas,E$5,Gross,GrossYes)/1000000 -> 151.20637 | F27: =SUMIFS(MT_CO2e_AR5_20_yr,Year,$A27,Gas,F$5,Gross,GrossYes)/1000000 -> 13.202408 | G27: =SUMIFS(MT_CO2e_AR5_20_yr,Year,$A27,Gas,G$5,Gross,GrossYes)/1000000 -> 0.005059 | H27: =SUMIFS(MT_CO2e_AR5_20_yr,Year,$A27,Gas,H$5,Gross,GrossYes)/1000000 -> 0.341364 | I27: =SUMIFS(MT_CO2e_AR5_20_yr,Year,$A27,Gas,I$5,Gross,GrossYes)/1000000 -> 0.234406 | J27: =SUM(B27:I27) -> 410.0437 | K27: =SUMIFS(MT_CO2e_AR4_100_yr,Year,$A27,Gas,K$5,Gross,GrossYes)/1000000 -> 231.1951 | L27: =SUMIFS(MT_CO2e_AR4_100_yr,Year,$A27,Gas,L$5,Gross,GrossYes)/1000000 -> 3.798455 | M27: =SUMIFS(MT_CO2e_AR4_100_yr,Year,$A27,Gas,M$5,Gross,GrossYes)/1000000 -> 10.328569 | N27: =SUMIFS(MT_CO2e_AR4_100_yr,Year,$A27,Gas,N$5,Gross,GrossYes)/1000000 -> 45.001896 | O27: =SUMIFS(MT_CO2e_AR4_100_yr,Year,$A27,Gas,O$5,Gross,GrossYes)/1000000 -> 5.400832 | P27: =SUMIFS(MT_CO2e_AR4_100_yr,Year,$A27,Gas,P$5,Gross,GrossYes)/1000000 -> 0.006797 | Q27: =SUMIFS(MT_CO2e_AR4_100_yr,Year,$A27,Gas,Q$5,Gross,GrossYes)/1000000 -> 0.516104 | R27: =SUMIFS(MT_CO2e_AR4_100_yr,Year,$A27,Gas,R$5,Gross,GrossYes)/1000000 -> 0.305398 | S27: =SUM(K27:R27) -> 296.55315 | T27: =C27-L27 -> -0.268034 | U27: =E27-N27 -> 106.20448 | V27: =F27-O27 -> 7.801576 | W27: =G27-P27 -> -0.001738 | X27: =H27-Q27 -> -0.17474 | Y27: =I27-R27 -> -0.070992 | Z27: =J27-S27 -> 113.49055 | AA27: 2011 | AB27: =(J27-J$6)/J$6 -> 0.014307552 | AC27: =B27+D27+F27+G27+H27+I27 -> 255.3069 | AD27: =(S27-S$6)/S$6 -> -0.056766813 | AE27: =(J27-J$21)/J$21 -> -0.11102895 | AF27: =(S27-S$21)/S$21 -> -0.14752849 | AG27: =Z27/S27 -> 0.38269885
A28: 2012 | B28: =SUMIFS(MT_CO2e_AR5_20_yr,Year,$A28,Gas,B$5,Gross,GrossYes)/1000000 -> 222.2133 | C28: =SUMIFS(MT_CO2e_AR5_20_yr,Year,$A28,Gas,C$5,Gross,GrossYes)/1000000 -> 3.436582 | D28: =SUMIFS(MT_CO2e_AR5_20_yr,Year,$A28,Gas,D$5,Gross,GrossYes)/1000000 -> 9.981728 | E28: =SUMIFS(MT_CO2e_AR5_20_yr,Year,$A28,Gas,E$5,Gross,GrossYes)/1000000 -> 150.25471 | F28: =SUMIFS(MT_CO2e_AR5_20_yr,Year,$A28,Gas,F$5,Gross,GrossYes)/1000000 -> 14.414138 | G28: =SUMIFS(MT_CO2e_AR5_20_yr,Year,$A28,Gas,G$5,Gross,GrossYes)/1000000 -> 0.001985 | H28: =SUMIFS(MT_CO2e_AR5_20_yr,Year,$A28,Gas,H$5,Gross,GrossYes)/1000000 -> 0.422232 | I28: =SUMIFS(MT_CO2e_AR5_20_yr,Year,$A28,Gas,I$5,Gross,GrossYes)/1000000 -> 0.219586 | J28: =SUM(B28:I28) -> 400.94426 | K28: =SUMIFS(MT_CO2e_AR4_100_yr,Year,$A28,Gas,K$5,Gross,GrossYes)/1000000 -> 222.2133 | L28: =SUMIFS(MT_CO2e_AR4_100_yr,Year,$A28,Gas,L$5,Gross,GrossYes)/1000000 -> 3.692415 | M28: =SUMIFS(MT_CO2e_AR4_100_yr,Year,$A28,Gas,M$5,Gross,GrossYes)/1000000 -> 9.981728 | N28: =SUMIFS(MT_CO2e_AR4_100_yr,Year,$A28,Gas,N$5,Gross,GrossYes)/1000000 -> 44.718666 | O28: =SUMIFS(MT_CO2e_AR4_100_yr,Year,$A28,Gas,O$5,Gross,GrossYes)/1000000 -> 5.992547 | P28: =SUMIFS(MT_CO2e_AR4_100_yr,Year,$A28,Gas,P$5,Gross,GrossYes)/1000000 -> 0.002668 | Q28: =SUMIFS(MT_CO2e_AR4_100_yr,Year,$A28,Gas,Q$5,Gross,GrossYes)/1000000 -> 0.63753 | R28: =SUMIFS(MT_CO2e_AR4_100_yr,Year,$A28,Gas,R$5,Gross,GrossYes)/1000000 -> 0.286089 | S28: =SUM(K28:R28) -> 287.52494 | T28: =C28-L28 -> -0.255833 | U28: =E28-N28 -> 105.53604 | V28: =F28-O28 -> 8.421591 | W28: =G28-P28 -> -0.000683 | X28: =H28-Q28 -> -0.215298 | Y28: =I28-R28 -> -0.066503 | Z28: =J28-S28 -> 113.41932 | AA28: 2012 | AB28: =(J28-J$6)/J$6 -> -0.0082013388 | AC28: =B28+D28+F28+G28+H28+I28 -> 247.25297 | AD28: =(S28-S$6)/S$6 -> -0.085482425 | AE28: =(J28-J$21)/J$21 -> -0.13075645 | AF28: =(S28-S$21)/S$21 -> -0.17348097 | AG28: =Z28/S28 -> 0.39446776
A29: 2013 | B29: =SUMIFS(MT_CO2e_AR5_20_yr,Year,$A29,Gas,B$5,Gross,GrossYes)/1000000 -> 223.4679 | C29: =SUMIFS(MT_CO2e_AR5_20_yr,Year,$A29,Gas,C$5,Gross,GrossYes)/1000000 -> 3.402654 | D29: =SUMIFS(MT_CO2e_AR5_20_yr,Year,$A29,Gas,D$5,Gross,GrossYes)/1000000 -> 10.793374 | E29: =SUMIFS(MT_CO2e_AR5_20_yr,Year,$A29,Gas,E$5,Gross,GrossYes)/1000000 -> 153.07611 | F29: =SUMIFS(MT_CO2e_AR5_20_yr,Year,$A29,Gas,F$5,Gross,GrossYes)/1000000 -> 15.604662 | G29: =SUMIFS(MT_CO2e_AR5_20_yr,Year,$A29,Gas,G$5,Gross,GrossYes)/1000000 -> 0.002903 | H29: =SUMIFS(MT_CO2e_AR5_20_yr,Year,$A29,Gas,H$5,Gross,GrossYes)/1000000 -> 0.407844 | I29: =SUMIFS(MT_CO2e_AR5_20_yr,Year,$A29,Gas,I$5,Gross,GrossYes)/1000000 -> 0.211071 | J29: =SUM(B29:I29) -> 406.96652 | K29: =SUMIFS(MT_CO2e_AR4_100_yr,Year,$A29,Gas,K$5,Gross,GrossYes)/1000000 -> 223.4679 | L29: =SUMIFS(MT_CO2e_AR4_100_yr,Year,$A29,Gas,L$5,Gross,GrossYes)/1000000 -> 3.65476 | M29: =SUMIFS(MT_CO2e_AR4_100_yr,Year,$A29,Gas,M$5,Gross,GrossYes)/1000000 -> 10.793374 | N29: =SUMIFS(MT_CO2e_AR4_100_yr,Year,$A29,Gas,N$5,Gross,GrossYes)/1000000 -> 45.558369 | O29: =SUMIFS(MT_CO2e_AR4_100_yr,Year,$A29,Gas,O$5,Gross,GrossYes)/1000000 -> 6.575352 | P29: =SUMIFS(MT_CO2e_AR4_100_yr,Year,$A29,Gas,P$5,Gross,GrossYes)/1000000 -> 0.003901 | Q29: =SUMIFS(MT_CO2e_AR4_100_yr,Year,$A29,Gas,Q$5,Gross,GrossYes)/1000000 -> 0.615817 | R29: =SUMIFS(MT_CO2e_AR4_100_yr,Year,$A29,Gas,R$5,Gross,GrossYes)/1000000 -> 0.274996 | S29: =SUM(K29:R29) -> 290.94447 | T29: =C29-L29 -> -0.252106 | U29: =E29-N29 -> 107.51774 | V29: =F29-O29 -> 9.02931 | W29: =G29-P29 -> -0.000998 | X29: =H29-Q29 -> -0.207973 | Y29: =I29-R29 -> -0.063925 | Z29: =J29-S29 -> 116.02205 | AA29: 2013 | AB29: =(J29-J$6)/J$6 -> 0.0066956706 | AC29: =B29+D29+F29+G29+H29+I29 -> 250.48775 | AD29: =(S29-S$6)/S$6 -> -0.074606091 | AE29: =(J29-J$21)/J$21 -> -0.11770024 | AF29: =(S29-S$21)/S$21 -> -0.1636512 | AG29: =Z29/S29 -> 0.39877731
A30: 2014 | B30: =SUMIFS(MT_CO2e_AR5_20_yr,Year,$A30,Gas,B$5,Gross,GrossYes)/1000000 -> 227.37327 | C30: =SUMIFS(MT_CO2e_AR5_20_yr,Year,$A30,Gas,C$5,Gross,GrossYes)/1000000 -> 3.395557 | D30: =SUMIFS(MT_CO2e_AR5_20_yr,Year,$A30,Gas,D$5,Gross,GrossYes)/1000000 -> 10.959395 | E30: =SUMIFS(MT_CO2e_AR5_20_yr,Year,$A30,Gas,E$5,Gross,GrossYes)/1000000 -> 149.42988 | F30: =SUMIFS(MT_CO2e_AR5_20_yr,Year,$A30,Gas,F$5,Gross,GrossYes)/1000000 -> 16.78894 | G30: =SUMIFS(MT_CO2e_AR5_20_yr,Year,$A30,Gas,G$5,Gross,GrossYes)/1000000 -> 0.008188 | H30: =SUMIFS(MT_CO2e_AR5_20_yr,Year,$A30,Gas,H$5,Gross,GrossYes)/1000000 -> 0.136357 | I30: =SUMIFS(MT_CO2e_AR5_20_yr,Year,$A30,Gas,I$5,Gross,GrossYes)/1000000 -> 0.21376 | J30: =SUM(B30:I30) -> 408.30534 | K30: =SUMIFS(MT_CO2e_AR4_100_yr,Year,$A30,Gas,K$5,Gross,GrossYes)/1000000 -> 227.37327 | L30: =SUMIFS(MT_CO2e_AR4_100_yr,Year,$A30,Gas,L$5,Gross,GrossYes)/1000000 -> 3.644341 | M30: =SUMIFS(MT_CO2e_AR4_100_yr,Year,$A30,Gas,M$5,Gross,GrossYes)/1000000 -> 10.959395 | N30: =SUMIFS(MT_CO2e_AR4_100_yr,Year,$A30,Gas,N$5,Gross,GrossYes)/1000000 -> 44.47318 | O30: =SUMIFS(MT_CO2e_AR4_100_yr,Year,$A30,Gas,O$5,Gross,GrossYes)/1000000 -> 7.15323 | P30: =SUMIFS(MT_CO2e_AR4_100_yr,Year,$A30,Gas,P$5,Gross,GrossYes)/1000000 -> 0.011003 | Q30: =SUMIFS(MT_CO2e_AR4_100_yr,Year,$A30,Gas,Q$5,Gross,GrossYes)/1000000 -> 0.20596 | R30: =SUMIFS(MT_CO2e_AR4_100_yr,Year,$A30,Gas,R$5,Gross,GrossYes)/1000000 -> 0.278499 | S30: =SUM(K30:R30) -> 294.09888 | T30: =C30-L30 -> -0.248784 | U30: =E30-N30 -> 104.9567 | V30: =F30-O30 -> 9.63571 | W30: =G30-P30 -> -0.002815 | X30: =H30-Q30 -> -0.069603 | Y30: =I30-R30 -> -0.064739 | Z30: =J30-S30 -> 114.20647 | AA30: 2014 | AB30: =(J30-J$6)/J$6 -> 0.010007467 | AC30: =B30+D30+F30+G30+H30+I30 -> 255.47991 | AD30: =(S30-S$6)/S$6 -> -0.064573008 | AE30: =(J30-J$21)/J$21 -> -0.11479767 | AF30: =(S30-S$21)/S$21 -> -0.15458354 | AG30: =Z30/S30 -> 0.38832678
A31: 2015 | B31: =SUMIFS(MT_CO2e_AR5_20_yr,Year,$A31,Gas,B$5,Gross,GrossYes)/1000000 -> 224.28448 | C31: =SUMIFS(MT_CO2e_AR5_20_yr,Year,$A31,Gas,C$5,Gross,GrossYes)/1000000 -> 3.338113 | D31: =SUMIFS(MT_CO2e_AR5_20_yr,Year,$A31,Gas,D$5,Gross,GrossYes)/1000000 -> 12.638817 | E31: =SUMIFS(MT_CO2e_AR5_20_yr,Year,$A31,Gas,E$5,Gross,GrossYes)/1000000 -> 144.67359 | F31: =SUMIFS(MT_CO2e_AR5_20_yr,Year,$A31,Gas,F$5,Gross,GrossYes)/1000000 -> 18.120722 | G31: =SUMIFS(MT_CO2e_AR5_20_yr,Year,$A31,Gas,G$5,Gross,GrossYes)/1000000 -> 0.005937 | H31: =SUMIFS(MT_CO2e_AR5_20_yr,Year,$A31,Gas,H$5,Gross,GrossYes)/1000000 -> 0.048108 | I31: =SUMIFS(MT_CO2e_AR5_20_yr,Year,$A31,Gas,I$5,Gross,GrossYes)/1000000 -> 0.168662 | J31: =SUM(B31:I31) -> 403.27843 | K31: =SUMIFS(MT_CO2e_AR4_100_yr,Year,$A31,Gas,K$5,Gross,GrossYes)/1000000 -> 224.28448 | L31: =SUMIFS(MT_CO2e_AR4_100_yr,Year,$A31,Gas,L$5,Gross,GrossYes)/1000000 -> 3.580402 | M31: =SUMIFS(MT_CO2e_AR4_100_yr,Year,$A31,Gas,M$5,Gross,GrossYes)/1000000 -> 12.638817 | N31: =SUMIFS(MT_CO2e_AR4_100_yr,Year,$A31,Gas,N$5,Gross,GrossYes)/1000000 -> 43.057613 | O31: =SUMIFS(MT_CO2e_AR4_100_yr,Year,$A31,Gas,O$5,Gross,GrossYes)/1000000 -> 7.761822 | P31: =SUMIFS(MT_CO2e_AR4_100_yr,Year,$A31,Gas,P$5,Gross,GrossYes)/1000000 -> 0.007977 | Q31: =SUMIFS(MT_CO2e_AR4_100_yr,Year,$A31,Gas,Q$5,Gross,GrossYes)/1000000 -> 0.072754 | R31: =SUMIFS(MT_CO2e_AR4_100_yr,Year,$A31,Gas,R$5,Gross,GrossYes)/1000000 -> 0.219743 | S31: =SUM(K31:R31) -> 291.62361 | T31: =C31-L31 -> -0.242289 | U31: =E31-N31 -> 101.61597 | V31: =F31-O31 -> 10.3589 | W31: =G31-P31 -> -0.00204 | X31: =H31-Q31 -> -0.024646 | Y31: =I31-R31 -> -0.051081 | Z31: =J31-S31 -> 111.65482 | AA31: 2015 | AB31: =(J31-J$6)/J$6 -> -0.0024274048 | AC31: =B31+D31+F31+G31+H31+I31 -> 255.26673 | AD31: =(S31-S$6)/S$6 -> -0.072445977 | AE31: =(J31-J$21)/J$21 -> -0.12569599 | AF31: =(S31-S$21)/S$21 -> -0.16169895 | AG31: =Z31/S31 -> 0.38287305
A32: 2016 | B32: =SUMIFS(MT_CO2e_AR5_20_yr,Year,$A32,Gas,B$5,Gross,GrossYes)/1000000 -> 212.76293 | C32: =SUMIFS(MT_CO2e_AR5_20_yr,Year,$A32,Gas,C$5,Gross,GrossYes)/1000000 -> 3.265066 | D32: =SUMIFS(MT_CO2e_AR5_20_yr,Year,$A32,Gas,D$5,Gross,GrossYes)/1000000 -> 11.818328 | E32: =SUMIFS(MT_CO2e_AR5_20_yr,Year,$A32,Gas,E$5,Gross,GrossYes)/1000000 -> 140.68404 | F32: =SUMIFS(MT_CO2e_AR5_20_yr,Year,$A32,Gas,F$5,Gross,GrossYes)/1000000 -> 19.234355 | G32: =SUMIFS(MT_CO2e_AR5_20_yr,Year,$A32,Gas,G$5,Gross,GrossYes)/1000000 -> 0.007552 | H32: =SUMIFS(MT_CO2e_AR5_20_yr,Year,$A32,Gas,H$5,Gross,GrossYes)/1000000 -> 0.048565 | I32: =SUMIFS(MT_CO2e_AR5_20_yr,Year,$A32,Gas,I$5,Gross,GrossYes)/1000000 -> 0.155012 | J32: =SUM(B32:I32) -> 387.97585 | K32: =SUMIFS(MT_CO2e_AR4_100_yr,Year,$A32,Gas,K$5,Gross,GrossYes)/1000000 -> 212.76293 | L32: =SUMIFS(MT_CO2e_AR4_100_yr,Year,$A32,Gas,L$5,Gross,GrossYes)/1000000 -> 3.497197 | M32: =SUMIFS(MT_CO2e_AR4_100_yr,Year,$A32,Gas,M$5,Gross,GrossYes)/1000000 -> 11.818328 | N32: =SUMIFS(MT_CO2e_AR4_100_yr,Year,$A32,Gas,N$5,Gross,GrossYes)/1000000 -> 41.870256 | O32: =SUMIFS(MT_CO2e_AR4_100_yr,Year,$A32,Gas,O$5,Gross,GrossYes)/1000000 -> 8.213557 | P32: =SUMIFS(MT_CO2e_AR4_100_yr,Year,$A32,Gas,P$5,Gross,GrossYes)/1000000 -> 0.010148 | Q32: =SUMIFS(MT_CO2e_AR4_100_yr,Year,$A32,Gas,Q$5,Gross,GrossYes)/1000000 -> 0.073468 | R32: =SUMIFS(MT_CO2e_AR4_100_yr,Year,$A32,Gas,R$5,Gross,GrossYes)/1000000 -> 0.201958 | S32: =SUM(K32:R32) -> 278.44784 | T32: =C32-L32 -> -0.232131 | U32: =E32-N32 -> 98.813787 | V32: =F32-O32 -> 11.020798 | W32: =G32-P32 -> -0.002596 | X32: =H32-Q32 -> -0.024903 | Y32: =I32-R32 -> -0.046946 | Z32: =J32-S32 -> 109.52801 | AA32: 2016 | AB32: =(J32-J$6)/J$6 -> -0.04028074 | AC32: =B32+D32+F32+G32+H32+I32 -> 244.02674 | AD32: =(S32-S$6)/S$6 -> -0.11435355 | AE32: =(J32-J$21)/J$21 -> -0.15887184 | AF32: =(S32-S$21)/S$21 -> -0.199574 | AG32: =Z32/S32 -> 0.39335198
A33: 2017 | B33: =SUMIFS(MT_CO2e_AR5_20_yr,Year,$A33,Gas,B$5,Gross,GrossYes)/1000000 -> 203.9409 | C33: =SUMIFS(MT_CO2e_AR5_20_yr,Year,$A33,Gas,C$5,Gross,GrossYes)/1000000 -> 3.193682 | D33: =SUMIFS(MT_CO2e_AR5_20_yr,Year,$A33,Gas,D$5,Gross,GrossYes)/1000000 -> 11.782214 | E33: =SUMIFS(MT_CO2e_AR5_20_yr,Year,$A33,Gas,E$5,Gross,GrossYes)/1000000 -> 132.00674 | F33: =SUMIFS(MT_CO2e_AR5_20_yr,Year,$A33,Gas,F$5,Gross,GrossYes)/1000000 -> 19.859374 | G33: =SUMIFS(MT_CO2e_AR5_20_yr,Year,$A33,Gas,G$5,Gross,GrossYes)/1000000 -> 0.008255 | H33: =SUMIFS(MT_CO2e_AR5_20_yr,Year,$A33,Gas,H$5,Gross,GrossYes)/1000000 -> 0.063728 | I33: =SUMIFS(MT_CO2e_AR5_20_yr,Year,$A33,Gas,I$5,Gross,GrossYes)/1000000 -> 0.136393 | J33: =SUM(B33:I33) -> 370.99128 | K33: =SUMIFS(MT_CO2e_AR4_100_yr,Year,$A33,Gas,K$5,Gross,GrossYes)/1000000 -> 203.9409 | L33: =SUMIFS(MT_CO2e_AR4_100_yr,Year,$A33,Gas,L$5,Gross,GrossYes)/1000000 -> 3.415685 | M33: =SUMIFS(MT_CO2e_AR4_100_yr,Year,$A33,Gas,M$5,Gross,GrossYes)/1000000 -> 11.782214 | N33: =SUMIFS(MT_CO2e_AR4_100_yr,Year,$A33,Gas,N$5,Gross,GrossYes)/1000000 -> 39.287719 | O33: =SUMIFS(MT_CO2e_AR4_100_yr,Year,$A33,Gas,O$5,Gross,GrossYes)/1000000 -> 8.615117 | P33: =SUMIFS(MT_CO2e_AR4_100_yr,Year,$A33,Gas,P$5,Gross,GrossYes)/1000000 -> 0.011092 | Q33: =SUMIFS(MT_CO2e_AR4_100_yr,Year,$A33,Gas,Q$5,Gross,GrossYes)/1000000 -> 0.096363 | R33: =SUMIFS(MT_CO2e_AR4_100_yr,Year,$A33,Gas,R$5,Gross,GrossYes)/1000000 -> 0.177701 | S33: =SUM(K33:R33) -> 267.32679 | T33: =C33-L33 -> -0.222003 | U33: =E33-N33 -> 92.719019 | V33: =F33-O33 -> 11.244257 | W33: =G33-P33 -> -0.002837 | X33: =H33-Q33 -> -0.032635 | Y33: =I33-R33 -> -0.041308 | Z33: =J33-S33 -> 103.66449 | AA33: 2017 | AB33: =(J33-J$6)/J$6 -> -0.082294734 | AC33: =B33+D33+F33+G33+H33+I33 -> 235.79086 | AD33: =(S33-S$6)/S$6 -> -0.14972577 | AE33: =(J33-J$21)/J$21 -> -0.19569423 | AF33: =(S33-S$21)/S$21 -> -0.23154257 | AG33: =Z33/S33 -> 0.38778191
... A36: 2020 | B36: =SUMIFS(MT_CO2e_AR5_20_yr,Year,$A36,Gas,B$5,Gross,GrossYes)/1000000 -> 183.98843 | C36: =SUMIFS(MT_CO2e_AR5_20_yr,Year,$A36,Gas,C$5,Gross,GrossYes)/1000000 -> 3.097337 | D36: =SUMIFS(MT_CO2e_AR5_20_yr,Year,$A36,Gas,D$5,Gross,GrossYes)/1000000 -> 10.816855 | E36: =SUMIFS(MT_CO2e_AR5_20_yr,Year,$A36,Gas,E$5,Gross,GrossYes)/1000000 -> 125.40743 | F36: =SUMIFS(MT_CO2e_AR5_20_yr,Year,$A36,Gas,F$5,Gross,GrossYes)/1000000 -> 21.315388 | G36: =SUMIFS(MT_CO2e_AR5_20_yr,Year,$A36,Gas,G$5,Gross,GrossYes)/1000000 -> 0.011016 | H36: =SUMIFS(MT_CO2e_AR5_20_yr,Year,$A36,Gas,H$5,Gross,GrossYes)/1000000 -> 0.104816 | I36: =SUMIFS(MT_CO2e_AR5_20_yr,Year,$A36,Gas,I$5,Gross,GrossYes)/1000000 -> 0.111397 | J36: =SUM(B36:I36) -> 344.85267 | K36: =SUMIFS(MT_CO2e_AR4_100_yr,Year,$A36,Gas,K$5,Gross,GrossYes)/1000000 -> 183.98843 | L36: =SUMIFS(MT_CO2e_AR4_100_yr,Year,$A36,Gas,L$5,Gross,GrossYes)/1000000 -> 3.309329 | M36: =SUMIFS(MT_CO2e_AR4_100_yr,Year,$A36,Gas,M$5,Gross,GrossYes)/1000000 -> 10.816855 | N36: =SUMIFS(MT_CO2e_AR4_100_yr,Year,$A36,Gas,N$5,Gross,GrossYes)/1000000 -> 37.323639 | O36: =SUMIFS(MT_CO2e_AR4_100_yr,Year,$A36,Gas,O$5,Gross,GrossYes)/1000000 -> 9.63829 | P36: =SUMIFS(MT_CO2e_AR4_100_yr,Year,$A36,Gas,P$5,Gross,GrossYes)/1000000 -> 0.014802 | Q36: =SUMIFS(MT_CO2e_AR4_100_yr,Year,$A36,Gas,Q$5,Gross,GrossYes)/1000000 -> 0.158556 | R36: =SUMIFS(MT_CO2e_AR4_100_yr,Year,$A36,Gas,R$5,Gross,GrossYes)/1000000 -> 0.145134 | S36: =SUM(K36:R36) -> 245.39503 | T36: =C36-L36 -> -0.211992 | U36: =E36-N36 -> 88.083789 | V36: =F36-O36 -> 11.677098 | W36: =G36-P36 -> -0.003786 | X36: =H36-Q36 -> -0.05374 | Y36: =I36-R36 -> -0.033737 | Z36: =J36-S36 -> 99.457632 | AA36: 2020 | AB36: =(J36-J$6)/J$6 -> -0.14695271 | AC36: =B36+D36+F36+G36+H36+I36 -> 216.3479 | AD36: =(S36-S$6)/S$6 -> -0.21948312 | AE36: =(J36-J$21)/J$21 -> -0.25236252 | AF36: =(S36-S$21)/S$21 -> -0.29458758 | AG36: =Z36/S36 -> 0.40529603
A39: Comparison of 2019 and 2020 Emission Inventories
A40: 2020 Emission Inventory Minus 2019 Emission Inventory
B41: Greenhouse Gas (MMT CO2e AR5 20 yr) | K41: Greenhouse Gas (MMT CO2e AR4 100 yr)
A42: Year | B42: CO2 | C42: N2O | D42: Biogenic CO2 | E42: CH4 | F42: HFCs | G42: NF3 | H42: PFCs | I42: SF6 | J42: Total | K42: CO2 | L42: N2O | M42: Biogenic CO2 | N42: CH4 | O42: HFCs | P42: NF3 | Q42: PFCs | R42: SF6 | S42: Total
A43: 1990 | B43: =B6-B77 -> 4.340246 | C43: =C6-C77 -> 0.019272 | D43: =D6-D77 -> -0.653756 | E43: =E6-E77 -> -1.984839 | F43: =F6-F77 -> 0 | G43: =G6-G77 -> 0 | H43: =H6-H77 -> 0 | I43: =I6-I77 -> 0 | ... S43: =S6-S77 -> 3.123722
A44: 1991 | B44: =B7-B78 -> 4.569071 | C44: =C7-C78 -> 0.027266 | D44: =D7-D78 -> -0.524498 | E44: =E7-E78 -> -1.975897 | F44: =F7-F78 -> 0 | G44: =G7-G78 -> 0 | H44: =H7-H78 -> 0 | I44: =I7-I78 -> 0 | ... S44: =S7-S78 -> 3.493036
A45: 1992 | B45: =B8-B79 -> 4.89117 | C45: =C8-C79 -> 0.035519 | D45: =D8-D79 -> -0.578891 | E45: =E8-E79 -> -1.981796 | F45: =F8-F79 -> 0 | G45: =G8-G79 -> 0 | H45: =H8-H79 -> 0 | I45: =I8-I79 -> 0 | ... S45: =S8-S79 -> 3.767844
A46: 1993 | B46: =B9-B80 -> 5.014947 | C46: =C9-C80 -> 0.045021 | D46: =D9-D80 -> -0.414375 | E46: =E9-E80 -> -1.962948 | F46: =F9-F80 -> 0 | G46: =G9-G80 -> 0 | H46: =H9-H80 -> 0 | I46: =I9-I80 -> 0 | ... S46: =S9-S80 -> 4.072025
A47: 1994 | B47: =B10-B81 -> 5.310245 | C47: =C10-C81 -> 0.052675 | D47: =D10-D81 -> -0.367344 | E47: =E10-E81 -> -1.939717 | F47: =F10-F81 -> 0 | G47: =G10-G81 -> 0 | H47: =H10-H81 -> 0 | I47: =I10-I81 -> 0 | ... S47: =S10-S81 -> 4.429464
...

Sheet Economic Sector
A1: Statewide Greenhouse Gas Emissions (MMT) by Sector: Beginning 1990
B2: https://data.ny.gov/Energy-Environment/Statewide-Greenhouse-Gas-Emissions-Beginning-1990/5i6e-asw6
B4: Agriculture | T4: Buildings | AL4: Electricity | BD4: Industry | BV4: Transportation | CN4: Waste
B5: GHG (CO2e AR5 20 yr) | K5: GHG (CO2e AR4 100 yr) | T5: GHG (CO2e AR5 20 yr) | AC5: GHG (CO2e AR4 100 yr) | AL5: GHG (CO2e AR5 20 yr) | AU5: GHG (CO2e AR4 100 yr) | BD5: GHG (CO2e AR5 20 yr) | BM5: GHG (CO2e AR4 100 yr) | BV5: GHG (CO2e AR5 20 yr) | CE5: GHG (CO2e AR4 100 yr) | CN5: GHG (CO2e AR5 20 yr) | CW5: GHG (CO2e AR4 100 yr) | DG5: GHG (CO2e AR5 20 yr) Sector % | DN5: GHG (CO2e AR4 100 yr) Sector % | DV5: Total GHG
A6: Year | B6: CO2 | C6: N2O | D6: Biogenic CO2 | E6: CH4 | F6: HFCs | G6: NF3 | H6: PFCs | I6: SF6 | J6: Total | K6: CO2 | L6: N2O | M6: Biogenic CO2 | N6: CH4 | O6: HFCs | P6: NF3 | Q6: PFCs | R6: SF6 | S6: Total | T6: CO2 | U6: N2O | V6: Biogenic CO2 | W6: CH4 | X6: HFCs | Y6: NF3 | Z6: PFCs | AA6: SF6 | AB6: Total | AC6: CO2 | AD6: N2O | AE6: Biogenic CO2 | AF6: CH4 | AG6: HFCs | AH6: NF3 | AI6: PFCs | AJ6: SF6 | AK6: Total | AL6: CO2 | AM6: N2O | AN6: Biogenic CO2 | AO6: CH4 | AP6: HFCs | AQ6: NF3 | AR6: PFCs | AS6: SF6 | AT6: Total | AU6: CO2 | AV6: N2O | AW6: Biogenic CO2 | AX6: CH4 | AY6: HFCs | AZ6: NF3 | BA6: PFCs | BB6: SF6 | BC6: Total | BD6: CO2 | BE6: N2O | BF6: Biogenic CO2 | BG6: CH4 | BH6: HFCs | BI6: NF3 | BJ6: PFCs | BK6: SF6 | BL6: Total | BM6: CO2 | BN6: N2O | BO6: Biogenic CO2 | BP6: CH4 | BQ6: HFCs | BR6: NF3 | BS6: PFCs | BT6: SF6 | BU6: Total | BV6: CO2 | BW6: N2O | BX6: Biogenic CO2 | BY6: CH4 | BZ6: HFCs | CA6: NF3 | CB6: PFCs | CC6: SF6 | CD6: Total | CE6: CO2 | CF6: N2O | CG6: Biogenic CO2 | CH6: CH4 | CI6: HFCs | CJ6: NF3 | CK6: PFCs | CL6: SF6 | CM6: Total | CN6: CO2 | CO6: N2O | CP6: Biogenic CO2 | CQ6: CH4 | CR6: HFCs | CS6: NF3 | CT6: PFCs | CU6: SF6 | CV6: Total | CW6: CO2 | CX6: N2O | CY6: Biogenic CO2 | CZ6: CH4 | DA6: HFCs | DB6: NF3 | DC6: PFCs | DD6: SF6 | DE6: Total | DG6: Agriculture | DH6: Buildings | DI6: Electricity | DJ6: Industry | DK6: Transportation | DL6: Waste | DN6: Agriculture | DO6: Buildings | DP6: Electricity | DQ6: Industry | DR6: Transportation | DS6: Waste | DU6: Year | DV6: 20y | DW6: 100yr
