Workbook
Name Category: Data!$F$2:$F$17000
Name CH420GWP: 'Value of Carbon'!$I$9
Name CH4GWP100: 'Value of Carbon'!$H$9
Name Conventional_Accounting: Data!$C$2:$C$17000
Name Economic_Sector: Data!$D$2:$D$17000
Name Gas: Data!$K$2:$K$17000
Name Gross: Data!$A$2:$A$17000
Name GrossYes: Summary!$AC$1
Name MT_CO2e_AR4_100_yr: Data!$M$2:$M$17000
Name MT_CO2e_AR5_20_yr: Data!$L$2:$L$17000
Name N2O100GWP: 'Value of Carbon'!$H$10
Name N2O20GWP: 'Value of Carbon'!$I$10
Name Net: Data!$B$2:$B$17000
Name Sector: Data!$E$2:$E$17000
Name SF6GWP100: 'Value of Carbon'!$H$21
Name SF6GWP20: 'Value of Carbon'!$I$21
Name SubCategory_1: Data!$G$2:$G$17000
Name SubCategory_2: Data!$H$2:$H$17000
Name SubCategory_3: Data!$I$2:$I$17000
Name Year: Data!$J$2:$J$17000

Sheet Summary
A1: Table 2: Statewide Greenhouse Gas Emissions: Beginning 1990 | AC1: Yes
B2: https://data.ny.gov/Energy-Environment/Statewide-Greenhouse-Gas-Emissions-Beginning-1990/5i6e-asw6
B4: Greenhouse Gas (MMT CO2e AR5 20 yr) | K4: Greenhouse Gas (MMT CO2e AR4 100 yr) | T4: GWP20 GHG - GWP100 GHG (MMT CO2e) | AB4: % Difference 1990 | AE4: % Difference 2005 | AG4: Delta 20 yr vs 100 yr
A5: Year | B5: CO2 | C5: N2O | D5: Biogenic CO2 | E5: CH4 | F5: HFCs | G5: NF3 | H5: PFCs | I5: SF6 | J5: Total | K5: CO2 | L5: N2O | M5: Biogenic CO2 | N5: CH4 | O5: HFCs | P5: NF3 | Q5: PFCs | R5: SF6 | S5: Total | T5: N2O | U5: CH4 | V5: HFCs | W5: NF3 | X5: PFCs | Y5: SF6 | Z5: Total | AA5: Year | AB5: AR5 20 yr | AC5: CO2e | AD5: AR 4 100 yr | AE5: AR5 20 yr | AF5: AR 4 100 yr
A6: 1990 | B6: =SUMIFS(MT_CO2e_AR5_20_yr,Year,$A6,Gas,B$5,Gross,GrossYes)/1000000 -> 256.42486 | C6: =SUMIFS(MT_CO2e_AR5_20_yr,Year,$A6,Gas,C$5,Gross,GrossYes)/1000000 -> 3.710771 | D6: =SUMIFS(MT_CO2e_AR5_20_yr,Year,$A6,Gas,D$5,Gross,GrossYes)/1000000 -> 8.476043 | E6: =SUMIFS(MT_CO2e_AR5_20_yr,Year,$A6,Gas,E$5,Gross,GrossYes)/1000000 -> 130.67854 | F6: =SUMIFS(MT_CO2e_AR5_20_yr,Year,$A6,Gas,F$5,Gross,GrossYes)/1000000 -> 0.044852 | G6: =SUMIFS(MT_CO2e_AR5_20_yr,Year,$A6,Gas,G$5,Gross,GrossYes)/1000000 -> 0.000489 | H6: =SUMIFS(MT_CO2e_AR5_20_yr,Year,$A6,Gas,H$5,Gross,GrossYes)/1000000 -> 0.903252 | I6: =SUMIFS(MT_CO2e_AR5_20_yr,Year,$A6,Gas,I$5,Gross,GrossYes)/1000000 -> 4.020918 | J6: =SUM(B6:I6) -> 404.25973 | K6: =SUMIFS(MT_CO2e_AR4_100_yr,Year,$A6,Gas,K$5,Gross,GrossYes)/1000000 -> 256.42486 | L6: =SUMIFS(MT_CO2e_AR4_100_yr,Year,$A6,Gas,L$5,Gross,GrossYes)/1000000 -> 3.985438 | M6: =SUMIFS(MT_CO2e_AR4_100_yr,Year,$A6,Gas,M$5,Gross,GrossYes)/1000000 -> 8.476043 | N6: =SUMIFS(MT_CO2e_AR4_100_yr,Year,$A6,Gas,N$5,Gross,GrossYes)/1000000 -> 38.892426 | O6: =SUMIFS(MT_CO2e_AR4_100_yr,Year,$A6,Gas,O$5,Gross,GrossYes)/1000000 -> 0.019413 | P6: =SUMIFS(MT_CO2e_AR4_100_yr,Year,$A6,Gas,P$5,Gross,GrossYes)/1000000 -> 0.000657 | Q6: =SUMIFS(MT_CO2e_AR4_100_yr,Year,$A6,Gas,Q$5,Gross,GrossYes)/1000000 -> 1.363153 | R6: =SUMIFS(MT_CO2e_AR4_100_yr,Year,$A6,Gas,R$5,Gross,GrossYes)/1000000 -> 5.238682 | S6: =SUM(K6:R6) -> 314.40067 | T6: =C6-L6 -> -0.274667 | U6: =E6-N6 -> 91.786118 | V6: =F6-O6 -> 0.025439 | W6: =G6-P6 -> -0.000168 | X6: =H6-Q6 -> -0.459901 | Y6: =I6-R6 -> -1.217764 | Z6: =J6-S6 -> 89.859057 | AA6: 1990 | AC6: =B6+D6+F6+G6+H6+I6 -> 269.87041 | AG6: =Z6/S6 -> 0.28581064
A7: 1991 | B7: =SUMIFS(MT_CO2e_AR5_20_yr,Year,$A7,Gas,B$5,Gross,GrossYes)/1000000 -> 253.103 | C7: =SUMIFS(MT_CO2e_AR5_20_yr,Year,$A7,Gas,C$5,Gross,GrossYes)/1000000 -> 3.596123 | D7: =SUMIFS(MT_CO2e_AR5_20_yr,Year,$A7,Gas,D$5,Gross,GrossYes)/1000000 -> 8.254588 | E7: =SUMIFS(MT_CO2e_AR5_20_yr,Year,$A7,Gas,E$5,Gross,GrossYes)/1000000 -> 134.31864 | F7: =SUMIFS(MT_CO2e_AR5_20_yr,Year,$A7,Gas,F$5,Gross,GrossYes)/1000000 -> 0.106272 | G7: =SUMIFS(MT_CO2e_AR5_20_yr,Year,$A7,Gas,G$5,Gross,GrossYes)/1000000 -> 0.000489 | H7: =SUMIFS(MT_CO2e_AR5_20_yr,Year,$A7,Gas,H$5,Gross,GrossYes)/1000000 -> 0.74552 | I7: =SUMIFS(MT_CO2e_AR5_20_yr,Year,$A7,Gas,I$5,Gross,GrossYes)/1000000 -> 3.841777 | J7: =SUM(B7:I7) -> 403.96641 | K7: =SUMIFS(MT_CO2e_AR4_100_yr,Year,$A7,Gas,K$5,Gross,GrossYes)/1000000 -> 253.103 | L7: =SUMIFS(MT_CO2e_AR4_100_yr,Year,$A7,Gas,L$5,Gross,GrossYes)/1000000 -> 3.86917 | M7: =SUMIFS(MT_CO2e_AR4_100_yr,Year,$A7,Gas,M$5,Gross,GrossYes)/1000000 -> 8.254588 | N7: =SUMIFS(MT_CO2e_AR4_100_yr,Year,$A7,Gas,N$5,Gross,GrossYes)/1000000 -> 39.975788 | O7: =SUMIFS(MT_CO2e_AR4_100_yr,Year,$A7,Gas,O$5,Gross,GrossYes)/1000000 -> 0.043085 | P7: =SUMIFS(MT_CO2e_AR4_100_yr,Year,$A7,Gas,P$5,Gross,GrossYes)/1000000 -> 0.000657 | Q7: =SUMIFS(MT_CO2e_AR4_100_yr,Year,$A7,Gas,Q$5,Gross,GrossYes)/1000000 -> 1.125043 | R7: =SUMIFS(MT_CO2e_AR4_100_yr,Year,$A7,Gas,R$5,Gross,GrossYes)/1000000 -> 5.005285 | S7: =SUM(K7:R7) -> 311.37662 | T7: =C7-L7 -> -0.273047 | U7: =E7-N7 -> 94.342852 | V7: =F7-O7 -> 0.063187 | W7: =G7-P7 -> -0.000168 | X7: =H7-Q7 -> -0.379523 | Y7: =I7-R7 -> -1.163508 | Z7: =J7-S7 -> 92.589793 | AA7: 1991 | AB7: =(J7-J$6)/J$6 -> -0.00072557561 | AC7: =B7+D7+F7+G7+H7+I7 -> 266.05165 | AD7: =(S7-S$6)/S$6 -> -0.0096184813 | AG7: =Z7/S7 -> 0.29735628
A8: 1992 | B8: =SUMIFS(MT_CO2e_AR5_20_yr,Year,$A8,Gas,B$5,Gross,GrossYes)/1000000 -> 259.64818 | C8: =SUMIFS(MT_CO2e_AR5_20_yr,Year,$A8,Gas,C$5,Gross,GrossYes)/1000000 -> 3.757546 | D8: =SUMIFS(MT_CO2e_AR5_20_yr,Year,$A8,Gas,D$5,Gross,GrossYes)/1000000 -> 9.069662 | E8: =SUMIFS(MT_CO2e_AR5_20_yr,Year,$A8,Gas,E$5,Gross,GrossYes)/1000000 -> 145.14002 | F8: =SUMIFS(MT_CO2e_AR5_20_yr,Year,$A8,Gas,F$5,Gross,GrossYes)/1000000 -> 0.111654 | G8: =SUMIFS(MT_CO2e_AR5_20_yr,Year,$A8,Gas,G$5,Gross,GrossYes)/1000000 -> 0.000489 | H8: =SUMIFS(MT_CO2e_AR5_20_yr,Year,$A8,Gas,H$5,Gross,GrossYes)/1000000 -> 0.68388 | I8: =SUMIFS(MT_CO2e_AR5_20_yr,Year,$A8,Gas,I$5,Gross,GrossYes)/1000000 -> 3.804773 | J8: =SUM(B8:I8) -> 422.2162 | K8: =SUMIFS(MT_CO2e_AR4_100_yr,Year,$A8,Gas,K$5,Gross,GrossYes)/1000000 -> 259.64818 | L8: =SUMIFS(MT_CO2e_AR4_100_yr,Year,$A8,Gas,L$5,Gross,GrossYes)/1000000 -> 4.035959 | M8: =SUMIFS(MT_CO2e_AR4_100_yr,Year,$A8,Gas,M$5,Gross,GrossYes)/1000000 -> 9.069662 | N8: =SUMIFS(MT_CO2e_AR4_100_yr,Year,$A8,Gas,N$5,Gross,GrossYes)/1000000 -> 43.196435 | O8: =SUMIFS(MT_CO2e_AR4_100_yr,Year,$A8,Gas,O$5,Gross,GrossYes)/1000000 -> 0.04516 | P8: =SUMIFS(MT_CO2e_AR4_100_yr,Year,$A8,Gas,P$5,Gross,GrossYes)/1000000 -> 0.000657 | Q8: =SUMIFS(MT_CO2e_AR4_100_yr,Year,$A8,Gas,Q$5,Gross,GrossYes)/1000000 -> 1.031942 | R8: =SUMIFS(MT_CO2e_AR4_100_yr,Year,$A8,Gas,R$5,Gross,GrossYes)/1000000 -> 4.957075 | S8: =SUM(K8:R8) -> 321.98507 | T8: =C8-L8 -> -0.278413 | U8: =E8-N8 -> 101.94358 | V8: =F8-O8 -> 0.066494 | W8: =G8-P8 -> -0.000168 | X8: =H8-Q8 -> -0.348062 | Y8: =I8-R8 -> -1.152302 | Z8: =J8-S8 -> 100.23113 | AA8: 1992 | AB8: =(J8-J$6)/J$6 -> 0.044418147 | AC8: =B8+D8+F8+G8+H8+I8 -> 273.31863 | AD8: =(S8-S$6)/S$6 -> 0.024123339 | AG8: =Z8/S8 -> 0.31129124
A9: 1993 | B9: =SUMIFS(MT_CO2e_AR5_20_yr,Year,$A9,Gas,B$5,Gross,GrossYes)/1000000 -> 256.26601 | C9: =SUMIFS(MT_CO2e_AR5_20_yr,Year,$A9,Gas,C$5,Gross,GrossYes)/1000000 -> 3.714136 | D9: =SUMIFS(MT_CO2e_AR5_20_yr,Year,$A9,Gas,D$5,Gross,GrossYes)/1000000 -> 10.603045 | E9: =SUMIFS(MT_CO2e_AR5_20_yr,Year,$A9,Gas,E$5,Gross,GrossYes)/1000000 -> 146.36267 | F9: =SUMIFS(MT_CO2e_AR5_20_yr,Year,$A9,Gas,F$5,Gross,GrossYes)/1000000 -> 0.118145 | G9: =SUMIFS(MT_CO2e_AR5_20_yr,Year,$A9,Gas,G$5,Gross,GrossYes)/1000000 -> 0.000611 | H9: =SUMIFS(MT_CO2e_AR5_20_yr,Year,$A9,Gas,H$5,Gross,GrossYes)/1000000 -> 0.663174 | I9: =SUMIFS(MT_CO2e_AR5_20_yr,Year,$A9,Gas,I$5,Gross,GrossYes)/1000000 -> 3.675627 | J9: =SUM(B9:I9) -> 421.40342 | K9: =SUMIFS(MT_CO2e_AR4_100_yr,Year,$A9,Gas,K$5,Gross,GrossYes)/1000000 -> 256.26601 | L9: =SUMIFS(MT_CO2e_AR4_100_yr,Year,$A9,Gas,L$5,Gross,GrossYes)/1000000 -> 3.988137 | M9: =SUMIFS(MT_CO2e_AR4_100_yr,Year,$A9,Gas,M$5,Gross,GrossYes)/1000000 -> 10.603045 | N9: =SUMIFS(MT_CO2e_AR4_100_yr,Year,$A9,Gas,N$5,Gross,GrossYes)/1000000 -> 43.560319 | O9: =SUMIFS(MT_CO2e_AR4_100_yr,Year,$A9,Gas,O$5,Gross,GrossYes)/1000000 -> 0.048194 | P9: =SUMIFS(MT_CO2e_AR4_100_yr,Year,$A9,Gas,P$5,Gross,GrossYes)/1000000 -> 0.000821 | Q9: =SUMIFS(MT_CO2e_AR4_100_yr,Year,$A9,Gas,Q$5,Gross,GrossYes)/1000000 -> 1.000691 | R9: =SUMIFS(MT_CO2e_AR4_100_yr,Year,$A9,Gas,R$5,Gross,GrossYes)/1000000 -> 4.788816 | S9: =SUM(K9:R9) -> 320.25603 | T9: =C9-L9 -> -0.274001 | U9: =E9-N9 -> 102.80235 | V9: =F9-O9 -> 0.069951 | W9: =G9-P9 -> -0.00021 | X9: =H9-Q9 -> -0.337517 | Y9: =I9-R9 -> -1.113189 | Z9: =J9-S9 -> 101.14738 | AA9: 1993 | AB9: =(J9-J$6)/J$6 -> 0.04240761 | AC9: =B9+D9+F9+G9+H9+I9 -> 271.32661 | AD9: =(S9-S$6)/S$6 -> 0.018623885 | AG9: =Z9/S9 -> 0.31583288
A10: 1994 | B10: =SUMIFS(MT_CO2e_AR5_20_yr,Year,$A10,Gas,B$5,Gross,GrossYes)/1000000 -> 257.23907 | C10: =SUMIFS(MT_CO2e_AR5_20_yr,Year,$A10,Gas,C$5,Gross,GrossYes)/1000000 -> 3.866187 | D10: =SUMIFS(MT_CO2e_AR5_20_yr,Year,$A10,Gas,D$5,Gross,GrossYes)/1000000 -> 10.333236 | E10: =SUMIFS(MT_CO2e_AR5_20_yr,Year,$A10,Gas,E$5,Gross,GrossYes)/1000000 -> 145.33412 | F10: =SUMIFS(MT_CO2e_AR5_20_yr,Year,$A10,Gas,F$5,Gross,GrossYes)/1000000 -> 0.360043 | G10: =SUMIFS(MT_CO2e_AR5_20_yr,Year,$A10,Gas,G$5,Gross,GrossYes)/1000000 -> 0.000672 | H10: =SUMIFS(MT_CO2e_AR5_20_yr,Year,$A10,Gas,H$5,Gross,GrossYes)/1000000 -> 0.589943 | I10: =SUMIFS(MT_CO2e_AR5_20_yr,Year,$A10,Gas,I$5,Gross,GrossYes)/1000000 -> 3.449014 | J10: =SUM(B10:I10) -> 421.17228 | K10: =SUMIFS(MT_CO2e_AR4_100_yr,Year,$A10,Gas,K$5,Gross,GrossYes)/1000000 -> 257.23907 | L10: =SUMIFS(MT_CO2e_AR4_100_yr,Year,$A10,Gas,L$5,Gross,GrossYes)/1000000 -> 4.138524 | M10: =SUMIFS(MT_CO2e_AR4_100_yr,Year,$A10,Gas,M$5,Gross,GrossYes)/1000000 -> 10.333236 | N10: =SUMIFS(MT_CO2e_AR4_100_yr,Year,$A10,Gas,N$5,Gross,GrossYes)/1000000 -> 43.254205 | O10: =SUMIFS(MT_CO2e_AR4_100_yr,Year,$A10,Gas,O$5,Gross,GrossYes)/1000000 -> 0.141904 | P10: =SUMIFS(MT_CO2e_AR4_100_yr,Year,$A10,Gas,P$5,Gross,GrossYes)/1000000 -> 0.000904 | Q10: =SUMIFS(MT_CO2e_AR4_100_yr,Year,$A10,Gas,Q$5,Gross,GrossYes)/1000000 -> 0.889984 | R10: =SUMIFS(MT_CO2e_AR4_100_yr,Year,$A10,Gas,R$5,Gross,GrossYes)/1000000 -> 4.493571 | S10: =SUM(K10:R10) -> 320.4914 | T10: =C10-L10 -> -0.272337 | U10: =E10-N10 -> 102.07991 | V10: =F10-O10 -> 0.218139 | W10: =G10-P10 -> -0.000232 | X10: =H10-Q10 -> -0.300041 | Y10: =I10-R10 -> -1.044557 | Z10: =J10-S10 -> 100.68088 | AA10: 1994 | AB10: =(J10-J$6)/J$6 -> 0.041835864 | AC10: =B10+D10+F10+G10+H10+I10 -> 271.97198 | AD10: =(S10-S$6)/S$6 -> 0.0193725 | AG10: =Z10/S10 -> 0.31414536
A11: 1995 | B11: =SUMIFS(MT_CO2e_AR5_20_yr,Year,$A11,Gas,B$5,Gross,GrossYes)/1000000 -> 261.62804 | C11: =SUMIFS(MT_CO2e_AR5_20_yr,Year,$A11,Gas,C$5,Gross,GrossYes)/1000000 -> 3.724413 | D11: =SUMIFS(MT_CO2e_AR5_20_yr,Year,$A11,Gas,D$5,Gross,GrossYes)/1000000 -> 10.437974 | E11: =SUMIFS(MT_CO2e_AR5_20_yr,Year,$A11,Gas,E$5,Gross,GrossYes)/1000000 -> 150.63982 | F11: =SUMIFS(MT_CO2e_AR5_20_yr,Year,$A11,Gas,F$5,Gross,GrossYes)/1000000 -> 2.272977 | G11: =SUMIFS(MT_CO2e_AR5_20_yr,Year,$A11,Gas,G$5,Gross,GrossYes)/1000000 -> 0.000849 | H11: =SUMIFS(MT_CO2e_AR5_20_yr,Year,$A11,Gas,H$5,Gross,GrossYes)/1000000 -> 0.585853 | I11: =SUMIFS(MT_CO2e_AR5_20_yr,Year,$A11,Gas,I$5,Gross,GrossYes)/1000000 -> 3.150445 | J11: =SUM(B11:I11) -> 432.44037 | K11: =SUMIFS(MT_CO2e_AR4_100_yr,Year,$A11,Gas,K$5,Gross,GrossYes)/1000000 -> 261.62804 | L11: =SUMIFS(MT_CO2e_AR4_100_yr,Year,$A11,Gas,L$5,Gross,GrossYes)/1000000 -> 3.995651 | M11: =SUMIFS(MT_CO2e_AR4_100_yr,Year,$A11,Gas,M$5,Gross,GrossYes)/1000000 -> 10.437974 | N11: =SUMIFS(MT_CO2e_AR4_100_yr,Year,$A11,Gas,N$5,Gross,GrossYes)/1000000 -> 44.833281 | O11: =SUMIFS(MT_CO2e_AR4_100_yr,Year,$A11,Gas,O$5,Gross,GrossYes)/1000000 -> 0.874452 | P11: =SUMIFS(MT_CO2e_AR4_100_yr,Year,$A11,Gas,P$5,Gross,GrossYes)/1000000 -> 0.001141 | Q11: =SUMIFS(MT_CO2e_AR4_100_yr,Year,$A11,Gas,Q$5,Gross,GrossYes)/1000000 -> 0.883761 | R11: =SUMIFS(MT_CO2e_AR4_100_yr,Year,$A11,Gas,R$5,Gross,GrossYes)/1000000 -> 4.104581 | S11: =SUM(K11:R11) -> 326.75888 | T11: =C11-L11 -> -0.271238 | U11: =E11-N11 -> 105.80654 | V11: =F11-O11 -> 1.398525 | W11: =G11-P11 -> -0.000292 | X11: =H11-Q11 -> -0.297908 | Y11: =I11-R11 -> -0.954136 | Z11: =J11-S11 -> 105.68149 | AA11: 1995 | AB11: =(J11-J$6)/J$6 -> 0.069709249 | AC11: =B11+D11+F11+G11+H11+I11 -> 278.07614 | AD11: =(S11-S$6)/S$6 -> 0.039307187 | AG11: =Z11/S11 -> 0.32342348
A12: 1996 | B12: =SUMIFS(MT_CO2e_AR5_20_yr,Year,$A12,Gas,B$5,Gross,GrossYes)/1000000 -> 261.22315 | C12: =SUMIFS(MT_CO2e_AR5_20_yr,Year,$A12,Gas,C$5,Gross,GrossYes)/1000000 -> 3.497461 | D12: =SUMIFS(MT_CO2e_AR5_20_yr,Year,$A12,Gas,D$5,Gross,GrossYes)/1000000 -> 11.765634 | E12: =SUMIFS(MT_CO2e_AR5_20_yr,Year,$A12,Gas,E$5,Gross,GrossYes)/1000000 -> 149.72574 | F12: =SUMIFS(MT_CO2e_AR5_20_yr,Year,$A12,Gas,F$5,Gross,GrossYes)/1000000 -> 3.047793 | G12: =SUMIFS(MT_CO2e_AR5_20_yr,Year,$A12,Gas,G$5,Gross,GrossYes)/1000000 -> 0.000943 | H12: =SUMIFS(MT_CO2e_AR5_20_yr,Year,$A12,Gas,H$5,Gross,GrossYes)/1000000 -> 0.616465 | I12: =SUMIFS(MT_CO2e_AR5_20_yr,Year,$A12,Gas,I$5,Gross,GrossYes)/1000000 -> 2.883949 | J12: =SUM(B12:I12) -> 432.76113 | K12: =SUMIFS(MT_CO2e_AR4_100_yr,Year,$A12,Gas,K$5,Gross,GrossYes)/1000000 -> 261.22315 | L12: =SUMIFS(MT_CO2e_AR4_100_yr,Year,$A12,Gas,L$5,Gross,GrossYes)/1000000 -> 3.771075 | M12: =SUMIFS(MT_CO2e_AR4_100_yr,Year,$A12,Gas,M$5,Gross,GrossYes)/1000000 -> 11.765634 | N12: =SUMIFS(MT_CO2e_AR4_100_yr,Year,$A12,Gas,N$5,Gross,GrossYes)/1000000 -> 44.561238 | O12: =SUMIFS(MT_CO2e_AR4_100_yr,Year,$A12,Gas,O$5,Gross,GrossYes)/1000000 -> 1.174923 | P12: =SUMIFS(MT_CO2e_AR4_100_yr,Year,$A12,Gas,P$5,Gross,GrossYes)/1000000 -> 0.001268 | Q12: =SUMIFS(MT_CO2e_AR4_100_yr,Year,$A12,Gas,Q$5,Gross,GrossYes)/1000000 -> 0.929951 | R12: =SUMIFS(MT_CO2e_AR4_100_yr,Year,$A12,Gas,R$5,Gross,GrossYes)/1000000 -> 3.757373 | S12: =SUM(K12:R12) -> 327.18461 | T12: =C12-L12 -> -0.273614 | U12: =E12-N12 -> 105.1645 | V12: =F12-O12 -> 1.87287 | W12: =G12-P12 -> -0.000325 | X12: =H12-Q12 -> -0.313486 | Y12: =I12-R12 -> -0.873424 | Z12: =J12-S12 -> 105.57652 | AA12: 1996 | AB12: =(J12-J$6)/J$6 -> 0.070502699 | AC12: =B12+D12+F12+G12+H12+I12 -> 279.53793 | AD12: =(S12-S$6)/S$6 -> 0.040661287 | AG12: =Z12/S12 -> 0.32268181
A13: 1997 | B13: =SUMIFS(MT_CO2e_AR5_20_yr,Year,$A13,Gas,B$5,Gross,GrossYes)/1000000 -> 266.01185 | C13: =SUMIFS(MT_CO2e_AR5_20_yr,Year,$A13,Gas,C$5,Gross,GrossYes)/1000000 -> 3.625557 | D13: =SUMIFS(MT_CO2e_AR5_20_yr,Year,$A13,Gas,D$5,Gross,GrossYes)/1000000 -> 15.650173 | E13: =SUMIFS(MT_CO2e_AR5_20_yr,Year,$A13,Gas,E$5,Gross,GrossYes)/1000000 -> 155.18327 | F13: =SUMIFS(MT_CO2e_AR5_20_yr,Year,$A13,Gas,F$5,Gross,GrossYes)/1000000 -> 3.602141 | G13: =SUMIFS(MT_CO2e_AR5_20_yr,Year,$A13,Gas,G$5,Gross,GrossYes)/1000000 -> 0.001225 | H13: =SUMIFS(MT_CO2e_AR5_20_yr,Year,$A13,Gas,H$5,Gross,GrossYes)/1000000 -> 0.555183 | I13: =SUMIFS(MT_CO2e_AR5_20_yr,Year,$A13,Gas,I$5,Gross,GrossYes)/1000000 -> 2.656253 | J13: =SUM(B13:I13) -> 447.28565 | K13: =SUMIFS(MT_CO2e_AR4_100_yr,Year,$A13,Gas,K$5,Gross,GrossYes)/1000000 -> 266.01185 | L13: =SUMIFS(MT_CO2e_AR4_100_yr,Year,$A13,Gas,L$5,Gross,GrossYes)/1000000 -> 3.909064 | M13: =SUMIFS(MT_CO2e_AR4_100_yr,Year,$A13,Gas,M$5,Gross,GrossYes)/1000000 -> 15.650173 | N13: =SUMIFS(MT_CO2e_AR4_100_yr,Year,$A13,Gas,N$5,Gross,GrossYes)/1000000 -> 46.185501 | O13: =SUMIFS(MT_CO2e_AR4_100_yr,Year,$A13,Gas,O$5,Gross,GrossYes)/1000000 -> 1.399838 | P13: =SUMIFS(MT_CO2e_AR4_100_yr,Year,$A13,Gas,P$5,Gross,GrossYes)/1000000 -> 0.001647 | Q13: =SUMIFS(MT_CO2e_AR4_100_yr,Year,$A13,Gas,Q$5,Gross,GrossYes)/1000000 -> 0.837421 | R13: =SUMIFS(MT_CO2e_AR4_100_yr,Year,$A13,Gas,R$5,Gross,GrossYes)/1000000 -> 3.460718 | S13: =SUM(K13:R13) -> 337.45621 | T13: =C13-L13 -> -0.283507 | U13: =E13-N13 -> 108.99776 | V13: =F13-O13 -> 2.202303 | W13: =G13-P13 -> -0.000422 | X13: =H13-Q13 -> -0.282238 | Y13: =I13-R13 -> -0.804465 | Z13: =J13-S13 -> 109.82944 | AA13: 1997 | AB13: =(J13-J$6)/J$6 -> 0.10643138 | AC13: =B13+D13+F13+G13+H13+I13 -> 288.47683 | AD13: =(S13-S$6)/S$6 -> 0.07333172 | AG13: =Z13/S13 -> 0.32546277
A14: 1998 | B14: =SUMIFS(MT_CO2e_AR5_20_yr,Year,$A14,Gas,B$5,Gross,GrossYes)/1000000 -> 265.38884 | C14: =SUMIFS(MT_CO2e_AR5_20_yr,Year,$A14,Gas,C$5,Gross,GrossYes)/1000000 -> 3.70361 | D14: =SUMIFS(MT_CO2e_AR5_20_yr,Year,$A14,Gas,D$5,Gross,GrossYes)/1000000 -> 13.976095 | E14: =SUMIFS(MT_CO2e_AR5_20_yr,Year,$A14,Gas,E$5,Gross,GrossYes)/1000000 -> 152.1016 | F14: =SUMIFS(MT_CO2e_AR5_20_yr,Year,$A14,Gas,F$5,Gross,GrossYes)/1000000 -> 3.976986 | G14: =SUMIFS(MT_CO2e_AR5_20_yr,Year,$A14,Gas,G$5,Gross,GrossYes)/1000000 -> 0.001503 | H14: =SUMIFS(MT_CO2e_AR5_20_yr,Year,$A14,Gas,H$5,Gross,GrossYes)/1000000 -> 0.467673 | I14: =SUMIFS(MT_CO2e_AR5_20_yr,Year,$A14,Gas,I$5,Gross,GrossYes)/1000000 -> 2.249893 | J14: =SUM(B14:I14) -> 441.8662 | K14: =SUMIFS(MT_CO2e_AR4_100_yr,Year,$A14,Gas,K$5,Gross,GrossYes)/1000000 -> 265.38884 | L14: =SUMIFS(MT_CO2e_AR4_100_yr,Year,$A14,Gas,L$5,Gross,GrossYes)/1000000 -> 3.985438 | M14: =SUMIFS(MT_CO2e_AR4_100_yr,Year,$A14,Gas,M$5,Gross,GrossYes)/1000000 -> 13.976095 | N14: =SUMIFS(MT_CO2e_AR4_100_yr,Year,$A14,Gas,N$5,Gross,GrossYes)/1000000 -> 45.268336 | O14: =SUMIFS(MT_CO2e_AR4_100_yr,Year,$A14,Gas,O$5,Gross,GrossYes)/1000000 -> 1.557607 | P14: =SUMIFS(MT_CO2e_AR4_100_yr,Year,$A14,Gas,P$5,Gross,GrossYes)/1000000 -> 0.002019 | Q14: =SUMIFS(MT_CO2e_AR4_100_yr,Year,$A14,Gas,Q$5,Gross,GrossYes)/1000000 -> 0.705326 | R14: =SUMIFS(MT_CO2e_AR4_100_yr,Year,$A14,Gas,R$5,Gross,GrossYes)/1000000 -> 2.931288 | S14: =SUM(K14:R14) -> 333.81495 | T14: =C14-L14 -> -0.281828 | U14: =E14-N14 -> 106.83327 | V14: =F14-O14 -> 2.419379 | W14: =G14-P14 -> -0.000516 | X14: =H14-Q14 -> -0.237653 | Y14: =I14-R14 -> -0.681395 | Z14: =J14-S14 -> 108.05125 | AA14: 1998 | AB14: =(J14-J$6)/J$6 -> 0.093025514 | AC14: =B14+D14+F14+G14+H14+I14 -> 286.06099 | AD14: =(S14-S$6)/S$6 -> 0.0617501 | AG14: =Z14/S14 -> 0.32368609
A15: 1999 | B15: =SUMIFS(MT_CO2e_AR5_20_yr,Year,$A15,Gas,B$5,Gross,GrossYes)/1000000 -> 273.0754 | C15: =SUMIFS(MT_CO2e_AR5_20_yr,Year,$A15,Gas,C$5,Gross,GrossYes)/1000000 -> 3.810797 | D15: =SUMIFS(MT_CO2e_AR5_20_yr,Year,$A15,Gas,D$5,Gross,GrossYes)/1000000 -> 14.390929 | E15: =SUMIFS(MT_CO2e_AR5_20_yr,Year,$A15,Gas,E$5,Gross,GrossYes)/1000000 -> 155.31918 | F15: =SUMIFS(MT_CO2e_AR5_20_yr,Year,$A15,Gas,F$5,Gross,GrossYes)/1000000 -> 4.376732 | G15: =SUMIFS(MT_CO2e_AR5_20_yr,Year,$A15,Gas,G$5,Gross,GrossYes)/1000000 -> 0.001525 | H15: =SUMIFS(MT_CO2e_AR5_20_yr,Year,$A15,Gas,H$5,Gross,GrossYes)/1000000 -> 0.456705 | I15: =SUMIFS(MT_CO2e_AR5_20_yr,Year,$A15,Gas,I$5,Gross,GrossYes)/1000000 -> 2.328968 | J15: =SUM(B15:I15) -> 453.76023 | K15: =SUMIFS(MT_CO2e_AR4_100_yr,Year,$A15,Gas,K$5,Gross,GrossYes)/1000000 -> 273.0754 | L15: =SUMIFS(MT_CO2e_AR4_100_yr,Year,$A15,Gas,L$5,Gross,GrossYes)/1000000 -> 4.095346 | M15: =SUMIFS(MT_CO2e_AR4_100_yr,Year,$A15,Gas,M$5,Gross,GrossYes)/1000000 -> 14.390929 | N15: =SUMIFS(MT_CO2e_AR4_100_yr,Year,$A15,Gas,N$5,Gross,GrossYes)/1000000 -> 46.225945 | O15: =SUMIFS(MT_CO2e_AR4_100_yr,Year,$A15,Gas,O$5,Gross,GrossYes)/1000000 -> 1.728497 | P15: =SUMIFS(MT_CO2e_AR4_100_yr,Year,$A15,Gas,P$5,Gross,GrossYes)/1000000 -> 0.002049 | Q15: =SUMIFS(MT_CO2e_AR4_100_yr,Year,$A15,Gas,Q$5,Gross,GrossYes)/1000000 -> 0.688751 | R15: =SUMIFS(MT_CO2e_AR4_100_yr,Year,$A15,Gas,R$5,Gross,GrossYes)/1000000 -> 3.034313 | S15: =SUM(K15:R15) -> 343.24123 | T15: =C15-L15 -> -0.284549 | U15: =E15-N15 -> 109.09323 | V15: =F15-O15 -> 2.648235 | W15: =G15-P15 -> -0.000524 | X15: =H15-Q15 -> -0.232046 | Y15: =I15-R15 -> -0.705345 | Z15: =J15-S15 -> 110.519 | AA15: 1999 | AB15: =(J15-J$6)/J$6 -> 0.12244728 | AC15: =B15+D15+F15+G15+H15+I15 -> 294.63026 | AD15: =(S15-S$6)/S$6 -> 0.091731849 | AG15: =Z15/S15 -> 0.32198639
A16: 2000 | B16: =SUMIFS(MT_CO2e_AR5_20_yr,Year,$A16,Gas,B$5,Gross,GrossYes)/1000000 -> 285.76233 | C16: =SUMIFS(MT_CO2e_AR5_20_yr,Year,$A16,Gas,C$5,Gross,GrossYes)/1000000 -> 3.68958 | D16: =SUMIFS(MT_CO2e_AR5_20_yr,Year,$A16,Gas,D$5,Gross,GrossYes)/1000000 -> 15.467185 | E16: =SUMIFS(MT_CO2e_AR5_20_yr,Year,$A16,Gas,E$5,Gross,GrossYes)/1000000 -> 155.05516 | F16: =SUMIFS(MT_CO2e_AR5_20_yr,Year,$A16,Gas,F$5,Gross,GrossYes)/1000000 -> 4.694715 | G16: =SUMIFS(MT_CO2e_AR5_20_yr,Year,$A16,Gas,G$5,Gross,GrossYes)/1000000 -> 0.002561 | H16: =SUMIFS(MT_CO2e_AR5_20_yr,Year,$A16,Gas,H$5,Gross,GrossYes)/1000000 -> 0.448327 | I16: =SUMIFS(MT_CO2e_AR5_20_yr,Year,$A16,Gas,I$5,Gross,GrossYes)/1000000 -> 2.19038 | J16: =SUM(B16:I16) -> 467.31024 | K16: =SUMIFS(MT_CO2e_AR4_100_yr,Year,$A16,Gas,K$5,Gross,GrossYes)/1000000 -> 285.76233 | L16: =SUMIFS(MT_CO2e_AR4_100_yr,Year,$A16,Gas,L$5,Gross,GrossYes)/1000000 -> 3.9811 | M16: =SUMIFS(MT_CO2e_AR4_100_yr,Year,$A16,Gas,M$5,Gross,GrossYes)/1000000 -> 15.467185 | N16: =SUMIFS(MT_CO2e_AR4_100_yr,Year,$A16,Gas,N$5,Gross,GrossYes)/1000000 -> 46.147373 | O16: =SUMIFS(MT_CO2e_AR4_100_yr,Year,$A16,Gas,O$5,Gross,GrossYes)/1000000 -> 1.864882 | P16: =SUMIFS(MT_CO2e_AR4_100_yr,Year,$A16,Gas,P$5,Gross,GrossYes)/1000000 -> 0.003441 | Q16: =SUMIFS(MT_CO2e_AR4_100_yr,Year,$A16,Gas,Q$5,Gross,GrossYes)/1000000 -> 0.676135 | R16: =SUMIFS(MT_CO2e_AR4_100_yr,Year,$A16,Gas,R$5,Gross,GrossYes)/1000000 -> 2.853751 | S16: =SUM(K16:R16) -> 356.7562 | T16: =C16-L16 -> -0.29152 | U16: =E16-N16 -> 108.90778 | V16: =F16-O16 -> 2.829833 | W16: =G16-P16 -> -0.00088 | X16: =H16-Q16 -> -0.227808 | Y16: =I16-R16 -> -0.663371 | Z16: =J16-S16 -> 110.55404 | AA16: 2000 | AB16: =(J16-J$6)/J$6 -> 0.15596535 | AC16: =B16+D16+F16+G16+H16+I16 -> 308.5655 | AD16: =(S16-S$6)/S$6 -> 0.13471831 | AG16: =Z16/S16 -> 0.3098868
A17: 2001 | B17: =SUMIFS(MT_CO2e_AR5_20_yr,Year,$A17,Gas,B$5,Gross,GrossYes)/1000000 -> 275.8877 | C17: =SUMIFS(MT_CO2e_AR5_20_yr,Year,$A17,Gas,C$5,Gross,GrossYes)/1000000 -> 3.634044 | D17: =SUMIFS(MT_CO2e_AR5_20_yr,Year,$A17,Gas,D$5,Gross,GrossYes)/1000000 -> 10.651503 | E17: =SUMIFS(MT_CO2e_AR5_20_yr,Year,$A17,Gas,E$5,Gross,GrossYes)/1000000 -> 154.24424 | F17: =SUMIFS(MT_CO2e_AR5_20_yr,Year,$A17,Gas,F$5,Gross,GrossYes)/1000000 -> 4.96328 | G17: =SUMIFS(MT_CO2e_AR5_20_yr,Year,$A17,Gas,G$5,Gross,GrossYes)/1000000 -> 0.002848 | H17: =SUMIFS(MT_CO2e_AR5_20_yr,Year,$A17,Gas,H$5,Gross,GrossYes)/1000000 -> 0.202682 | I17: =SUMIFS(MT_CO2e_AR5_20_yr,Year,$A17,Gas,I$5,Gross,GrossYes)/1000000 -> 2.085919 | J17: =SUM(B17:I17) -> 451.67222 | K17: =SUMIFS(MT_CO2e_AR4_100_yr,Year,$A17,Gas,K$5,Gross,GrossYes)/1000000 -> 275.8877 | L17: =SUMIFS(MT_CO2e_AR4_100_yr,Year,$A17,Gas,L$5,Gross,GrossYes)/1000000 -> 3.911319 | M17: =SUMIFS(MT_CO2e_AR4_100_yr,Year,$A17,Gas,M$5,Gross,GrossYes)/1000000 -> 10.651503 | N17: =SUMIFS(MT_CO2e_AR4_100_yr,Year,$A17,Gas,N$5,Gross,GrossYes)/1000000 -> 45.906029 | O17: =SUMIFS(MT_CO2e_AR4_100_yr,Year,$A17,Gas,O$5,Gross,GrossYes)/1000000 -> 1.974808 | P17: =SUMIFS(MT_CO2e_AR4_100_yr,Year,$A17,Gas,P$5,Gross,GrossYes)/1000000 -> 0.003827 | Q17: =SUMIFS(MT_CO2e_AR4_100_yr,Year,$A17,Gas,Q$5,Gross,GrossYes)/1000000 -> 0.30517 | R17: =SUMIFS(MT_CO2e_AR4_100_yr,Year,$A17,Gas,R$5,Gross,GrossYes)/1000000 -> 2.717654 | S17: =SUM(K17:R17) -> 341.35801 | T17: =C17-L17 -> -0.277275 | U17: =E17-N17 -> 108.33821 | V17: =F17-O17 -> 2.988472 | W17: =G17-P17 -> -0.000979 | X17: =H17-Q17 -> -0.102488 | Y17: =I17-R17 -> -0.631735 | Z17: =J17-S17 -> 110.31421 | AA17: 2001 | AB17: =(J17-J$6)/J$6 -> 0.11728224 | AC17: =B17+D17+F17+G17+H17+I17 -> 293.79393 | AD17: =(S17-S$6)/S$6 -> 0.085741989 | AG17: =Z17/S17 -> 0.32316278
A18: 2002 | B18: =SUMIFS(MT_CO2e_AR5_20_yr,Year,$A18,Gas,B$5,Gross,GrossYes)/1000000 -> 270.89773 | C18: =SUMIFS(MT_CO2e_AR5_20_yr,Year,$A18,Gas,C$5,Gross,GrossYes)/1000000 -> 3.556109 | D18: =SUMIFS(MT_CO2e_AR5_20_yr,Year,$A18,Gas,D$5,Gross,GrossYes)/1000000 -> 10.243037 | E18: =SUMIFS(MT_CO2e_AR5_20_yr,Year,$A18,Gas,E$5,Gross,GrossYes)/1000000 -> 156.84881 | F18: =SUMIFS(MT_CO2e_AR5_20_yr,Year,$A18,Gas,F$5,Gross,GrossYes)/1000000 -> 5.565829 | G18: =SUMIFS(MT_CO2e_AR5_20_yr,Year,$A18,Gas,G$5,Gross,GrossYes)/1000000 -> 0.0087 | H18: =SUMIFS(MT_CO2e_AR5_20_yr,Year,$A18,Gas,H$5,Gross,GrossYes)/1000000 -> 0.308369 | I18: =SUMIFS(MT_CO2e_AR5_20_yr,Year,$A18,Gas,I$5,Gross,GrossYes)/1000000 -> 1.96456 | J18: =SUM(B18:I18) -> 449.39315 | K18: =SUMIFS(MT_CO2e_AR4_100_yr,Year,$A18,Gas,K$5,Gross,GrossYes)/1000000 -> 270.89773 | L18: =SUMIFS(MT_CO2e_AR4_100_yr,Year,$A18,Gas,L$5,Gross,GrossYes)/1000000 -> 3.828109 | M18: =SUMIFS(MT_CO2e_AR4_100_yr,Year,$A18,Gas,M$5,Gross,GrossYes)/1000000 -> 10.243037 | N18: =SUMIFS(MT_CO2e_AR4_100_yr,Year,$A18,Gas,N$5,Gross,GrossYes)/1000000 -> 46.681197 | O18: =SUMIFS(MT_CO2e_AR4_100_yr,Year,$A18,Gas,O$5,Gross,GrossYes)/1000000 -> 2.222104 | P18: =SUMIFS(MT_CO2e_AR4_100_yr,Year,$A18,Gas,P$5,Gross,GrossYes)/1000000 -> 0.01169 | Q18: =SUMIFS(MT_CO2e_AR4_100_yr,Year,$A18,Gas,Q$5,Gross,GrossYes)/1000000 -> 0.464492 | R18: =SUMIFS(MT_CO2e_AR4_100_yr,Year,$A18,Gas,R$5,Gross,GrossYes)/1000000 -> 2.559541 | S18: =SUM(K18:R18) -> 336.9079 | T18: =C18-L18 -> -0.272 | U18: =E18-N18 -> 110.16762 | V18: =F18-O18 -> 3.343725 | W18: =G18-P18 -> -0.00299 | X18: =H18-Q18 -> -0.156123 | Y18: =I18-R18 -> -0.594981 | Z18: =J18-S18 -> 112.48525 | AA18: 2002 | AB18: =(J18-J$6)/J$6 -> 0.11164461 | AC18: =B18+D18+F18+G18+H18+I18 -> 288.98823 | AD18: =(S18-S$6)/S$6 -> 0.071587729 | AG18: =Z18/S18 -> 0.33387536
... A21: 2005 | B21: =SUMIFS(MT_CO2e_AR5_20_yr,Year,$A21,Gas,B$5,Gross,GrossYes)/1000000 -> 281.80239 | C21: =SUMIFS(MT_CO2e_AR5_20_yr,Year,$A21,Gas,C$5,Gross,GrossYes)/1000000 -> 3.531319 | D21: =SUMIFS(MT_CO2e_AR5_20_yr,Year,$A21,Gas,D$5,Gross,GrossYes)/1000000 -> 10.379488 | E21: =SUMIFS(MT_CO2e_AR5_20_yr,Year,$A21,Gas,E$5,Gross,GrossYes)/1000000 -> 156.9155 | F21: =SUMIFS(MT_CO2e_AR5_20_yr,Year,$A21,Gas,F$5,Gross,GrossYes)/1000000 -> 6.796505 | G21: =SUMIFS(MT_CO2e_AR5_20_yr,Year,$A21,Gas,G$5,Gross,GrossYes)/1000000 -> 0.00766 | H21: =SUMIFS(MT_CO2e_AR5_20_yr,Year,$A21,Gas,H$5,Gross,GrossYes)/1000000 -> 0.20278 | I21: =SUMIFS(MT_CO2e_AR5_20_yr,Year,$A21,Gas,I$5,Gross,GrossYes)/1000000 -> 1.620878 | J21: =SUM(B21:I21) -> 461.25652 | K21: =SUMIFS(MT_CO2e_AR4_100_yr,Year,$A21,Gas,K$5,Gross,GrossYes)/1000000 -> 281.80239 | L21: =SUMIFS(MT_CO2e_AR4_100_yr,Year,$A21,Gas,L$5,Gross,GrossYes)/1000000 -> 3.794598 | M21: =SUMIFS(MT_CO2e_AR4_100_yr,Year,$A21,Gas,M$5,Gross,GrossYes)/1000000 -> 10.379488 | N21: =SUMIFS(MT_CO2e_AR4_100_yr,Year,$A21,Gas,N$5,Gross,GrossYes)/1000000 -> 46.701042 | O21: =SUMIFS(MT_CO2e_AR4_100_yr,Year,$A21,Gas,O$5,Gross,GrossYes)/1000000 -> 2.769753 | P21: =SUMIFS(MT_CO2e_AR4_100_yr,Year,$A21,Gas,P$5,Gross,GrossYes)/1000000 -> 0.010293 | Q21: =SUMIFS(MT_CO2e_AR4_100_yr,Year,$A21,Gas,Q$5,Gross,GrossYes)/1000000 -> 0.305223 | R21: =SUMIFS(MT_CO2e_AR4_100_yr,Year,$A21,Gas,R$5,Gross,GrossYes)/1000000 -> 2.111774 | S21: =SUM(K21:R21) -> 347.87456 | T21: =C21-L21 -> -0.263279 | U21: =E21-N21 -> 110.21446 | V21: =F21-O21 -> 4.026752 | W21: =G21-P21 -> -0.002633 | X21: =H21-Q21 -> -0.102443 | Y21: =I21-R21 -> -0.490896 | Z21: =J21-S21 -> 113.38196 | AA21: 2005 | AB21: =(J21-J$6)/J$6 -> 0.14099053 | AC21: =B21+D21+F21+G21+H21+I21 -> 300.8097 | AD21: =(S21-S$6)/S$6 -> 0.10646887 | AG21: =Z21/S21 -> 0.32592773
A22: 2006 | B22: =SUMIFS(MT_CO2e_AR5_20_yr,Year,$A22,Gas,B$5,Gross,GrossYes)/1000000 -> 258.48327 | C22: =SUMIFS(MT_CO2e_AR5_20_yr,Year,$A22,Gas,C$5,Gross,GrossYes)/1000000 -> 3.543103 | D22: =SUMIFS(MT_CO2e_AR5_20_yr,Year,$A22,Gas,D$5,Gross,GrossYes)/1000000 -> 10.817582 | E22: =SUMIFS(MT_CO2e_AR5_20_yr,Year,$A22,Gas,E$5,Gross,GrossYes)/1000000 -> 156.20338 | F22: =SUMIFS(MT_CO2e_AR5_20_yr,Year,$A22,Gas,F$5,Gross,GrossYes)/1000000 -> 7.426949 | G22: =SUMIFS(MT_CO2e_AR5_20_yr,Year,$A22,Gas,G$5,Gross,GrossYes)/1000000 -> 0.010852 | H22: =SUMIFS(MT_CO2e_AR5_20_yr,Year,$A22,Gas,H$5,Gross,GrossYes)/1000000 -> 0.180628 | I22: =SUMIFS(MT_CO2e_AR5_20_yr,Year,$A22,Gas,I$5,Gross,GrossYes)/1000000 -> 1.192973 | J22: =SUM(B22:I22) -> 437.85873 | K22: =SUMIFS(MT_CO2e_AR4_100_yr,Year,$A22,Gas,K$5,Gross,GrossYes)/1000000 -> 258.48327 | L22: =SUMIFS(MT_CO2e_AR4_100_yr,Year,$A22,Gas,L$5,Gross,GrossYes)/1000000 -> 3.799612 | M22: =SUMIFS(MT_CO2e_AR4_100_yr,Year,$A22,Gas,M$5,Gross,GrossYes)/1000000 -> 10.817582 | N22: =SUMIFS(MT_CO2e_AR4_100_yr,Year,$A22,Gas,N$5,Gross,GrossYes)/1000000 -> 46.489101 | O22: =SUMIFS(MT_CO2e_AR4_100_yr,Year,$A22,Gas,O$5,Gross,GrossYes)/1000000 -> 3.04871 | P22: =SUMIFS(MT_CO2e_AR4_100_yr,Year,$A22,Gas,P$5,Gross,GrossYes)/1000000 -> 0.014583 | Q22: =SUMIFS(MT_CO2e_AR4_100_yr,Year,$A22,Gas,Q$5,Gross,GrossYes)/1000000 -> 0.271684 | R22: =SUMIFS(MT_CO2e_AR4_100_yr,Year,$A22,Gas,R$5,Gross,GrossYes)/1000000 -> 1.554275 | S22: =SUM(K22:R22) -> 324.47882 | T22: =C22-L22 -> -0.256509 | U22: =E22-N22 -> 109.71427 | V22: =F22-O22 -> 4.378239 | W22: =G22-P22 -> -0.003731 | X22: =H22-Q22 -> -0.091056 | Y22: =I22-R22 -> -0.361302 | Z22: =J22-S22 -> 113.37992 | AA22: 2006 | AB22: =(J22-J$6)/J$6 -> 0.083112414 | AC22: =B22+D22+F22+G22+H22+I22 -> 278.11225 | AD22: =(S22-S$6)/S$6 -> 0.032055094 | AE22: =(J22-J$21)/J$21 -> -0.050726199 | AF22: =(S22-S$21)/S$21 -> -0.067253386 | AG22: =Z22/S22 -> 0.34942163
A23: 2007 | B23: =SUMIFS(MT_CO2e_AR5_20_yr,Year,$A23,Gas,B$5,Gross,GrossYes)/1000000 -> 263.48074 | C23: =SUMIFS(MT_CO2e_AR5_20_yr,Year,$A23,Gas,C$5,Gross,GrossYes)/1000000 -> 3.423392 | D23: =SUMIFS(MT_CO2e_AR5_20_yr,Year,$A23,Gas,D$5,Gross,GrossYes)/1000000 -> 11.758446 | E23: =SUMIFS(MT_CO2e_AR5_20_yr,Year,$A23,Gas,E$5,Gross,GrossYes)/1000000 -> 160.69912 | F23: =SUMIFS(MT_CO2e_AR5_20_yr,Year,$A23,Gas,F$5,Gross,GrossYes)/1000000 -> 8.195832 | G23: =SUMIFS(MT_CO2e_AR5_20_yr,Year,$A23,Gas,G$5,Gross,GrossYes)/1000000 -> 0.011776 | H23: =SUMIFS(MT_CO2e_AR5_20_yr,Year,$A23,Gas,H$5,Gross,GrossYes)/1000000 -> 0.271361 | I23: =SUMIFS(MT_CO2e_AR5_20_yr,Year,$A23,Gas,I$5,Gross,GrossYes)/1000000 -> 0.868788 | J23: =SUM(B23:I23) -> 448.70946 | K23: =SUMIFS(MT_CO2e_AR4_100_yr,Year,$A23,Gas,K$5,Gross,GrossYes)/1000000 -> 263.48074 | L23: =SUMIFS(MT_CO2e_AR4_100_yr,Year,$A23,Gas,L$5,Gross,GrossYes)/1000000 -> 3.674293 | M23: =SUMIFS(MT_CO2e_AR4_100_yr,Year,$A23,Gas,M$5,Gross,GrossYes)/1000000 -> 11.758446 | N23: =SUMIFS(MT_CO2e_AR4_100_yr,Year,$A23,Gas,N$5,Gross,GrossYes)/1000000 -> 47.827123 | O23: =SUMIFS(MT_CO2e_AR4_100_yr,Year,$A23,Gas,O$5,Gross,GrossYes)/1000000 -> 3.383107 | P23: =SUMIFS(MT_CO2e_AR4_100_yr,Year,$A23,Gas,P$5,Gross,GrossYes)/1000000 -> 0.015824 | Q23: =SUMIFS(MT_CO2e_AR4_100_yr,Year,$A23,Gas,Q$5,Gross,GrossYes)/1000000 -> 0.408237 | R23: =SUMIFS(MT_CO2e_AR4_100_yr,Year,$A23,Gas,R$5,Gross,GrossYes)/1000000 -> 1.131907 | S23: =SUM(K23:R23) -> 331.67968 | T23: =C23-L23 -> -0.250901 | U23: =E23-N23 -> 112.872 | V23: =F23-O23 -> 4.812725 | W23: =G23-P23 -> -0.004048 | X23: =H23-Q23 -> -0.136876 | Y23: =I23-R23 -> -0.263119 | Z23: =J23-S23 -> 117.02978 | AA23: 2007 | AB23: =(J23-J$6)/J$6 -> 0.10995339 | AC23: =B23+D23+F23+G23+H23+I23 -> 284.58694 | AD23: =(S23-S$6)/S$6 -> 0.05495855 | AE23: =(J23-J$21)/J$21 -> -0.027201922 | AF23: =(S23-S$21)/S$21 -> -0.046553793 | AG23: =Z23/S23 -> 0.35283977
A24: 2008 | B24: =SUMIFS(MT_CO2e_AR5_20_yr,Year,$A24,Gas,B$5,Gross,GrossYes)/1000000 -> 251.76777 | C24: =SUMIFS(MT_CO2e_AR5_20_yr,Year,$A24,Gas,C$5,Gross,GrossYes)/1000000 -> 3.362527 | D24: =SUMIFS(MT_CO2e_AR5_20_yr,Year,$A24,Gas,D$5,Gross,GrossYes)/1000000 -> 12.758864 | E24: =SUMIFS(MT_CO2e_AR5_20_yr,Year,$A24,Gas,E$5,Gross,GrossYes)/1000000 -> 158.15386 | F24: =SUMIFS(MT_CO2e_AR5_20_yr,Year,$A24,Gas,F$5,Gross,GrossYes)/1000000 -> 9.221098 | G24: =SUMIFS(MT_CO2e_AR5_20_yr,Year,$A24,Gas,G$5,Gross,GrossYes)/1000000 -> 0.012159 | H24: =SUMIFS(MT_CO2e_AR5_20_yr,Year,$A24,Gas,H$5,Gross,GrossYes)/1000000 -> 0.203427 | I24: =SUMIFS(MT_CO2e_AR5_20_yr,Year,$A24,Gas,I$5,Gross,GrossYes)/1000000 -> 0.568242 | J24: =SUM(B24:I24) -> 436.04795 | K24: =SUMIFS(MT_CO2e_AR4_100_yr,Year,$A24,Gas,K$5,Gross,GrossYes)/1000000 -> 251.76777 | L24: =SUMIFS(MT_CO2e_AR4_100_yr,Year,$A24,Gas,L$5,Gross,GrossYes)/1000000 -> 3.605204 | M24: =SUMIFS(MT_CO2e_AR4_100_yr,Year,$A24,Gas,M$5,Gross,GrossYes)/1000000 -> 12.758864 | N24: =SUMIFS(MT_CO2e_AR4_100_yr,Year,$A24,Gas,N$5,Gross,GrossYes)/1000000 -> 47.069597 | O24: =SUMIFS(MT_CO2e_AR4_100_yr,Year,$A24,Gas,O$5,Gross,GrossYes)/1000000 -> 3.816933 | P24: =SUMIFS(MT_CO2e_AR4_100_yr,Year,$A24,Gas,P$5,Gross,GrossYes)/1000000 -> 0.016339 | Q24: =SUMIFS(MT_CO2e_AR4_100_yr,Year,$A24,Gas,Q$5,Gross,GrossYes)/1000000 -> 0.305619 | R24: =SUMIFS(MT_CO2e_AR4_100_yr,Year,$A24,Gas,R$5,Gross,GrossYes)/1000000 -> 0.740339 | S24: =SUM(K24:R24) -> 320.08067 | T24: =C24-L24 -> -0.242677 | U24: =E24-N24 -> 111.08426 | V24: =F24-O24 -> 5.404165 | W24: =G24-P24 -> -0.00418 | X24: =H24-Q24 -> -0.102192 | Y24: =I24-R24 -> -0.172097 | Z24: =J24-S24 -> 115.96728 | AA24: 2008 | AB24: =(J24-J$6)/J$6 -> 0.078633163 | AC24: =B24+D24+F24+G24+H24+I24 -> 274.53156 | AD24: =(S24-S$6)/S$6 -> 0.018066106 | AE24: =(J24-J$21)/J$21 -> -0.054651956 | AF24: =(S24-S$21)/S$21 -> -0.079896297 | AG24: =Z24/S24 -> 0.36230642
A25: 2009 | B25: =SUMIFS(MT_CO2e_AR5_20_yr,Year,$A25,Gas,B$5,Gross,GrossYes)/1000000 -> 231.83292 | C25: =SUMIFS(MT_CO2e_AR5_20_yr,Year,$A25,Gas,C$5,Gross,GrossYes)/1000000 -> 3.047939 | D25: =SUMIFS(MT_CO2e_AR5_20_yr,Year,$A25,Gas,D$5,Gross,GrossYes)/1000000 -> 9.036112 | E25: =SUMIFS(MT_CO2e_AR5_20_yr,Year,$A25,Gas,E$5,Gross,GrossYes)/1000000 -> 147.96178 | F25: =SUMIFS(MT_CO2e_AR5_20_yr,Year,$A25,Gas,F$5,Gross,GrossYes)/1000000 -> 10.590698 | G25: =SUMIFS(MT_CO2e_AR5_20_yr,Year,$A25,Gas,G$5,Gross,GrossYes)/1000000 -> 0.00964 | H25: =SUMIFS(MT_CO2e_AR5_20_yr,Year,$A25,Gas,H$5,Gross,GrossYes)/1000000 -> 0.129834 | I25: =SUMIFS(MT_CO2e_AR5_20_yr,Year,$A25,Gas,I$5,Gross,GrossYes)/1000000 -> 0.421003 | J25: =SUM(B25:I25) -> 403.02992 | K25: =SUMIFS(MT_CO2e_AR4_100_yr,Year,$A25,Gas,K$5,Gross,GrossYes)/1000000 -> 231.83292 | L25: =SUMIFS(MT_CO2e_AR4_100_yr,Year,$A25,Gas,L$5,Gross,GrossYes)/1000000 -> 3.268583 | M25: =SUMIFS(MT_CO2e_AR4_100_yr,Year,$A25,Gas,M$5,Gross,GrossYes)/1000000 -> 9.036112 | N25: =SUMIFS(MT_CO2e_AR4_100_yr,Year,$A25,Gas,N$5,Gross,GrossYes)/1000000 -> 44.036246 | O25: =SUMIFS(MT_CO2e_AR4_100_yr,Year,$A25,Gas,O$5,Gross,GrossYes)/1000000 -> 4.38086 | P25: =SUMIFS(MT_CO2e_AR4_100_yr,Year,$A25,Gas,P$5,Gross,GrossYes)/1000000 -> 0.012954 | Q25: =SUMIFS(MT_CO2e_AR4_100_yr,Year,$A25,Gas,Q$5,Gross,GrossYes)/1000000 -> 0.195079 | R25: =SUMIFS(MT_CO2e_AR4_100_yr,Year,$A25,Gas,R$5,Gross,GrossYes)/1000000 -> 0.548506 | S25: =SUM(K25:R25) -> 293.31125 | T25: =C25-L25 -> -0.220644 | U25: =E25-N25 -> 103.92553 | V25: =F25-O25 -> 6.209838 | W25: =G25-P25 -> -0.003314 | X25: =H25-Q25 -> -0.065245 | Y25: =I25-R25 -> -0.127503 | Z25: =J25-S25 -> 109.71866 | AA25: 2009 | AB25: =(J25-J$6)/J$6 -> -0.0030421284 | AC25: =B25+D25+F25+G25+H25+I25 -> 252.0202 | AD25: =(S25-S$6)/S$6 -> -0.067078155 | AE25: =(J25-J$21)/J$21 -> -0.12623475 | AF25: =(S25-S$21)/S$21 -> -0.15684764 | AG25: =Z25/S25 -> 0.37406906
A26: 2010 | B26: =SUMIFS(MT_CO2e_AR5_20_yr,Year,$A26,Gas,B$5,Gross,GrossYes)/1000000 -> 232.91689 | C26: =SUMIFS(MT_CO2e_AR5_20_yr,Year,$A26,Gas,C$5,Gross,GrossYes)/1000000 -> 3.215892 | D26: =SUMIFS(MT_CO2e_AR5_20_yr,Year,$A26,Gas,D$5,Gross,GrossYes)/1000000 -> 9.819842 | E26: =SUMIFS(MT_CO2e_AR5_20_yr,Year,$A26,Gas,E$5,Gross,GrossYes)/1000000 -> 151.05882 | F26: =SUMIFS(MT_CO2e_AR5_20_yr,Year,$A26,Gas,F$5,Gross,GrossYes)/1000000 -> 11.700735 | G26: =SUMIFS(MT_CO2e_AR5_20_yr,Year,$A26,Gas,G$5,Gross,GrossYes)/1000000 -> 0.011398 | H26: =SUMIFS(MT_CO2e_AR5_20_yr,Year,$A26,Gas,H$5,Gross,GrossYes)/1000000 -> 0.149779 | I26: =SUMIFS(MT_CO2e_AR5_20_yr,Year,$A26,Gas,I$5,Gross,GrossYes)/1000000 -> 0.288089 | J26: =SUM(B26:I26) -> 409.16145 | K26: =SUMIFS(MT_CO2e_AR4_100_yr,Year,$A26,Gas,K$5,Gross,GrossYes)/1000000 -> 232.91689 | L26: =SUMIFS(MT_CO2e_AR4_100_yr,Year,$A26,Gas,L$5,Gross,GrossYes)/1000000 -> 3.443142 | M26: =SUMIFS(MT_CO2e_AR4_100_yr,Year,$A26,Gas,M$5,Gross,GrossYes)/1000000 -> 9.819842 | N26: =SUMIFS(MT_CO2e_AR4_100_yr,Year,$A26,Gas,N$5,Gross,GrossYes)/1000000 -> 44.957986 | O26: =SUMIFS(MT_CO2e_AR4_100_yr,Year,$A26,Gas,O$5,Gross,GrossYes)/1000000 -> 4.806674 | P26: =SUMIFS(MT_CO2e_AR4_100_yr,Year,$A26,Gas,P$5,Gross,GrossYes)/1000000 -> 0.015316 | Q26: =SUMIFS(MT_CO2e_AR4_100_yr,Year,$A26,Gas,Q$5,Gross,GrossYes)/1000000 -> 0.224832 | R26: =SUMIFS(MT_CO2e_AR4_100_yr,Year,$A26,Gas,R$5,Gross,GrossYes)/1000000 -> 0.375339 | S26: =SUM(K26:R26) -> 296.56002 | T26: =C26-L26 -> -0.22725 | U26: =E26-N26 -> 106.10083 | V26: =F26-O26 -> 6.894061 | W26: =G26-P26 -> -0.003918 | X26: =H26-Q26 -> -0.075053 | Y26: =I26-R26 -> -0.08725 | Z26: =J26-S26 -> 112.60142 | AA26: 2010 | AB26: =(J26-J$6)/J$6 -> 0.012125165 | AC26: =B26+D26+F26+G26+H26+I26 -> 254.88673 | AD26: =(S26-S$6)/S$6 -> -0.056744952 | AE26: =(J26-J$21)/J$21 -> -0.11294166 | AF26: =(S26-S$21)/S$21 -> -0.14750874 | AG26: =Z26/S26 -> 0.37969185
A27: 2011 | B27: =SUMIFS(MT_CO2e_AR5_20_yr,Year,$A27,Gas,B$5,Gross,GrossYes)/1000000 -> 231.1951 | C27: =SUMIFS(MT_CO2e_AR5_20_yr,Year,$A27,Gas,C$5,Gross,GrossYes)/1000000 -> 3.530421 | D27: =SUMIFS(MT_CO2e_AR5_20_yr,Year,$A27,Gas,D$5,Gross,GrossYes)/1000000 -> 10.328569 | E27: =SUMIFS(MT_CO2e_AR5_20_yr,Year,$A27,Gas,E$5,Gross,GrossYes)/1000000 -> 151.20637 | F27: =SUMIFS(MT_CO2e_AR5_20_yr,Year,$A27,Gas,F$5,Gross,GrossYes)/1000000 -> 13.202408 | G27: =SUMIFS(MT_CO2e_AR5_20_yr,Year,$A27,Gas,G$5,Gross,GrossYes)/1000000 -> 0.005059 | H27: =SUMIFS(MT_CO2e_AR5_20_yr,Year,$A27,Gas,H$5,Gross,GrossYes)/1000000 -> 0.341364 | I27: =SUMIFS(MT_CO2e_AR5_20_yr,Year,$A27,Gas,I$5,Gross,GrossYes)/1000000 -> 0.234406 | J27: =SUM(B27:I27) -> 410.0437 | K27: =SUMIFS(MT_CO2e_AR4_100_yr,Year,$A27,Gas,K$5,Gross,GrossYes)/1000000 -> 231.1951 | L27: =SUMIFS(MT_CO2e_AR4_100_yr,Year,$A27,Gas,L$5,Gross,GrossYes)/1000000 -> 3.798455 | M27: =SUMIFS(MT_CO2e_AR4_100_yr,Year,$A27,Gas,M$5,Gross,GrossYes)/1000000 -> 10.328569 | N27: =SUMIFS(MT_CO2e_AR4_100_yr,Year,$A27,Gas,N$5,Gross,GrossYes)/1000000 -> 45.001896 | O27: =SUMIFS(MT_CO2e_AR4_100_yr,Year,$A27,Gas,O$5,Gross,GrossYes)/1000000 -> 5.400832 | P27: =SUMIFS(MT_CO2e_AR4_100_yr,Year,$A27,Gas,P$5,Gross,GrossYes)/1000000 -> 0.006797 | Q27: =SUMIFS(MT_CO2e_AR4_100_yr,Year,$A27,Gas,Q$5,Gross,GrossYes)/1000000 -> 0.516104 | R27: =SUMIFS(MT_CO2e_AR4_100_yr,Year,$A27,Gas,R$5,Gross,GrossYes)/1000000 -> 0.305398 | S27: =SUM(K27:R27) -> 296.55315 | T27: =C27-L27 -> -0.268034 | U27: =E27-N27 -> 106.20448 | V27: =F27-O27 -> 7.801576 | W27: =G27-P27 -> -0.001738 | X27: =H27-Q27 -> -0.17474 | Y27: =I27-R27 -> -0.070992 | Z27: =J27-S27 -> 113.49055 | AA27: 2011 | AB27: =(J27-J$6)/J$6 -> 0.014307552 | AC27: =B27+D27+F27+G27+H27+I27 -> 255.3069 | AD27: =(S27-S$6)/S$6 -> -0.056766813 | AE27: =(J27-J$21)/J$21 -> -0.11102895 | AF27: =(S27-S$21)/S$21 -> -0.14752849 | AG27: =Z27/S27 -> 0.38269885
A28: 2012 | B28: =SUMIFS(MT_CO2e_AR5_20_yr,Year,$A28,Gas,B$5,Gross,GrossYes)/1000000 -> 222.2133 | C28: =SUMIFS(MT_CO2e_AR5_20_yr,Year,$A28,Gas,C$5,Gross,GrossYes)/1000000 -> 3.436582 | D28: =SUMIFS(MT_CO2e_AR5_20_yr,Year,$A28,Gas,D$5,Gross,GrossYes)/1000000 -> 9.981728 | E28: =SUMIFS(MT_CO2e_AR5_20_yr,Year,$A28,Gas,E$5,Gross,GrossYes)/1000000 -> 150.25471 | F28: =SUMIFS(MT_CO2e_AR5_20_yr,Year,$A28,Gas,F$5,Gross,GrossYes)/1000000 -> 14.414138 | G28: =SUMIFS(MT_CO2e_AR5_20_yr,Year,$A28,Gas,G$5,Gross,GrossYes)/1000000 -> 0.001985 | H28: =SUMIFS(MT_CO2e_AR5_20_yr,Year,$A28,Gas,H$5,Gross,GrossYes)/1000000 -> 0.422232 | I28: =SUMIFS(MT_CO2e_AR5_20_yr,Year,$A28,Gas,I$5,Gross,GrossYes)/1000000 -> 0.219586 | J28: =SUM(B28:I28) -> 400.94426 | K28: =SUMIFS(MT_CO2e_AR4_100_yr,Year,$A28,Gas,K$5,Gross,GrossYes)/1000000 -> 222.2133 | L28: =SUMIFS(MT_CO2e_AR4_100_yr,Year,$A28,Gas,L$5,Gross,GrossYes)/1000000 -> 3.692415 | M28: =SUMIFS(MT_CO2e_AR4_100_yr,Year,$A28,Gas,M$5,Gross,GrossYes)/1000000 -> 9.981728 | N28: =SUMIFS(MT_CO2e_AR4_100_yr,Year,$A28,Gas,N$5,Gross,GrossYes)/1000000 -> 44.718666 | O28: =SUMIFS(MT_CO2e_AR4_100_yr,Year,$A28,Gas,O$5,Gross,GrossYes)/1000000 -> 5.992547 | P28: =SUMIFS(MT_CO2e_AR4_100_yr,Year,$A28,Gas,P$5,Gross,GrossYes)/1000000 -> 0.002668 | Q28: =SUMIFS(MT_CO2e_AR4_100_yr,Year,$A28,Gas,Q$5,Gross,GrossYes)/1000000 -> 0.63753 | R28: =SUMIFS(MT_CO2e_AR4_100_yr,Year,$A28,Gas,R$5,Gross,GrossYes)/1000000 -> 0.286089 | S28: =SUM(K28:R28) -> 287.52494 | T28: =C28-L28 -> -0.255833 | U28: =E28-N28 -> 105.53604 | V28: =F28-O28 -> 8.421591 | W28: =G28-P28 -> -0.000683 | X28: =H28-Q28 -> -0.215298 | Y28: =I28-R28 -> -0.066503 | Z28: =J28-S28 -> 113.41932 | AA28: 2012 | AB28: =(J28-J$6)/J$6 -> -0.0082013388 | AC28: =B28+D28+F28+G28+H28+I28 -> 247.25297 | AD28: =(S28-S$6)/S$6 -> -0.085482425 | AE28: =(J28-J$21)/J$21 -> -0.13075645 | AF28: =(S28-S$21)/S$21 -> -0.17348097 | AG28: =Z28/S28 -> 0.39446776
A29: 2013 | B29: =SUMIFS(MT_CO2e_AR5_20_yr,Year,$A29,Gas,B$5,Gross,GrossYes)/1000000 -> 223.4679 | C29: =SUMIFS(MT_CO2e_AR5_20_yr,Year,$A29,Gas,C$5,Gross,GrossYes)/1000000 -> 3.402654 | D29: =SUMIFS(MT_CO2e_AR5_20_yr,Year,$A29,Gas,D$5,Gross,GrossYes)/1000000 -> 10.793374 | E29: =SUMIFS(MT_CO2e_AR5_20_yr,Year,$A29,Gas,E$5,Gross,GrossYes)/1000000 -> 153.07611 | F29: =SUMIFS(MT_CO2e_AR5_20_yr,Year,$A29,Gas,F$5,Gross,GrossYes)/1000000 -> 15.604662 | G29: =SUMIFS(MT_CO2e_AR5_20_yr,Year,$A29,Gas,G$5,Gross,GrossYes)/1000000 -> 0.002903 | H29: =SUMIFS(MT_CO2e_AR5_20_yr,Year,$A29,Gas,H$5,Gross,GrossYes)/1000000 -> 0.407844 | I29: =SUMIFS(MT_CO2e_AR5_20_yr,Year,$A29,Gas,I$5,Gross,GrossYes)/1000000 -> 0.211071 | J29: =SUM(B29:I29) -> 406.96652 | K29: =SUMIFS(MT_CO2e_AR4_100_yr,Year,$A29,Gas,K$5,Gross,GrossYes)/1000000 -> 223.4679 | L29: =SUMIFS(MT_CO2e_AR4_100_yr,Year,$A29,Gas,L$5,Gross,GrossYes)/1000000 -> 3.65476 | M29: =SUMIFS(MT_CO2e_AR4_100_yr,Year,$A29,Gas,M$5,Gross,GrossYes)/1000000 -> 10.793374 | N29: =SUMIFS(MT_CO2e_AR4_100_yr,Year,$A29,Gas,N$5,Gross,GrossYes)/1000000 -> 45.558369 | O29: =SUMIFS(MT_CO2e_AR4_100_yr,Year,$A29,Gas,O$5,Gross,GrossYes)/1000000 -> 6.575352 | P29: =SUMIFS(MT_CO2e_AR4_100_yr,Year,$A29,Gas,P$5,Gross,GrossYes)/1000000 -> 0.003901 | Q29: =SUMIFS(MT_CO2e_AR4_100_yr,Year,$A29,Gas,Q$5,Gross,GrossYes)/1000000 -> 0.615817 | R29: =SUMIFS(MT_CO2e_AR4_100_yr,Year,$A29,Gas,R$5,Gross,GrossYes)/1000000 -> 0.274996 | S29: =SUM(K29:R29) -> 290.94447 | T29: =C29-L29 -> -0.252106 | U29: =E29-N29 -> 107.51774 | V29: =F29-O29 -> 9.02931 | W29: =G29-P29 -> -0.000998 | X29: =H29-Q29 -> -0.207973 | Y29: =I29-R29 -> -0.063925 | Z29: =J29-S29 -> 116.02205 | AA29: 2013 | AB29: =(J29-J$6)/J$6 -> 0.0066956706 | AC29: =B29+D29+F29+G29+H29+I29 -> 250.48775 | AD29: =(S29-S$6)/S$6 -> -0.074606091 | AE29: =(J29-J$21)/J$21 -> -0.11770024 | AF29: =(S29-S$21)/S$21 -> -0.1636512 | AG29: =Z29/S29 -> 0.39877731
A30: 2014 | B30: =SUMIFS(MT_CO2e_AR5_20_yr,Year,$A30,Gas,B$5,Gross,GrossYes)/1000000 -> 227.37327 | C30: =SUMIFS(MT_CO2e_AR5_20_yr,Year,$A30,Gas,C$5,Gross,GrossYes)/1000000 -> 3.395557 | D30: =SUMIFS(MT_CO2e_AR5_20_yr,Year,$A30,Gas,D$5,Gross,GrossYes)/1000000 -> 10.959395 | E30: =SUMIFS(MT_CO2e_AR5_20_yr,Year,$A30,Gas,E$5,Gross,GrossYes)/1000000 -> 149.42988 | F30: =SUMIFS(MT_CO2e_AR5_20_yr,Year,$A30,Gas,F$5,Gross,GrossYes)/1000000 -> 16.78894 | G30: =SUMIFS(MT_CO2e_AR5_20_yr,Year,$A30,Gas,G$5,Gross,GrossYes)/1000000 -> 0.008188 | H30: =SUMIFS(MT_CO2e_AR5_20_yr,Year,$A30,Gas,H$5,Gross,GrossYes)/1000000 -> 0.136357 | I30: =SUMIFS(MT_CO2e_AR5_20_yr,Year,$A30,Gas,I$5,Gross,GrossYes)/1000000 -> 0.21376 | J30: =SUM(B30:I30) -> 408.30534 | K30: =SUMIFS(MT_CO2e_AR4_100_yr,Year,$A30,Gas,K$5,Gross,GrossYes)/1000000 -> 227.37327 | L30: =SUMIFS(MT_CO2e_AR4_100_yr,Year,$A30,Gas,L$5,Gross,GrossYes)/1000000 -> 3.644341 | M30: =SUMIFS(MT_CO2e_AR4_100_yr,Year,$A30,Gas,M$5,Gross,GrossYes)/1000000 -> 10.959395 | N30: =SUMIFS(MT_CO2e_AR4_100_yr,Year,$A30,Gas,N$5,Gross,GrossYes)/1000000 -> 44.47318 | O30: =SUMIFS(MT_CO2e_AR4_100_yr,Year,$A30,Gas,O$5,Gross,GrossYes)/1000000 -> 7.15323 | P30: =SUMIFS(MT_CO2e_AR4_100_yr,Year,$A30,Gas,P$5,Gross,GrossYes)/1000000 -> 0.011003 | Q30: =SUMIFS(MT_CO2e_AR4_100_yr,Year,$A30,Gas,Q$5,Gross,GrossYes)/1000000 -> 0.20596 | R30: =SUMIFS(MT_CO2e_AR4_100_yr,Year,$A30,Gas,R$5,Gross,GrossYes)/1000000 -> 0.278499 | S30: =SUM(K30:R30) -> 294.09888 | T30: =C30-L30 -> -0.248784 | U30: =E30-N30 -> 104.9567 | V30: =F30-O30 -> 9.63571 | W30: =G30-P30 -> -0.002815 | X30: =H30-Q30 -> -0.069603 | Y30: =I30-R30 -> -0.064739 | Z30: =J30-S30 -> 114.20647 | AA30: 2014 | AB30: =(J30-J$6)/J$6 -> 0.010007467 | AC30: =B30+D30+F30+G30+H30+I30 -> 255.47991 | AD30: =(S30-S$6)/S$6 -> -0.064573008 | AE30: =(J30-J$21)/J$21 -> -0.11479767 | AF30: =(S30-S$21)/S$21 -> -0.15458354 | AG30: =Z30/S30 -> 0.38832678
A31: 2015 | B31: =SUMIFS(MT_CO2e_AR5_20_yr,Year,$A31,Gas,B$5,Gross,GrossYes)/1000000 -> 224.28448 | C31: =SUMIFS(MT_CO2e_AR5_20_yr,Year,$A31,Gas,C$5,Gross,GrossYes)/1000000 -> 3.338113 | D31: =SUMIFS(MT_CO2e_AR5_20_yr,Year,$A31,Gas,D$5,Gross,GrossYes)/1000000 -> 12.638817 | E31: =SUMIFS(MT_CO2e_AR5_20_yr,Year,$A31,Gas,E$5,Gross,GrossYes)/1000000 -> 144.67359 | F31: =SUMIFS(MT_CO2e_AR5_20_yr,Year,$A31,Gas,F$5,Gross,GrossYes)/1000000 -> 18.120722 | G31: =SUMIFS(MT_CO2e_AR5_20_yr,Year,$A31,Gas,G$5,Gross,GrossYes)/1000000 -> 0.005937 | H31: =SUMIFS(MT_CO2e_AR5_20_yr,Year,$A31,Gas,H$5,Gross,GrossYes)/1000000 -> 0.048108 | I31: =SUMIFS(MT_CO2e_AR5_20_yr,Year,$A31,Gas,I$5,Gross,GrossYes)/1000000 -> 0.168662 | J31: =SUM(B31:I31) -> 403.27843 | K31: =SUMIFS(MT_CO2e_AR4_100_yr,Year,$A31,Gas,K$5,Gross,GrossYes)/1000000 -> 224.28448 | L31: =SUMIFS(MT_CO2e_AR4_100_yr,Year,$A31,Gas,L$5,Gross,GrossYes)/1000000 -> 3.580402 | M31: =SUMIFS(MT_CO2e_AR4_100_yr,Year,$A31,Gas,M$5,Gross,GrossYes)/1000000 -> 12.638817 | N31: =SUMIFS(MT_CO2e_AR4_100_yr,Year,$A31,Gas,N$5,Gross,GrossYes)/1000000 -> 43.057613 | O31: =SUMIFS(MT_CO2e_AR4_100_yr,Year,$A31,Gas,O$5,Gross,GrossYes)/1000000 -> 7.761822 | P31: =SUMIFS(MT_CO2e_AR4_100_yr,Year,$A31,Gas,P$5,Gross,GrossYes)/1000000 -> 0.007977 | Q31: =SUMIFS(MT_CO2e_AR4_100_yr,Year,$A31,Gas,Q$5,Gross,GrossYes)/1000000 -> 0.072754 | R31: =SUMIFS(MT_CO2e_AR4_100_yr,Year,$A31,Gas,R$5,Gross,GrossYes)/1000000 -> 0.219743 | S31: =SUM(K31:R31) -> 291.62361 | T31: =C31-L31 -> -0.242289 | U31: =E31-N31 -> 101.61597 | V31: =F31-O31 -> 10.3589 | W31: =G31-P31 -> -0.00204 | X31: =H31-Q31 -> -0.024646 | Y31: =I31-R31 -> -0.051081 | Z31: =J31-S31 -> 111.65482 | AA31: 2015 | AB31: =(J31-J$6)/J$6 -> -0.0024274048 | AC31: =B31+D31+F31+G31+H31+I31 -> 255.26673 | AD31: =(S31-S$6)/S$6 -> -0.072445977 | AE31: =(J31-J$21)/J$21 -> -0.12569599 | AF31: =(S31-S$21)/S$21 -> -0.16169895 | AG31: =Z31/S31 -> 0.38287305
A32: 2016 | B32: =SUMIFS(MT_CO2e_AR5_20_yr,Year,$A32,Gas,B$5,Gross,GrossYes)/1000000 -> 212.76293 | C32: =SUMIFS(MT_CO2e_AR5_20_yr,Year,$A32,Gas,C$5,Gross,GrossYes)/1000000 -> 3.265066 | D32: =SUMIFS(MT_CO2e_AR5_20_yr,Year,$A32,Gas,D$5,Gross,GrossYes)/1000000 -> 11.818328 | E32: =SUMIFS(MT_CO2e_AR5_20_yr,Year,$A32,Gas,E$5,Gross,GrossYes)/1000000 -> 140.68404 | F32: =SUMIFS(MT_CO2e_AR5_20_yr,Year,$A32,Gas,F$5,Gross,GrossYes)/1000000 -> 19.234355 | G32: =SUMIFS(MT_CO2e_AR5_20_yr,Year,$A32,Gas,G$5,Gross,GrossYes)/1000000 -> 0.007552 | H32: =SUMIFS(MT_CO2e_AR5_20_yr,Year,$A32,Gas,H$5,Gross,GrossYes)/1000000 -> 0.048565 | I32: =SUMIFS(MT_CO2e_AR5_20_yr,Year,$A32,Gas,I$5,Gross,GrossYes)/1000000 -> 0.155012 | J32: =SUM(B32:I32) -> 387.97585 | K32: =SUMIFS(MT_CO2e_AR4_100_yr,Year,$A32,Gas,K$5,Gross,GrossYes)/1000000 -> 212.76293 | L32: =SUMIFS(MT_CO2e_AR4_100_yr,Year,$A32,Gas,L$5,Gross,GrossYes)/1000000 -> 3.497197 | M32: =SUMIFS(MT_CO2e_AR4_100_yr,Year,$A32,Gas,M$5,Gross,GrossYes)/1000000 -> 11.818328 | N32: =SUMIFS(MT_CO2e_AR4_100_yr,Year,$A32,Gas,N$5,Gross,GrossYes)/1000000 -> 41.870256 | O32: =SUMIFS(MT_CO2e_AR4_100_yr,Year,$A32,Gas,O$5,Gross,GrossYes)/1000000 -> 8.213557 | P32: =SUMIFS(MT_CO2e_AR4_100_yr,Year,$A32,Gas,P$5,Gross,GrossYes)/1000000 -> 0.010148 | Q32: =SUMIFS(MT_CO2e_AR4_100_yr,Year,$A32,Gas,Q$5,Gross,GrossYes)/1000000 -> 0.073468 | R32: =SUMIFS(MT_CO2e_AR4_100_yr,Year,$A32,Gas,R$5,Gross,GrossYes)/1000000 -> 0.201958 | S32: =SUM(K32:R32) -> 278.44784 | T32: =C32-L32 -> -0.232131 | U32: =E32-N32 -> 98.813787 | V32: =F32-O32 -> 11.020798 | W32: =G32-P32 -> -0.002596 | X32: =H32-Q32 -> -0.024903 | Y32: =I32-R32 -> -0.046946 | Z32: =J32-S32 -> 109.52801 | AA32: 2016 | AB32: =(J32-J$6)/J$6 -> -0.04028074 | AC32: =B32+D32+F32+G32+H32+I32 -> 244.02674 | AD32: =(S32-S$6)/S$6 -> -0.11435355 | AE32: =(J32-J$21)/J$21 -> -0.15887184 | AF32: =(S32-S$21)/S$21 -> -0.199574 | AG32: =Z32/S32 -> 0.39335198
A33: 2017 | B33: =SUMIFS(MT_CO2e_AR5_20_yr,Year,$A33,Gas,B$5,Gross,GrossYes)/1000000 -> 203.9409 | C33: =SUMIFS(MT_CO2e_AR5_20_yr,Year,$A33,Gas,C$5,Gross,GrossYes)/1000000 -> 3.193682 | D33: =SUMIFS(MT_CO2e_AR5_20_yr,Year,$A33,Gas,D$5,Gross,GrossYes)/1000000 -> 11.782214 | E33: =SUMIFS(MT_CO2e_AR5_20_yr,Year,$A33,Gas,E$5,Gross,GrossYes)/1000000 -> 132.00674 | F33: =SUMIFS(MT_CO2e_AR5_20_yr,Year,$A33,Gas,F$5,Gross,GrossYes)/1000000 -> 19.859374 | G33: =SUMIFS(MT_CO2e_AR5_20_yr,Year,$A33,Gas,G$5,Gross,GrossYes)/1000000 -> 0.008255 | H33: =SUMIFS(MT_CO2e_AR5_20_yr,Year,$A33,Gas,H$5,Gross,GrossYes)/1000000 -> 0.063728 | I33: =SUMIFS(MT_CO2e_AR5_20_yr,Year,$A33,Gas,I$5,Gross,GrossYes)/1000000 -> 0.136393 | J33: =SUM(B33:I33) -> 370.99128 | K33: =SUMIFS(MT_CO2e_AR4_100_yr,Year,$A33,Gas,K$5,Gross,GrossYes)/1000000 -> 203.9409 | L33: =SUMIFS(MT_CO2e_AR4_100_yr,Year,$A33,Gas,L$5,Gross,GrossYes)/1000000 -> 3.415685 | M33: =SUMIFS(MT_CO2e_AR4_100_yr,Year,$A33,Gas,M$5,Gross,GrossYes)/1000000 -> 11.782214 | N33: =SUMIFS(MT_CO2e_AR4_100_yr,Year,$A33,Gas,N$5,Gross,GrossYes)/1000000 -> 39.287719 | O33: =SUMIFS(MT_CO2e_AR4_100_yr,Year,$A33,Gas,O$5,Gross,GrossYes)/1000000 -> 8.615117 | P33: =SUMIFS(MT_CO2e_AR4_100_yr,Year,$A33,Gas,P$5,Gross,GrossYes)/1000000 -> 0.011092 | Q33: =SUMIFS(MT_CO2e_AR4_100_yr,Year,$A33,Gas,Q$5,Gross,GrossYes)/1000000 -> 0.096363 | R33: =SUMIFS(MT_CO2e_AR4_100_yr,Year,$A33,Gas,R$5,Gross,GrossYes)/1000000 -> 0.177701 | S33: =SUM(K33:R33) -> 267.32679 | T33: =C33-L33 -> -0.222003 | U33: =E33-N33 -> 92.719019 | V33: =F33-O33 -> 11.244257 | W33: =G33-P33 -> -0.002837 | X33: =H33-Q33 -> -0.032635 | Y33: =I33-R33 -> -0.041308 | Z33: =J33-S33 -> 103.66449 | AA33: 2017 | AB33: =(J33-J$6)/J$6 -> -0.082294734 | AC33: =B33+D33+F33+G33+H33+I33 -> 235.79086 | AD33: =(S33-S$6)/S$6 -> -0.14972577 | AE33: =(J33-J$21)/J$21 -> -0.19569423 | AF33: =(S33-S$21)/S$21 -> -0.23154257 | AG33: =Z33/S33 -> 0.38778191
... A36: 2020 | B36: =SUMIFS(MT_CO2e_AR5_20_yr,Year,$A36,Gas,B$5,Gross,GrossYes)/1000000 -> 183.98843 | C36: =SUMIFS(MT_CO2e_AR5_20_yr,Year,$A36,Gas,C$5,Gross,GrossYes)/1000000 -> 3.097337 | D36: =SUMIFS(MT_CO2e_AR5_20_yr,Year,$A36,Gas,D$5,Gross,GrossYes)/1000000 -> 10.816855 | E36: =SUMIFS(MT_CO2e_AR5_20_yr,Year,$A36,Gas,E$5,Gross,GrossYes)/1000000 -> 125.40743 | F36: =SUMIFS(MT_CO2e_AR5_20_yr,Year,$A36,Gas,F$5,Gross,GrossYes)/1000000 -> 21.315388 | G36: =SUMIFS(MT_CO2e_AR5_20_yr,Year,$A36,Gas,G$5,Gross,GrossYes)/1000000 -> 0.011016 | H36: =SUMIFS(MT_CO2e_AR5_20_yr,Year,$A36,Gas,H$5,Gross,GrossYes)/1000000 -> 0.104816 | I36: =SUMIFS(MT_CO2e_AR5_20_yr,Year,$A36,Gas,I$5,Gross,GrossYes)/1000000 -> 0.111397 | J36: =SUM(B36:I36) -> 344.85267 | K36: =SUMIFS(MT_CO2e_AR4_100_yr,Year,$A36,Gas,K$5,Gross,GrossYes)/1000000 -> 183.98843 | L36: =SUMIFS(MT_CO2e_AR4_100_yr,Year,$A36,Gas,L$5,Gross,GrossYes)/1000000 -> 3.309329 | M36: =SUMIFS(MT_CO2e_AR4_100_yr,Year,$A36,Gas,M$5,Gross,GrossYes)/1000000 -> 10.816855 | N36: =SUMIFS(MT_CO2e_AR4_100_yr,Year,$A36,Gas,N$5,Gross,GrossYes)/1000000 -> 37.323639 | O36: =SUMIFS(MT_CO2e_AR4_100_yr,Year,$A36,Gas,O$5,Gross,GrossYes)/1000000 -> 9.63829 | P36: =SUMIFS(MT_CO2e_AR4_100_yr,Year,$A36,Gas,P$5,Gross,GrossYes)/1000000 -> 0.014802 | Q36: =SUMIFS(MT_CO2e_AR4_100_yr,Year,$A36,Gas,Q$5,Gross,GrossYes)/1000000 -> 0.158556 | R36: =SUMIFS(MT_CO2e_AR4_100_yr,Year,$A36,Gas,R$5,Gross,GrossYes)/1000000 -> 0.145134 | S36: =SUM(K36:R36) -> 245.39503 | T36: =C36-L36 -> -0.211992 | U36: =E36-N36 -> 88.083789 | V36: =F36-O36 -> 11.677098 | W36: =G36-P36 -> -0.003786 | X36: =H36-Q36 -> -0.05374 | Y36: =I36-R36 -> -0.033737 | Z36: =J36-S36 -> 99.457632 | AA36: 2020 | AB36: =(J36-J$6)/J$6 -> -0.14695271 | AC36: =B36+D36+F36+G36+H36+I36 -> 216.3479 | AD36: =(S36-S$6)/S$6 -> -0.21948312 | AE36: =(J36-J$21)/J$21 -> -0.25236252 | AF36: =(S36-S$21)/S$21 -> -0.29458758 | AG36: =Z36/S36 -> 0.40529603
A39: Comparison of 2019 and 2020 Emission Inventories
A40: 2020 Emission Inventory Minus 2019 Emission Inventory
B41: Greenhouse Gas (MMT CO2e AR5 20 yr) | K41: Greenhouse Gas (MMT CO2e AR4 100 yr)
A42: Year | B42: CO2 | C42: N2O | D42: Biogenic CO2 | E42: CH4 | F42: HFCs | G42: NF3 | H42: PFCs | I42: SF6 | J42: Total | K42: CO2 | L42: N2O | M42: Biogenic CO2 | N42: CH4 | O42: HFCs | P42: NF3 | Q42: PFCs | R42: SF6 | S42: Total
A43: 1990 | B43: =B6-B77 -> 4.340246 | C43: =C6-C77 -> 0.019272 | D43: =D6-D77 -> -0.653756 | E43: =E6-E77 -> -1.984839 | F43: =F6-F77 -> 0 | G43: =G6-G77 -> 0 | H43: =H6-H77 -> 0 | I43: =I6-I77 -> 0 | ... S43: =S6-S77 -> 3.123722
A44: 1991 | B44: =B7-B78 -> 4.569071 | C44: =C7-C78 -> 0.027266 | D44: =D7-D78 -> -0.524498 | E44: =E7-E78 -> -1.975897 | F44: =F7-F78 -> 0 | G44: =G7-G78 -> 0 | H44: =H7-H78 -> 0 | I44: =I7-I78 -> 0 | ... S44: =S7-S78 -> 3.493036
A45: 1992 | B45: =B8-B79 -> 4.89117 | C45: =C8-C79 -> 0.035519 | D45: =D8-D79 -> -0.578891 | E45: =E8-E79 -> -1.981796 | F45: =F8-F79 -> 0 | G45: =G8-G79 -> 0 | H45: =H8-H79 -> 0 | I45: =I8-I79 -> 0 | ... S45: =S8-S79 -> 3.767844
A46: 1993 | B46: =B9-B80 -> 5.014947 | C46: =C9-C80 -> 0.045021 | D46: =D9-D80 -> -0.414375 | E46: =E9-E80 -> -1.962948 | F46: =F9-F80 -> 0 | G46: =G9-G80 -> 0 | H46: =H9-H80 -> 0 | I46: =I9-I80 -> 0 | ... S46: =S9-S80 -> 4.072025
A47: 1994 | B47: =B10-B81 -> 5.310245 | C47: =C10-C81 -> 0.052675 | D47: =D10-D81 -> -0.367344 | E47: =E10-E81 -> -1.939717 | F47: =F10-F81 -> 0 | G47: =G10-G81 -> 0 | H47: =H10-H81 -> 0 | I47: =I10-I81 -> 0 | ... S47: =S10-S81 -> 4.429464
A48: 1995 | B48: =B11-B82 -> 5.588868 | C48: =C11-C82 -> 0.059223 | D48: =D11-D82 -> -0.358178 | E48: =E11-E82 -> -1.931607 | F48: =F11-F82 -> 0 | G48: =G11-G82 -> 0 | H48: =H11-H82 -> 0 | I48: =I11-I82 -> 0 | ... S48: =S11-S82 -> 4.726801
A49: 1996 | B49: =B12-B83 -> 5.810887 | C49: =C12-C83 -> 0.063441 | D49: =D12-D83 -> -0.251424 | E49: =E12-E83 -> -2.038047 | F49: =F12-F83 -> 0 | G49: =G12-G83 -> 0 | H49: =H12-H83 -> 0 | I49: =I12-I83 -> 0 | ... S49: =S12-S83 -> 5.028033
A50: 1997 | B50: =B13-B84 -> 6.053733 | C50: =C13-C84 -> 0.069696 | D50: =D13-D84 -> -0.212478 | E50: =E13-E84 -> -2.123415 | F50: =F13-F84 -> 0 | G50: =G13-G84 -> 0 | H50: =H13-H84 -> 0 | I50: =I13-I84 -> 0 | ... S50: =S13-S84 -> 5.291271
A51: 1998 | B51: =B14-B85 -> 6.291626 | C51: =C14-C85 -> 0.076545 | D51: =D14-D85 -> -0.177918 | E51: =E14-E85 -> -2.099212 | F51: =F14-F85 -> 0 | G51: =G14-G85 -> 0 | H51: =H14-H85 -> 0 | I51: =I14-I85 -> 0 | ... S51: =S14-S85 -> 5.578488
A52: 1999 | B52: =B15-B86 -> 6.474453 | C52: =C15-C86 -> 0.080274 | D52: =D15-D86 -> -0.10057 | E52: =E15-E86 -> -2.131055 | F52: =F15-F86 -> 0 | G52: =G15-G86 -> 0 | H52: =H15-H86 -> 0 | I52: =I15-I86 -> 0 | ... S52: =S15-S86 -> 5.833584
A53: 2000 | B53: =B16-B87 -> 6.093381 | C53: =C16-C87 -> 0.090032 | D53: =D16-D87 -> -0.015381 | E53: =E16-E87 -> -2.282209 | F53: =F16-F87 -> 0 | G53: =G16-G87 -> 0 | H53: =H16-H87 -> 0 | I53: =I16-I87 -> 0 | ... S53: =S16-S87 -> 5.503944
A54: 2001 | B54: =B17-B88 -> 5.664251 | C54: =C17-C88 -> 0.099435 | D54: =D17-D88 -> 0.047117 | E54: =E17-E88 -> -2.348045 | F54: =F17-F88 -> 0 | G54: =G17-G88 -> 0 | H54: =H17-H88 -> 0 | I54: =I17-I88 -> 0 | ... S54: =S17-S88 -> 5.128556
... A72: 2019 | B72: =B35-B106 -> 0.064165 | C72: =C35-C106 -> -0.173665 | D72: =D35-D106 -> 0.72457 | E72: =E35-E106 -> -3.863888 | F72: =F35-F106 -> -1.4e-05 | G72: =G35-G106 -> 0 | H72: =H35-H106 -> 2.9e-05 | I72: =I35-I106 -> 0 | ... S72: =S35-S106 -> -0.550149
A74: 2019 Emission Inventory
B75: Greenhouse Gas (MMT CO2e AR5 20 yr) | K75: Greenhouse Gas (MMT CO2e AR4 100 yr)
A76: Year | B76: CO2 | C76: N2O | D76: Biogenic CO2 | E76: CH4 | F76: HFCs | G76: NF3 | H76: PFCs | I76: SF6 | J76: Total | K76: CO2 | L76: N2O | M76: Biogenic CO2 | N76: CH4 | O76: HFCs | P76: NF3 | Q76: PFCs | R76: SF6 | S76: Total
A77: 1990 | B77: 252.08461 | C77: 3.691499 | D77: 9.129799 | E77: 132.66338 | F77: 0.044852 | G77: 0.000489 | H77: 0.903252 | I77: 4.020918 | J77: 402.53881 | K77: 252.08461 | L77: 3.957479 | M77: 9.129799 | N77: 39.483153 | O77: 0.019413 | P77: 0.000657 | Q77: 1.363153 | R77: 5.238682 | S77: 311.27695
A78: 1991 | B78: 248.53393 | C78: 3.568857 | D78: 8.779086 | E78: 136.29454 | F78: 0.106272 | G78: 0.000489 | H78: 0.74552 | I78: 3.841777 | J78: 401.87047 | K78: 248.53393 | L78: 3.832643 | M78: 8.779086 | N78: 40.563852 | O78: 0.043085 | P78: 0.000657 | Q78: 1.125043 | R78: 5.005285 | S78: 307.88358
A79: 1992 | B79: 254.75701 | C79: 3.722027 | D79: 9.648553 | E79: 147.12181 | F79: 0.111654 | G79: 0.000489 | H79: 0.68388 | I79: 3.804773 | J79: 419.8502 | K79: 254.75701 | L79: 3.990576 | M79: 9.648553 | N79: 43.786253 | O79: 0.04516 | P79: 0.000657 | Q79: 1.031942 | R79: 4.957075 | S79: 318.21722
A80: 1993 | B80: 251.25106 | C80: 3.669115 | D80: 11.01742 | E80: 148.32562 | F80: 0.118145 | G80: 0.000611 | H80: 0.663174 | I80: 3.675627 | J80: 418.72077 | K80: 251.25106 | L80: 3.932474 | M80: 11.01742 | N80: 44.144529 | O80: 0.048194 | P80: 0.000821 | Q80: 1.000691 | R80: 4.788816 | S80: 316.18401
A81: 1994 | B81: 251.92883 | C81: 3.813512 | D81: 10.70058 | E81: 147.27383 | F81: 0.360043 | G81: 0.000672 | H81: 0.589943 | I81: 3.449014 | J81: 418.11642 | K81: 251.92883 | L81: 4.074666 | M81: 10.70058 | N81: 43.8315 | O81: 0.141904 | P81: 0.000904 | Q81: 0.889984 | R81: 4.493571 | S81: 316.06194
A82: 1995 | B82: 256.03917 | C82: 3.66519 | D82: 10.796152 | E82: 152.57143 | F82: 2.272977 | G82: 0.000849 | H82: 0.585853 | I82: 3.150445 | J82: 429.08207 | K82: 256.03917 | L82: 3.924656 | M82: 10.796152 | N82: 45.408165 | O82: 0.874452 | P82: 0.001141 | Q82: 0.883761 | R82: 4.104581 | S82: 322.03208
A83: 1996 | B83: 255.41226 | C83: 3.43402 | D83: 12.017058 | E83: 151.76379 | F83: 3.047793 | G83: 0.000943 | H83: 0.616465 | I83: 2.883949 | J83: 429.17627 | K83: 255.41226 | L83: 3.695948 | M83: 12.017058 | N83: 45.167795 | O83: 1.174923 | P83: 0.001268 | Q83: 0.929951 | R83: 3.757373 | S83: 322.15657
A84: 1997 | B84: 259.95812 | C84: 3.555861 | D84: 15.862651 | E84: 157.30668 | F84: 3.602141 | G84: 0.001225 | H84: 0.555183 | I84: 2.656253 | J84: 443.49811 | K84: 259.95812 | L84: 3.827081 | M84: 15.862651 | N84: 46.817468 | O84: 1.399838 | P84: 0.001647 | Q84: 0.837421 | R84: 3.460718 | S84: 332.16494
A85: 1998 | B85: 259.09721 | C85: 3.627065 | D85: 14.154013 | E85: 154.20081 | F85: 3.976986 | G85: 0.001503 | H85: 0.467673 | I85: 2.249893 | J85: 437.77516 | K85: 259.09721 | L85: 3.895895 | M85: 14.154013 | N85: 45.893099 | O85: 1.557607 | P85: 0.002019 | Q85: 0.705326 | R85: 2.931288 | S85: 328.23646
A86: 1999 | B86: 266.60094 | C86: 3.730523 | D86: 14.491499 | E86: 157.45023 | F86: 4.376732 | G86: 0.001525 | H86: 0.456705 | I86: 2.328968 | J86: 449.43713 | K86: 266.60094 | L86: 4.001397 | M86: 14.491499 | N86: 46.860193 | O86: 1.728497 | P86: 0.002049 | Q86: 0.688751 | R86: 3.034313 | S86: 337.40764
A87: 2000 | B87: 279.66895 | C87: 3.599548 | D87: 15.482566 | E87: 157.33737 | F87: 4.694715 | G87: 0.002561 | H87: 0.448327 | I87: 2.19038 | J87: 463.42442 | K87: 279.66895 | L87: 3.875927 | M87: 15.482566 | N87: 46.826602 | O87: 1.864882 | P87: 0.003441 | Q87: 0.676135 | R87: 2.853751 | S87: 351.25226
A88: 2001 | B88: 270.22345 | C88: 3.534609 | D88: 10.604386 | E88: 156.59228 | F88: 4.96328 | G88: 0.002848 | H88: 0.202682 | I88: 2.085919 | J88: 448.20946 | K88: 270.22345 | L88: 3.795308 | M88: 10.604386 | N88: 46.604852 | O88: 1.974808 | P88: 0.003827 | Q88: 0.30517 | R88: 2.717654 | S88: 336.22945
... A106: 2019 | B106: 210.09433 | C106: 3.345028 | D106: 11.793773 | E106: 133.06913 | F106: 20.892401 | G106: 0.009969 | H106: 0.098756 | I106: 0.128907 | J106: 379.4323 | K106: 210.09433 | L106: 3.582435 | M106: 11.793773 | N106: 39.603909 | O106: 9.32465 | P106: 0.013395 | Q106: 0.149357 | R106: 0.167946 | S106: 274.7298
A138: 1990 | J138: =J6 -> 404.25973
A139: 2020 | J139: =J36 -> 344.85267
J140: =(J139-J138)/J138 -> -0.14695271
A141: 2030 | J141: =(K141-J$139)/J$139 -> -0.28702885 | K141: 245.87
A142: 2050 | J142: =(K142-J$139)/J$139 -> -0.82174996 | K142: 61.47

Sheet Economic Sector
A1: Statewide Greenhouse Gas Emissions (MMT) by Sector: Beginning 1990
B2: https://data.ny.gov/Energy-Environment/Statewide-Greenhouse-Gas-Emissions-Beginning-1990/5i6e-asw6
B4: Agriculture | T4: Buildings | AL4: Electricity | BD4: Industry | BV4: Transportation | CN4: Waste
B5: GHG (CO2e AR5 20 yr) | K5: GHG (CO2e AR4 100 yr) | T5: GHG (CO2e AR5 20 yr) | AC5: GHG (CO2e AR4 100 yr) | AL5: GHG (CO2e AR5 20 yr) | AU5: GHG (CO2e AR4 100 yr) | BD5: GHG (CO2e AR5 20 yr) | BM5: GHG (CO2e AR4 100 yr) | BV5: GHG (CO2e AR5 20 yr) | CE5: GHG (CO2e AR4 100 yr) | CN5: GHG (CO2e AR5 20 yr) | CW5: GHG (CO2e AR4 100 yr) | DG5: GHG (CO2e AR5 20 yr) Sector % | DN5: GHG (CO2e AR4 100 yr) Sector % | DV5: Total GHG
A6: Year | B6: CO2 | C6: N2O | D6: Biogenic CO2 | E6: CH4 | F6: HFCs | G6: NF3 | H6: PFCs | I6: SF6 | J6: Total | K6: CO2 | L6: N2O | M6: Biogenic CO2 | N6: CH4 | O6: HFCs | P6: NF3 | Q6: PFCs | R6: SF6 | S6: Total | T6: CO2 | U6: N2O | V6: Biogenic CO2 | W6: CH4 | X6: HFCs | Y6: NF3 | Z6: PFCs | AA6: SF6 | AB6: Total | AC6: CO2 | AD6: N2O | AE6: Biogenic CO2 | AF6: CH4 | AG6: HFCs | AH6: NF3 | AI6: PFCs | AJ6: SF6 | AK6: Total | AL6: CO2 | AM6: N2O | AN6: Biogenic CO2 | AO6: CH4 | AP6: HFCs | AQ6: NF3 | AR6: PFCs | AS6: SF6 | AT6: Total | AU6: CO2 | AV6: N2O | AW6: Biogenic CO2 | AX6: CH4 | AY6: HFCs | AZ6: NF3 | BA6: PFCs | BB6: SF6 | BC6: Total | BD6: CO2 | BE6: N2O | BF6: Biogenic CO2 | BG6: CH4 | BH6: HFCs | BI6: NF3 | BJ6: PFCs | BK6: SF6 | BL6: Total | BM6: CO2 | BN6: N2O | BO6: Biogenic CO2 | BP6: CH4 | BQ6: HFCs | BR6: NF3 | BS6: PFCs | BT6: SF6 | BU6: Total | BV6: CO2 | BW6: N2O | BX6: Biogenic CO2 | BY6: CH4 | BZ6: HFCs | CA6: NF3 | CB6: PFCs | CC6: SF6 | CD6: Total | CE6: CO2 | CF6: N2O | CG6: Biogenic CO2 | CH6: CH4 | CI6: HFCs | CJ6: NF3 | CK6: PFCs | CL6: SF6 | CM6: Total | CN6: CO2 | CO6: N2O | CP6: Biogenic CO2 | CQ6: CH4 | CR6: HFCs | CS6: NF3 | CT6: PFCs | CU6: SF6 | CV6: Total | CW6: CO2 | CX6: N2O | CY6: Biogenic CO2 | CZ6: CH4 | DA6: HFCs | DB6: NF3 | DC6: PFCs | DD6: SF6 | DE6: Total | DG6: Agriculture | DH6: Buildings | DI6: Electricity | DJ6: Industry | DK6: Transportation | DL6: Waste | DN6: Agriculture | DO6: Buildings | DP6: Electricity | DQ6: Industry | DR6: Transportation | DS6: Waste | DU6: Year | DV6: 20y | DW6: 100yr
A7: 1990 | B7: =SUMIFS(MT_CO2e_AR5_20_yr,Year,$A7,Gas,B$6,Gross,GrossYes,Economic_Sector,B$4)/1000000 -> 0.141179 | C7: =SUMIFS(MT_CO2e_AR5_20_yr,Year,$A7,Gas,C$6,Gross,GrossYes,Economic_Sector,B$4)/1000000 -> 1.771012 | D7: =SUMIFS(MT_CO2e_AR5_20_yr,Year,$A7,Gas,D$6,Gross,GrossYes,Economic_Sector,B$4)/1000000 -> 0 | E7: =SUMIFS(MT_CO2e_AR5_20_yr,Year,$A7,Gas,E$6,Gross,GrossYes,Economic_Sector,B$4)/1000000 -> 13.363728 | F7: =SUMIFS(MT_CO2e_AR5_20_yr,Year,$A7,Gas,F$6,Gross,GrossYes,Economic_Sector,B$4)/1000000 -> 0 | G7: =SUMIFS(MT_CO2e_AR5_20_yr,Year,$A7,Gas,G$6,Gross,GrossYes,Economic_Sector,B$4)/1000000 -> 0 | H7: =SUMIFS(MT_CO2e_AR5_20_yr,Year,$A7,Gas,H$6,Gross,GrossYes,Economic_Sector,B$4)/1000000 -> 0 | I7: =SUMIFS(MT_CO2e_AR5_20_yr,Year,$A7,Gas,I$6,Gross,GrossYes,Economic_Sector,B$4)/1000000 -> 0 | J7: =SUM(B7:I7) -> 15.275919 | K7: =SUMIFS(MT_CO2e_AR4_100_yr,Year,$A7,Gas,K$6,Gross,GrossYes,Economic_Sector,B$4)/1000000 -> 0.141179 | L7: =SUMIFS(MT_CO2e_AR4_100_yr,Year,$A7,Gas,L$6,Gross,GrossYes,Economic_Sector,B$4)/1000000 -> 1.795865 | M7: =SUMIFS(MT_CO2e_AR4_100_yr,Year,$A7,Gas,M$6,Gross,GrossYes,Economic_Sector,B$4)/1000000 -> 0 | N7: =SUMIFS(MT_CO2e_AR4_100_yr,Year,$A7,Gas,N$6,Gross,GrossYes,Economic_Sector,B$4)/1000000 -> 3.9773 | O7: =SUMIFS(MT_CO2e_AR4_100_yr,Year,$A7,Gas,O$6,Gross,GrossYes,Economic_Sector,B$4)/1000000 -> 0 | P7: =SUMIFS(MT_CO2e_AR4_100_yr,Year,$A7,Gas,P$6,Gross,GrossYes,Economic_Sector,B$4)/1000000 -> 0 | Q7: =SUMIFS(MT_CO2e_AR4_100_yr,Year,$A7,Gas,Q$6,Gross,GrossYes,Economic_Sector,B$4)/1000000 -> 0 | R7: =SUMIFS(MT_CO2e_AR4_100_yr,Year,$A7,Gas,R$6,Gross,GrossYes,Economic_Sector,B$4)/1000000 -> 0 | S7: =SUM(K7:R7) -> 5.914344 | T7: =SUMIFS(MT_CO2e_AR5_20_yr,Year,$A7,Gas,T$6,Gross,GrossYes,Economic_Sector,T$4)/1000000 -> 72.552736 | U7: =SUMIFS(MT_CO2e_AR5_20_yr,Year,$A7,Gas,U$6,Gross,GrossYes,Economic_Sector,T$4)/1000000 -> 0.168642 | V7: =SUMIFS(MT_CO2e_AR5_20_yr,Year,$A7,Gas,V$6,Gross,GrossYes,Economic_Sector,T$4)/1000000 -> 4.352236 | W7: =SUMIFS(MT_CO2e_AR5_20_yr,Year,$A7,Gas,W$6,Gross,GrossYes,Economic_Sector,T$4)/1000000 -> 26.405045 | X7: =SUMIFS(MT_CO2e_AR5_20_yr,Year,$A7,Gas,X$6,Gross,GrossYes,Economic_Sector,T$4)/1000000 -> 0.042694 | Y7: =SUMIFS(MT_CO2e_AR5_20_yr,Year,$A7,Gas,Y$6,Gross,GrossYes,Economic_Sector,T$4)/1000000 -> 0 | Z7: =SUMIFS(MT_CO2e_AR5_20_yr,Year,$A7,Gas,Z$6,Gross,GrossYes,Economic_Sector,T$4)/1000000 -> 0 | AA7: =SUMIFS(MT_CO2e_AR5_20_yr,Year,$A7,Gas,AA$6,Gross,GrossYes,Economic_Sector,T$4)/1000000 -> 0 | AB7: =SUM(T7:AA7) -> 103.52135 | AC7: =SUMIFS(MT_CO2e_AR4_100_yr,Year,$A7,Gas,AC$6,Gross,GrossYes,Economic_Sector,T$4)/1000000 -> 72.552736 | AD7: =SUMIFS(MT_CO2e_AR4_100_yr,Year,$A7,Gas,AD$6,Gross,GrossYes,Economic_Sector,T$4)/1000000 -> 0.19036 | AE7: =SUMIFS(MT_CO2e_AR4_100_yr,Year,$A7,Gas,AE$6,Gross,GrossYes,Economic_Sector,T$4)/1000000 -> 4.352236 | AF7: =SUMIFS(MT_CO2e_AR4_100_yr,Year,$A7,Gas,AF$6,Gross,GrossYes,Economic_Sector,T$4)/1000000 -> 7.858647 | AG7: =SUMIFS(MT_CO2e_AR4_100_yr,Year,$A7,Gas,AG$6,Gross,GrossYes,Economic_Sector,T$4)/1000000 -> 0.016456 | AH7: =SUMIFS(MT_CO2e_AR4_100_yr,Year,$A7,Gas,AH$6,Gross,GrossYes,Economic_Sector,T$4)/1000000 -> 0 | AI7: =SUMIFS(MT_CO2e_AR4_100_yr,Year,$A7,Gas,AI$6,Gross,GrossYes,Economic_Sector,T$4)/1000000 -> 0 | AJ7: =SUMIFS(MT_CO2e_AR4_100_yr,Year,$A7,Gas,AJ$6,Gross,GrossYes,Economic_Sector,T$4)/1000000 -> 0 | AK7: =SUM(AC7:AJ7) -> 84.970435 | AL7: =SUMIFS(MT_CO2e_AR5_20_yr,Year,$A7,Gas,AL$6,Gross,GrossYes,Economic_Sector,AL$4)/1000000 -> 71.764136 | AM7: =SUMIFS(MT_CO2e_AR5_20_yr,Year,$A7,Gas,AM$6,Gross,GrossYes,Economic_Sector,AL$4)/1000000 -> 0.341866 | AN7: =SUMIFS(MT_CO2e_AR5_20_yr,Year,$A7,Gas,AN$6,Gross,GrossYes,Economic_Sector,AL$4)/1000000 -> 0.072758 | AO7: =SUMIFS(MT_CO2e_AR5_20_yr,Year,$A7,Gas,AO$6,Gross,GrossYes,Economic_Sector,AL$4)/1000000 -> 18.312377 | AP7: =SUMIFS(MT_CO2e_AR5_20_yr,Year,$A7,Gas,AP$6,Gross,GrossYes,Economic_Sector,AL$4)/1000000 -> 0 | AQ7: =SUMIFS(MT_CO2e_AR5_20_yr,Year,$A7,Gas,AQ$6,Gross,GrossYes,Economic_Sector,AL$4)/1000000 -> 0 | AR7: =SUMIFS(MT_CO2e_AR5_20_yr,Year,$A7,Gas,AR$6,Gross,GrossYes,Economic_Sector,AL$4)/1000000 -> 0 | AS7: =SUMIFS(MT_CO2e_AR5_20_yr,Year,$A7,Gas,AS$6,Gross,GrossYes,Economic_Sector,AL$4)/1000000 -> 4.015702 | AT7: =SUM(AL7:AS7) -> 94.506839 | AU7: =SUMIFS(MT_CO2e_AR4_100_yr,Year,$A7,Gas,AU$6,Gross,GrossYes,Economic_Sector,AL$4)/1000000 -> 71.764136 | AV7: =SUMIFS(MT_CO2e_AR4_100_yr,Year,$A7,Gas,AV$6,Gross,GrossYes,Economic_Sector,AL$4)/1000000 -> 0.385896 | AW7: =SUMIFS(MT_CO2e_AR4_100_yr,Year,$A7,Gas,AW$6,Gross,GrossYes,Economic_Sector,AL$4)/1000000 -> 0.072758 | AX7: =SUMIFS(MT_CO2e_AR4_100_yr,Year,$A7,Gas,AX$6,Gross,GrossYes,Economic_Sector,AL$4)/1000000 -> 5.45011 | AY7: =SUMIFS(MT_CO2e_AR4_100_yr,Year,$A7,Gas,AY$6,Gross,GrossYes,Economic_Sector,AL$4)/1000000 -> 0 | AZ7: =SUMIFS(MT_CO2e_AR4_100_yr,Year,$A7,Gas,AZ$6,Gross,GrossYes,Economic_Sector,AL$4)/1000000 -> 0 | BA7: =SUMIFS(MT_CO2e_AR4_100_yr,Year,$A7,Gas,BA$6,Gross,GrossYes,Economic_Sector,AL$4)/1000000 -> 0 | BB7: =SUMIFS(MT_CO2e_AR4_100_yr,Year,$A7,Gas,BB$6,Gross,GrossYes,Economic_Sector,AL$4)/1000000 -> 5.231887 | BC7: =SUM(AU7:BB7) -> 82.904787 | BD7: =SUMIFS(MT_CO2e_AR5_20_yr,Year,$A7,Gas,BD$6,Gross,GrossYes,Economic_Sector,BD$4)/1000000 -> 24.536885 | BE7: =SUMIFS(MT_CO2e_AR5_20_yr,Year,$A7,Gas,BE$6,Gross,GrossYes,Economic_Sector,BD$4)/1000000 -> 0.087049 | BF7: =SUMIFS(MT_CO2e_AR5_20_yr,Year,$A7,Gas,BF$6,Gross,GrossYes,Economic_Sector,BD$4)/1000000 -> 2.399795 | BG7: =SUMIFS(MT_CO2e_AR5_20_yr,Year,$A7,Gas,BG$6,Gross,GrossYes,Economic_Sector,BD$4)/1000000 -> 24.71316 | BH7: =SUMIFS(MT_CO2e_AR5_20_yr,Year,$A7,Gas,BH$6,Gross,GrossYes,Economic_Sector,BD$4)/1000000 -> 0.002158 | BI7: =SUMIFS(MT_CO2e_AR5_20_yr,Year,$A7,Gas,BI$6,Gross,GrossYes,Economic_Sector,BD$4)/1000000 -> 0.000489 | BJ7: =SUMIFS(MT_CO2e_AR5_20_yr,Year,$A7,Gas,BJ$6,Gross,GrossYes,Economic_Sector,BD$4)/1000000 -> 0.903252 | BK7: =SUMIFS(MT_CO2e_AR5_20_yr,Year,$A7,Gas,BK$6,Gross,GrossYes,Economic_Sector,BD$4)/1000000 -> 0.005216 | BL7: =SUM(BD7:BK7) -> 52.648004 | BM7: =SUMIFS(MT_CO2e_AR4_100_yr,Year,$A7,Gas,BM$6,Gross,GrossYes,Economic_Sector,BD$4)/1000000 -> 24.536885 | BN7: =SUMIFS(MT_CO2e_AR4_100_yr,Year,$A7,Gas,BN$6,Gross,GrossYes,Economic_Sector,BD$4)/1000000 -> 0.098258 | BO7: =SUMIFS(MT_CO2e_AR4_100_yr,Year,$A7,Gas,BO$6,Gross,GrossYes,Economic_Sector,BD$4)/1000000 -> 2.399795 | BP7: =SUMIFS(MT_CO2e_AR4_100_yr,Year,$A7,Gas,BP$6,Gross,GrossYes,Economic_Sector,BD$4)/1000000 -> 7.355108 | BQ7: =SUMIFS(MT_CO2e_AR4_100_yr,Year,$A7,Gas,BQ$6,Gross,GrossYes,Economic_Sector,BD$4)/1000000 -> 0.002957 | BR7: =SUMIFS(MT_CO2e_AR4_100_yr,Year,$A7,Gas,BR$6,Gross,GrossYes,Economic_Sector,BD$4)/1000000 -> 0.000657 | BS7: =SUMIFS(MT_CO2e_AR4_100_yr,Year,$A7,Gas,BS$6,Gross,GrossYes,Economic_Sector,BD$4)/1000000 -> 1.363153 | BT7: =SUMIFS(MT_CO2e_AR4_100_yr,Year,$A7,Gas,BT$6,Gross,GrossYes,Economic_Sector,BD$4)/1000000 -> 0.006795 | BU7: =SUM(BM7:BT7) -> 35.763608 | BV7: =SUMIFS(MT_CO2e_AR5_20_yr,Year,$A7,Gas,BV$6,Gross,GrossYes,Economic_Sector,BV$4)/1000000 -> 85.19476 | BW7: =SUMIFS(MT_CO2e_AR5_20_yr,Year,$A7,Gas,BW$6,Gross,GrossYes,Economic_Sector,BV$4)/1000000 -> 0.828438 | BX7: =SUMIFS(MT_CO2e_AR5_20_yr,Year,$A7,Gas,BX$6,Gross,GrossYes,Economic_Sector,BV$4)/1000000 -> 0 | BY7: =SUMIFS(MT_CO2e_AR5_20_yr,Year,$A7,Gas,BY$6,Gross,GrossYes,Economic_Sector,BV$4)/1000000 -> 11.471786 | BZ7: =SUMIFS(MT_CO2e_AR5_20_yr,Year,$A7,Gas,BZ$6,Gross,GrossYes,Economic_Sector,BV$4)/1000000 -> 0 | CA7: =SUMIFS(MT_CO2e_AR5_20_yr,Year,$A7,Gas,CA$6,Gross,GrossYes,Economic_Sector,BV$4)/1000000 -> 0 | CB7: =SUMIFS(MT_CO2e_AR5_20_yr,Year,$A7,Gas,CB$6,Gross,GrossYes,Economic_Sector,BV$4)/1000000 -> 0 | CC7: =SUMIFS(MT_CO2e_AR5_20_yr,Year,$A7,Gas,CC$6,Gross,GrossYes,Economic_Sector,BV$4)/1000000 -> 0 | CD7: =SUM(BV7:CC7) -> 97.494984 | CE7: =SUMIFS(MT_CO2e_AR4_100_yr,Year,$A7,Gas,CE$6,Gross,GrossYes,Economic_Sector,BV$4)/1000000 -> 85.19476 | CF7: =SUMIFS(MT_CO2e_AR4_100_yr,Year,$A7,Gas,CF$6,Gross,GrossYes,Economic_Sector,BV$4)/1000000 -> 0.935128 | CG7: =SUMIFS(MT_CO2e_AR4_100_yr,Year,$A7,Gas,CG$6,Gross,GrossYes,Economic_Sector,BV$4)/1000000 -> 0 | CH7: =SUMIFS(MT_CO2e_AR4_100_yr,Year,$A7,Gas,CH$6,Gross,GrossYes,Economic_Sector,BV$4)/1000000 -> 3.414223 | CI7: =SUMIFS(MT_CO2e_AR4_100_yr,Year,$A7,Gas,CI$6,Gross,GrossYes,Economic_Sector,BV$4)/1000000 -> 0 | CJ7: =SUMIFS(MT_CO2e_AR4_100_yr,Year,$A7,Gas,CJ$6,Gross,GrossYes,Economic_Sector,BV$4)/1000000 -> 0 | CK7: =SUMIFS(MT_CO2e_AR4_100_yr,Year,$A7,Gas,CK$6,Gross,GrossYes,Economic_Sector,BV$4)/1000000 -> 0 | CL7: =SUMIFS(MT_CO2e_AR4_100_yr,Year,$A7,Gas,CL$6,Gross,GrossYes,Economic_Sector,BV$4)/1000000 -> 0 | CM7: =SUM(CE7:CL7) -> 89.544111 | CN7: =SUMIFS(MT_CO2e_AR5_20_yr,Year,$A7,Gas,CN$6,Gross,GrossYes,Economic_Sector,CN$4)/1000000 -> 2.235164 | CO7: =SUMIFS(MT_CO2e_AR5_20_yr,Year,$A7,Gas,CO$6,Gross,GrossYes,Economic_Sector,CN$4)/1000000 -> 0.513764 | CP7: =SUMIFS(MT_CO2e_AR5_20_yr,Year,$A7,Gas,CP$6,Gross,GrossYes,Economic_Sector,CN$4)/1000000 -> 1.651254 | CQ7: =SUMIFS(MT_CO2e_AR5_20_yr,Year,$A7,Gas,CQ$6,Gross,GrossYes,Economic_Sector,CN$4)/1000000 -> 36.412448 | CR7: =SUMIFS(MT_CO2e_AR5_20_yr,Year,$A7,Gas,CR$6,Gross,GrossYes,Economic_Sector,CN$4)/1000000 -> 0 | CS7: =SUMIFS(MT_CO2e_AR5_20_yr,Year,$A7,Gas,CS$6,Gross,GrossYes,Economic_Sector,CN$4)/1000000 -> 0 | CT7: =SUMIFS(MT_CO2e_AR5_20_yr,Year,$A7,Gas,CT$6,Gross,GrossYes,Economic_Sector,CN$4)/1000000 -> 0 | CU7: =SUMIFS(MT_CO2e_AR5_20_yr,Year,$A7,Gas,CU$6,Gross,GrossYes,Economic_Sector,CN$4)/1000000 -> 0 | CV7: =SUM(CN7:CU7) -> 40.81263 | CW7: =SUMIFS(MT_CO2e_AR4_100_yr,Year,$A7,Gas,CW$6,Gross,GrossYes,Economic_Sector,CN$4)/1000000 -> 2.235164 | CX7: =SUMIFS(MT_CO2e_AR4_100_yr,Year,$A7,Gas,CX$6,Gross,GrossYes,Economic_Sector,CN$4)/1000000 -> 0.579931 | CY7: =SUMIFS(MT_CO2e_AR4_100_yr,Year,$A7,Gas,CY$6,Gross,GrossYes,Economic_Sector,CN$4)/1000000 -> 1.651254 | CZ7: =SUMIFS(MT_CO2e_AR4_100_yr,Year,$A7,Gas,CZ$6,Gross,GrossYes,Economic_Sector,CN$4)/1000000 -> 10.837038 | DA7: =SUMIFS(MT_CO2e_AR4_100_yr,Year,$A7,Gas,DA$6,Gross,GrossYes,Economic_Sector,CN$4)/1000000 -> 0 | DB7: =SUMIFS(MT_CO2e_AR4_100_yr,Year,$A7,Gas,DB$6,Gross,GrossYes,Economic_Sector,CN$4)/1000000 -> 0 | DC7: =SUMIFS(MT_CO2e_AR4_100_yr,Year,$A7,Gas,DC$6,Gross,GrossYes,Economic_Sector,CN$4)/1000000 -> 0 | DD7: =SUMIFS(MT_CO2e_AR4_100_yr,Year,$A7,Gas,DD$6,Gross,GrossYes,Economic_Sector,CN$4)/1000000 -> 0 | DE7: =SUM(CW7:DD7) -> 15.303387 | DG7: =J7/$DV7 -> 0.037787387 | DH7: =AB7/$DV7 -> 0.25607634 | DI7: =AT7/$DV7 -> 0.23377753 | DJ7: =BL7/$DV7 -> 0.13023312 | DK7: =CD7/$DV7 -> 0.24116917 | DL7: =CV7/$DV7 -> 0.10095646 | DN7: =S7/$DW7 -> 0.018811487 | DO7: =AK7/$DW7 -> 0.27026162 | DP7: =BC7/$DW7 -> 0.26369151 | DQ7: =BU7/$DW7 -> 0.11375169 | DR7: =CM7/$DW7 -> 0.2848089 | DS7: =DE7/$DW7 -> 0.048674791 | DU7: =Summary!A6 -> 1990 | DV7: =Summary!J6 -> 404.25973 | DW7: =Summary!S6 -> 314.40067
A8: 1991 | B8: =SUMIFS(MT_CO2e_AR5_20_yr,Year,$A8,Gas,B$6,Gross,GrossYes,Economic_Sector,B$4)/1000000 -> 0.141524 | C8: =SUMIFS(MT_CO2e_AR5_20_yr,Year,$A8,Gas,C$6,Gross,GrossYes,Economic_Sector,B$4)/1000000 -> 1.666373 | D8: =SUMIFS(MT_CO2e_AR5_20_yr,Year,$A8,Gas,D$6,Gross,GrossYes,Economic_Sector,B$4)/1000000 -> 0 | E8: =SUMIFS(MT_CO2e_AR5_20_yr,Year,$A8,Gas,E$6,Gross,GrossYes,Economic_Sector,B$4)/1000000 -> 13.445256 | F8: =SUMIFS(MT_CO2e_AR5_20_yr,Year,$A8,Gas,F$6,Gross,GrossYes,Economic_Sector,B$4)/1000000 -> 0 | G8: =SUMIFS(MT_CO2e_AR5_20_yr,Year,$A8,Gas,G$6,Gross,GrossYes,Economic_Sector,B$4)/1000000 -> 0 | H8: =SUMIFS(MT_CO2e_AR5_20_yr,Year,$A8,Gas,H$6,Gross,GrossYes,Economic_Sector,B$4)/1000000 -> 0 | I8: =SUMIFS(MT_CO2e_AR5_20_yr,Year,$A8,Gas,I$6,Gross,GrossYes,Economic_Sector,B$4)/1000000 -> 0 | J8: =SUM(B8:I8) -> 15.253153 | K8: =SUMIFS(MT_CO2e_AR4_100_yr,Year,$A8,Gas,K$6,Gross,GrossYes,Economic_Sector,B$4)/1000000 -> 0.141524 | L8: =SUMIFS(MT_CO2e_AR4_100_yr,Year,$A8,Gas,L$6,Gross,GrossYes,Economic_Sector,B$4)/1000000 -> 1.690898 | M8: =SUMIFS(MT_CO2e_AR4_100_yr,Year,$A8,Gas,M$6,Gross,GrossYes,Economic_Sector,B$4)/1000000 -> 0 | N8: =SUMIFS(MT_CO2e_AR4_100_yr,Year,$A8,Gas,N$6,Gross,GrossYes,Economic_Sector,B$4)/1000000 -> 4.001564 | O8: =SUMIFS(MT_CO2e_AR4_100_yr,Year,$A8,Gas,O$6,Gross,GrossYes,Economic_Sector,B$4)/1000000 -> 0 | P8: =SUMIFS(MT_CO2e_AR4_100_yr,Year,$A8,Gas,P$6,Gross,GrossYes,Economic_Sector,B$4)/1000000 -> 0 | Q8: =SUMIFS(MT_CO2e_AR4_100_yr,Year,$A8,Gas,Q$6,Gross,GrossYes,Economic_Sector,B$4)/1000000 -> 0 | R8: =SUMIFS(MT_CO2e_AR4_100_yr,Year,$A8,Gas,R$6,Gross,GrossYes,Economic_Sector,B$4)/1000000 -> 0 | S8: =SUM(K8:R8) -> 5.833986 | T8: =SUMIFS(MT_CO2e_AR5_20_yr,Year,$A8,Gas,T$6,Gross,GrossYes,Economic_Sector,T$4)/1000000 -> 71.476994 | U8: =SUMIFS(MT_CO2e_AR5_20_yr,Year,$A8,Gas,U$6,Gross,GrossYes,Economic_Sector,T$4)/1000000 -> 0.167462 | V8: =SUMIFS(MT_CO2e_AR5_20_yr,Year,$A8,Gas,V$6,Gross,GrossYes,Economic_Sector,T$4)/1000000 -> 4.560792 | W8: =SUMIFS(MT_CO2e_AR5_20_yr,Year,$A8,Gas,W$6,Gross,GrossYes,Economic_Sector,T$4)/1000000 -> 26.765044 | X8: =SUMIFS(MT_CO2e_AR5_20_yr,Year,$A8,Gas,X$6,Gross,GrossYes,Economic_Sector,T$4)/1000000 -> 0.104114 | Y8: =SUMIFS(MT_CO2e_AR5_20_yr,Year,$A8,Gas,Y$6,Gross,GrossYes,Economic_Sector,T$4)/1000000 -> 0 | Z8: =SUMIFS(MT_CO2e_AR5_20_yr,Year,$A8,Gas,Z$6,Gross,GrossYes,Economic_Sector,T$4)/1000000 -> 0 | AA8: =SUMIFS(MT_CO2e_AR5_20_yr,Year,$A8,Gas,AA$6,Gross,GrossYes,Economic_Sector,T$4)/1000000 -> 0 | AB8: =SUM(T8:AA8) -> 103.07441 | AC8: =SUMIFS(MT_CO2e_AR4_100_yr,Year,$A8,Gas,AC$6,Gross,GrossYes,Economic_Sector,T$4)/1000000 -> 71.476994 | AD8: =SUMIFS(MT_CO2e_AR4_100_yr,Year,$A8,Gas,AD$6,Gross,GrossYes,Economic_Sector,T$4)/1000000 -> 0.189024 | AE8: =SUMIFS(MT_CO2e_AR4_100_yr,Year,$A8,Gas,AE$6,Gross,GrossYes,Economic_Sector,T$4)/1000000 -> 4.560792 | AF8: =SUMIFS(MT_CO2e_AR4_100_yr,Year,$A8,Gas,AF$6,Gross,GrossYes,Economic_Sector,T$4)/1000000 -> 7.965789 | AG8: =SUMIFS(MT_CO2e_AR4_100_yr,Year,$A8,Gas,AG$6,Gross,GrossYes,Economic_Sector,T$4)/1000000 -> 0.040128 | AH8: =SUMIFS(MT_CO2e_AR4_100_yr,Year,$A8,Gas,AH$6,Gross,GrossYes,Economic_Sector,T$4)/1000000 -> 0 | AI8: =SUMIFS(MT_CO2e_AR4_100_yr,Year,$A8,Gas,AI$6,Gross,GrossYes,Economic_Sector,T$4)/1000000 -> 0 | AJ8: =SUMIFS(MT_CO2e_AR4_100_yr,Year,$A8,Gas,AJ$6,Gross,GrossYes,Economic_Sector,T$4)/1000000 -> 0 | AK8: =SUM(AC8:AJ8) -> 84.232727 | AL8: =SUMIFS(MT_CO2e_AR5_20_yr,Year,$A8,Gas,AL$6,Gross,GrossYes,Economic_Sector,AL$4)/1000000 -> 68.445989 | AM8: =SUMIFS(MT_CO2e_AR5_20_yr,Year,$A8,Gas,AM$6,Gross,GrossYes,Economic_Sector,AL$4)/1000000 -> 0.344331 | AN8: =SUMIFS(MT_CO2e_AR5_20_yr,Year,$A8,Gas,AN$6,Gross,GrossYes,Economic_Sector,AL$4)/1000000 -> 0.115505 | AO8: =SUMIFS(MT_CO2e_AR5_20_yr,Year,$A8,Gas,AO$6,Gross,GrossYes,Economic_Sector,AL$4)/1000000 -> 19.567038 | AP8: =SUMIFS(MT_CO2e_AR5_20_yr,Year,$A8,Gas,AP$6,Gross,GrossYes,Economic_Sector,AL$4)/1000000 -> 0 | AQ8: =SUMIFS(MT_CO2e_AR5_20_yr,Year,$A8,Gas,AQ$6,Gross,GrossYes,Economic_Sector,AL$4)/1000000 -> 0 | AR8: =SUMIFS(MT_CO2e_AR5_20_yr,Year,$A8,Gas,AR$6,Gross,GrossYes,Economic_Sector,AL$4)/1000000 -> 0 | AS8: =SUMIFS(MT_CO2e_AR5_20_yr,Year,$A8,Gas,AS$6,Gross,GrossYes,Economic_Sector,AL$4)/1000000 -> 3.836561 | AT8: =SUM(AL8:AS8) -> 92.309424 | AU8: =SUMIFS(MT_CO2e_AR4_100_yr,Year,$A8,Gas,AU$6,Gross,GrossYes,Economic_Sector,AL$4)/1000000 -> 68.445989 | AV8: =SUMIFS(MT_CO2e_AR4_100_yr,Year,$A8,Gas,AV$6,Gross,GrossYes,Economic_Sector,AL$4)/1000000 -> 0.388676 | AW8: =SUMIFS(MT_CO2e_AR4_100_yr,Year,$A8,Gas,AW$6,Gross,GrossYes,Economic_Sector,AL$4)/1000000 -> 0.115505 | AX8: =SUMIFS(MT_CO2e_AR4_100_yr,Year,$A8,Gas,AX$6,Gross,GrossYes,Economic_Sector,AL$4)/1000000 -> 5.823523 | AY8: =SUMIFS(MT_CO2e_AR4_100_yr,Year,$A8,Gas,AY$6,Gross,GrossYes,Economic_Sector,AL$4)/1000000 -> 0 | AZ8: =SUMIFS(MT_CO2e_AR4_100_yr,Year,$A8,Gas,AZ$6,Gross,GrossYes,Economic_Sector,AL$4)/1000000 -> 0 | BA8: =SUMIFS(MT_CO2e_AR4_100_yr,Year,$A8,Gas,BA$6,Gross,GrossYes,Economic_Sector,AL$4)/1000000 -> 0 | BB8: =SUMIFS(MT_CO2e_AR4_100_yr,Year,$A8,Gas,BB$6,Gross,GrossYes,Economic_Sector,AL$4)/1000000 -> 4.99849 | BC8: =SUM(AU8:BB8) -> 79.772183 | BD8: =SUMIFS(MT_CO2e_AR5_20_yr,Year,$A8,Gas,BD$6,Gross,GrossYes,Economic_Sector,BD$4)/1000000 -> 24.160972 | BE8: =SUMIFS(MT_CO2e_AR5_20_yr,Year,$A8,Gas,BE$6,Gross,GrossYes,Economic_Sector,BD$4)/1000000 -> 0.078255 | BF8: =SUMIFS(MT_CO2e_AR5_20_yr,Year,$A8,Gas,BF$6,Gross,GrossYes,Economic_Sector,BD$4)/1000000 -> 1.854805 | BG8: =SUMIFS(MT_CO2e_AR5_20_yr,Year,$A8,Gas,BG$6,Gross,GrossYes,Economic_Sector,BD$4)/1000000 -> 25.300844 | BH8: =SUMIFS(MT_CO2e_AR5_20_yr,Year,$A8,Gas,BH$6,Gross,GrossYes,Economic_Sector,BD$4)/1000000 -> 0.002158 | BI8: =SUMIFS(MT_CO2e_AR5_20_yr,Year,$A8,Gas,BI$6,Gross,GrossYes,Economic_Sector,BD$4)/1000000 -> 0.000489 | BJ8: =SUMIFS(MT_CO2e_AR5_20_yr,Year,$A8,Gas,BJ$6,Gross,GrossYes,Economic_Sector,BD$4)/1000000 -> 0.74552 | BK8: =SUMIFS(MT_CO2e_AR5_20_yr,Year,$A8,Gas,BK$6,Gross,GrossYes,Economic_Sector,BD$4)/1000000 -> 0.005216 | BL8: =SUM(BD8:BK8) -> 52.148259 | BM8: =SUMIFS(MT_CO2e_AR4_100_yr,Year,$A8,Gas,BM$6,Gross,GrossYes,Economic_Sector,BD$4)/1000000 -> 24.160972 | BN8: =SUMIFS(MT_CO2e_AR4_100_yr,Year,$A8,Gas,BN$6,Gross,GrossYes,Economic_Sector,BD$4)/1000000 -> 0.088332 | BO8: =SUMIFS(MT_CO2e_AR4_100_yr,Year,$A8,Gas,BO$6,Gross,GrossYes,Economic_Sector,BD$4)/1000000 -> 1.854805 | BP8: =SUMIFS(MT_CO2e_AR4_100_yr,Year,$A8,Gas,BP$6,Gross,GrossYes,Economic_Sector,BD$4)/1000000 -> 7.530016 | BQ8: =SUMIFS(MT_CO2e_AR4_100_yr,Year,$A8,Gas,BQ$6,Gross,GrossYes,Economic_Sector,BD$4)/1000000 -> 0.002957 | BR8: =SUMIFS(MT_CO2e_AR4_100_yr,Year,$A8,Gas,BR$6,Gross,GrossYes,Economic_Sector,BD$4)/1000000 -> 0.000657 | BS8: =SUMIFS(MT_CO2e_AR4_100_yr,Year,$A8,Gas,BS$6,Gross,GrossYes,Economic_Sector,BD$4)/1000000 -> 1.125043 | BT8: =SUMIFS(MT_CO2e_AR4_100_yr,Year,$A8,Gas,BT$6,Gross,GrossYes,Economic_Sector,BD$4)/1000000 -> 0.006795 | BU8: =SUM(BM8:BT8) -> 34.769577 | BV8: =SUMIFS(MT_CO2e_AR5_20_yr,Year,$A8,Gas,BV$6,Gross,GrossYes,Economic_Sector,BV$4)/1000000 -> 86.489075 | BW8: =SUMIFS(MT_CO2e_AR5_20_yr,Year,$A8,Gas,BW$6,Gross,GrossYes,Economic_Sector,BV$4)/1000000 -> 0.820532 | BX8: =SUMIFS(MT_CO2e_AR5_20_yr,Year,$A8,Gas,BX$6,Gross,GrossYes,Economic_Sector,BV$4)/1000000 -> 0 | BY8: =SUMIFS(MT_CO2e_AR5_20_yr,Year,$A8,Gas,BY$6,Gross,GrossYes,Economic_Sector,BV$4)/1000000 -> 11.61598 | BZ8: =SUMIFS(MT_CO2e_AR5_20_yr,Year,$A8,Gas,BZ$6,Gross,GrossYes,Economic_Sector,BV$4)/1000000 -> 0 | CA8: =SUMIFS(MT_CO2e_AR5_20_yr,Year,$A8,Gas,CA$6,Gross,GrossYes,Economic_Sector,BV$4)/1000000 -> 0 | CB8: =SUMIFS(MT_CO2e_AR5_20_yr,Year,$A8,Gas,CB$6,Gross,GrossYes,Economic_Sector,BV$4)/1000000 -> 0 | CC8: =SUMIFS(MT_CO2e_AR5_20_yr,Year,$A8,Gas,CC$6,Gross,GrossYes,Economic_Sector,BV$4)/1000000 -> 0 | CD8: =SUM(BV8:CC8) -> 98.925587 | CE8: =SUMIFS(MT_CO2e_AR4_100_yr,Year,$A8,Gas,CE$6,Gross,GrossYes,Economic_Sector,BV$4)/1000000 -> 86.489075 | CF8: =SUMIFS(MT_CO2e_AR4_100_yr,Year,$A8,Gas,CF$6,Gross,GrossYes,Economic_Sector,BV$4)/1000000 -> 0.926207 | CG8: =SUMIFS(MT_CO2e_AR4_100_yr,Year,$A8,Gas,CG$6,Gross,GrossYes,Economic_Sector,BV$4)/1000000 -> 0 | CH8: =SUMIFS(MT_CO2e_AR4_100_yr,Year,$A8,Gas,CH$6,Gross,GrossYes,Economic_Sector,BV$4)/1000000 -> 3.457134 | CI8: =SUMIFS(MT_CO2e_AR4_100_yr,Year,$A8,Gas,CI$6,Gross,GrossYes,Economic_Sector,BV$4)/1000000 -> 0 | CJ8: =SUMIFS(MT_CO2e_AR4_100_yr,Year,$A8,Gas,CJ$6,Gross,GrossYes,Economic_Sector,BV$4)/1000000 -> 0 | CK8: =SUMIFS(MT_CO2e_AR4_100_yr,Year,$A8,Gas,CK$6,Gross,GrossYes,Economic_Sector,BV$4)/1000000 -> 0 | CL8: =SUMIFS(MT_CO2e_AR4_100_yr,Year,$A8,Gas,CL$6,Gross,GrossYes,Economic_Sector,BV$4)/1000000 -> 0 | CM8: =SUM(CE8:CL8) -> 90.872416 | CN8: =SUMIFS(MT_CO2e_AR5_20_yr,Year,$A8,Gas,CN$6,Gross,GrossYes,Economic_Sector,CN$4)/1000000 -> 2.388445 | CO8: =SUMIFS(MT_CO2e_AR5_20_yr,Year,$A8,Gas,CO$6,Gross,GrossYes,Economic_Sector,CN$4)/1000000 -> 0.51917 | CP8: =SUMIFS(MT_CO2e_AR5_20_yr,Year,$A8,Gas,CP$6,Gross,GrossYes,Economic_Sector,CN$4)/1000000 -> 1.723486 | CQ8: =SUMIFS(MT_CO2e_AR5_20_yr,Year,$A8,Gas,CQ$6,Gross,GrossYes,Economic_Sector,CN$4)/1000000 -> 37.624478 | CR8: =SUMIFS(MT_CO2e_AR5_20_yr,Year,$A8,Gas,CR$6,Gross,GrossYes,Economic_Sector,CN$4)/1000000 -> 0 | CS8: =SUMIFS(MT_CO2e_AR5_20_yr,Year,$A8,Gas,CS$6,Gross,GrossYes,Economic_Sector,CN$4)/1000000 -> 0 | CT8: =SUMIFS(MT_CO2e_AR5_20_yr,Year,$A8,Gas,CT$6,Gross,GrossYes,Economic_Sector,CN$4)/1000000 -> 0 | CU8: =SUMIFS(MT_CO2e_AR5_20_yr,Year,$A8,Gas,CU$6,Gross,GrossYes,Economic_Sector,CN$4)/1000000 -> 0 | CV8: =SUM(CN8:CU8) -> 42.255579 | CW8: =SUMIFS(MT_CO2e_AR4_100_yr,Year,$A8,Gas,CW$6,Gross,GrossYes,Economic_Sector,CN$4)/1000000 -> 2.388445 | CX8: =SUMIFS(MT_CO2e_AR4_100_yr,Year,$A8,Gas,CX$6,Gross,GrossYes,Economic_Sector,CN$4)/1000000 -> 0.586033 | CY8: =SUMIFS(MT_CO2e_AR4_100_yr,Year,$A8,Gas,CY$6,Gross,GrossYes,Economic_Sector,CN$4)/1000000 -> 1.723486 | CZ8: =SUMIFS(MT_CO2e_AR4_100_yr,Year,$A8,Gas,CZ$6,Gross,GrossYes,Economic_Sector,CN$4)/1000000 -> 11.197762 | DA8: =SUMIFS(MT_CO2e_AR4_100_yr,Year,$A8,Gas,DA$6,Gross,GrossYes,Economic_Sector,CN$4)/1000000 -> 0 | DB8: =SUMIFS(MT_CO2e_AR4_100_yr,Year,$A8,Gas,DB$6,Gross,GrossYes,Economic_Sector,CN$4)/1000000 -> 0 | DC8: =SUMIFS(MT_CO2e_AR4_100_yr,Year,$A8,Gas,DC$6,Gross,GrossYes,Economic_Sector,CN$4)/1000000 -> 0 | DD8: =SUMIFS(MT_CO2e_AR4_100_yr,Year,$A8,Gas,DD$6,Gross,GrossYes,Economic_Sector,CN$4)/1000000 -> 0 | DE8: =SUM(CW8:DD8) -> 15.895726 | DG8: =J8/$DV8 -> 0.037758469 | DH8: =AB8/$DV8 -> 0.25515588 | DI8: =AT8/$DV8 -> 0.22850767 | DJ8: =BL8/$DV8 -> 0.12909058 | DK8: =CD8/$DV8 -> 0.24488568 | DL8: =CV8/$DV8 -> 0.10460171 | DN8: =S8/$DW8 -> 0.018736108 | DO8: =AK8/$DW8 -> 0.27051719 | DP8: =BC8/$DW8 -> 0.25619195 | DQ8: =BU8/$DW8 -> 0.11166406 | DR8: =CM8/$DW8 -> 0.29184085 | DS8: =DE8/$DW8 -> 0.051049839 | DU8: =Summary!A7 -> 1991 | DV8: =Summary!J7 -> 403.96641 | DW8: =Summary!S7 -> 311.37662
A9: 1992 | B9: =SUMIFS(MT_CO2e_AR5_20_yr,Year,$A9,Gas,B$6,Gross,GrossYes,Economic_Sector,B$4)/1000000 -> 0.148996 | C9: =SUMIFS(MT_CO2e_AR5_20_yr,Year,$A9,Gas,C$6,Gross,GrossYes,Economic_Sector,B$4)/1000000 -> 1.783352 | D9: =SUMIFS(MT_CO2e_AR5_20_yr,Year,$A9,Gas,D$6,Gross,GrossYes,Economic_Sector,B$4)/1000000 -> 0 | E9: =SUMIFS(MT_CO2e_AR5_20_yr,Year,$A9,Gas,E$6,Gross,GrossYes,Economic_Sector,B$4)/1000000 -> 13.354644 | F9: =SUMIFS(MT_CO2e_AR5_20_yr,Year,$A9,Gas,F$6,Gross,GrossYes,Economic_Sector,B$4)/1000000 -> 0 | G9: =SUMIFS(MT_CO2e_AR5_20_yr,Year,$A9,Gas,G$6,Gross,GrossYes,Economic_Sector,B$4)/1000000 -> 0 | H9: =SUMIFS(MT_CO2e_AR5_20_yr,Year,$A9,Gas,H$6,Gross,GrossYes,Economic_Sector,B$4)/1000000 -> 0 | I9: =SUMIFS(MT_CO2e_AR5_20_yr,Year,$A9,Gas,I$6,Gross,GrossYes,Economic_Sector,B$4)/1000000 -> 0 | J9: =SUM(B9:I9) -> 15.286992 | K9: =SUMIFS(MT_CO2e_AR4_100_yr,Year,$A9,Gas,K$6,Gross,GrossYes,Economic_Sector,B$4)/1000000 -> 0.148996 | L9: =SUMIFS(MT_CO2e_AR4_100_yr,Year,$A9,Gas,L$6,Gross,GrossYes,Economic_Sector,B$4)/1000000 -> 1.807518 | M9: =SUMIFS(MT_CO2e_AR4_100_yr,Year,$A9,Gas,M$6,Gross,GrossYes,Economic_Sector,B$4)/1000000 -> 0 | N9: =SUMIFS(MT_CO2e_AR4_100_yr,Year,$A9,Gas,N$6,Gross,GrossYes,Economic_Sector,B$4)/1000000 -> 3.974596 | O9: =SUMIFS(MT_CO2e_AR4_100_yr,Year,$A9,Gas,O$6,Gross,GrossYes,Economic_Sector,B$4)/1000000 -> 0 | P9: =SUMIFS(MT_CO2e_AR4_100_yr,Year,$A9,Gas,P$6,Gross,GrossYes,Economic_Sector,B$4)/1000000 -> 0 | Q9: =SUMIFS(MT_CO2e_AR4_100_yr,Year,$A9,Gas,Q$6,Gross,GrossYes,Economic_Sector,B$4)/1000000 -> 0 | R9: =SUMIFS(MT_CO2e_AR4_100_yr,Year,$A9,Gas,R$6,Gross,GrossYes,Economic_Sector,B$4)/1000000 -> 0 | S9: =SUM(K9:R9) -> 5.93111 | T9: =SUMIFS(MT_CO2e_AR5_20_yr,Year,$A9,Gas,T$6,Gross,GrossYes,Economic_Sector,T$4)/1000000 -> 76.961556 | U9: =SUMIFS(MT_CO2e_AR5_20_yr,Year,$A9,Gas,U$6,Gross,GrossYes,Economic_Sector,T$4)/1000000 -> 0.177498 | V9: =SUMIFS(MT_CO2e_AR5_20_yr,Year,$A9,Gas,V$6,Gross,GrossYes,Economic_Sector,T$4)/1000000 -> 4.787604 | W9: =SUMIFS(MT_CO2e_AR5_20_yr,Year,$A9,Gas,W$6,Gross,GrossYes,Economic_Sector,T$4)/1000000 -> 29.655337 | X9: =SUMIFS(MT_CO2e_AR5_20_yr,Year,$A9,Gas,X$6,Gross,GrossYes,Economic_Sector,T$4)/1000000 -> 0.109496 | Y9: =SUMIFS(MT_CO2e_AR5_20_yr,Year,$A9,Gas,Y$6,Gross,GrossYes,Economic_Sector,T$4)/1000000 -> 0 | Z9: =SUMIFS(MT_CO2e_AR5_20_yr,Year,$A9,Gas,Z$6,Gross,GrossYes,Economic_Sector,T$4)/1000000 -> 0 | AA9: =SUMIFS(MT_CO2e_AR5_20_yr,Year,$A9,Gas,AA$6,Gross,GrossYes,Economic_Sector,T$4)/1000000 -> 0 | AB9: =SUM(T9:AA9) -> 111.69149 | AC9: =SUMIFS(MT_CO2e_AR4_100_yr,Year,$A9,Gas,AC$6,Gross,GrossYes,Economic_Sector,T$4)/1000000 -> 76.961556 | AD9: =SUMIFS(MT_CO2e_AR4_100_yr,Year,$A9,Gas,AD$6,Gross,GrossYes,Economic_Sector,T$4)/1000000 -> 0.200356 | AE9: =SUMIFS(MT_CO2e_AR4_100_yr,Year,$A9,Gas,AE$6,Gross,GrossYes,Economic_Sector,T$4)/1000000 -> 4.787604 | AF9: =SUMIFS(MT_CO2e_AR4_100_yr,Year,$A9,Gas,AF$6,Gross,GrossYes,Economic_Sector,T$4)/1000000 -> 8.825993 | AG9: =SUMIFS(MT_CO2e_AR4_100_yr,Year,$A9,Gas,AG$6,Gross,GrossYes,Economic_Sector,T$4)/1000000 -> 0.042203 | AH9: =SUMIFS(MT_CO2e_AR4_100_yr,Year,$A9,Gas,AH$6,Gross,GrossYes,Economic_Sector,T$4)/1000000 -> 0 | AI9: =SUMIFS(MT_CO2e_AR4_100_yr,Year,$A9,Gas,AI$6,Gross,GrossYes,Economic_Sector,T$4)/1000000 -> 0 | AJ9: =SUMIFS(MT_CO2e_AR4_100_yr,Year,$A9,Gas,AJ$6,Gross,GrossYes,Economic_Sector,T$4)/1000000 -> 0 | AK9: =SUM(AC9:AJ9) -> 90.817712 | AL9: =SUMIFS(MT_CO2e_AR5_20_yr,Year,$A9,Gas,AL$6,Gross,GrossYes,Economic_Sector,AL$4)/1000000 -> 65.836164 | AM9: =SUMIFS(MT_CO2e_AR5_20_yr,Year,$A9,Gas,AM$6,Gross,GrossYes,Economic_Sector,AL$4)/1000000 -> 0.366275 | AN9: =SUMIFS(MT_CO2e_AR5_20_yr,Year,$A9,Gas,AN$6,Gross,GrossYes,Economic_Sector,AL$4)/1000000 -> 0.587903 | AO9: =SUMIFS(MT_CO2e_AR5_20_yr,Year,$A9,Gas,AO$6,Gross,GrossYes,Economic_Sector,AL$4)/1000000 -> 24.347017 | AP9: =SUMIFS(MT_CO2e_AR5_20_yr,Year,$A9,Gas,AP$6,Gross,GrossYes,Economic_Sector,AL$4)/1000000 -> 0 | AQ9: =SUMIFS(MT_CO2e_AR5_20_yr,Year,$A9,Gas,AQ$6,Gross,GrossYes,Economic_Sector,AL$4)/1000000 -> 0 | AR9: =SUMIFS(MT_CO2e_AR5_20_yr,Year,$A9,Gas,AR$6,Gross,GrossYes,Economic_Sector,AL$4)/1000000 -> 0 | AS9: =SUMIFS(MT_CO2e_AR5_20_yr,Year,$A9,Gas,AS$6,Gross,GrossYes,Economic_Sector,AL$4)/1000000 -> 3.799557 | AT9: =SUM(AL9:AS9) -> 94.936916 | AU9: =SUMIFS(MT_CO2e_AR4_100_yr,Year,$A9,Gas,AU$6,Gross,GrossYes,Economic_Sector,AL$4)/1000000 -> 65.836164 | AV9: =SUMIFS(MT_CO2e_AR4_100_yr,Year,$A9,Gas,AV$6,Gross,GrossYes,Economic_Sector,AL$4)/1000000 -> 0.413446 | AW9: =SUMIFS(MT_CO2e_AR4_100_yr,Year,$A9,Gas,AW$6,Gross,GrossYes,Economic_Sector,AL$4)/1000000 -> 0.587903 | AX9: =SUMIFS(MT_CO2e_AR4_100_yr,Year,$A9,Gas,AX$6,Gross,GrossYes,Economic_Sector,AL$4)/1000000 -> 7.246137 | AY9: =SUMIFS(MT_CO2e_AR4_100_yr,Year,$A9,Gas,AY$6,Gross,GrossYes,Economic_Sector,AL$4)/1000000 -> 0 | AZ9: =SUMIFS(MT_CO2e_AR4_100_yr,Year,$A9,Gas,AZ$6,Gross,GrossYes,Economic_Sector,AL$4)/1000000 -> 0 | BA9: =SUMIFS(MT_CO2e_AR4_100_yr,Year,$A9,Gas,BA$6,Gross,GrossYes,Economic_Sector,AL$4)/1000000 -> 0 | BB9: =SUMIFS(MT_CO2e_AR4_100_yr,Year,$A9,Gas,BB$6,Gross,GrossYes,Economic_Sector,AL$4)/1000000 -> 4.95028 | BC9: =SUM(AU9:BB9) -> 79.03393 | BD9: =SUMIFS(MT_CO2e_AR5_20_yr,Year,$A9,Gas,BD$6,Gross,GrossYes,Economic_Sector,BD$4)/1000000 -> 25.894442 | BE9: =SUMIFS(MT_CO2e_AR5_20_yr,Year,$A9,Gas,BE$6,Gross,GrossYes,Economic_Sector,BD$4)/1000000 -> 0.076401 | BF9: =SUMIFS(MT_CO2e_AR5_20_yr,Year,$A9,Gas,BF$6,Gross,GrossYes,Economic_Sector,BD$4)/1000000 -> 1.799049 | BG9: =SUMIFS(MT_CO2e_AR5_20_yr,Year,$A9,Gas,BG$6,Gross,GrossYes,Economic_Sector,BD$4)/1000000 -> 27.227765 | BH9: =SUMIFS(MT_CO2e_AR5_20_yr,Year,$A9,Gas,BH$6,Gross,GrossYes,Economic_Sector,BD$4)/1000000 -> 0.002158 | BI9: =SUMIFS(MT_CO2e_AR5_20_yr,Year,$A9,Gas,BI$6,Gross,GrossYes,Economic_Sector,BD$4)/1000000 -> 0.000489 | BJ9: =SUMIFS(MT_CO2e_AR5_20_yr,Year,$A9,Gas,BJ$6,Gross,GrossYes,Economic_Sector,BD$4)/1000000 -> 0.68388 | BK9: =SUMIFS(MT_CO2e_AR5_20_yr,Year,$A9,Gas,BK$6,Gross,GrossYes,Economic_Sector,BD$4)/1000000 -> 0.005216 | BL9: =SUM(BD9:BK9) -> 55.6894 | BM9: =SUMIFS(MT_CO2e_AR4_100_yr,Year,$A9,Gas,BM$6,Gross,GrossYes,Economic_Sector,BD$4)/1000000 -> 25.894442 | BN9: =SUMIFS(MT_CO2e_AR4_100_yr,Year,$A9,Gas,BN$6,Gross,GrossYes,Economic_Sector,BD$4)/1000000 -> 0.086241 | BO9: =SUMIFS(MT_CO2e_AR4_100_yr,Year,$A9,Gas,BO$6,Gross,GrossYes,Economic_Sector,BD$4)/1000000 -> 1.799049 | BP9: =SUMIFS(MT_CO2e_AR4_100_yr,Year,$A9,Gas,BP$6,Gross,GrossYes,Economic_Sector,BD$4)/1000000 -> 8.103502 | BQ9: =SUMIFS(MT_CO2e_AR4_100_yr,Year,$A9,Gas,BQ$6,Gross,GrossYes,Economic_Sector,BD$4)/1000000 -> 0.002957 | BR9: =SUMIFS(MT_CO2e_AR4_100_yr,Year,$A9,Gas,BR$6,Gross,GrossYes,Economic_Sector,BD$4)/1000000 -> 0.000657 | BS9: =SUMIFS(MT_CO2e_AR4_100_yr,Year,$A9,Gas,BS$6,Gross,GrossYes,Economic_Sector,BD$4)/1000000 -> 1.031942 | BT9: =SUMIFS(MT_CO2e_AR4_100_yr,Year,$A9,Gas,BT$6,Gross,GrossYes,Economic_Sector,BD$4)/1000000 -> 0.006795 | BU9: =SUM(BM9:BT9) -> 36.925585 | BV9: =SUMIFS(MT_CO2e_AR5_20_yr,Year,$A9,Gas,BV$6,Gross,GrossYes,Economic_Sector,BV$4)/1000000 -> 88.242163 | BW9: =SUMIFS(MT_CO2e_AR5_20_yr,Year,$A9,Gas,BW$6,Gross,GrossYes,Economic_Sector,BV$4)/1000000 -> 0.827357 | BX9: =SUMIFS(MT_CO2e_AR5_20_yr,Year,$A9,Gas,BX$6,Gross,GrossYes,Economic_Sector,BV$4)/1000000 -> 0 | BY9: =SUMIFS(MT_CO2e_AR5_20_yr,Year,$A9,Gas,BY$6,Gross,GrossYes,Economic_Sector,BV$4)/1000000 -> 11.784626 | BZ9: =SUMIFS(MT_CO2e_AR5_20_yr,Year,$A9,Gas,BZ$6,Gross,GrossYes,Economic_Sector,BV$4)/1000000 -> 0 | CA9: =SUMIFS(MT_CO2e_AR5_20_yr,Year,$A9,Gas,CA$6,Gross,GrossYes,Economic_Sector,BV$4)/1000000 -> 0 | CB9: =SUMIFS(MT_CO2e_AR5_20_yr,Year,$A9,Gas,CB$6,Gross,GrossYes,Economic_Sector,BV$4)/1000000 -> 0 | CC9: =SUMIFS(MT_CO2e_AR5_20_yr,Year,$A9,Gas,CC$6,Gross,GrossYes,Economic_Sector,BV$4)/1000000 -> 0 | CD9: =SUM(BV9:CC9) -> 100.85415 | CE9: =SUMIFS(MT_CO2e_AR4_100_yr,Year,$A9,Gas,CE$6,Gross,GrossYes,Economic_Sector,BV$4)/1000000 -> 88.242163 | CF9: =SUMIFS(MT_CO2e_AR4_100_yr,Year,$A9,Gas,CF$6,Gross,GrossYes,Economic_Sector,BV$4)/1000000 -> 0.933907 | CG9: =SUMIFS(MT_CO2e_AR4_100_yr,Year,$A9,Gas,CG$6,Gross,GrossYes,Economic_Sector,BV$4)/1000000 -> 0 | CH9: =SUMIFS(MT_CO2e_AR4_100_yr,Year,$A9,Gas,CH$6,Gross,GrossYes,Economic_Sector,BV$4)/1000000 -> 3.507329 | CI9: =SUMIFS(MT_CO2e_AR4_100_yr,Year,$A9,Gas,CI$6,Gross,GrossYes,Economic_Sector,BV$4)/1000000 -> 0 | CJ9: =SUMIFS(MT_CO2e_AR4_100_yr,Year,$A9,Gas,CJ$6,Gross,GrossYes,Economic_Sector,BV$4)/1000000 -> 0 | CK9: =SUMIFS(MT_CO2e_AR4_100_yr,Year,$A9,Gas,CK$6,Gross,GrossYes,Economic_Sector,BV$4)/1000000 -> 0 | CL9: =SUMIFS(MT_CO2e_AR4_100_yr,Year,$A9,Gas,CL$6,Gross,GrossYes,Economic_Sector,BV$4)/1000000 -> 0 | CM9: =SUM(CE9:CL9) -> 92.683399 | CN9: =SUMIFS(MT_CO2e_AR5_20_yr,Year,$A9,Gas,CN$6,Gross,GrossYes,Economic_Sector,CN$4)/1000000 -> 2.564855 | CO9: =SUMIFS(MT_CO2e_AR5_20_yr,Year,$A9,Gas,CO$6,Gross,GrossYes,Economic_Sector,CN$4)/1000000 -> 0.526663 | CP9: =SUMIFS(MT_CO2e_AR5_20_yr,Year,$A9,Gas,CP$6,Gross,GrossYes,Economic_Sector,CN$4)/1000000 -> 1.895106 | CQ9: =SUMIFS(MT_CO2e_AR5_20_yr,Year,$A9,Gas,CQ$6,Gross,GrossYes,Economic_Sector,CN$4)/1000000 -> 38.770628 | CR9: =SUMIFS(MT_CO2e_AR5_20_yr,Year,$A9,Gas,CR$6,Gross,GrossYes,Economic_Sector,CN$4)/1000000 -> 0 | CS9: =SUMIFS(MT_CO2e_AR5_20_yr,Year,$A9,Gas,CS$6,Gross,GrossYes,Economic_Sector,CN$4)/1000000 -> 0 | CT9: =SUMIFS(MT_CO2e_AR5_20_yr,Year,$A9,Gas,CT$6,Gross,GrossYes,Economic_Sector,CN$4)/1000000 -> 0 | CU9: =SUMIFS(MT_CO2e_AR5_20_yr,Year,$A9,Gas,CU$6,Gross,GrossYes,Economic_Sector,CN$4)/1000000 -> 0 | CV9: =SUM(CN9:CU9) -> 43.757252 | CW9: =SUMIFS(MT_CO2e_AR4_100_yr,Year,$A9,Gas,CW$6,Gross,GrossYes,Economic_Sector,CN$4)/1000000 -> 2.564855 | CX9: =SUMIFS(MT_CO2e_AR4_100_yr,Year,$A9,Gas,CX$6,Gross,GrossYes,Economic_Sector,CN$4)/1000000 -> 0.594491 | CY9: =SUMIFS(MT_CO2e_AR4_100_yr,Year,$A9,Gas,CY$6,Gross,GrossYes,Economic_Sector,CN$4)/1000000 -> 1.895106 | CZ9: =SUMIFS(MT_CO2e_AR4_100_yr,Year,$A9,Gas,CZ$6,Gross,GrossYes,Economic_Sector,CN$4)/1000000 -> 11.538878 | DA9: =SUMIFS(MT_CO2e_AR4_100_yr,Year,$A9,Gas,DA$6,Gross,GrossYes,Economic_Sector,CN$4)/1000000 -> 0 | DB9: =SUMIFS(MT_CO2e_AR4_100_yr,Year,$A9,Gas,DB$6,Gross,GrossYes,Economic_Sector,CN$4)/1000000 -> 0 | DC9: =SUMIFS(MT_CO2e_AR4_100_yr,Year,$A9,Gas,DC$6,Gross,GrossYes,Economic_Sector,CN$4)/1000000 -> 0 | DD9: =SUMIFS(MT_CO2e_AR4_100_yr,Year,$A9,Gas,DD$6,Gross,GrossYes,Economic_Sector,CN$4)/1000000 -> 0 | DE9: =SUM(CW9:DD9) -> 16.59333 | DG9: =J9/$DV9 -> 0.03620655 | DH9: =AB9/$DV9 -> 0.26453625 | DI9: =AT9/$DV9 -> 0.2248538 | DJ9: =BL9/$DV9 -> 0.13189783 | DK9: =CD9/$DV9 -> 0.23886849 | DL9: =CV9/$DV9 -> 0.10363708 | DN9: =S9/$DW9 -> 0.018420451 | DO9: =AK9/$DW9 -> 0.28205567 | DP9: =BC9/$DW9 -> 0.24545837 | DQ9: =BU9/$DW9 -> 0.11468105 | DR9: =CM9/$DW9 -> 0.28784999 | DS9: =DE9/$DW9 -> 0.051534471 | DU9: =Summary!A8 -> 1992 | DV9: =Summary!J8 -> 422.2162 | DW9: =Summary!S8 -> 321.98507
A10: 1993 | B10: =SUMIFS(MT_CO2e_AR5_20_yr,Year,$A10,Gas,B$6,Gross,GrossYes,Economic_Sector,B$4)/1000000 -> 0.1544 | C10: =SUMIFS(MT_CO2e_AR5_20_yr,Year,$A10,Gas,C$6,Gross,GrossYes,Economic_Sector,B$4)/1000000 -> 1.773245 | D10: =SUMIFS(MT_CO2e_AR5_20_yr,Year,$A10,Gas,D$6,Gross,GrossYes,Economic_Sector,B$4)/1000000 -> 0 | E10: =SUMIFS(MT_CO2e_AR5_20_yr,Year,$A10,Gas,E$6,Gross,GrossYes,Economic_Sector,B$4)/1000000 -> 13.404388 | F10: =SUMIFS(MT_CO2e_AR5_20_yr,Year,$A10,Gas,F$6,Gross,GrossYes,Economic_Sector,B$4)/1000000 -> 0 | G10: =SUMIFS(MT_CO2e_AR5_20_yr,Year,$A10,Gas,G$6,Gross,GrossYes,Economic_Sector,B$4)/1000000 -> 0 | H10: =SUMIFS(MT_CO2e_AR5_20_yr,Year,$A10,Gas,H$6,Gross,GrossYes,Economic_Sector,B$4)/1000000 -> 0 | I10: =SUMIFS(MT_CO2e_AR5_20_yr,Year,$A10,Gas,I$6,Gross,GrossYes,Economic_Sector,B$4)/1000000 -> 0 | J10: =SUM(B10:I10) -> 15.332033 | K10: =SUMIFS(MT_CO2e_AR4_100_yr,Year,$A10,Gas,K$6,Gross,GrossYes,Economic_Sector,B$4)/1000000 -> 0.1544 | L10: =SUMIFS(MT_CO2e_AR4_100_yr,Year,$A10,Gas,L$6,Gross,GrossYes,Economic_Sector,B$4)/1000000 -> 1.797286 | M10: =SUMIFS(MT_CO2e_AR4_100_yr,Year,$A10,Gas,M$6,Gross,GrossYes,Economic_Sector,B$4)/1000000 -> 0 | N10: =SUMIFS(MT_CO2e_AR4_100_yr,Year,$A10,Gas,N$6,Gross,GrossYes,Economic_Sector,B$4)/1000000 -> 3.989401 | O10: =SUMIFS(MT_CO2e_AR4_100_yr,Year,$A10,Gas,O$6,Gross,GrossYes,Economic_Sector,B$4)/1000000 -> 0 | P10: =SUMIFS(MT_CO2e_AR4_100_yr,Year,$A10,Gas,P$6,Gross,GrossYes,Economic_Sector,B$4)/1000000 -> 0 | Q10: =SUMIFS(MT_CO2e_AR4_100_yr,Year,$A10,Gas,Q$6,Gross,GrossYes,Economic_Sector,B$4)/1000000 -> 0 | R10: =SUMIFS(MT_CO2e_AR4_100_yr,Year,$A10,Gas,R$6,Gross,GrossYes,Economic_Sector,B$4)/1000000 -> 0 | S10: =SUM(K10:R10) -> 5.941087 | T10: =SUMIFS(MT_CO2e_AR5_20_yr,Year,$A10,Gas,T$6,Gross,GrossYes,Economic_Sector,T$4)/1000000 -> 77.29456 | U10: =SUMIFS(MT_CO2e_AR5_20_yr,Year,$A10,Gas,U$6,Gross,GrossYes,Economic_Sector,T$4)/1000000 -> 0.195497 | V10: =SUMIFS(MT_CO2e_AR5_20_yr,Year,$A10,Gas,V$6,Gross,GrossYes,Economic_Sector,T$4)/1000000 -> 6.45605 | W10: =SUMIFS(MT_CO2e_AR5_20_yr,Year,$A10,Gas,W$6,Gross,GrossYes,Economic_Sector,T$4)/1000000 -> 30.674131 | X10: =SUMIFS(MT_CO2e_AR5_20_yr,Year,$A10,Gas,X$6,Gross,GrossYes,Economic_Sector,T$4)/1000000 -> 0.115448 | Y10: =SUMIFS(MT_CO2e_AR5_20_yr,Year,$A10,Gas,Y$6,Gross,GrossYes,Economic_Sector,T$4)/1000000 -> 0 | Z10: =SUMIFS(MT_CO2e_AR5_20_yr,Year,$A10,Gas,Z$6,Gross,GrossYes,Economic_Sector,T$4)/1000000 -> 0 | AA10: =SUMIFS(MT_CO2e_AR5_20_yr,Year,$A10,Gas,AA$6,Gross,GrossYes,Economic_Sector,T$4)/1000000 -> 0 | AB10: =SUM(T10:AA10) -> 114.73569 | AC10: =SUMIFS(MT_CO2e_AR4_100_yr,Year,$A10,Gas,AC$6,Gross,GrossYes,Economic_Sector,T$4)/1000000 -> 77.29456 | AD10: =SUMIFS(MT_CO2e_AR4_100_yr,Year,$A10,Gas,AD$6,Gross,GrossYes,Economic_Sector,T$4)/1000000 -> 0.220672 | AE10: =SUMIFS(MT_CO2e_AR4_100_yr,Year,$A10,Gas,AE$6,Gross,GrossYes,Economic_Sector,T$4)/1000000 -> 6.45605 | AF10: =SUMIFS(MT_CO2e_AR4_100_yr,Year,$A10,Gas,AF$6,Gross,GrossYes,Economic_Sector,T$4)/1000000 -> 9.129205 | AG10: =SUMIFS(MT_CO2e_AR4_100_yr,Year,$A10,Gas,AG$6,Gross,GrossYes,Economic_Sector,T$4)/1000000 -> 0.044498 | AH10: =SUMIFS(MT_CO2e_AR4_100_yr,Year,$A10,Gas,AH$6,Gross,GrossYes,Economic_Sector,T$4)/1000000 -> 0 | AI10: =SUMIFS(MT_CO2e_AR4_100_yr,Year,$A10,Gas,AI$6,Gross,GrossYes,Economic_Sector,T$4)/1000000 -> 0 | AJ10: =SUMIFS(MT_CO2e_AR4_100_yr,Year,$A10,Gas,AJ$6,Gross,GrossYes,Economic_Sector,T$4)/1000000 -> 0 | AK10: =SUM(AC10:AJ10) -> 93.144985 | AL10: =SUMIFS(MT_CO2e_AR5_20_yr,Year,$A10,Gas,AL$6,Gross,GrossYes,Economic_Sector,AL$4)/1000000 -> 61.041448 | AM10: =SUMIFS(MT_CO2e_AR5_20_yr,Year,$A10,Gas,AM$6,Gross,GrossYes,Economic_Sector,AL$4)/1000000 -> 0.332896 | AN10: =SUMIFS(MT_CO2e_AR5_20_yr,Year,$A10,Gas,AN$6,Gross,GrossYes,Economic_Sector,AL$4)/1000000 -> 0.567119 | AO10: =SUMIFS(MT_CO2e_AR5_20_yr,Year,$A10,Gas,AO$6,Gross,GrossYes,Economic_Sector,AL$4)/1000000 -> 24.310848 | AP10: =SUMIFS(MT_CO2e_AR5_20_yr,Year,$A10,Gas,AP$6,Gross,GrossYes,Economic_Sector,AL$4)/1000000 -> 0 | AQ10: =SUMIFS(MT_CO2e_AR5_20_yr,Year,$A10,Gas,AQ$6,Gross,GrossYes,Economic_Sector,AL$4)/1000000 -> 0 | AR10: =SUMIFS(MT_CO2e_AR5_20_yr,Year,$A10,Gas,AR$6,Gross,GrossYes,Economic_Sector,AL$4)/1000000 -> 0 | AS10: =SUMIFS(MT_CO2e_AR5_20_yr,Year,$A10,Gas,AS$6,Gross,GrossYes,Economic_Sector,AL$4)/1000000 -> 3.669107 | AT10: =SUM(AL10:AS10) -> 89.921418 | AU10: =SUMIFS(MT_CO2e_AR4_100_yr,Year,$A10,Gas,AU$6,Gross,GrossYes,Economic_Sector,AL$4)/1000000 -> 61.041448 | AV10: =SUMIFS(MT_CO2e_AR4_100_yr,Year,$A10,Gas,AV$6,Gross,GrossYes,Economic_Sector,AL$4)/1000000 -> 0.375768 | AW10: =SUMIFS(MT_CO2e_AR4_100_yr,Year,$A10,Gas,AW$6,Gross,GrossYes,Economic_Sector,AL$4)/1000000 -> 0.567119 | AX10: =SUMIFS(MT_CO2e_AR4_100_yr,Year,$A10,Gas,AX$6,Gross,GrossYes,Economic_Sector,AL$4)/1000000 -> 7.235371 | AY10: =SUMIFS(MT_CO2e_AR4_100_yr,Year,$A10,Gas,AY$6,Gross,GrossYes,Economic_Sector,AL$4)/1000000 -> 0 | AZ10: =SUMIFS(MT_CO2e_AR4_100_yr,Year,$A10,Gas,AZ$6,Gross,GrossYes,Economic_Sector,AL$4)/1000000 -> 0 | BA10: =SUMIFS(MT_CO2e_AR4_100_yr,Year,$A10,Gas,BA$6,Gross,GrossYes,Economic_Sector,AL$4)/1000000 -> 0 | BB10: =SUMIFS(MT_CO2e_AR4_100_yr,Year,$A10,Gas,BB$6,Gross,GrossYes,Economic_Sector,AL$4)/1000000 -> 4.780322 | BC10: =SUM(AU10:BB10) -> 74.000028 | BD10: =SUMIFS(MT_CO2e_AR5_20_yr,Year,$A10,Gas,BD$6,Gross,GrossYes,Economic_Sector,BD$4)/1000000 -> 25.658389 | BE10: =SUMIFS(MT_CO2e_AR5_20_yr,Year,$A10,Gas,BE$6,Gross,GrossYes,Economic_Sector,BD$4)/1000000 -> 0.065455 | BF10: =SUMIFS(MT_CO2e_AR5_20_yr,Year,$A10,Gas,BF$6,Gross,GrossYes,Economic_Sector,BD$4)/1000000 -> 1.767509 | BG10: =SUMIFS(MT_CO2e_AR5_20_yr,Year,$A10,Gas,BG$6,Gross,GrossYes,Economic_Sector,BD$4)/1000000 -> 27.197214 | BH10: =SUMIFS(MT_CO2e_AR5_20_yr,Year,$A10,Gas,BH$6,Gross,GrossYes,Economic_Sector,BD$4)/1000000 -> 0.002697 | BI10: =SUMIFS(MT_CO2e_AR5_20_yr,Year,$A10,Gas,BI$6,Gross,GrossYes,Economic_Sector,BD$4)/1000000 -> 0.000611 | BJ10: =SUMIFS(MT_CO2e_AR5_20_yr,Year,$A10,Gas,BJ$6,Gross,GrossYes,Economic_Sector,BD$4)/1000000 -> 0.663174 | BK10: =SUMIFS(MT_CO2e_AR5_20_yr,Year,$A10,Gas,BK$6,Gross,GrossYes,Economic_Sector,BD$4)/1000000 -> 0.00652 | BL10: =SUM(BD10:BK10) -> 55.361569 | BM10: =SUMIFS(MT_CO2e_AR4_100_yr,Year,$A10,Gas,BM$6,Gross,GrossYes,Economic_Sector,BD$4)/1000000 -> 25.658389 | BN10: =SUMIFS(MT_CO2e_AR4_100_yr,Year,$A10,Gas,BN$6,Gross,GrossYes,Economic_Sector,BD$4)/1000000 -> 0.073887 | BO10: =SUMIFS(MT_CO2e_AR4_100_yr,Year,$A10,Gas,BO$6,Gross,GrossYes,Economic_Sector,BD$4)/1000000 -> 1.767509 | BP10: =SUMIFS(MT_CO2e_AR4_100_yr,Year,$A10,Gas,BP$6,Gross,GrossYes,Economic_Sector,BD$4)/1000000 -> 8.094411 | BQ10: =SUMIFS(MT_CO2e_AR4_100_yr,Year,$A10,Gas,BQ$6,Gross,GrossYes,Economic_Sector,BD$4)/1000000 -> 0.003696 | BR10: =SUMIFS(MT_CO2e_AR4_100_yr,Year,$A10,Gas,BR$6,Gross,GrossYes,Economic_Sector,BD$4)/1000000 -> 0.000821 | BS10: =SUMIFS(MT_CO2e_AR4_100_yr,Year,$A10,Gas,BS$6,Gross,GrossYes,Economic_Sector,BD$4)/1000000 -> 1.000691 | BT10: =SUMIFS(MT_CO2e_AR4_100_yr,Year,$A10,Gas,BT$6,Gross,GrossYes,Economic_Sector,BD$4)/1000000 -> 0.008494 | BU10: =SUM(BM10:BT10) -> 36.607898 | BV10: =SUMIFS(MT_CO2e_AR5_20_yr,Year,$A10,Gas,BV$6,Gross,GrossYes,Economic_Sector,BV$4)/1000000 -> 89.712592 | BW10: =SUMIFS(MT_CO2e_AR5_20_yr,Year,$A10,Gas,BW$6,Gross,GrossYes,Economic_Sector,BV$4)/1000000 -> 0.820728 | BX10: =SUMIFS(MT_CO2e_AR5_20_yr,Year,$A10,Gas,BX$6,Gross,GrossYes,Economic_Sector,BV$4)/1000000 -> 0.021279 | BY10: =SUMIFS(MT_CO2e_AR5_20_yr,Year,$A10,Gas,BY$6,Gross,GrossYes,Economic_Sector,BV$4)/1000000 -> 11.934505 | BZ10: =SUMIFS(MT_CO2e_AR5_20_yr,Year,$A10,Gas,BZ$6,Gross,GrossYes,Economic_Sector,BV$4)/1000000 -> 0 | CA10: =SUMIFS(MT_CO2e_AR5_20_yr,Year,$A10,Gas,CA$6,Gross,GrossYes,Economic_Sector,BV$4)/1000000 -> 0 | CB10: =SUMIFS(MT_CO2e_AR5_20_yr,Year,$A10,Gas,CB$6,Gross,GrossYes,Economic_Sector,BV$4)/1000000 -> 0 | CC10: =SUMIFS(MT_CO2e_AR5_20_yr,Year,$A10,Gas,CC$6,Gross,GrossYes,Economic_Sector,BV$4)/1000000 -> 0 | CD10: =SUM(BV10:CC10) -> 102.4891 | CE10: =SUMIFS(MT_CO2e_AR4_100_yr,Year,$A10,Gas,CE$6,Gross,GrossYes,Economic_Sector,BV$4)/1000000 -> 89.712592 | CF10: =SUMIFS(MT_CO2e_AR4_100_yr,Year,$A10,Gas,CF$6,Gross,GrossYes,Economic_Sector,BV$4)/1000000 -> 0.926427 | CG10: =SUMIFS(MT_CO2e_AR4_100_yr,Year,$A10,Gas,CG$6,Gross,GrossYes,Economic_Sector,BV$4)/1000000 -> 0.021279 | CH10: =SUMIFS(MT_CO2e_AR4_100_yr,Year,$A10,Gas,CH$6,Gross,GrossYes,Economic_Sector,BV$4)/1000000 -> 3.551936 | CI10: =SUMIFS(MT_CO2e_AR4_100_yr,Year,$A10,Gas,CI$6,Gross,GrossYes,Economic_Sector,BV$4)/1000000 -> 0 | CJ10: =SUMIFS(MT_CO2e_AR4_100_yr,Year,$A10,Gas,CJ$6,Gross,GrossYes,Economic_Sector,BV$4)/1000000 -> 0 | CK10: =SUMIFS(MT_CO2e_AR4_100_yr,Year,$A10,Gas,CK$6,Gross,GrossYes,Economic_Sector,BV$4)/1000000 -> 0 | CL10: =SUMIFS(MT_CO2e_AR4_100_yr,Year,$A10,Gas,CL$6,Gross,GrossYes,Economic_Sector,BV$4)/1000000 -> 0 | CM10: =SUM(CE10:CL10) -> 94.212234 | CN10: =SUMIFS(MT_CO2e_AR5_20_yr,Year,$A10,Gas,CN$6,Gross,GrossYes,Economic_Sector,CN$4)/1000000 -> 2.404622 | CO10: =SUMIFS(MT_CO2e_AR5_20_yr,Year,$A10,Gas,CO$6,Gross,GrossYes,Economic_Sector,CN$4)/1000000 -> 0.526315 | CP10: =SUMIFS(MT_CO2e_AR5_20_yr,Year,$A10,Gas,CP$6,Gross,GrossYes,Economic_Sector,CN$4)/1000000 -> 1.791088 | CQ10: =SUMIFS(MT_CO2e_AR5_20_yr,Year,$A10,Gas,CQ$6,Gross,GrossYes,Economic_Sector,CN$4)/1000000 -> 38.841583 | CR10: =SUMIFS(MT_CO2e_AR5_20_yr,Year,$A10,Gas,CR$6,Gross,GrossYes,Economic_Sector,CN$4)/1000000 -> 0 | CS10: =SUMIFS(MT_CO2e_AR5_20_yr,Year,$A10,Gas,CS$6,Gross,GrossYes,Economic_Sector,CN$4)/1000000 -> 0 | CT10: =SUMIFS(MT_CO2e_AR5_20_yr,Year,$A10,Gas,CT$6,Gross,GrossYes,Economic_Sector,CN$4)/1000000 -> 0 | CU10: =SUMIFS(MT_CO2e_AR5_20_yr,Year,$A10,Gas,CU$6,Gross,GrossYes,Economic_Sector,CN$4)/1000000 -> 0 | CV10: =SUM(CN10:CU10) -> 43.563608 | CW10: =SUMIFS(MT_CO2e_AR4_100_yr,Year,$A10,Gas,CW$6,Gross,GrossYes,Economic_Sector,CN$4)/1000000 -> 2.404622 | CX10: =SUMIFS(MT_CO2e_AR4_100_yr,Year,$A10,Gas,CX$6,Gross,GrossYes,Economic_Sector,CN$4)/1000000 -> 0.594097 | CY10: =SUMIFS(MT_CO2e_AR4_100_yr,Year,$A10,Gas,CY$6,Gross,GrossYes,Economic_Sector,CN$4)/1000000 -> 1.791088 | CZ10: =SUMIFS(MT_CO2e_AR4_100_yr,Year,$A10,Gas,CZ$6,Gross,GrossYes,Economic_Sector,CN$4)/1000000 -> 11.559995 | DA10: =SUMIFS(MT_CO2e_AR4_100_yr,Year,$A10,Gas,DA$6,Gross,GrossYes,Economic_Sector,CN$4)/1000000 -> 0 | DB10: =SUMIFS(MT_CO2e_AR4_100_yr,Year,$A10,Gas,DB$6,Gross,GrossYes,Economic_Sector,CN$4)/1000000 -> 0 | DC10: =SUMIFS(MT_CO2e_AR4_100_yr,Year,$A10,Gas,DC$6,Gross,GrossYes,Economic_Sector,CN$4)/1000000 -> 0 | DD10: =SUMIFS(MT_CO2e_AR4_100_yr,Year,$A10,Gas,DD$6,Gross,GrossYes,Economic_Sector,CN$4)/1000000 -> 0 | DE10: =SUM(CW10:DD10) -> 16.349802 | DG10: =J10/$DV10 -> 0.036383267 | DH10: =AB10/$DV10 -> 0.27227042 | DI10: =AT10/$DV10 -> 0.21338559 | DJ10: =BL10/$DV10 -> 0.13137428 | DK10: =CD10/$DV10 -> 0.243209 | DL10: =CV10/$DV10 -> 0.10337744 | DN10: =S10/$DW10 -> 0.018551054 | DO10: =AK10/$DW10 -> 0.29084537 | DP10: =BC10/$DW10 -> 0.23106521 | DQ10: =BU10/$DW10 -> 0.11430822 | DR10: =CM10/$DW10 -> 0.29417786 | DS10: =DE10/$DW10 -> 0.051052284 | DU10: =Summary!A9 -> 1993 | DV10: =Summary!J9 -> 421.40342 | DW10: =Summary!S9 -> 320.25603
A11: 1994 | B11: =SUMIFS(MT_CO2e_AR5_20_yr,Year,$A11,Gas,B$6,Gross,GrossYes,Economic_Sector,B$4)/1000000 -> 0.154111 | C11: =SUMIFS(MT_CO2e_AR5_20_yr,Year,$A11,Gas,C$6,Gross,GrossYes,Economic_Sector,B$4)/1000000 -> 1.935267 | D11: =SUMIFS(MT_CO2e_AR5_20_yr,Year,$A11,Gas,D$6,Gross,GrossYes,Economic_Sector,B$4)/1000000 -> 0 | E11: =SUMIFS(MT_CO2e_AR5_20_yr,Year,$A11,Gas,E$6,Gross,GrossYes,Economic_Sector,B$4)/1000000 -> 13.128996 | F11: =SUMIFS(MT_CO2e_AR5_20_yr,Year,$A11,Gas,F$6,Gross,GrossYes,Economic_Sector,B$4)/1000000 -> 0 | G11: =SUMIFS(MT_CO2e_AR5_20_yr,Year,$A11,Gas,G$6,Gross,GrossYes,Economic_Sector,B$4)/1000000 -> 0 | H11: =SUMIFS(MT_CO2e_AR5_20_yr,Year,$A11,Gas,H$6,Gross,GrossYes,Economic_Sector,B$4)/1000000 -> 0 | I11: =SUMIFS(MT_CO2e_AR5_20_yr,Year,$A11,Gas,I$6,Gross,GrossYes,Economic_Sector,B$4)/1000000 -> 0 | J11: =SUM(B11:I11) -> 15.218374 | K11: =SUMIFS(MT_CO2e_AR4_100_yr,Year,$A11,Gas,K$6,Gross,GrossYes,Economic_Sector,B$4)/1000000 -> 0.154111 | L11: =SUMIFS(MT_CO2e_AR4_100_yr,Year,$A11,Gas,L$6,Gross,GrossYes,Economic_Sector,B$4)/1000000 -> 1.958925 | M11: =SUMIFS(MT_CO2e_AR4_100_yr,Year,$A11,Gas,M$6,Gross,GrossYes,Economic_Sector,B$4)/1000000 -> 0 | N11: =SUMIFS(MT_CO2e_AR4_100_yr,Year,$A11,Gas,N$6,Gross,GrossYes,Economic_Sector,B$4)/1000000 -> 3.907439 | O11: =SUMIFS(MT_CO2e_AR4_100_yr,Year,$A11,Gas,O$6,Gross,GrossYes,Economic_Sector,B$4)/1000000 -> 0 | P11: =SUMIFS(MT_CO2e_AR4_100_yr,Year,$A11,Gas,P$6,Gross,GrossYes,Economic_Sector,B$4)/1000000 -> 0 | Q11: =SUMIFS(MT_CO2e_AR4_100_yr,Year,$A11,Gas,Q$6,Gross,GrossYes,Economic_Sector,B$4)/1000000 -> 0 | R11: =SUMIFS(MT_CO2e_AR4_100_yr,Year,$A11,Gas,R$6,Gross,GrossYes,Economic_Sector,B$4)/1000000 -> 0 | S11: =SUM(K11:R11) -> 6.020475 | T11: =SUMIFS(MT_CO2e_AR5_20_yr,Year,$A11,Gas,T$6,Gross,GrossYes,Economic_Sector,T$4)/1000000 -> 76.213912 | U11: =SUMIFS(MT_CO2e_AR5_20_yr,Year,$A11,Gas,U$6,Gross,GrossYes,Economic_Sector,T$4)/1000000 -> 0.188972 | V11: =SUMIFS(MT_CO2e_AR5_20_yr,Year,$A11,Gas,V$6,Gross,GrossYes,Economic_Sector,T$4)/1000000 -> 6.13445 | W11: =SUMIFS(MT_CO2e_AR5_20_yr,Year,$A11,Gas,W$6,Gross,GrossYes,Economic_Sector,T$4)/1000000 -> 30.772486 | X11: =SUMIFS(MT_CO2e_AR5_20_yr,Year,$A11,Gas,X$6,Gross,GrossYes,Economic_Sector,T$4)/1000000 -> 0.26847 | Y11: =SUMIFS(MT_CO2e_AR5_20_yr,Year,$A11,Gas,Y$6,Gross,GrossYes,Economic_Sector,T$4)/1000000 -> 0 | Z11: =SUMIFS(MT_CO2e_AR5_20_yr,Year,$A11,Gas,Z$6,Gross,GrossYes,Economic_Sector,T$4)/1000000 -> 0 | AA11: =SUMIFS(MT_CO2e_AR5_20_yr,Year,$A11,Gas,AA$6,Gross,GrossYes,Economic_Sector,T$4)/1000000 -> 0 | AB11: =SUM(T11:AA11) -> 113.57829 | AC11: =SUMIFS(MT_CO2e_AR4_100_yr,Year,$A11,Gas,AC$6,Gross,GrossYes,Economic_Sector,T$4)/1000000 -> 76.213912 | AD11: =SUMIFS(MT_CO2e_AR4_100_yr,Year,$A11,Gas,AD$6,Gross,GrossYes,Economic_Sector,T$4)/1000000 -> 0.213312 | AE11: =SUMIFS(MT_CO2e_AR4_100_yr,Year,$A11,Gas,AE$6,Gross,GrossYes,Economic_Sector,T$4)/1000000 -> 6.13445 | AF11: =SUMIFS(MT_CO2e_AR4_100_yr,Year,$A11,Gas,AF$6,Gross,GrossYes,Economic_Sector,T$4)/1000000 -> 9.158478 | AG11: =SUMIFS(MT_CO2e_AR4_100_yr,Year,$A11,Gas,AG$6,Gross,GrossYes,Economic_Sector,T$4)/1000000 -> 0.103686 | AH11: =SUMIFS(MT_CO2e_AR4_100_yr,Year,$A11,Gas,AH$6,Gross,GrossYes,Economic_Sector,T$4)/1000000 -> 0 | AI11: =SUMIFS(MT_CO2e_AR4_100_yr,Year,$A11,Gas,AI$6,Gross,GrossYes,Economic_Sector,T$4)/1000000 -> 0 | AJ11: =SUMIFS(MT_CO2e_AR4_100_yr,Year,$A11,Gas,AJ$6,Gross,GrossYes,Economic_Sector,T$4)/1000000 -> 0 | AK11: =SUM(AC11:AJ11) -> 91.823838 | AL11: =SUMIFS(MT_CO2e_AR5_20_yr,Year,$A11,Gas,AL$6,Gross,GrossYes,Economic_Sector,AL$4)/1000000 -> 60.85597 | AM11: =SUMIFS(MT_CO2e_AR5_20_yr,Year,$A11,Gas,AM$6,Gross,GrossYes,Economic_Sector,AL$4)/1000000 -> 0.328299 | AN11: =SUMIFS(MT_CO2e_AR5_20_yr,Year,$A11,Gas,AN$6,Gross,GrossYes,Economic_Sector,AL$4)/1000000 -> 0.644482 | AO11: =SUMIFS(MT_CO2e_AR5_20_yr,Year,$A11,Gas,AO$6,Gross,GrossYes,Economic_Sector,AL$4)/1000000 -> 22.756953 | AP11: =SUMIFS(MT_CO2e_AR5_20_yr,Year,$A11,Gas,AP$6,Gross,GrossYes,Economic_Sector,AL$4)/1000000 -> 0 | AQ11: =SUMIFS(MT_CO2e_AR5_20_yr,Year,$A11,Gas,AQ$6,Gross,GrossYes,Economic_Sector,AL$4)/1000000 -> 0 | AR11: =SUMIFS(MT_CO2e_AR5_20_yr,Year,$A11,Gas,AR$6,Gross,GrossYes,Economic_Sector,AL$4)/1000000 -> 0 | AS11: =SUMIFS(MT_CO2e_AR5_20_yr,Year,$A11,Gas,AS$6,Gross,GrossYes,Economic_Sector,AL$4)/1000000 -> 3.441842 | AT11: =SUM(AL11:AS11) -> 88.027546 | AU11: =SUMIFS(MT_CO2e_AR4_100_yr,Year,$A11,Gas,AU$6,Gross,GrossYes,Economic_Sector,AL$4)/1000000 -> 60.85597 | AV11: =SUMIFS(MT_CO2e_AR4_100_yr,Year,$A11,Gas,AV$6,Gross,GrossYes,Economic_Sector,AL$4)/1000000 -> 0.370579 | AW11: =SUMIFS(MT_CO2e_AR4_100_yr,Year,$A11,Gas,AW$6,Gross,GrossYes,Economic_Sector,AL$4)/1000000 -> 0.644482 | AX11: =SUMIFS(MT_CO2e_AR4_100_yr,Year,$A11,Gas,AX$6,Gross,GrossYes,Economic_Sector,AL$4)/1000000 -> 6.772903 | AY11: =SUMIFS(MT_CO2e_AR4_100_yr,Year,$A11,Gas,AY$6,Gross,GrossYes,Economic_Sector,AL$4)/1000000 -> 0 | AZ11: =SUMIFS(MT_CO2e_AR4_100_yr,Year,$A11,Gas,AZ$6,Gross,GrossYes,Economic_Sector,AL$4)/1000000 -> 0 | BA11: =SUMIFS(MT_CO2e_AR4_100_yr,Year,$A11,Gas,BA$6,Gross,GrossYes,Economic_Sector,AL$4)/1000000 -> 0 | BB11: =SUMIFS(MT_CO2e_AR4_100_yr,Year,$A11,Gas,BB$6,Gross,GrossYes,Economic_Sector,AL$4)/1000000 -> 4.484228 | BC11: =SUM(AU11:BB11) -> 73.128162 | BD11: =SUMIFS(MT_CO2e_AR5_20_yr,Year,$A11,Gas,BD$6,Gross,GrossYes,Economic_Sector,BD$4)/1000000 -> 25.908755 | BE11: =SUMIFS(MT_CO2e_AR5_20_yr,Year,$A11,Gas,BE$6,Gross,GrossYes,Economic_Sector,BD$4)/1000000 -> 0.064828 | BF11: =SUMIFS(MT_CO2e_AR5_20_yr,Year,$A11,Gas,BF$6,Gross,GrossYes,Economic_Sector,BD$4)/1000000 -> 1.877897 | BG11: =SUMIFS(MT_CO2e_AR5_20_yr,Year,$A11,Gas,BG$6,Gross,GrossYes,Economic_Sector,BD$4)/1000000 -> 27.098971 | BH11: =SUMIFS(MT_CO2e_AR5_20_yr,Year,$A11,Gas,BH$6,Gross,GrossYes,Economic_Sector,BD$4)/1000000 -> 0.002967 | BI11: =SUMIFS(MT_CO2e_AR5_20_yr,Year,$A11,Gas,BI$6,Gross,GrossYes,Economic_Sector,BD$4)/1000000 -> 0.000672 | BJ11: =SUMIFS(MT_CO2e_AR5_20_yr,Year,$A11,Gas,BJ$6,Gross,GrossYes,Economic_Sector,BD$4)/1000000 -> 0.589943 | BK11: =SUMIFS(MT_CO2e_AR5_20_yr,Year,$A11,Gas,BK$6,Gross,GrossYes,Economic_Sector,BD$4)/1000000 -> 0.007172 | BL11: =SUM(BD11:BK11) -> 55.551205 | BM11: =SUMIFS(MT_CO2e_AR4_100_yr,Year,$A11,Gas,BM$6,Gross,GrossYes,Economic_Sector,BD$4)/1000000 -> 25.908755 | BN11: =SUMIFS(MT_CO2e_AR4_100_yr,Year,$A11,Gas,BN$6,Gross,GrossYes,Economic_Sector,BD$4)/1000000 -> 0.073173 | BO11: =SUMIFS(MT_CO2e_AR4_100_yr,Year,$A11,Gas,BO$6,Gross,GrossYes,Economic_Sector,BD$4)/1000000 -> 1.877897 | BP11: =SUMIFS(MT_CO2e_AR4_100_yr,Year,$A11,Gas,BP$6,Gross,GrossYes,Economic_Sector,BD$4)/1000000 -> 8.06517 | BQ11: =SUMIFS(MT_CO2e_AR4_100_yr,Year,$A11,Gas,BQ$6,Gross,GrossYes,Economic_Sector,BD$4)/1000000 -> 0.004065 | BR11: =SUMIFS(MT_CO2e_AR4_100_yr,Year,$A11,Gas,BR$6,Gross,GrossYes,Economic_Sector,BD$4)/1000000 -> 0.000904 | BS11: =SUMIFS(MT_CO2e_AR4_100_yr,Year,$A11,Gas,BS$6,Gross,GrossYes,Economic_Sector,BD$4)/1000000 -> 0.889984 | BT11: =SUMIFS(MT_CO2e_AR4_100_yr,Year,$A11,Gas,BT$6,Gross,GrossYes,Economic_Sector,BD$4)/1000000 -> 0.009343 | BU11: =SUM(BM11:BT11) -> 36.829291 | BV11: =SUMIFS(MT_CO2e_AR5_20_yr,Year,$A11,Gas,BV$6,Gross,GrossYes,Economic_Sector,BV$4)/1000000 -> 91.977425 | BW11: =SUMIFS(MT_CO2e_AR5_20_yr,Year,$A11,Gas,BW$6,Gross,GrossYes,Economic_Sector,BV$4)/1000000 -> 0.825924 | BX11: =SUMIFS(MT_CO2e_AR5_20_yr,Year,$A11,Gas,BX$6,Gross,GrossYes,Economic_Sector,BV$4)/1000000 -> 0.05484 | BY11: =SUMIFS(MT_CO2e_AR5_20_yr,Year,$A11,Gas,BY$6,Gross,GrossYes,Economic_Sector,BV$4)/1000000 -> 12.172803 | BZ11: =SUMIFS(MT_CO2e_AR5_20_yr,Year,$A11,Gas,BZ$6,Gross,GrossYes,Economic_Sector,BV$4)/1000000 -> 0.088606 | CA11: =SUMIFS(MT_CO2e_AR5_20_yr,Year,$A11,Gas,CA$6,Gross,GrossYes,Economic_Sector,BV$4)/1000000 -> 0 | CB11: =SUMIFS(MT_CO2e_AR5_20_yr,Year,$A11,Gas,CB$6,Gross,GrossYes,Economic_Sector,BV$4)/1000000 -> 0 | CC11: =SUMIFS(MT_CO2e_AR5_20_yr,Year,$A11,Gas,CC$6,Gross,GrossYes,Economic_Sector,BV$4)/1000000 -> 0 | CD11: =SUM(BV11:CC11) -> 105.1196 | CE11: =SUMIFS(MT_CO2e_AR4_100_yr,Year,$A11,Gas,CE$6,Gross,GrossYes,Economic_Sector,BV$4)/1000000 -> 91.977425 | CF11: =SUMIFS(MT_CO2e_AR4_100_yr,Year,$A11,Gas,CF$6,Gross,GrossYes,Economic_Sector,BV$4)/1000000 -> 0.932294 | CG11: =SUMIFS(MT_CO2e_AR4_100_yr,Year,$A11,Gas,CG$6,Gross,GrossYes,Economic_Sector,BV$4)/1000000 -> 0.05484 | CH11: =SUMIFS(MT_CO2e_AR4_100_yr,Year,$A11,Gas,CH$6,Gross,GrossYes,Economic_Sector,BV$4)/1000000 -> 3.62286 | CI11: =SUMIFS(MT_CO2e_AR4_100_yr,Year,$A11,Gas,CI$6,Gross,GrossYes,Economic_Sector,BV$4)/1000000 -> 0.034153 | CJ11: =SUMIFS(MT_CO2e_AR4_100_yr,Year,$A11,Gas,CJ$6,Gross,GrossYes,Economic_Sector,BV$4)/1000000 -> 0 | CK11: =SUMIFS(MT_CO2e_AR4_100_yr,Year,$A11,Gas,CK$6,Gross,GrossYes,Economic_Sector,BV$4)/1000000 -> 0 | CL11: =SUMIFS(MT_CO2e_AR4_100_yr,Year,$A11,Gas,CL$6,Gross,GrossYes,Economic_Sector,BV$4)/1000000 -> 0 | CM11: =SUM(CE11:CL11) -> 96.621572 | CN11: =SUMIFS(MT_CO2e_AR5_20_yr,Year,$A11,Gas,CN$6,Gross,GrossYes,Economic_Sector,CN$4)/1000000 -> 2.128898 | CO11: =SUMIFS(MT_CO2e_AR5_20_yr,Year,$A11,Gas,CO$6,Gross,GrossYes,Economic_Sector,CN$4)/1000000 -> 0.522897 | CP11: =SUMIFS(MT_CO2e_AR5_20_yr,Year,$A11,Gas,CP$6,Gross,GrossYes,Economic_Sector,CN$4)/1000000 -> 1.621567 | CQ11: =SUMIFS(MT_CO2e_AR5_20_yr,Year,$A11,Gas,CQ$6,Gross,GrossYes,Economic_Sector,CN$4)/1000000 -> 39.403909 | CR11: =SUMIFS(MT_CO2e_AR5_20_yr,Year,$A11,Gas,CR$6,Gross,GrossYes,Economic_Sector,CN$4)/1000000 -> 0 | CS11: =SUMIFS(MT_CO2e_AR5_20_yr,Year,$A11,Gas,CS$6,Gross,GrossYes,Economic_Sector,CN$4)/1000000 -> 0 | CT11: =SUMIFS(MT_CO2e_AR5_20_yr,Year,$A11,Gas,CT$6,Gross,GrossYes,Economic_Sector,CN$4)/1000000 -> 0 | CU11: =SUMIFS(MT_CO2e_AR5_20_yr,Year,$A11,Gas,CU$6,Gross,GrossYes,Economic_Sector,CN$4)/1000000 -> 0 | CV11: =SUM(CN11:CU11) -> 43.677271 | CW11: =SUMIFS(MT_CO2e_AR4_100_yr,Year,$A11,Gas,CW$6,Gross,GrossYes,Economic_Sector,CN$4)/1000000 -> 2.128898 | CX11: =SUMIFS(MT_CO2e_AR4_100_yr,Year,$A11,Gas,CX$6,Gross,GrossYes,Economic_Sector,CN$4)/1000000 -> 0.590241 | CY11: =SUMIFS(MT_CO2e_AR4_100_yr,Year,$A11,Gas,CY$6,Gross,GrossYes,Economic_Sector,CN$4)/1000000 -> 1.621567 | CZ11: =SUMIFS(MT_CO2e_AR4_100_yr,Year,$A11,Gas,CZ$6,Gross,GrossYes,Economic_Sector,CN$4)/1000000 -> 11.727355 | DA11: =SUMIFS(MT_CO2e_AR4_100_yr,Year,$A11,Gas,DA$6,Gross,GrossYes,Economic_Sector,CN$4)/1000000 -> 0 | DB11: =SUMIFS(MT_CO2e_AR4_100_yr,Year,$A11,Gas,DB$6,Gross,GrossYes,Economic_Sector,CN$4)/1000000 -> 0 | DC11: =SUMIFS(MT_CO2e_AR4_100_yr,Year,$A11,Gas,DC$6,Gross,GrossYes,Economic_Sector,CN$4)/1000000 -> 0 | DD11: =SUMIFS(MT_CO2e_AR4_100_yr,Year,$A11,Gas,DD$6,Gross,GrossYes,Economic_Sector,CN$4)/1000000 -> 0 | DE11: =SUM(CW11:DD11) -> 16.068061 | DG11: =J11/$DV11 -> 0.03613337 | DH11: =AB11/$DV11 -> 0.2696718 | DI11: =AT11/$DV11 -> 0.20900603 | DJ11: =BL11/$DV11 -> 0.13189663 | DK11: =CD11/$DV11 -> 0.24958812 | DL11: =CV11/$DV11 -> 0.10370405 | DN11: =S11/$DW11 -> 0.018785138 | DO11: =AK11/$DW11 -> 0.28650952 | DP11: =BC11/$DW11 -> 0.22817512 | DQ11: =BU11/$DW11 -> 0.11491507 | DR11: =CM11/$DW11 -> 0.30147945 | DS11: =DE11/$DW11 -> 0.050135701 | DU11: =Summary!A10 -> 1994 | DV11: =Summary!J10 -> 421.17228 | DW11: =Summary!S10 -> 320.4914
A12: 1995 | B12: =SUMIFS(MT_CO2e_AR5_20_yr,Year,$A12,Gas,B$6,Gross,GrossYes,Economic_Sector,B$4)/1000000 -> 0.144566 | C12: =SUMIFS(MT_CO2e_AR5_20_yr,Year,$A12,Gas,C$6,Gross,GrossYes,Economic_Sector,B$4)/1000000 -> 1.799566 | D12: =SUMIFS(MT_CO2e_AR5_20_yr,Year,$A12,Gas,D$6,Gross,GrossYes,Economic_Sector,B$4)/1000000 -> 0 | E12: =SUMIFS(MT_CO2e_AR5_20_yr,Year,$A12,Gas,E$6,Gross,GrossYes,Economic_Sector,B$4)/1000000 -> 13.034329 | F12: =SUMIFS(MT_CO2e_AR5_20_yr,Year,$A12,Gas,F$6,Gross,GrossYes,Economic_Sector,B$4)/1000000 -> 0 | G12: =SUMIFS(MT_CO2e_AR5_20_yr,Year,$A12,Gas,G$6,Gross,GrossYes,Economic_Sector,B$4)/1000000 -> 0 | H12: =SUMIFS(MT_CO2e_AR5_20_yr,Year,$A12,Gas,H$6,Gross,GrossYes,Economic_Sector,B$4)/1000000 -> 0 | I12: =SUMIFS(MT_CO2e_AR5_20_yr,Year,$A12,Gas,I$6,Gross,GrossYes,Economic_Sector,B$4)/1000000 -> 0 | J12: =SUM(B12:I12) -> 14.978461 | K12: =SUMIFS(MT_CO2e_AR4_100_yr,Year,$A12,Gas,K$6,Gross,GrossYes,Economic_Sector,B$4)/1000000 -> 0.144566 | L12: =SUMIFS(MT_CO2e_AR4_100_yr,Year,$A12,Gas,L$6,Gross,GrossYes,Economic_Sector,B$4)/1000000 -> 1.822901 | M12: =SUMIFS(MT_CO2e_AR4_100_yr,Year,$A12,Gas,M$6,Gross,GrossYes,Economic_Sector,B$4)/1000000 -> 0 | N12: =SUMIFS(MT_CO2e_AR4_100_yr,Year,$A12,Gas,N$6,Gross,GrossYes,Economic_Sector,B$4)/1000000 -> 3.879265 | O12: =SUMIFS(MT_CO2e_AR4_100_yr,Year,$A12,Gas,O$6,Gross,GrossYes,Economic_Sector,B$4)/1000000 -> 0 | P12: =SUMIFS(MT_CO2e_AR4_100_yr,Year,$A12,Gas,P$6,Gross,GrossYes,Economic_Sector,B$4)/1000000 -> 0 | Q12: =SUMIFS(MT_CO2e_AR4_100_yr,Year,$A12,Gas,Q$6,Gross,GrossYes,Economic_Sector,B$4)/1000000 -> 0 | R12: =SUMIFS(MT_CO2e_AR4_100_yr,Year,$A12,Gas,R$6,Gross,GrossYes,Economic_Sector,B$4)/1000000 -> 0 | S12: =SUM(K12:R12) -> 5.846732 | T12: =SUMIFS(MT_CO2e_AR5_20_yr,Year,$A12,Gas,T$6,Gross,GrossYes,Economic_Sector,T$4)/1000000 -> 74.026708 | U12: =SUMIFS(MT_CO2e_AR5_20_yr,Year,$A12,Gas,U$6,Gross,GrossYes,Economic_Sector,T$4)/1000000 -> 0.18422 | V12: =SUMIFS(MT_CO2e_AR5_20_yr,Year,$A12,Gas,V$6,Gross,GrossYes,Economic_Sector,T$4)/1000000 -> 6.141258 | W12: =SUMIFS(MT_CO2e_AR5_20_yr,Year,$A12,Gas,W$6,Gross,GrossYes,Economic_Sector,T$4)/1000000 -> 30.796135 | X12: =SUMIFS(MT_CO2e_AR5_20_yr,Year,$A12,Gas,X$6,Gross,GrossYes,Economic_Sector,T$4)/1000000 -> 1.990804 | Y12: =SUMIFS(MT_CO2e_AR5_20_yr,Year,$A12,Gas,Y$6,Gross,GrossYes,Economic_Sector,T$4)/1000000 -> 0 | Z12: =SUMIFS(MT_CO2e_AR5_20_yr,Year,$A12,Gas,Z$6,Gross,GrossYes,Economic_Sector,T$4)/1000000 -> 0 | AA12: =SUMIFS(MT_CO2e_AR5_20_yr,Year,$A12,Gas,AA$6,Gross,GrossYes,Economic_Sector,T$4)/1000000 -> 0 | AB12: =SUM(T12:AA12) -> 113.13912 | AC12: =SUMIFS(MT_CO2e_AR4_100_yr,Year,$A12,Gas,AC$6,Gross,GrossYes,Economic_Sector,T$4)/1000000 -> 74.026708 | AD12: =SUMIFS(MT_CO2e_AR4_100_yr,Year,$A12,Gas,AD$6,Gross,GrossYes,Economic_Sector,T$4)/1000000 -> 0.207947 | AE12: =SUMIFS(MT_CO2e_AR4_100_yr,Year,$A12,Gas,AE$6,Gross,GrossYes,Economic_Sector,T$4)/1000000 -> 6.141258 | AF12: =SUMIFS(MT_CO2e_AR4_100_yr,Year,$A12,Gas,AF$6,Gross,GrossYes,Economic_Sector,T$4)/1000000 -> 9.165516 | AG12: =SUMIFS(MT_CO2e_AR4_100_yr,Year,$A12,Gas,AG$6,Gross,GrossYes,Economic_Sector,T$4)/1000000 -> 0.761999 | AH12: =SUMIFS(MT_CO2e_AR4_100_yr,Year,$A12,Gas,AH$6,Gross,GrossYes,Economic_Sector,T$4)/1000000 -> 0 | AI12: =SUMIFS(MT_CO2e_AR4_100_yr,Year,$A12,Gas,AI$6,Gross,GrossYes,Economic_Sector,T$4)/1000000 -> 0 | AJ12: =SUMIFS(MT_CO2e_AR4_100_yr,Year,$A12,Gas,AJ$6,Gross,GrossYes,Economic_Sector,T$4)/1000000 -> 0 | AK12: =SUM(AC12:AJ12) -> 90.303428 | AL12: =SUMIFS(MT_CO2e_AR5_20_yr,Year,$A12,Gas,AL$6,Gross,GrossYes,Economic_Sector,AL$4)/1000000 -> 63.524182 | AM12: =SUMIFS(MT_CO2e_AR5_20_yr,Year,$A12,Gas,AM$6,Gross,GrossYes,Economic_Sector,AL$4)/1000000 -> 0.320326 | AN12: =SUMIFS(MT_CO2e_AR5_20_yr,Year,$A12,Gas,AN$6,Gross,GrossYes,Economic_Sector,AL$4)/1000000 -> 0.548092 | AO12: =SUMIFS(MT_CO2e_AR5_20_yr,Year,$A12,Gas,AO$6,Gross,GrossYes,Economic_Sector,AL$4)/1000000 -> 26.930027 | AP12: =SUMIFS(MT_CO2e_AR5_20_yr,Year,$A12,Gas,AP$6,Gross,GrossYes,Economic_Sector,AL$4)/1000000 -> 0 | AQ12: =SUMIFS(MT_CO2e_AR5_20_yr,Year,$A12,Gas,AQ$6,Gross,GrossYes,Economic_Sector,AL$4)/1000000 -> 0 | AR12: =SUMIFS(MT_CO2e_AR5_20_yr,Year,$A12,Gas,AR$6,Gross,GrossYes,Economic_Sector,AL$4)/1000000 -> 0 | AS12: =SUMIFS(MT_CO2e_AR5_20_yr,Year,$A12,Gas,AS$6,Gross,GrossYes,Economic_Sector,AL$4)/1000000 -> 3.141386 | AT12: =SUM(AL12:AS12) -> 94.464013 | AU12: =SUMIFS(MT_CO2e_AR4_100_yr,Year,$A12,Gas,AU$6,Gross,GrossYes,Economic_Sector,AL$4)/1000000 -> 63.524182 | AV12: =SUMIFS(MT_CO2e_AR4_100_yr,Year,$A12,Gas,AV$6,Gross,GrossYes,Economic_Sector,AL$4)/1000000 -> 0.361581 | AW12: =SUMIFS(MT_CO2e_AR4_100_yr,Year,$A12,Gas,AW$6,Gross,GrossYes,Economic_Sector,AL$4)/1000000 -> 0.548092 | AX12: =SUMIFS(MT_CO2e_AR4_100_yr,Year,$A12,Gas,AX$6,Gross,GrossYes,Economic_Sector,AL$4)/1000000 -> 8.014889 | AY12: =SUMIFS(MT_CO2e_AR4_100_yr,Year,$A12,Gas,AY$6,Gross,GrossYes,Economic_Sector,AL$4)/1000000 -> 0 | AZ12: =SUMIFS(MT_CO2e_AR4_100_yr,Year,$A12,Gas,AZ$6,Gross,GrossYes,Economic_Sector,AL$4)/1000000 -> 0 | BA12: =SUMIFS(MT_CO2e_AR4_100_yr,Year,$A12,Gas,BA$6,Gross,GrossYes,Economic_Sector,AL$4)/1000000 -> 0 | BB12: =SUMIFS(MT_CO2e_AR4_100_yr,Year,$A12,Gas,BB$6,Gross,GrossYes,Economic_Sector,AL$4)/1000000 -> 4.092778 | BC12: =SUM(AU12:BB12) -> 76.541522 | BD12: =SUMIFS(MT_CO2e_AR5_20_yr,Year,$A12,Gas,BD$6,Gross,GrossYes,Economic_Sector,BD$4)/1000000 -> 28.418503 | BE12: =SUMIFS(MT_CO2e_AR5_20_yr,Year,$A12,Gas,BE$6,Gross,GrossYes,Economic_Sector,BD$4)/1000000 -> 0.064506 | BF12: =SUMIFS(MT_CO2e_AR5_20_yr,Year,$A12,Gas,BF$6,Gross,GrossYes,Economic_Sector,BD$4)/1000000 -> 1.850675 | BG12: =SUMIFS(MT_CO2e_AR5_20_yr,Year,$A12,Gas,BG$6,Gross,GrossYes,Economic_Sector,BD$4)/1000000 -> 28.844522 | BH12: =SUMIFS(MT_CO2e_AR5_20_yr,Year,$A12,Gas,BH$6,Gross,GrossYes,Economic_Sector,BD$4)/1000000 -> 0.003747 | BI12: =SUMIFS(MT_CO2e_AR5_20_yr,Year,$A12,Gas,BI$6,Gross,GrossYes,Economic_Sector,BD$4)/1000000 -> 0.000849 | BJ12: =SUMIFS(MT_CO2e_AR5_20_yr,Year,$A12,Gas,BJ$6,Gross,GrossYes,Economic_Sector,BD$4)/1000000 -> 0.585853 | BK12: =SUMIFS(MT_CO2e_AR5_20_yr,Year,$A12,Gas,BK$6,Gross,GrossYes,Economic_Sector,BD$4)/1000000 -> 0.009059 | BL12: =SUM(BD12:BK12) -> 59.777714 | BM12: =SUMIFS(MT_CO2e_AR4_100_yr,Year,$A12,Gas,BM$6,Gross,GrossYes,Economic_Sector,BD$4)/1000000 -> 28.418503 | BN12: =SUMIFS(MT_CO2e_AR4_100_yr,Year,$A12,Gas,BN$6,Gross,GrossYes,Economic_Sector,BD$4)/1000000 -> 0.072813 | BO12: =SUMIFS(MT_CO2e_AR4_100_yr,Year,$A12,Gas,BO$6,Gross,GrossYes,Economic_Sector,BD$4)/1000000 -> 1.850675 | BP12: =SUMIFS(MT_CO2e_AR4_100_yr,Year,$A12,Gas,BP$6,Gross,GrossYes,Economic_Sector,BD$4)/1000000 -> 8.58468 | BQ12: =SUMIFS(MT_CO2e_AR4_100_yr,Year,$A12,Gas,BQ$6,Gross,GrossYes,Economic_Sector,BD$4)/1000000 -> 0.005135 | BR12: =SUMIFS(MT_CO2e_AR4_100_yr,Year,$A12,Gas,BR$6,Gross,GrossYes,Economic_Sector,BD$4)/1000000 -> 0.001141 | BS12: =SUMIFS(MT_CO2e_AR4_100_yr,Year,$A12,Gas,BS$6,Gross,GrossYes,Economic_Sector,BD$4)/1000000 -> 0.883761 | BT12: =SUMIFS(MT_CO2e_AR4_100_yr,Year,$A12,Gas,BT$6,Gross,GrossYes,Economic_Sector,BD$4)/1000000 -> 0.011803 | BU12: =SUM(BM12:BT12) -> 39.828511 | BV12: =SUMIFS(MT_CO2e_AR5_20_yr,Year,$A12,Gas,BV$6,Gross,GrossYes,Economic_Sector,BV$4)/1000000 -> 93.313276 | BW12: =SUMIFS(MT_CO2e_AR5_20_yr,Year,$A12,Gas,BW$6,Gross,GrossYes,Economic_Sector,BV$4)/1000000 -> 0.829811 | BX12: =SUMIFS(MT_CO2e_AR5_20_yr,Year,$A12,Gas,BX$6,Gross,GrossYes,Economic_Sector,BV$4)/1000000 -> 0.175465 | BY12: =SUMIFS(MT_CO2e_AR5_20_yr,Year,$A12,Gas,BY$6,Gross,GrossYes,Economic_Sector,BV$4)/1000000 -> 12.329357 | BZ12: =SUMIFS(MT_CO2e_AR5_20_yr,Year,$A12,Gas,BZ$6,Gross,GrossYes,Economic_Sector,BV$4)/1000000 -> 0.278426 | CA12: =SUMIFS(MT_CO2e_AR5_20_yr,Year,$A12,Gas,CA$6,Gross,GrossYes,Economic_Sector,BV$4)/1000000 -> 0 | CB12: =SUMIFS(MT_CO2e_AR5_20_yr,Year,$A12,Gas,CB$6,Gross,GrossYes,Economic_Sector,BV$4)/1000000 -> 0 | CC12: =SUMIFS(MT_CO2e_AR5_20_yr,Year,$A12,Gas,CC$6,Gross,GrossYes,Economic_Sector,BV$4)/1000000 -> 0 | CD12: =SUM(BV12:CC12) -> 106.92634 | CE12: =SUMIFS(MT_CO2e_AR4_100_yr,Year,$A12,Gas,CE$6,Gross,GrossYes,Economic_Sector,BV$4)/1000000 -> 93.313276 | CF12: =SUMIFS(MT_CO2e_AR4_100_yr,Year,$A12,Gas,CF$6,Gross,GrossYes,Economic_Sector,BV$4)/1000000 -> 0.936683 | CG12: =SUMIFS(MT_CO2e_AR4_100_yr,Year,$A12,Gas,CG$6,Gross,GrossYes,Economic_Sector,BV$4)/1000000 -> 0.175465 | CH12: =SUMIFS(MT_CO2e_AR4_100_yr,Year,$A12,Gas,CH$6,Gross,GrossYes,Economic_Sector,BV$4)/1000000 -> 3.669449 | CI12: =SUMIFS(MT_CO2e_AR4_100_yr,Year,$A12,Gas,CI$6,Gross,GrossYes,Economic_Sector,BV$4)/1000000 -> 0.107318 | CJ12: =SUMIFS(MT_CO2e_AR4_100_yr,Year,$A12,Gas,CJ$6,Gross,GrossYes,Economic_Sector,BV$4)/1000000 -> 0 | CK12: =SUMIFS(MT_CO2e_AR4_100_yr,Year,$A12,Gas,CK$6,Gross,GrossYes,Economic_Sector,BV$4)/1000000 -> 0 | CL12: =SUMIFS(MT_CO2e_AR4_100_yr,Year,$A12,Gas,CL$6,Gross,GrossYes,Economic_Sector,BV$4)/1000000 -> 0 | CM12: =SUM(CE12:CL12) -> 98.202191 | CN12: =SUMIFS(MT_CO2e_AR5_20_yr,Year,$A12,Gas,CN$6,Gross,GrossYes,Economic_Sector,CN$4)/1000000 -> 2.200802 | CO12: =SUMIFS(MT_CO2e_AR5_20_yr,Year,$A12,Gas,CO$6,Gross,GrossYes,Economic_Sector,CN$4)/1000000 -> 0.525984 | CP12: =SUMIFS(MT_CO2e_AR5_20_yr,Year,$A12,Gas,CP$6,Gross,GrossYes,Economic_Sector,CN$4)/1000000 -> 1.722484 | CQ12: =SUMIFS(MT_CO2e_AR5_20_yr,Year,$A12,Gas,CQ$6,Gross,GrossYes,Economic_Sector,CN$4)/1000000 -> 38.705453 | CR12: =SUMIFS(MT_CO2e_AR5_20_yr,Year,$A12,Gas,CR$6,Gross,GrossYes,Economic_Sector,CN$4)/1000000 -> 0 | CS12: =SUMIFS(MT_CO2e_AR5_20_yr,Year,$A12,Gas,CS$6,Gross,GrossYes,Economic_Sector,CN$4)/1000000 -> 0 | CT12: =SUMIFS(MT_CO2e_AR5_20_yr,Year,$A12,Gas,CT$6,Gross,GrossYes,Economic_Sector,CN$4)/1000000 -> 0 | CU12: =SUMIFS(MT_CO2e_AR5_20_yr,Year,$A12,Gas,CU$6,Gross,GrossYes,Economic_Sector,CN$4)/1000000 -> 0 | CV12: =SUM(CN12:CU12) -> 43.154723 | CW12: =SUMIFS(MT_CO2e_AR4_100_yr,Year,$A12,Gas,CW$6,Gross,GrossYes,Economic_Sector,CN$4)/1000000 -> 2.200802 | CX12: =SUMIFS(MT_CO2e_AR4_100_yr,Year,$A12,Gas,CX$6,Gross,GrossYes,Economic_Sector,CN$4)/1000000 -> 0.593726 | CY12: =SUMIFS(MT_CO2e_AR4_100_yr,Year,$A12,Gas,CY$6,Gross,GrossYes,Economic_Sector,CN$4)/1000000 -> 1.722484 | CZ12: =SUMIFS(MT_CO2e_AR4_100_yr,Year,$A12,Gas,CZ$6,Gross,GrossYes,Economic_Sector,CN$4)/1000000 -> 11.519482 | DA12: =SUMIFS(MT_CO2e_AR4_100_yr,Year,$A12,Gas,DA$6,Gross,GrossYes,Economic_Sector,CN$4)/1000000 -> 0 | DB12: =SUMIFS(MT_CO2e_AR4_100_yr,Year,$A12,Gas,DB$6,Gross,GrossYes,Economic_Sector,CN$4)/1000000 -> 0 | DC12: =SUMIFS(MT_CO2e_AR4_100_yr,Year,$A12,Gas,DC$6,Gross,GrossYes,Economic_Sector,CN$4)/1000000 -> 0 | DD12: =SUMIFS(MT_CO2e_AR4_100_yr,Year,$A12,Gas,DD$6,Gross,GrossYes,Economic_Sector,CN$4)/1000000 -> 0 | DE12: =SUM(CW12:DD12) -> 16.036494 | DG12: =J12/$DV12 -> 0.034637055 | DH12: =AB12/$DV12 -> 0.26162942 | DI12: =AT12/$DV12 -> 0.21844402 | DJ12: =BL12/$DV12 -> 0.13823343 | DK12: =CD12/$DV12 -> 0.24726261 | DL12: =CV12/$DV12 -> 0.099793465 | DN12: =S12/$DW12 -> 0.017893108 | DO12: =AK12/$DW12 -> 0.27636105 | DP12: =BC12/$DW12 -> 0.23424466 | DQ12: =BU12/$DW12 -> 0.12188961 | DR12: =CM12/$DW12 -> 0.30053412 | DS12: =DE12/$DW12 -> 0.049077455 | DU12: =Summary!A11 -> 1995 | DV12: =Summary!J11 -> 432.44037 | DW12: =Summary!S11 -> 326.75888
A13: 1996 | B13: =SUMIFS(MT_CO2e_AR5_20_yr,Year,$A13,Gas,B$6,Gross,GrossYes,Economic_Sector,B$4)/1000000 -> 0.14446 | C13: =SUMIFS(MT_CO2e_AR5_20_yr,Year,$A13,Gas,C$6,Gross,GrossYes,Economic_Sector,B$4)/1000000 -> 1.557123 | D13: =SUMIFS(MT_CO2e_AR5_20_yr,Year,$A13,Gas,D$6,Gross,GrossYes,Economic_Sector,B$4)/1000000 -> 0 | E13: =SUMIFS(MT_CO2e_AR5_20_yr,Year,$A13,Gas,E$6,Gross,GrossYes,Economic_Sector,B$4)/1000000 -> 13.142345 | F13: =SUMIFS(MT_CO2e_AR5_20_yr,Year,$A13,Gas,F$6,Gross,GrossYes,Economic_Sector,B$4)/1000000 -> 0 | G13: =SUMIFS(MT_CO2e_AR5_20_yr,Year,$A13,Gas,G$6,Gross,GrossYes,Economic_Sector,B$4)/1000000 -> 0 | H13: =SUMIFS(MT_CO2e_AR5_20_yr,Year,$A13,Gas,H$6,Gross,GrossYes,Economic_Sector,B$4)/1000000 -> 0 | I13: =SUMIFS(MT_CO2e_AR5_20_yr,Year,$A13,Gas,I$6,Gross,GrossYes,Economic_Sector,B$4)/1000000 -> 0 | J13: =SUM(B13:I13) -> 14.843928 | K13: =SUMIFS(MT_CO2e_AR4_100_yr,Year,$A13,Gas,K$6,Gross,GrossYes,Economic_Sector,B$4)/1000000 -> 0.14446 | L13: =SUMIFS(MT_CO2e_AR4_100_yr,Year,$A13,Gas,L$6,Gross,GrossYes,Economic_Sector,B$4)/1000000 -> 1.580838 | M13: =SUMIFS(MT_CO2e_AR4_100_yr,Year,$A13,Gas,M$6,Gross,GrossYes,Economic_Sector,B$4)/1000000 -> 0 | N13: =SUMIFS(MT_CO2e_AR4_100_yr,Year,$A13,Gas,N$6,Gross,GrossYes,Economic_Sector,B$4)/1000000 -> 3.911412 | O13: =SUMIFS(MT_CO2e_AR4_100_yr,Year,$A13,Gas,O$6,Gross,GrossYes,Economic_Sector,B$4)/1000000 -> 0 | P13: =SUMIFS(MT_CO2e_AR4_100_yr,Year,$A13,Gas,P$6,Gross,GrossYes,Economic_Sector,B$4)/1000000 -> 0 | Q13: =SUMIFS(MT_CO2e_AR4_100_yr,Year,$A13,Gas,Q$6,Gross,GrossYes,Economic_Sector,B$4)/1000000 -> 0 | R13: =SUMIFS(MT_CO2e_AR4_100_yr,Year,$A13,Gas,R$6,Gross,GrossYes,Economic_Sector,B$4)/1000000 -> 0 | S13: =SUM(K13:R13) -> 5.63671 | T13: =SUMIFS(MT_CO2e_AR5_20_yr,Year,$A13,Gas,T$6,Gross,GrossYes,Economic_Sector,T$4)/1000000 -> 77.944879 | U13: =SUMIFS(MT_CO2e_AR5_20_yr,Year,$A13,Gas,U$6,Gross,GrossYes,Economic_Sector,T$4)/1000000 -> 0.191864 | V13: =SUMIFS(MT_CO2e_AR5_20_yr,Year,$A13,Gas,V$6,Gross,GrossYes,Economic_Sector,T$4)/1000000 -> 6.377765 | W13: =SUMIFS(MT_CO2e_AR5_20_yr,Year,$A13,Gas,W$6,Gross,GrossYes,Economic_Sector,T$4)/1000000 -> 33.255712 | X13: =SUMIFS(MT_CO2e_AR5_20_yr,Year,$A13,Gas,X$6,Gross,GrossYes,Economic_Sector,T$4)/1000000 -> 2.561591 | Y13: =SUMIFS(MT_CO2e_AR5_20_yr,Year,$A13,Gas,Y$6,Gross,GrossYes,Economic_Sector,T$4)/1000000 -> 0 | Z13: =SUMIFS(MT_CO2e_AR5_20_yr,Year,$A13,Gas,Z$6,Gross,GrossYes,Economic_Sector,T$4)/1000000 -> 0 | AA13: =SUMIFS(MT_CO2e_AR5_20_yr,Year,$A13,Gas,AA$6,Gross,GrossYes,Economic_Sector,T$4)/1000000 -> 0 | AB13: =SUM(T13:AA13) -> 120.33181 | AC13: =SUMIFS(MT_CO2e_AR4_100_yr,Year,$A13,Gas,AC$6,Gross,GrossYes,Economic_Sector,T$4)/1000000 -> 77.944879 | AD13: =SUMIFS(MT_CO2e_AR4_100_yr,Year,$A13,Gas,AD$6,Gross,GrossYes,Economic_Sector,T$4)/1000000 -> 0.216576 | AE13: =SUMIFS(MT_CO2e_AR4_100_yr,Year,$A13,Gas,AE$6,Gross,GrossYes,Economic_Sector,T$4)/1000000 -> 6.377765 | AF13: =SUMIFS(MT_CO2e_AR4_100_yr,Year,$A13,Gas,AF$6,Gross,GrossYes,Economic_Sector,T$4)/1000000 -> 9.897535 | AG13: =SUMIFS(MT_CO2e_AR4_100_yr,Year,$A13,Gas,AG$6,Gross,GrossYes,Economic_Sector,T$4)/1000000 -> 0.982682 | AH13: =SUMIFS(MT_CO2e_AR4_100_yr,Year,$A13,Gas,AH$6,Gross,GrossYes,Economic_Sector,T$4)/1000000 -> 0 | AI13: =SUMIFS(MT_CO2e_AR4_100_yr,Year,$A13,Gas,AI$6,Gross,GrossYes,Economic_Sector,T$4)/1000000 -> 0 | AJ13: =SUMIFS(MT_CO2e_AR4_100_yr,Year,$A13,Gas,AJ$6,Gross,GrossYes,Economic_Sector,T$4)/1000000 -> 0 | AK13: =SUM(AC13:AJ13) -> 95.419437 | AL13: =SUMIFS(MT_CO2e_AR5_20_yr,Year,$A13,Gas,AL$6,Gross,GrossYes,Economic_Sector,AL$4)/1000000 -> 57.220542 | AM13: =SUMIFS(MT_CO2e_AR5_20_yr,Year,$A13,Gas,AM$6,Gross,GrossYes,Economic_Sector,AL$4)/1000000 -> 0.312466 | AN13: =SUMIFS(MT_CO2e_AR5_20_yr,Year,$A13,Gas,AN$6,Gross,GrossYes,Economic_Sector,AL$4)/1000000 -> 0.592779 | AO13: =SUMIFS(MT_CO2e_AR5_20_yr,Year,$A13,Gas,AO$6,Gross,GrossYes,Economic_Sector,AL$4)/1000000 -> 22.744671 | AP13: =SUMIFS(MT_CO2e_AR5_20_yr,Year,$A13,Gas,AP$6,Gross,GrossYes,Economic_Sector,AL$4)/1000000 -> 0 | AQ13: =SUMIFS(MT_CO2e_AR5_20_yr,Year,$A13,Gas,AQ$6,Gross,GrossYes,Economic_Sector,AL$4)/1000000 -> 0 | AR13: =SUMIFS(MT_CO2e_AR5_20_yr,Year,$A13,Gas,AR$6,Gross,GrossYes,Economic_Sector,AL$4)/1000000 -> 0 | AS13: =SUMIFS(MT_CO2e_AR5_20_yr,Year,$A13,Gas,AS$6,Gross,GrossYes,Economic_Sector,AL$4)/1000000 -> 2.873889 | AT13: =SUM(AL13:AS13) -> 83.744347 | AU13: =SUMIFS(MT_CO2e_AR4_100_yr,Year,$A13,Gas,AU$6,Gross,GrossYes,Economic_Sector,AL$4)/1000000 -> 57.220542 | AV13: =SUMIFS(MT_CO2e_AR4_100_yr,Year,$A13,Gas,AV$6,Gross,GrossYes,Economic_Sector,AL$4)/1000000 -> 0.352708 | AW13: =SUMIFS(MT_CO2e_AR4_100_yr,Year,$A13,Gas,AW$6,Gross,GrossYes,Economic_Sector,AL$4)/1000000 -> 0.592779 | AX13: =SUMIFS(MT_CO2e_AR4_100_yr,Year,$A13,Gas,AX$6,Gross,GrossYes,Economic_Sector,AL$4)/1000000 -> 6.769248 | AY13: =SUMIFS(MT_CO2e_AR4_100_yr,Year,$A13,Gas,AY$6,Gross,GrossYes,Economic_Sector,AL$4)/1000000 -> 0 | AZ13: =SUMIFS(MT_CO2e_AR4_100_yr,Year,$A13,Gas,AZ$6,Gross,GrossYes,Economic_Sector,AL$4)/1000000 -> 0 | BA13: =SUMIFS(MT_CO2e_AR4_100_yr,Year,$A13,Gas,BA$6,Gross,GrossYes,Economic_Sector,AL$4)/1000000 -> 0 | BB13: =SUMIFS(MT_CO2e_AR4_100_yr,Year,$A13,Gas,BB$6,Gross,GrossYes,Economic_Sector,AL$4)/1000000 -> 3.744266 | BC13: =SUM(AU13:BB13) -> 68.679543 | BD13: =SUMIFS(MT_CO2e_AR5_20_yr,Year,$A13,Gas,BD$6,Gross,GrossYes,Economic_Sector,BD$4)/1000000 -> 29.120925 | BE13: =SUMIFS(MT_CO2e_AR5_20_yr,Year,$A13,Gas,BE$6,Gross,GrossYes,Economic_Sector,BD$4)/1000000 -> 0.078263 | BF13: =SUMIFS(MT_CO2e_AR5_20_yr,Year,$A13,Gas,BF$6,Gross,GrossYes,Economic_Sector,BD$4)/1000000 -> 2.877013 | BG13: =SUMIFS(MT_CO2e_AR5_20_yr,Year,$A13,Gas,BG$6,Gross,GrossYes,Economic_Sector,BD$4)/1000000 -> 29.159948 | BH13: =SUMIFS(MT_CO2e_AR5_20_yr,Year,$A13,Gas,BH$6,Gross,GrossYes,Economic_Sector,BD$4)/1000000 -> 0.004161 | BI13: =SUMIFS(MT_CO2e_AR5_20_yr,Year,$A13,Gas,BI$6,Gross,GrossYes,Economic_Sector,BD$4)/1000000 -> 0.000943 | BJ13: =SUMIFS(MT_CO2e_AR5_20_yr,Year,$A13,Gas,BJ$6,Gross,GrossYes,Economic_Sector,BD$4)/1000000 -> 0.616465 | BK13: =SUMIFS(MT_CO2e_AR5_20_yr,Year,$A13,Gas,BK$6,Gross,GrossYes,Economic_Sector,BD$4)/1000000 -> 0.01006 | BL13: =SUM(BD13:BK13) -> 61.867778 | BM13: =SUMIFS(MT_CO2e_AR4_100_yr,Year,$A13,Gas,BM$6,Gross,GrossYes,Economic_Sector,BD$4)/1000000 -> 29.120925 | BN13: =SUMIFS(MT_CO2e_AR4_100_yr,Year,$A13,Gas,BN$6,Gross,GrossYes,Economic_Sector,BD$4)/1000000 -> 0.088346 | BO13: =SUMIFS(MT_CO2e_AR4_100_yr,Year,$A13,Gas,BO$6,Gross,GrossYes,Economic_Sector,BD$4)/1000000 -> 2.877013 | BP13: =SUMIFS(MT_CO2e_AR4_100_yr,Year,$A13,Gas,BP$6,Gross,GrossYes,Economic_Sector,BD$4)/1000000 -> 8.678558 | BQ13: =SUMIFS(MT_CO2e_AR4_100_yr,Year,$A13,Gas,BQ$6,Gross,GrossYes,Economic_Sector,BD$4)/1000000 -> 0.005703 | BR13: =SUMIFS(MT_CO2e_AR4_100_yr,Year,$A13,Gas,BR$6,Gross,GrossYes,Economic_Sector,BD$4)/1000000 -> 0.001268 | BS13: =SUMIFS(MT_CO2e_AR4_100_yr,Year,$A13,Gas,BS$6,Gross,GrossYes,Economic_Sector,BD$4)/1000000 -> 0.929951 | BT13: =SUMIFS(MT_CO2e_AR4_100_yr,Year,$A13,Gas,BT$6,Gross,GrossYes,Economic_Sector,BD$4)/1000000 -> 0.013107 | BU13: =SUM(BM13:BT13) -> 41.714871 | BV13: =SUMIFS(MT_CO2e_AR5_20_yr,Year,$A13,Gas,BV$6,Gross,GrossYes,Economic_Sector,BV$4)/1000000 -> 94.502068 | BW13: =SUMIFS(MT_CO2e_AR5_20_yr,Year,$A13,Gas,BW$6,Gross,GrossYes,Economic_Sector,BV$4)/1000000 -> 0.828698 | BX13: =SUMIFS(MT_CO2e_AR5_20_yr,Year,$A13,Gas,BX$6,Gross,GrossYes,Economic_Sector,BV$4)/1000000 -> 0.150782 | BY13: =SUMIFS(MT_CO2e_AR5_20_yr,Year,$A13,Gas,BY$6,Gross,GrossYes,Economic_Sector,BV$4)/1000000 -> 12.434126 | BZ13: =SUMIFS(MT_CO2e_AR5_20_yr,Year,$A13,Gas,BZ$6,Gross,GrossYes,Economic_Sector,BV$4)/1000000 -> 0.482041 | CA13: =SUMIFS(MT_CO2e_AR5_20_yr,Year,$A13,Gas,CA$6,Gross,GrossYes,Economic_Sector,BV$4)/1000000 -> 0 | CB13: =SUMIFS(MT_CO2e_AR5_20_yr,Year,$A13,Gas,CB$6,Gross,GrossYes,Economic_Sector,BV$4)/1000000 -> 0 | CC13: =SUMIFS(MT_CO2e_AR5_20_yr,Year,$A13,Gas,CC$6,Gross,GrossYes,Economic_Sector,BV$4)/1000000 -> 0 | CD13: =SUM(BV13:CC13) -> 108.39771 | CE13: =SUMIFS(MT_CO2e_AR4_100_yr,Year,$A13,Gas,CE$6,Gross,GrossYes,Economic_Sector,BV$4)/1000000 -> 94.502068 | CF13: =SUMIFS(MT_CO2e_AR4_100_yr,Year,$A13,Gas,CF$6,Gross,GrossYes,Economic_Sector,BV$4)/1000000 -> 0.935424 | CG13: =SUMIFS(MT_CO2e_AR4_100_yr,Year,$A13,Gas,CG$6,Gross,GrossYes,Economic_Sector,BV$4)/1000000 -> 0.150782 | CH13: =SUMIFS(MT_CO2e_AR4_100_yr,Year,$A13,Gas,CH$6,Gross,GrossYes,Economic_Sector,BV$4)/1000000 -> 3.700634 | CI13: =SUMIFS(MT_CO2e_AR4_100_yr,Year,$A13,Gas,CI$6,Gross,GrossYes,Economic_Sector,BV$4)/1000000 -> 0.186538 | CJ13: =SUMIFS(MT_CO2e_AR4_100_yr,Year,$A13,Gas,CJ$6,Gross,GrossYes,Economic_Sector,BV$4)/1000000 -> 0 | CK13: =SUMIFS(MT_CO2e_AR4_100_yr,Year,$A13,Gas,CK$6,Gross,GrossYes,Economic_Sector,BV$4)/1000000 -> 0 | CL13: =SUMIFS(MT_CO2e_AR4_100_yr,Year,$A13,Gas,CL$6,Gross,GrossYes,Economic_Sector,BV$4)/1000000 -> 0 | CM13: =SUM(CE13:CL13) -> 99.475446 | CN13: =SUMIFS(MT_CO2e_AR5_20_yr,Year,$A13,Gas,CN$6,Gross,GrossYes,Economic_Sector,CN$4)/1000000 -> 2.290272 | CO13: =SUMIFS(MT_CO2e_AR5_20_yr,Year,$A13,Gas,CO$6,Gross,GrossYes,Economic_Sector,CN$4)/1000000 -> 0.529047 | CP13: =SUMIFS(MT_CO2e_AR5_20_yr,Year,$A13,Gas,CP$6,Gross,GrossYes,Economic_Sector,CN$4)/1000000 -> 1.767295 | CQ13: =SUMIFS(MT_CO2e_AR5_20_yr,Year,$A13,Gas,CQ$6,Gross,GrossYes,Economic_Sector,CN$4)/1000000 -> 38.988938 | CR13: =SUMIFS(MT_CO2e_AR5_20_yr,Year,$A13,Gas,CR$6,Gross,GrossYes,Economic_Sector,CN$4)/1000000 -> 0 | CS13: =SUMIFS(MT_CO2e_AR5_20_yr,Year,$A13,Gas,CS$6,Gross,GrossYes,Economic_Sector,CN$4)/1000000 -> 0 | CT13: =SUMIFS(MT_CO2e_AR5_20_yr,Year,$A13,Gas,CT$6,Gross,GrossYes,Economic_Sector,CN$4)/1000000 -> 0 | CU13: =SUMIFS(MT_CO2e_AR5_20_yr,Year,$A13,Gas,CU$6,Gross,GrossYes,Economic_Sector,CN$4)/1000000 -> 0 | CV13: =SUM(CN13:CU13) -> 43.575552 | CW13: =SUMIFS(MT_CO2e_AR4_100_yr,Year,$A13,Gas,CW$6,Gross,GrossYes,Economic_Sector,CN$4)/1000000 -> 2.290272 | CX13: =SUMIFS(MT_CO2e_AR4_100_yr,Year,$A13,Gas,CX$6,Gross,GrossYes,Economic_Sector,CN$4)/1000000 -> 0.597183 | CY13: =SUMIFS(MT_CO2e_AR4_100_yr,Year,$A13,Gas,CY$6,Gross,GrossYes,Economic_Sector,CN$4)/1000000 -> 1.767295 | CZ13: =SUMIFS(MT_CO2e_AR4_100_yr,Year,$A13,Gas,CZ$6,Gross,GrossYes,Economic_Sector,CN$4)/1000000 -> 11.603851 | DA13: =SUMIFS(MT_CO2e_AR4_100_yr,Year,$A13,Gas,DA$6,Gross,GrossYes,Economic_Sector,CN$4)/1000000 -> 0 | DB13: =SUMIFS(MT_CO2e_AR4_100_yr,Year,$A13,Gas,DB$6,Gross,GrossYes,Economic_Sector,CN$4)/1000000 -> 0 | DC13: =SUMIFS(MT_CO2e_AR4_100_yr,Year,$A13,Gas,DC$6,Gross,GrossYes,Economic_Sector,CN$4)/1000000 -> 0 | DD13: =SUMIFS(MT_CO2e_AR4_100_yr,Year,$A13,Gas,DD$6,Gross,GrossYes,Economic_Sector,CN$4)/1000000 -> 0 | DE13: =SUM(CW13:DD13) -> 16.258601 | DG13: =J13/$DV13 -> 0.034300511 | DH13: =AB13/$DV13 -> 0.27805596 | DI13: =AT13/$DV13 -> 0.19351171 | DJ13: =BL13/$DV13 -> 0.14296057 | DK13: =CD13/$DV13 -> 0.25047932 | DL13: =CV13/$DV13 -> 0.10069193 | DN13: =S13/$DW13 -> 0.017227919 | DO13: =AK13/$DW13 -> 0.29163792 | DP13: =BC13/$DW13 -> 0.20991068 | DQ13: =BU13/$DW13 -> 0.12749643 | DR13: =CM13/$DW13 -> 0.30403461 | DS13: =DE13/$DW13 -> 0.049692438 | DU13: =Summary!A12 -> 1996 | DV13: =Summary!J12 -> 432.76113 | DW13: =Summary!S12 -> 327.18461
A14: 1997 | B14: =SUMIFS(MT_CO2e_AR5_20_yr,Year,$A14,Gas,B$6,Gross,GrossYes,Economic_Sector,B$4)/1000000 -> 0.150229 | C14: =SUMIFS(MT_CO2e_AR5_20_yr,Year,$A14,Gas,C$6,Gross,GrossYes,Economic_Sector,B$4)/1000000 -> 1.617217 | D14: =SUMIFS(MT_CO2e_AR5_20_yr,Year,$A14,Gas,D$6,Gross,GrossYes,Economic_Sector,B$4)/1000000 -> 0 | E14: =SUMIFS(MT_CO2e_AR5_20_yr,Year,$A14,Gas,E$6,Gross,GrossYes,Economic_Sector,B$4)/1000000 -> 13.306519 | F14: =SUMIFS(MT_CO2e_AR5_20_yr,Year,$A14,Gas,F$6,Gross,GrossYes,Economic_Sector,B$4)/1000000 -> 0 | G14: =SUMIFS(MT_CO2e_AR5_20_yr,Year,$A14,Gas,G$6,Gross,GrossYes,Economic_Sector,B$4)/1000000 -> 0 | H14: =SUMIFS(MT_CO2e_AR5_20_yr,Year,$A14,Gas,H$6,Gross,GrossYes,Economic_Sector,B$4)/1000000 -> 0 | I14: =SUMIFS(MT_CO2e_AR5_20_yr,Year,$A14,Gas,I$6,Gross,GrossYes,Economic_Sector,B$4)/1000000 -> 0 | J14: =SUM(B14:I14) -> 15.073965 | K14: =SUMIFS(MT_CO2e_AR4_100_yr,Year,$A14,Gas,K$6,Gross,GrossYes,Economic_Sector,B$4)/1000000 -> 0.150229 | L14: =SUMIFS(MT_CO2e_AR4_100_yr,Year,$A14,Gas,L$6,Gross,GrossYes,Economic_Sector,B$4)/1000000 -> 1.642074 | M14: =SUMIFS(MT_CO2e_AR4_100_yr,Year,$A14,Gas,M$6,Gross,GrossYes,Economic_Sector,B$4)/1000000 -> 0 | N14: =SUMIFS(MT_CO2e_AR4_100_yr,Year,$A14,Gas,N$6,Gross,GrossYes,Economic_Sector,B$4)/1000000 -> 3.960274 | O14: =SUMIFS(MT_CO2e_AR4_100_yr,Year,$A14,Gas,O$6,Gross,GrossYes,Economic_Sector,B$4)/1000000 -> 0 | P14: =SUMIFS(MT_CO2e_AR4_100_yr,Year,$A14,Gas,P$6,Gross,GrossYes,Economic_Sector,B$4)/1000000 -> 0 | Q14: =SUMIFS(MT_CO2e_AR4_100_yr,Year,$A14,Gas,Q$6,Gross,GrossYes,Economic_Sector,B$4)/1000000 -> 0 | R14: =SUMIFS(MT_CO2e_AR4_100_yr,Year,$A14,Gas,R$6,Gross,GrossYes,Economic_Sector,B$4)/1000000 -> 0 | S14: =SUM(K14:R14) -> 5.752577 | T14: =SUMIFS(MT_CO2e_AR5_20_yr,Year,$A14,Gas,T$6,Gross,GrossYes,Economic_Sector,T$4)/1000000 -> 77.94893 | U14: =SUMIFS(MT_CO2e_AR5_20_yr,Year,$A14,Gas,U$6,Gross,GrossYes,Economic_Sector,T$4)/1000000 -> 0.228599 | V14: =SUMIFS(MT_CO2e_AR5_20_yr,Year,$A14,Gas,V$6,Gross,GrossYes,Economic_Sector,T$4)/1000000 -> 10.116299 | W14: =SUMIFS(MT_CO2e_AR5_20_yr,Year,$A14,Gas,W$6,Gross,GrossYes,Economic_Sector,T$4)/1000000 -> 35.882413 | X14: =SUMIFS(MT_CO2e_AR5_20_yr,Year,$A14,Gas,X$6,Gross,GrossYes,Economic_Sector,T$4)/1000000 -> 2.910001 | Y14: =SUMIFS(MT_CO2e_AR5_20_yr,Year,$A14,Gas,Y$6,Gross,GrossYes,Economic_Sector,T$4)/1000000 -> 0 | Z14: =SUMIFS(MT_CO2e_AR5_20_yr,Year,$A14,Gas,Z$6,Gross,GrossYes,Economic_Sector,T$4)/1000000 -> 0 | AA14: =SUMIFS(MT_CO2e_AR5_20_yr,Year,$A14,Gas,AA$6,Gross,GrossYes,Economic_Sector,T$4)/1000000 -> 0 | AB14: =SUM(T14:AA14) -> 127.08624 | AC14: =SUMIFS(MT_CO2e_AR4_100_yr,Year,$A14,Gas,AC$6,Gross,GrossYes,Economic_Sector,T$4)/1000000 -> 77.94893 | AD14: =SUMIFS(MT_CO2e_AR4_100_yr,Year,$A14,Gas,AD$6,Gross,GrossYes,Economic_Sector,T$4)/1000000 -> 0.258042 | AE14: =SUMIFS(MT_CO2e_AR4_100_yr,Year,$A14,Gas,AE$6,Gross,GrossYes,Economic_Sector,T$4)/1000000 -> 10.116299 | AF14: =SUMIFS(MT_CO2e_AR4_100_yr,Year,$A14,Gas,AF$6,Gross,GrossYes,Economic_Sector,T$4)/1000000 -> 10.679291 | AG14: =SUMIFS(MT_CO2e_AR4_100_yr,Year,$A14,Gas,AG$6,Gross,GrossYes,Economic_Sector,T$4)/1000000 -> 1.126253 | AH14: =SUMIFS(MT_CO2e_AR4_100_yr,Year,$A14,Gas,AH$6,Gross,GrossYes,Economic_Sector,T$4)/1000000 -> 0 | AI14: =SUMIFS(MT_CO2e_AR4_100_yr,Year,$A14,Gas,AI$6,Gross,GrossYes,Economic_Sector,T$4)/1000000 -> 0 | AJ14: =SUMIFS(MT_CO2e_AR4_100_yr,Year,$A14,Gas,AJ$6,Gross,GrossYes,Economic_Sector,T$4)/1000000 -> 0 | AK14: =SUM(AC14:AJ14) -> 100.12882 | AL14: =SUMIFS(MT_CO2e_AR5_20_yr,Year,$A14,Gas,AL$6,Gross,GrossYes,Economic_Sector,AL$4)/1000000 -> 61.613636 | AM14: =SUMIFS(MT_CO2e_AR5_20_yr,Year,$A14,Gas,AM$6,Gross,GrossYes,Economic_Sector,AL$4)/1000000 -> 0.32615 | AN14: =SUMIFS(MT_CO2e_AR5_20_yr,Year,$A14,Gas,AN$6,Gross,GrossYes,Economic_Sector,AL$4)/1000000 -> 0.486115 | AO14: =SUMIFS(MT_CO2e_AR5_20_yr,Year,$A14,Gas,AO$6,Gross,GrossYes,Economic_Sector,AL$4)/1000000 -> 25.965853 | AP14: =SUMIFS(MT_CO2e_AR5_20_yr,Year,$A14,Gas,AP$6,Gross,GrossYes,Economic_Sector,AL$4)/1000000 -> 0 | AQ14: =SUMIFS(MT_CO2e_AR5_20_yr,Year,$A14,Gas,AQ$6,Gross,GrossYes,Economic_Sector,AL$4)/1000000 -> 0 | AR14: =SUMIFS(MT_CO2e_AR5_20_yr,Year,$A14,Gas,AR$6,Gross,GrossYes,Economic_Sector,AL$4)/1000000 -> 0 | AS14: =SUMIFS(MT_CO2e_AR5_20_yr,Year,$A14,Gas,AS$6,Gross,GrossYes,Economic_Sector,AL$4)/1000000 -> 2.643184 | AT14: =SUM(AL14:AS14) -> 91.034938 | AU14: =SUMIFS(MT_CO2e_AR4_100_yr,Year,$A14,Gas,AU$6,Gross,GrossYes,Economic_Sector,AL$4)/1000000 -> 61.613636 | AV14: =SUMIFS(MT_CO2e_AR4_100_yr,Year,$A14,Gas,AV$6,Gross,GrossYes,Economic_Sector,AL$4)/1000000 -> 0.368155 | AW14: =SUMIFS(MT_CO2e_AR4_100_yr,Year,$A14,Gas,AW$6,Gross,GrossYes,Economic_Sector,AL$4)/1000000 -> 0.486115 | AX14: =SUMIFS(MT_CO2e_AR4_100_yr,Year,$A14,Gas,AX$6,Gross,GrossYes,Economic_Sector,AL$4)/1000000 -> 7.727934 | AY14: =SUMIFS(MT_CO2e_AR4_100_yr,Year,$A14,Gas,AY$6,Gross,GrossYes,Economic_Sector,AL$4)/1000000 -> 0 | AZ14: =SUMIFS(MT_CO2e_AR4_100_yr,Year,$A14,Gas,AZ$6,Gross,GrossYes,Economic_Sector,AL$4)/1000000 -> 0 | BA14: =SUMIFS(MT_CO2e_AR4_100_yr,Year,$A14,Gas,BA$6,Gross,GrossYes,Economic_Sector,AL$4)/1000000 -> 0 | BB14: =SUMIFS(MT_CO2e_AR4_100_yr,Year,$A14,Gas,BB$6,Gross,GrossYes,Economic_Sector,AL$4)/1000000 -> 3.443691 | BC14: =SUM(AU14:BB14) -> 73.639531 | BD14: =SUMIFS(MT_CO2e_AR5_20_yr,Year,$A14,Gas,BD$6,Gross,GrossYes,Economic_Sector,BD$4)/1000000 -> 28.264173 | BE14: =SUMIFS(MT_CO2e_AR5_20_yr,Year,$A14,Gas,BE$6,Gross,GrossYes,Economic_Sector,BD$4)/1000000 -> 0.093774 | BF14: =SUMIFS(MT_CO2e_AR5_20_yr,Year,$A14,Gas,BF$6,Gross,GrossYes,Economic_Sector,BD$4)/1000000 -> 3.104265 | BG14: =SUMIFS(MT_CO2e_AR5_20_yr,Year,$A14,Gas,BG$6,Gross,GrossYes,Economic_Sector,BD$4)/1000000 -> 28.474 | BH14: =SUMIFS(MT_CO2e_AR5_20_yr,Year,$A14,Gas,BH$6,Gross,GrossYes,Economic_Sector,BD$4)/1000000 -> 0.005406 | BI14: =SUMIFS(MT_CO2e_AR5_20_yr,Year,$A14,Gas,BI$6,Gross,GrossYes,Economic_Sector,BD$4)/1000000 -> 0.001225 | BJ14: =SUMIFS(MT_CO2e_AR5_20_yr,Year,$A14,Gas,BJ$6,Gross,GrossYes,Economic_Sector,BD$4)/1000000 -> 0.555183 | BK14: =SUMIFS(MT_CO2e_AR5_20_yr,Year,$A14,Gas,BK$6,Gross,GrossYes,Economic_Sector,BD$4)/1000000 -> 0.013069 | BL14: =SUM(BD14:BK14) -> 60.511095 | BM14: =SUMIFS(MT_CO2e_AR4_100_yr,Year,$A14,Gas,BM$6,Gross,GrossYes,Economic_Sector,BD$4)/1000000 -> 28.264173 | BN14: =SUMIFS(MT_CO2e_AR4_100_yr,Year,$A14,Gas,BN$6,Gross,GrossYes,Economic_Sector,BD$4)/1000000 -> 0.105851 | BO14: =SUMIFS(MT_CO2e_AR4_100_yr,Year,$A14,Gas,BO$6,Gross,GrossYes,Economic_Sector,BD$4)/1000000 -> 3.104265 | BP14: =SUMIFS(MT_CO2e_AR4_100_yr,Year,$A14,Gas,BP$6,Gross,GrossYes,Economic_Sector,BD$4)/1000000 -> 8.474405 | BQ14: =SUMIFS(MT_CO2e_AR4_100_yr,Year,$A14,Gas,BQ$6,Gross,GrossYes,Economic_Sector,BD$4)/1000000 -> 0.007408 | BR14: =SUMIFS(MT_CO2e_AR4_100_yr,Year,$A14,Gas,BR$6,Gross,GrossYes,Economic_Sector,BD$4)/1000000 -> 0.001647 | BS14: =SUMIFS(MT_CO2e_AR4_100_yr,Year,$A14,Gas,BS$6,Gross,GrossYes,Economic_Sector,BD$4)/1000000 -> 0.837421 | BT14: =SUMIFS(MT_CO2e_AR4_100_yr,Year,$A14,Gas,BT$6,Gross,GrossYes,Economic_Sector,BD$4)/1000000 -> 0.017027 | BU14: =SUM(BM14:BT14) -> 40.812197 | BV14: =SUMIFS(MT_CO2e_AR5_20_yr,Year,$A14,Gas,BV$6,Gross,GrossYes,Economic_Sector,BV$4)/1000000 -> 95.713587 | BW14: =SUMIFS(MT_CO2e_AR5_20_yr,Year,$A14,Gas,BW$6,Gross,GrossYes,Economic_Sector,BV$4)/1000000 -> 0.828518 | BX14: =SUMIFS(MT_CO2e_AR5_20_yr,Year,$A14,Gas,BX$6,Gross,GrossYes,Economic_Sector,BV$4)/1000000 -> 0.147127 | BY14: =SUMIFS(MT_CO2e_AR5_20_yr,Year,$A14,Gas,BY$6,Gross,GrossYes,Economic_Sector,BV$4)/1000000 -> 12.571898 | BZ14: =SUMIFS(MT_CO2e_AR5_20_yr,Year,$A14,Gas,BZ$6,Gross,GrossYes,Economic_Sector,BV$4)/1000000 -> 0.686734 | CA14: =SUMIFS(MT_CO2e_AR5_20_yr,Year,$A14,Gas,CA$6,Gross,GrossYes,Economic_Sector,BV$4)/1000000 -> 0 | CB14: =SUMIFS(MT_CO2e_AR5_20_yr,Year,$A14,Gas,CB$6,Gross,GrossYes,Economic_Sector,BV$4)/1000000 -> 0 | CC14: =SUMIFS(MT_CO2e_AR5_20_yr,Year,$A14,Gas,CC$6,Gross,GrossYes,Economic_Sector,BV$4)/1000000 -> 0 | CD14: =SUM(BV14:CC14) -> 109.94786 | CE14: =SUMIFS(MT_CO2e_AR4_100_yr,Year,$A14,Gas,CE$6,Gross,GrossYes,Economic_Sector,BV$4)/1000000 -> 95.713587 | CF14: =SUMIFS(MT_CO2e_AR4_100_yr,Year,$A14,Gas,CF$6,Gross,GrossYes,Economic_Sector,BV$4)/1000000 -> 0.935219 | CG14: =SUMIFS(MT_CO2e_AR4_100_yr,Year,$A14,Gas,CG$6,Gross,GrossYes,Economic_Sector,BV$4)/1000000 -> 0.147127 | CH14: =SUMIFS(MT_CO2e_AR4_100_yr,Year,$A14,Gas,CH$6,Gross,GrossYes,Economic_Sector,BV$4)/1000000 -> 3.741638 | CI14: =SUMIFS(MT_CO2e_AR4_100_yr,Year,$A14,Gas,CI$6,Gross,GrossYes,Economic_Sector,BV$4)/1000000 -> 0.266177 | CJ14: =SUMIFS(MT_CO2e_AR4_100_yr,Year,$A14,Gas,CJ$6,Gross,GrossYes,Economic_Sector,BV$4)/1000000 -> 0 | CK14: =SUMIFS(MT_CO2e_AR4_100_yr,Year,$A14,Gas,CK$6,Gross,GrossYes,Economic_Sector,BV$4)/1000000 -> 0 | CL14: =SUMIFS(MT_CO2e_AR4_100_yr,Year,$A14,Gas,CL$6,Gross,GrossYes,Economic_Sector,BV$4)/1000000 -> 0 | CM14: =SUM(CE14:CL14) -> 100.80375 | CN14: =SUMIFS(MT_CO2e_AR5_20_yr,Year,$A14,Gas,CN$6,Gross,GrossYes,Economic_Sector,CN$4)/1000000 -> 2.321297 | CO14: =SUMIFS(MT_CO2e_AR5_20_yr,Year,$A14,Gas,CO$6,Gross,GrossYes,Economic_Sector,CN$4)/1000000 -> 0.531299 | CP14: =SUMIFS(MT_CO2e_AR5_20_yr,Year,$A14,Gas,CP$6,Gross,GrossYes,Economic_Sector,CN$4)/1000000 -> 1.796367 | CQ14: =SUMIFS(MT_CO2e_AR5_20_yr,Year,$A14,Gas,CQ$6,Gross,GrossYes,Economic_Sector,CN$4)/1000000 -> 38.982582 | CR14: =SUMIFS(MT_CO2e_AR5_20_yr,Year,$A14,Gas,CR$6,Gross,GrossYes,Economic_Sector,CN$4)/1000000 -> 0 | CS14: =SUMIFS(MT_CO2e_AR5_20_yr,Year,$A14,Gas,CS$6,Gross,GrossYes,Economic_Sector,CN$4)/1000000 -> 0 | CT14: =SUMIFS(MT_CO2e_AR5_20_yr,Year,$A14,Gas,CT$6,Gross,GrossYes,Economic_Sector,CN$4)/1000000 -> 0 | CU14: =SUMIFS(MT_CO2e_AR5_20_yr,Year,$A14,Gas,CU$6,Gross,GrossYes,Economic_Sector,CN$4)/1000000 -> 0 | CV14: =SUM(CN14:CU14) -> 43.631545 | CW14: =SUMIFS(MT_CO2e_AR4_100_yr,Year,$A14,Gas,CW$6,Gross,GrossYes,Economic_Sector,CN$4)/1000000 -> 2.321297 | CX14: =SUMIFS(MT_CO2e_AR4_100_yr,Year,$A14,Gas,CX$6,Gross,GrossYes,Economic_Sector,CN$4)/1000000 -> 0.599723 | CY14: =SUMIFS(MT_CO2e_AR4_100_yr,Year,$A14,Gas,CY$6,Gross,GrossYes,Economic_Sector,CN$4)/1000000 -> 1.796367 | CZ14: =SUMIFS(MT_CO2e_AR4_100_yr,Year,$A14,Gas,CZ$6,Gross,GrossYes,Economic_Sector,CN$4)/1000000 -> 11.601959 | DA14: =SUMIFS(MT_CO2e_AR4_100_yr,Year,$A14,Gas,DA$6,Gross,GrossYes,Economic_Sector,CN$4)/1000000 -> 0 | DB14: =SUMIFS(MT_CO2e_AR4_100_yr,Year,$A14,Gas,DB$6,Gross,GrossYes,Economic_Sector,CN$4)/1000000 -> 0 | DC14: =SUMIFS(MT_CO2e_AR4_100_yr,Year,$A14,Gas,DC$6,Gross,GrossYes,Economic_Sector,CN$4)/1000000 -> 0 | DD14: =SUMIFS(MT_CO2e_AR4_100_yr,Year,$A14,Gas,DD$6,Gross,GrossYes,Economic_Sector,CN$4)/1000000 -> 0 | DE14: =SUM(CW14:DD14) -> 16.319346 | DG14: =J14/$DV14 -> 0.033700981 | DH14: =AB14/$DV14 -> 0.2841277 | DI14: =AT14/$DV14 -> 0.20352752 | DJ14: =BL14/$DV14 -> 0.13528513 | DK14: =CD14/$DV14 -> 0.24581129 | DL14: =CV14/$DV14 -> 0.097547384 | DN14: =S14/$DW14 -> 0.017046884 | DO14: =AK14/$DW14 -> 0.29671647 | DP14: =BC14/$DW14 -> 0.21821951 | DQ14: =BU14/$DW14 -> 0.12094072 | DR14: =CM14/$DW14 -> 0.29871653 | DS14: =DE14/$DW14 -> 0.048359892 | DU14: =Summary!A13 -> 1997 | DV14: =Summary!J13 -> 447.28565 | DW14: =Summary!S13 -> 337.45621
A15: 1998 | B15: =SUMIFS(MT_CO2e_AR5_20_yr,Year,$A15,Gas,B$6,Gross,GrossYes,Economic_Sector,B$4)/1000000 -> 0.161559 | C15: =SUMIFS(MT_CO2e_AR5_20_yr,Year,$A15,Gas,C$6,Gross,GrossYes,Economic_Sector,B$4)/1000000 -> 1.716559 | D15: =SUMIFS(MT_CO2e_AR5_20_yr,Year,$A15,Gas,D$6,Gross,GrossYes,Economic_Sector,B$4)/1000000 -> 0 | E15: =SUMIFS(MT_CO2e_AR5_20_yr,Year,$A15,Gas,E$6,Gross,GrossYes,Economic_Sector,B$4)/1000000 -> 13.749268 | F15: =SUMIFS(MT_CO2e_AR5_20_yr,Year,$A15,Gas,F$6,Gross,GrossYes,Economic_Sector,B$4)/1000000 -> 0 | G15: =SUMIFS(MT_CO2e_AR5_20_yr,Year,$A15,Gas,G$6,Gross,GrossYes,Economic_Sector,B$4)/1000000 -> 0 | H15: =SUMIFS(MT_CO2e_AR5_20_yr,Year,$A15,Gas,H$6,Gross,GrossYes,Economic_Sector,B$4)/1000000 -> 0 | I15: =SUMIFS(MT_CO2e_AR5_20_yr,Year,$A15,Gas,I$6,Gross,GrossYes,Economic_Sector,B$4)/1000000 -> 0 | J15: =SUM(B15:I15) -> 15.627386 | K15: =SUMIFS(MT_CO2e_AR4_100_yr,Year,$A15,Gas,K$6,Gross,GrossYes,Economic_Sector,B$4)/1000000 -> 0.161559 | L15: =SUMIFS(MT_CO2e_AR4_100_yr,Year,$A15,Gas,L$6,Gross,GrossYes,Economic_Sector,B$4)/1000000 -> 1.742482 | M15: =SUMIFS(MT_CO2e_AR4_100_yr,Year,$A15,Gas,M$6,Gross,GrossYes,Economic_Sector,B$4)/1000000 -> 0 | N15: =SUMIFS(MT_CO2e_AR4_100_yr,Year,$A15,Gas,N$6,Gross,GrossYes,Economic_Sector,B$4)/1000000 -> 4.092044 | O15: =SUMIFS(MT_CO2e_AR4_100_yr,Year,$A15,Gas,O$6,Gross,GrossYes,Economic_Sector,B$4)/1000000 -> 0 | P15: =SUMIFS(MT_CO2e_AR4_100_yr,Year,$A15,Gas,P$6,Gross,GrossYes,Economic_Sector,B$4)/1000000 -> 0 | Q15: =SUMIFS(MT_CO2e_AR4_100_yr,Year,$A15,Gas,Q$6,Gross,GrossYes,Economic_Sector,B$4)/1000000 -> 0 | R15: =SUMIFS(MT_CO2e_AR4_100_yr,Year,$A15,Gas,R$6,Gross,GrossYes,Economic_Sector,B$4)/1000000 -> 0 | S15: =SUM(K15:R15) -> 5.996085 | T15: =SUMIFS(MT_CO2e_AR5_20_yr,Year,$A15,Gas,T$6,Gross,GrossYes,Economic_Sector,T$4)/1000000 -> 71.943075 | U15: =SUMIFS(MT_CO2e_AR5_20_yr,Year,$A15,Gas,U$6,Gross,GrossYes,Economic_Sector,T$4)/1000000 -> 0.203388 | V15: =SUMIFS(MT_CO2e_AR5_20_yr,Year,$A15,Gas,V$6,Gross,GrossYes,Economic_Sector,T$4)/1000000 -> 8.967591 | W15: =SUMIFS(MT_CO2e_AR5_20_yr,Year,$A15,Gas,W$6,Gross,GrossYes,Economic_Sector,T$4)/1000000 -> 34.481649 | X15: =SUMIFS(MT_CO2e_AR5_20_yr,Year,$A15,Gas,X$6,Gross,GrossYes,Economic_Sector,T$4)/1000000 -> 3.077843 | Y15: =SUMIFS(MT_CO2e_AR5_20_yr,Year,$A15,Gas,Y$6,Gross,GrossYes,Economic_Sector,T$4)/1000000 -> 0 | Z15: =SUMIFS(MT_CO2e_AR5_20_yr,Year,$A15,Gas,Z$6,Gross,GrossYes,Economic_Sector,T$4)/1000000 -> 0 | AA15: =SUMIFS(MT_CO2e_AR5_20_yr,Year,$A15,Gas,AA$6,Gross,GrossYes,Economic_Sector,T$4)/1000000 -> 0 | AB15: =SUM(T15:AA15) -> 118.67355 | AC15: =SUMIFS(MT_CO2e_AR4_100_yr,Year,$A15,Gas,AC$6,Gross,GrossYes,Economic_Sector,T$4)/1000000 -> 71.943075 | AD15: =SUMIFS(MT_CO2e_AR4_100_yr,Year,$A15,Gas,AD$6,Gross,GrossYes,Economic_Sector,T$4)/1000000 -> 0.229583 | AE15: =SUMIFS(MT_CO2e_AR4_100_yr,Year,$A15,Gas,AE$6,Gross,GrossYes,Economic_Sector,T$4)/1000000 -> 8.967591 | AF15: =SUMIFS(MT_CO2e_AR4_100_yr,Year,$A15,Gas,AF$6,Gross,GrossYes,Economic_Sector,T$4)/1000000 -> 10.262395 | AG15: =SUMIFS(MT_CO2e_AR4_100_yr,Year,$A15,Gas,AG$6,Gross,GrossYes,Economic_Sector,T$4)/1000000 -> 1.202284 | AH15: =SUMIFS(MT_CO2e_AR4_100_yr,Year,$A15,Gas,AH$6,Gross,GrossYes,Economic_Sector,T$4)/1000000 -> 0 | AI15: =SUMIFS(MT_CO2e_AR4_100_yr,Year,$A15,Gas,AI$6,Gross,GrossYes,Economic_Sector,T$4)/1000000 -> 0 | AJ15: =SUMIFS(MT_CO2e_AR4_100_yr,Year,$A15,Gas,AJ$6,Gross,GrossYes,Economic_Sector,T$4)/1000000 -> 0 | AK15: =SUM(AC15:AJ15) -> 92.604928 | AL15: =SUMIFS(MT_CO2e_AR5_20_yr,Year,$A15,Gas,AL$6,Gross,GrossYes,Economic_Sector,AL$4)/1000000 -> 66.056094 | AM15: =SUMIFS(MT_CO2e_AR5_20_yr,Year,$A15,Gas,AM$6,Gross,GrossYes,Economic_Sector,AL$4)/1000000 -> 0.343867 | AN15: =SUMIFS(MT_CO2e_AR5_20_yr,Year,$A15,Gas,AN$6,Gross,GrossYes,Economic_Sector,AL$4)/1000000 -> 0.501792 | AO15: =SUMIFS(MT_CO2e_AR5_20_yr,Year,$A15,Gas,AO$6,Gross,GrossYes,Economic_Sector,AL$4)/1000000 -> 25.367213 | AP15: =SUMIFS(MT_CO2e_AR5_20_yr,Year,$A15,Gas,AP$6,Gross,GrossYes,Economic_Sector,AL$4)/1000000 -> 0 | AQ15: =SUMIFS(MT_CO2e_AR5_20_yr,Year,$A15,Gas,AQ$6,Gross,GrossYes,Economic_Sector,AL$4)/1000000 -> 0 | AR15: =SUMIFS(MT_CO2e_AR5_20_yr,Year,$A15,Gas,AR$6,Gross,GrossYes,Economic_Sector,AL$4)/1000000 -> 0 | AS15: =SUMIFS(MT_CO2e_AR5_20_yr,Year,$A15,Gas,AS$6,Gross,GrossYes,Economic_Sector,AL$4)/1000000 -> 2.233868 | AT15: =SUM(AL15:AS15) -> 94.502834 | AU15: =SUMIFS(MT_CO2e_AR4_100_yr,Year,$A15,Gas,AU$6,Gross,GrossYes,Economic_Sector,AL$4)/1000000 -> 66.056094 | AV15: =SUMIFS(MT_CO2e_AR4_100_yr,Year,$A15,Gas,AV$6,Gross,GrossYes,Economic_Sector,AL$4)/1000000 -> 0.38815 | AW15: =SUMIFS(MT_CO2e_AR4_100_yr,Year,$A15,Gas,AW$6,Gross,GrossYes,Economic_Sector,AL$4)/1000000 -> 0.501792 | AX15: =SUMIFS(MT_CO2e_AR4_100_yr,Year,$A15,Gas,AX$6,Gross,GrossYes,Economic_Sector,AL$4)/1000000 -> 7.549765 | AY15: =SUMIFS(MT_CO2e_AR4_100_yr,Year,$A15,Gas,AY$6,Gross,GrossYes,Economic_Sector,AL$4)/1000000 -> 0 | AZ15: =SUMIFS(MT_CO2e_AR4_100_yr,Year,$A15,Gas,AZ$6,Gross,GrossYes,Economic_Sector,AL$4)/1000000 -> 0 | BA15: =SUMIFS(MT_CO2e_AR4_100_yr,Year,$A15,Gas,BA$6,Gross,GrossYes,Economic_Sector,AL$4)/1000000 -> 0 | BB15: =SUMIFS(MT_CO2e_AR4_100_yr,Year,$A15,Gas,BB$6,Gross,GrossYes,Economic_Sector,AL$4)/1000000 -> 2.91041 | BC15: =SUM(AU15:BB15) -> 77.406211 | BD15: =SUMIFS(MT_CO2e_AR5_20_yr,Year,$A15,Gas,BD$6,Gross,GrossYes,Economic_Sector,BD$4)/1000000 -> 27.127342 | BE15: =SUMIFS(MT_CO2e_AR5_20_yr,Year,$A15,Gas,BE$6,Gross,GrossYes,Economic_Sector,BD$4)/1000000 -> 0.074094 | BF15: =SUMIFS(MT_CO2e_AR5_20_yr,Year,$A15,Gas,BF$6,Gross,GrossYes,Economic_Sector,BD$4)/1000000 -> 2.588279 | BG15: =SUMIFS(MT_CO2e_AR5_20_yr,Year,$A15,Gas,BG$6,Gross,GrossYes,Economic_Sector,BD$4)/1000000 -> 27.155671 | BH15: =SUMIFS(MT_CO2e_AR5_20_yr,Year,$A15,Gas,BH$6,Gross,GrossYes,Economic_Sector,BD$4)/1000000 -> 0.006629 | BI15: =SUMIFS(MT_CO2e_AR5_20_yr,Year,$A15,Gas,BI$6,Gross,GrossYes,Economic_Sector,BD$4)/1000000 -> 0.001503 | BJ15: =SUMIFS(MT_CO2e_AR5_20_yr,Year,$A15,Gas,BJ$6,Gross,GrossYes,Economic_Sector,BD$4)/1000000 -> 0.467673 | BK15: =SUMIFS(MT_CO2e_AR5_20_yr,Year,$A15,Gas,BK$6,Gross,GrossYes,Economic_Sector,BD$4)/1000000 -> 0.016025 | BL15: =SUM(BD15:BK15) -> 57.437216 | BM15: =SUMIFS(MT_CO2e_AR4_100_yr,Year,$A15,Gas,BM$6,Gross,GrossYes,Economic_Sector,BD$4)/1000000 -> 27.127342 | BN15: =SUMIFS(MT_CO2e_AR4_100_yr,Year,$A15,Gas,BN$6,Gross,GrossYes,Economic_Sector,BD$4)/1000000 -> 0.083635 | BO15: =SUMIFS(MT_CO2e_AR4_100_yr,Year,$A15,Gas,BO$6,Gross,GrossYes,Economic_Sector,BD$4)/1000000 -> 2.588279 | BP15: =SUMIFS(MT_CO2e_AR4_100_yr,Year,$A15,Gas,BP$6,Gross,GrossYes,Economic_Sector,BD$4)/1000000 -> 8.082046 | BQ15: =SUMIFS(MT_CO2e_AR4_100_yr,Year,$A15,Gas,BQ$6,Gross,GrossYes,Economic_Sector,BD$4)/1000000 -> 0.009084 | BR15: =SUMIFS(MT_CO2e_AR4_100_yr,Year,$A15,Gas,BR$6,Gross,GrossYes,Economic_Sector,BD$4)/1000000 -> 0.002019 | BS15: =SUMIFS(MT_CO2e_AR4_100_yr,Year,$A15,Gas,BS$6,Gross,GrossYes,Economic_Sector,BD$4)/1000000 -> 0.705326 | BT15: =SUMIFS(MT_CO2e_AR4_100_yr,Year,$A15,Gas,BT$6,Gross,GrossYes,Economic_Sector,BD$4)/1000000 -> 0.020878 | BU15: =SUM(BM15:BT15) -> 38.618609 | BV15: =SUMIFS(MT_CO2e_AR5_20_yr,Year,$A15,Gas,BV$6,Gross,GrossYes,Economic_Sector,BV$4)/1000000 -> 97.796316 | BW15: =SUMIFS(MT_CO2e_AR5_20_yr,Year,$A15,Gas,BW$6,Gross,GrossYes,Economic_Sector,BV$4)/1000000 -> 0.832297 | BX15: =SUMIFS(MT_CO2e_AR5_20_yr,Year,$A15,Gas,BX$6,Gross,GrossYes,Economic_Sector,BV$4)/1000000 -> 0.112075 | BY15: =SUMIFS(MT_CO2e_AR5_20_yr,Year,$A15,Gas,BY$6,Gross,GrossYes,Economic_Sector,BV$4)/1000000 -> 12.799963 | BZ15: =SUMIFS(MT_CO2e_AR5_20_yr,Year,$A15,Gas,BZ$6,Gross,GrossYes,Economic_Sector,BV$4)/1000000 -> 0.892514 | CA15: =SUMIFS(MT_CO2e_AR5_20_yr,Year,$A15,Gas,CA$6,Gross,GrossYes,Economic_Sector,BV$4)/1000000 -> 0 | CB15: =SUMIFS(MT_CO2e_AR5_20_yr,Year,$A15,Gas,CB$6,Gross,GrossYes,Economic_Sector,BV$4)/1000000 -> 0 | CC15: =SUMIFS(MT_CO2e_AR5_20_yr,Year,$A15,Gas,CC$6,Gross,GrossYes,Economic_Sector,BV$4)/1000000 -> 0 | CD15: =SUM(BV15:CC15) -> 112.43317 | CE15: =SUMIFS(MT_CO2e_AR4_100_yr,Year,$A15,Gas,CE$6,Gross,GrossYes,Economic_Sector,BV$4)/1000000 -> 97.796316 | CF15: =SUMIFS(MT_CO2e_AR4_100_yr,Year,$A15,Gas,CF$6,Gross,GrossYes,Economic_Sector,BV$4)/1000000 -> 0.939485 | CG15: =SUMIFS(MT_CO2e_AR4_100_yr,Year,$A15,Gas,CG$6,Gross,GrossYes,Economic_Sector,BV$4)/1000000 -> 0.112075 | CH15: =SUMIFS(MT_CO2e_AR4_100_yr,Year,$A15,Gas,CH$6,Gross,GrossYes,Economic_Sector,BV$4)/1000000 -> 3.809514 | CI15: =SUMIFS(MT_CO2e_AR4_100_yr,Year,$A15,Gas,CI$6,Gross,GrossYes,Economic_Sector,BV$4)/1000000 -> 0.346239 | CJ15: =SUMIFS(MT_CO2e_AR4_100_yr,Year,$A15,Gas,CJ$6,Gross,GrossYes,Economic_Sector,BV$4)/1000000 -> 0 | CK15: =SUMIFS(MT_CO2e_AR4_100_yr,Year,$A15,Gas,CK$6,Gross,GrossYes,Economic_Sector,BV$4)/1000000 -> 0 | CL15: =SUMIFS(MT_CO2e_AR4_100_yr,Year,$A15,Gas,CL$6,Gross,GrossYes,Economic_Sector,BV$4)/1000000 -> 0 | CM15: =SUM(CE15:CL15) -> 103.00363 | CN15: =SUMIFS(MT_CO2e_AR5_20_yr,Year,$A15,Gas,CN$6,Gross,GrossYes,Economic_Sector,CN$4)/1000000 -> 2.30445 | CO15: =SUMIFS(MT_CO2e_AR5_20_yr,Year,$A15,Gas,CO$6,Gross,GrossYes,Economic_Sector,CN$4)/1000000 -> 0.533405 | CP15: =SUMIFS(MT_CO2e_AR5_20_yr,Year,$A15,Gas,CP$6,Gross,GrossYes,Economic_Sector,CN$4)/1000000 -> 1.806358 | CQ15: =SUMIFS(MT_CO2e_AR5_20_yr,Year,$A15,Gas,CQ$6,Gross,GrossYes,Economic_Sector,CN$4)/1000000 -> 38.547838 | CR15: =SUMIFS(MT_CO2e_AR5_20_yr,Year,$A15,Gas,CR$6,Gross,GrossYes,Economic_Sector,CN$4)/1000000 -> 0 | CS15: =SUMIFS(MT_CO2e_AR5_20_yr,Year,$A15,Gas,CS$6,Gross,GrossYes,Economic_Sector,CN$4)/1000000 -> 0 | CT15: =SUMIFS(MT_CO2e_AR5_20_yr,Year,$A15,Gas,CT$6,Gross,GrossYes,Economic_Sector,CN$4)/1000000 -> 0 | CU15: =SUMIFS(MT_CO2e_AR5_20_yr,Year,$A15,Gas,CU$6,Gross,GrossYes,Economic_Sector,CN$4)/1000000 -> 0 | CV15: =SUM(CN15:CU15) -> 43.192051 | CW15: =SUMIFS(MT_CO2e_AR4_100_yr,Year,$A15,Gas,CW$6,Gross,GrossYes,Economic_Sector,CN$4)/1000000 -> 2.30445 | CX15: =SUMIFS(MT_CO2e_AR4_100_yr,Year,$A15,Gas,CX$6,Gross,GrossYes,Economic_Sector,CN$4)/1000000 -> 0.602103 | CY15: =SUMIFS(MT_CO2e_AR4_100_yr,Year,$A15,Gas,CY$6,Gross,GrossYes,Economic_Sector,CN$4)/1000000 -> 1.806358 | CZ15: =SUMIFS(MT_CO2e_AR4_100_yr,Year,$A15,Gas,CZ$6,Gross,GrossYes,Economic_Sector,CN$4)/1000000 -> 11.472572 | DA15: =SUMIFS(MT_CO2e_AR4_100_yr,Year,$A15,Gas,DA$6,Gross,GrossYes,Economic_Sector,CN$4)/1000000 -> 0 | DB15: =SUMIFS(MT_CO2e_AR4_100_yr,Year,$A15,Gas,DB$6,Gross,GrossYes,Economic_Sector,CN$4)/1000000 -> 0 | DC15: =SUMIFS(MT_CO2e_AR4_100_yr,Year,$A15,Gas,DC$6,Gross,GrossYes,Economic_Sector,CN$4)/1000000 -> 0 | DD15: =SUMIFS(MT_CO2e_AR4_100_yr,Year,$A15,Gas,DD$6,Gross,GrossYes,Economic_Sector,CN$4)/1000000 -> 0 | DE15: =SUM(CW15:DD15) -> 16.185483 | DG15: =J15/$DV15 -> 0.035366783 | DH15: =AB15/$DV15 -> 0.26857349 | DI15: =AT15/$DV15 -> 0.21387206 | DJ15: =BL15/$DV15 -> 0.1299878 | DK15: =CD15/$DV15 -> 0.2544507 | DL15: =CV15/$DV15 -> 0.097749163 | DN15: =S15/$DW15 -> 0.017962302 | DO15: =AK15/$DW15 -> 0.27741397 | DP15: =BC15/$DW15 -> 0.2318836 | DQ15: =BU15/$DW15 -> 0.11568868 | DR15: =CM15/$DW15 -> 0.30856506 | DS15: =DE15/$DW15 -> 0.048486394 | DU15: =Summary!A14 -> 1998 | DV15: =Summary!J14 -> 441.8662 | DW15: =Summary!S14 -> 333.81495
A16: 1999 | B16: =SUMIFS(MT_CO2e_AR5_20_yr,Year,$A16,Gas,B$6,Gross,GrossYes,Economic_Sector,B$4)/1000000 -> 0.164486 | C16: =SUMIFS(MT_CO2e_AR5_20_yr,Year,$A16,Gas,C$6,Gross,GrossYes,Economic_Sector,B$4)/1000000 -> 1.810876 | D16: =SUMIFS(MT_CO2e_AR5_20_yr,Year,$A16,Gas,D$6,Gross,GrossYes,Economic_Sector,B$4)/1000000 -> 0 | E16: =SUMIFS(MT_CO2e_AR5_20_yr,Year,$A16,Gas,E$6,Gross,GrossYes,Economic_Sector,B$4)/1000000 -> 14.033303 | F16: =SUMIFS(MT_CO2e_AR5_20_yr,Year,$A16,Gas,F$6,Gross,GrossYes,Economic_Sector,B$4)/1000000 -> 0 | G16: =SUMIFS(MT_CO2e_AR5_20_yr,Year,$A16,Gas,G$6,Gross,GrossYes,Economic_Sector,B$4)/1000000 -> 0 | H16: =SUMIFS(MT_CO2e_AR5_20_yr,Year,$A16,Gas,H$6,Gross,GrossYes,Economic_Sector,B$4)/1000000 -> 0 | I16: =SUMIFS(MT_CO2e_AR5_20_yr,Year,$A16,Gas,I$6,Gross,GrossYes,Economic_Sector,B$4)/1000000 -> 0 | J16: =SUM(B16:I16) -> 16.008665 | K16: =SUMIFS(MT_CO2e_AR4_100_yr,Year,$A16,Gas,K$6,Gross,GrossYes,Economic_Sector,B$4)/1000000 -> 0.164486 | L16: =SUMIFS(MT_CO2e_AR4_100_yr,Year,$A16,Gas,L$6,Gross,GrossYes,Economic_Sector,B$4)/1000000 -> 1.837856 | M16: =SUMIFS(MT_CO2e_AR4_100_yr,Year,$A16,Gas,M$6,Gross,GrossYes,Economic_Sector,B$4)/1000000 -> 0 | N16: =SUMIFS(MT_CO2e_AR4_100_yr,Year,$A16,Gas,N$6,Gross,GrossYes,Economic_Sector,B$4)/1000000 -> 4.176578 | O16: =SUMIFS(MT_CO2e_AR4_100_yr,Year,$A16,Gas,O$6,Gross,GrossYes,Economic_Sector,B$4)/1000000 -> 0 | P16: =SUMIFS(MT_CO2e_AR4_100_yr,Year,$A16,Gas,P$6,Gross,GrossYes,Economic_Sector,B$4)/1000000 -> 0 | Q16: =SUMIFS(MT_CO2e_AR4_100_yr,Year,$A16,Gas,Q$6,Gross,GrossYes,Economic_Sector,B$4)/1000000 -> 0 | R16: =SUMIFS(MT_CO2e_AR4_100_yr,Year,$A16,Gas,R$6,Gross,GrossYes,Economic_Sector,B$4)/1000000 -> 0 | S16: =SUM(K16:R16) -> 6.17892 | T16: =SUMIFS(MT_CO2e_AR5_20_yr,Year,$A16,Gas,T$6,Gross,GrossYes,Economic_Sector,T$4)/1000000 -> 78.275894 | U16: =SUMIFS(MT_CO2e_AR5_20_yr,Year,$A16,Gas,U$6,Gross,GrossYes,Economic_Sector,T$4)/1000000 -> 0.216098 | V16: =SUMIFS(MT_CO2e_AR5_20_yr,Year,$A16,Gas,V$6,Gross,GrossYes,Economic_Sector,T$4)/1000000 -> 9.23566 | W16: =SUMIFS(MT_CO2e_AR5_20_yr,Year,$A16,Gas,W$6,Gross,GrossYes,Economic_Sector,T$4)/1000000 -> 37.588096 | X16: =SUMIFS(MT_CO2e_AR5_20_yr,Year,$A16,Gas,X$6,Gross,GrossYes,Economic_Sector,T$4)/1000000 -> 3.270622 | Y16: =SUMIFS(MT_CO2e_AR5_20_yr,Year,$A16,Gas,Y$6,Gross,GrossYes,Economic_Sector,T$4)/1000000 -> 0 | Z16: =SUMIFS(MT_CO2e_AR5_20_yr,Year,$A16,Gas,Z$6,Gross,GrossYes,Economic_Sector,T$4)/1000000 -> 0 | AA16: =SUMIFS(MT_CO2e_AR5_20_yr,Year,$A16,Gas,AA$6,Gross,GrossYes,Economic_Sector,T$4)/1000000 -> 0 | AB16: =SUM(T16:AA16) -> 128.58637 | AC16: =SUMIFS(MT_CO2e_AR4_100_yr,Year,$A16,Gas,AC$6,Gross,GrossYes,Economic_Sector,T$4)/1000000 -> 78.275894 | AD16: =SUMIFS(MT_CO2e_AR4_100_yr,Year,$A16,Gas,AD$6,Gross,GrossYes,Economic_Sector,T$4)/1000000 -> 0.243932 | AE16: =SUMIFS(MT_CO2e_AR4_100_yr,Year,$A16,Gas,AE$6,Gross,GrossYes,Economic_Sector,T$4)/1000000 -> 9.23566 | AF16: =SUMIFS(MT_CO2e_AR4_100_yr,Year,$A16,Gas,AF$6,Gross,GrossYes,Economic_Sector,T$4)/1000000 -> 11.186934 | AG16: =SUMIFS(MT_CO2e_AR4_100_yr,Year,$A16,Gas,AG$6,Gross,GrossYes,Economic_Sector,T$4)/1000000 -> 1.292554 | AH16: =SUMIFS(MT_CO2e_AR4_100_yr,Year,$A16,Gas,AH$6,Gross,GrossYes,Economic_Sector,T$4)/1000000 -> 0 | AI16: =SUMIFS(MT_CO2e_AR4_100_yr,Year,$A16,Gas,AI$6,Gross,GrossYes,Economic_Sector,T$4)/1000000 -> 0 | AJ16: =SUMIFS(MT_CO2e_AR4_100_yr,Year,$A16,Gas,AJ$6,Gross,GrossYes,Economic_Sector,T$4)/1000000 -> 0 | AK16: =SUM(AC16:AJ16) -> 100.23497 | AL16: =SUMIFS(MT_CO2e_AR5_20_yr,Year,$A16,Gas,AL$6,Gross,GrossYes,Economic_Sector,AL$4)/1000000 -> 70.653016 | AM16: =SUMIFS(MT_CO2e_AR5_20_yr,Year,$A16,Gas,AM$6,Gross,GrossYes,Economic_Sector,AL$4)/1000000 -> 0.347526 | AN16: =SUMIFS(MT_CO2e_AR5_20_yr,Year,$A16,Gas,AN$6,Gross,GrossYes,Economic_Sector,AL$4)/1000000 -> 0.516289 | AO16: =SUMIFS(MT_CO2e_AR5_20_yr,Year,$A16,Gas,AO$6,Gross,GrossYes,Economic_Sector,AL$4)/1000000 -> 28.319034 | AP16: =SUMIFS(MT_CO2e_AR5_20_yr,Year,$A16,Gas,AP$6,Gross,GrossYes,Economic_Sector,AL$4)/1000000 -> 0 | AQ16: =SUMIFS(MT_CO2e_AR5_20_yr,Year,$A16,Gas,AQ$6,Gross,GrossYes,Economic_Sector,AL$4)/1000000 -> 0 | AR16: =SUMIFS(MT_CO2e_AR5_20_yr,Year,$A16,Gas,AR$6,Gross,GrossYes,Economic_Sector,AL$4)/1000000 -> 0 | AS16: =SUMIFS(MT_CO2e_AR5_20_yr,Year,$A16,Gas,AS$6,Gross,GrossYes,Economic_Sector,AL$4)/1000000 -> 2.312707 | AT16: =SUM(AL16:AS16) -> 102.14857 | AU16: =SUMIFS(MT_CO2e_AR4_100_yr,Year,$A16,Gas,AU$6,Gross,GrossYes,Economic_Sector,AL$4)/1000000 -> 70.653016 | AV16: =SUMIFS(MT_CO2e_AR4_100_yr,Year,$A16,Gas,AV$6,Gross,GrossYes,Economic_Sector,AL$4)/1000000 -> 0.392284 | AW16: =SUMIFS(MT_CO2e_AR4_100_yr,Year,$A16,Gas,AW$6,Gross,GrossYes,Economic_Sector,AL$4)/1000000 -> 0.516289 | AX16: =SUMIFS(MT_CO2e_AR4_100_yr,Year,$A16,Gas,AX$6,Gross,GrossYes,Economic_Sector,AL$4)/1000000 -> 8.428283 | AY16: =SUMIFS(MT_CO2e_AR4_100_yr,Year,$A16,Gas,AY$6,Gross,GrossYes,Economic_Sector,AL$4)/1000000 -> 0 | AZ16: =SUMIFS(MT_CO2e_AR4_100_yr,Year,$A16,Gas,AZ$6,Gross,GrossYes,Economic_Sector,AL$4)/1000000 -> 0 | BA16: =SUMIFS(MT_CO2e_AR4_100_yr,Year,$A16,Gas,BA$6,Gross,GrossYes,Economic_Sector,AL$4)/1000000 -> 0 | BB16: =SUMIFS(MT_CO2e_AR4_100_yr,Year,$A16,Gas,BB$6,Gross,GrossYes,Economic_Sector,AL$4)/1000000 -> 3.013127 | BC16: =SUM(AU16:BB16) -> 83.002999 | BD16: =SUMIFS(MT_CO2e_AR5_20_yr,Year,$A16,Gas,BD$6,Gross,GrossYes,Economic_Sector,BD$4)/1000000 -> 22.767706 | BE16: =SUMIFS(MT_CO2e_AR5_20_yr,Year,$A16,Gas,BE$6,Gross,GrossYes,Economic_Sector,BD$4)/1000000 -> 0.071191 | BF16: =SUMIFS(MT_CO2e_AR5_20_yr,Year,$A16,Gas,BF$6,Gross,GrossYes,Economic_Sector,BD$4)/1000000 -> 2.724855 | BG16: =SUMIFS(MT_CO2e_AR5_20_yr,Year,$A16,Gas,BG$6,Gross,GrossYes,Economic_Sector,BD$4)/1000000 -> 23.98362 | BH16: =SUMIFS(MT_CO2e_AR5_20_yr,Year,$A16,Gas,BH$6,Gross,GrossYes,Economic_Sector,BD$4)/1000000 -> 0.006727 | BI16: =SUMIFS(MT_CO2e_AR5_20_yr,Year,$A16,Gas,BI$6,Gross,GrossYes,Economic_Sector,BD$4)/1000000 -> 0.001525 | BJ16: =SUMIFS(MT_CO2e_AR5_20_yr,Year,$A16,Gas,BJ$6,Gross,GrossYes,Economic_Sector,BD$4)/1000000 -> 0.456705 | BK16: =SUMIFS(MT_CO2e_AR5_20_yr,Year,$A16,Gas,BK$6,Gross,GrossYes,Economic_Sector,BD$4)/1000000 -> 0.016261 | BL16: =SUM(BD16:BK16) -> 50.02859 | BM16: =SUMIFS(MT_CO2e_AR4_100_yr,Year,$A16,Gas,BM$6,Gross,GrossYes,Economic_Sector,BD$4)/1000000 -> 22.767706 | BN16: =SUMIFS(MT_CO2e_AR4_100_yr,Year,$A16,Gas,BN$6,Gross,GrossYes,Economic_Sector,BD$4)/1000000 -> 0.08036 | BO16: =SUMIFS(MT_CO2e_AR4_100_yr,Year,$A16,Gas,BO$6,Gross,GrossYes,Economic_Sector,BD$4)/1000000 -> 2.724855 | BP16: =SUMIFS(MT_CO2e_AR4_100_yr,Year,$A16,Gas,BP$6,Gross,GrossYes,Economic_Sector,BD$4)/1000000 -> 7.137983 | BQ16: =SUMIFS(MT_CO2e_AR4_100_yr,Year,$A16,Gas,BQ$6,Gross,GrossYes,Economic_Sector,BD$4)/1000000 -> 0.009218 | BR16: =SUMIFS(MT_CO2e_AR4_100_yr,Year,$A16,Gas,BR$6,Gross,GrossYes,Economic_Sector,BD$4)/1000000 -> 0.002049 | BS16: =SUMIFS(MT_CO2e_AR4_100_yr,Year,$A16,Gas,BS$6,Gross,GrossYes,Economic_Sector,BD$4)/1000000 -> 0.688751 | BT16: =SUMIFS(MT_CO2e_AR4_100_yr,Year,$A16,Gas,BT$6,Gross,GrossYes,Economic_Sector,BD$4)/1000000 -> 0.021186 | BU16: =SUM(BM16:BT16) -> 33.432108 | BV16: =SUMIFS(MT_CO2e_AR5_20_yr,Year,$A16,Gas,BV$6,Gross,GrossYes,Economic_Sector,BV$4)/1000000 -> 98.890745 | BW16: =SUMIFS(MT_CO2e_AR5_20_yr,Year,$A16,Gas,BW$6,Gross,GrossYes,Economic_Sector,BV$4)/1000000 -> 0.828307 | BX16: =SUMIFS(MT_CO2e_AR5_20_yr,Year,$A16,Gas,BX$6,Gross,GrossYes,Economic_Sector,BV$4)/1000000 -> 0.095156 | BY16: =SUMIFS(MT_CO2e_AR5_20_yr,Year,$A16,Gas,BY$6,Gross,GrossYes,Economic_Sector,BV$4)/1000000 -> 12.912792 | BZ16: =SUMIFS(MT_CO2e_AR5_20_yr,Year,$A16,Gas,BZ$6,Gross,GrossYes,Economic_Sector,BV$4)/1000000 -> 1.099383 | CA16: =SUMIFS(MT_CO2e_AR5_20_yr,Year,$A16,Gas,CA$6,Gross,GrossYes,Economic_Sector,BV$4)/1000000 -> 0 | CB16: =SUMIFS(MT_CO2e_AR5_20_yr,Year,$A16,Gas,CB$6,Gross,GrossYes,Economic_Sector,BV$4)/1000000 -> 0 | CC16: =SUMIFS(MT_CO2e_AR5_20_yr,Year,$A16,Gas,CC$6,Gross,GrossYes,Economic_Sector,BV$4)/1000000 -> 0 | CD16: =SUM(BV16:CC16) -> 113.82638 | CE16: =SUMIFS(MT_CO2e_AR4_100_yr,Year,$A16,Gas,CE$6,Gross,GrossYes,Economic_Sector,BV$4)/1000000 -> 98.890745 | CF16: =SUMIFS(MT_CO2e_AR4_100_yr,Year,$A16,Gas,CF$6,Gross,GrossYes,Economic_Sector,BV$4)/1000000 -> 0.93498 | CG16: =SUMIFS(MT_CO2e_AR4_100_yr,Year,$A16,Gas,CG$6,Gross,GrossYes,Economic_Sector,BV$4)/1000000 -> 0.095156 | CH16: =SUMIFS(MT_CO2e_AR4_100_yr,Year,$A16,Gas,CH$6,Gross,GrossYes,Economic_Sector,BV$4)/1000000 -> 3.84309 | CI16: =SUMIFS(MT_CO2e_AR4_100_yr,Year,$A16,Gas,CI$6,Gross,GrossYes,Economic_Sector,BV$4)/1000000 -> 0.426725 | CJ16: =SUMIFS(MT_CO2e_AR4_100_yr,Year,$A16,Gas,CJ$6,Gross,GrossYes,Economic_Sector,BV$4)/1000000 -> 0 | CK16: =SUMIFS(MT_CO2e_AR4_100_yr,Year,$A16,Gas,CK$6,Gross,GrossYes,Economic_Sector,BV$4)/1000000 -> 0 | CL16: =SUMIFS(MT_CO2e_AR4_100_yr,Year,$A16,Gas,CL$6,Gross,GrossYes,Economic_Sector,BV$4)/1000000 -> 0 | CM16: =SUM(CE16:CL16) -> 104.1907 | CN16: =SUMIFS(MT_CO2e_AR5_20_yr,Year,$A16,Gas,CN$6,Gross,GrossYes,Economic_Sector,CN$4)/1000000 -> 2.32355 | CO16: =SUMIFS(MT_CO2e_AR5_20_yr,Year,$A16,Gas,CO$6,Gross,GrossYes,Economic_Sector,CN$4)/1000000 -> 0.536799 | CP16: =SUMIFS(MT_CO2e_AR5_20_yr,Year,$A16,Gas,CP$6,Gross,GrossYes,Economic_Sector,CN$4)/1000000 -> 1.818969 | CQ16: =SUMIFS(MT_CO2e_AR5_20_yr,Year,$A16,Gas,CQ$6,Gross,GrossYes,Economic_Sector,CN$4)/1000000 -> 38.482334 | CR16: =SUMIFS(MT_CO2e_AR5_20_yr,Year,$A16,Gas,CR$6,Gross,GrossYes,Economic_Sector,CN$4)/1000000 -> 0 | CS16: =SUMIFS(MT_CO2e_AR5_20_yr,Year,$A16,Gas,CS$6,Gross,GrossYes,Economic_Sector,CN$4)/1000000 -> 0 | CT16: =SUMIFS(MT_CO2e_AR5_20_yr,Year,$A16,Gas,CT$6,Gross,GrossYes,Economic_Sector,CN$4)/1000000 -> 0 | CU16: =SUMIFS(MT_CO2e_AR5_20_yr,Year,$A16,Gas,CU$6,Gross,GrossYes,Economic_Sector,CN$4)/1000000 -> 0 | CV16: =SUM(CN16:CU16) -> 43.161652 | CW16: =SUMIFS(MT_CO2e_AR4_100_yr,Year,$A16,Gas,CW$6,Gross,GrossYes,Economic_Sector,CN$4)/1000000 -> 2.32355 | CX16: =SUMIFS(MT_CO2e_AR4_100_yr,Year,$A16,Gas,CX$6,Gross,GrossYes,Economic_Sector,CN$4)/1000000 -> 0.605934 | CY16: =SUMIFS(MT_CO2e_AR4_100_yr,Year,$A16,Gas,CY$6,Gross,GrossYes,Economic_Sector,CN$4)/1000000 -> 1.818969 | CZ16: =SUMIFS(MT_CO2e_AR4_100_yr,Year,$A16,Gas,CZ$6,Gross,GrossYes,Economic_Sector,CN$4)/1000000 -> 11.453077 | DA16: =SUMIFS(MT_CO2e_AR4_100_yr,Year,$A16,Gas,DA$6,Gross,GrossYes,Economic_Sector,CN$4)/1000000 -> 0 | DB16: =SUMIFS(MT_CO2e_AR4_100_yr,Year,$A16,Gas,DB$6,Gross,GrossYes,Economic_Sector,CN$4)/1000000 -> 0 | DC16: =SUMIFS(MT_CO2e_AR4_100_yr,Year,$A16,Gas,DC$6,Gross,GrossYes,Economic_Sector,CN$4)/1000000 -> 0 | DD16: =SUMIFS(MT_CO2e_AR4_100_yr,Year,$A16,Gas,DD$6,Gross,GrossYes,Economic_Sector,CN$4)/1000000 -> 0 | DE16: =SUM(CW16:DD16) -> 16.20153 | DG16: =J16/$DV16 -> 0.035280009 | DH16: =AB16/$DV16 -> 0.28337955 | DI16: =AT16/$DV16 -> 0.22511574 | DJ16: =BL16/$DV16 -> 0.11025336 | DK16: =CD16/$DV16 -> 0.25085139 | DL16: =CV16/$DV16 -> 0.095119953 | DN16: =S16/$DW16 -> 0.018001684 | DO16: =AK16/$DW16 -> 0.29202487 | DP16: =BC16/$DW16 -> 0.24182118 | DQ16: =BU16/$DW16 -> 0.097401202 | DR16: =CM16/$DW16 -> 0.30354948 | DS16: =DE16/$DW16 -> 0.047201585 | DU16: =Summary!A15 -> 1999 | DV16: =Summary!J15 -> 453.76023 | DW16: =Summary!S15 -> 343.24123
A17: 2000 | B17: =SUMIFS(MT_CO2e_AR5_20_yr,Year,$A17,Gas,B$6,Gross,GrossYes,Economic_Sector,B$4)/1000000 -> 0.156707 | C17: =SUMIFS(MT_CO2e_AR5_20_yr,Year,$A17,Gas,C$6,Gross,GrossYes,Economic_Sector,B$4)/1000000 -> 1.644409 | D17: =SUMIFS(MT_CO2e_AR5_20_yr,Year,$A17,Gas,D$6,Gross,GrossYes,Economic_Sector,B$4)/1000000 -> 0 | E17: =SUMIFS(MT_CO2e_AR5_20_yr,Year,$A17,Gas,E$6,Gross,GrossYes,Economic_Sector,B$4)/1000000 -> 13.999499 | F17: =SUMIFS(MT_CO2e_AR5_20_yr,Year,$A17,Gas,F$6,Gross,GrossYes,Economic_Sector,B$4)/1000000 -> 0 | G17: =SUMIFS(MT_CO2e_AR5_20_yr,Year,$A17,Gas,G$6,Gross,GrossYes,Economic_Sector,B$4)/1000000 -> 0 | H17: =SUMIFS(MT_CO2e_AR5_20_yr,Year,$A17,Gas,H$6,Gross,GrossYes,Economic_Sector,B$4)/1000000 -> 0 | I17: =SUMIFS(MT_CO2e_AR5_20_yr,Year,$A17,Gas,I$6,Gross,GrossYes,Economic_Sector,B$4)/1000000 -> 0 | J17: =SUM(B17:I17) -> 15.800615 | K17: =SUMIFS(MT_CO2e_AR4_100_yr,Year,$A17,Gas,K$6,Gross,GrossYes,Economic_Sector,B$4)/1000000 -> 0.156707 | L17: =SUMIFS(MT_CO2e_AR4_100_yr,Year,$A17,Gas,L$6,Gross,GrossYes,Economic_Sector,B$4)/1000000 -> 1.672534 | M17: =SUMIFS(MT_CO2e_AR4_100_yr,Year,$A17,Gas,M$6,Gross,GrossYes,Economic_Sector,B$4)/1000000 -> 0 | N17: =SUMIFS(MT_CO2e_AR4_100_yr,Year,$A17,Gas,N$6,Gross,GrossYes,Economic_Sector,B$4)/1000000 -> 4.166517 | O17: =SUMIFS(MT_CO2e_AR4_100_yr,Year,$A17,Gas,O$6,Gross,GrossYes,Economic_Sector,B$4)/1000000 -> 0 | P17: =SUMIFS(MT_CO2e_AR4_100_yr,Year,$A17,Gas,P$6,Gross,GrossYes,Economic_Sector,B$4)/1000000 -> 0 | Q17: =SUMIFS(MT_CO2e_AR4_100_yr,Year,$A17,Gas,Q$6,Gross,GrossYes,Economic_Sector,B$4)/1000000 -> 0 | R17: =SUMIFS(MT_CO2e_AR4_100_yr,Year,$A17,Gas,R$6,Gross,GrossYes,Economic_Sector,B$4)/1000000 -> 0 | S17: =SUM(K17:R17) -> 5.995758 | T17: =SUMIFS(MT_CO2e_AR5_20_yr,Year,$A17,Gas,T$6,Gross,GrossYes,Economic_Sector,T$4)/1000000 -> 87.061668 | U17: =SUMIFS(MT_CO2e_AR5_20_yr,Year,$A17,Gas,U$6,Gross,GrossYes,Economic_Sector,T$4)/1000000 -> 0.239281 | V17: =SUMIFS(MT_CO2e_AR5_20_yr,Year,$A17,Gas,V$6,Gross,GrossYes,Economic_Sector,T$4)/1000000 -> 9.936932 | W17: =SUMIFS(MT_CO2e_AR5_20_yr,Year,$A17,Gas,W$6,Gross,GrossYes,Economic_Sector,T$4)/1000000 -> 40.501675 | X17: =SUMIFS(MT_CO2e_AR5_20_yr,Year,$A17,Gas,X$6,Gross,GrossYes,Economic_Sector,T$4)/1000000 -> 3.383313 | Y17: =SUMIFS(MT_CO2e_AR5_20_yr,Year,$A17,Gas,Y$6,Gross,GrossYes,Economic_Sector,T$4)/1000000 -> 0 | Z17: =SUMIFS(MT_CO2e_AR5_20_yr,Year,$A17,Gas,Z$6,Gross,GrossYes,Economic_Sector,T$4)/1000000 -> 0 | AA17: =SUMIFS(MT_CO2e_AR5_20_yr,Year,$A17,Gas,AA$6,Gross,GrossYes,Economic_Sector,T$4)/1000000 -> 0 | AB17: =SUM(T17:AA17) -> 141.12287 | AC17: =SUMIFS(MT_CO2e_AR4_100_yr,Year,$A17,Gas,AC$6,Gross,GrossYes,Economic_Sector,T$4)/1000000 -> 87.061668 | AD17: =SUMIFS(MT_CO2e_AR4_100_yr,Year,$A17,Gas,AD$6,Gross,GrossYes,Economic_Sector,T$4)/1000000 -> 0.270098 | AE17: =SUMIFS(MT_CO2e_AR4_100_yr,Year,$A17,Gas,AE$6,Gross,GrossYes,Economic_Sector,T$4)/1000000 -> 9.936932 | AF17: =SUMIFS(MT_CO2e_AR4_100_yr,Year,$A17,Gas,AF$6,Gross,GrossYes,Economic_Sector,T$4)/1000000 -> 12.054069 | AG17: =SUMIFS(MT_CO2e_AR4_100_yr,Year,$A17,Gas,AG$6,Gross,GrossYes,Economic_Sector,T$4)/1000000 -> 1.351691 | AH17: =SUMIFS(MT_CO2e_AR4_100_yr,Year,$A17,Gas,AH$6,Gross,GrossYes,Economic_Sector,T$4)/1000000 -> 0 | AI17: =SUMIFS(MT_CO2e_AR4_100_yr,Year,$A17,Gas,AI$6,Gross,GrossYes,Economic_Sector,T$4)/1000000 -> 0 | AJ17: =SUMIFS(MT_CO2e_AR4_100_yr,Year,$A17,Gas,AJ$6,Gross,GrossYes,Economic_Sector,T$4)/1000000 -> 0 | AK17: =SUM(AC17:AJ17) -> 110.67446 | AL17: =SUMIFS(MT_CO2e_AR5_20_yr,Year,$A17,Gas,AL$6,Gross,GrossYes,Economic_Sector,AL$4)/1000000 -> 73.361544 | AM17: =SUMIFS(MT_CO2e_AR5_20_yr,Year,$A17,Gas,AM$6,Gross,GrossYes,Economic_Sector,AL$4)/1000000 -> 0.370914 | AN17: =SUMIFS(MT_CO2e_AR5_20_yr,Year,$A17,Gas,AN$6,Gross,GrossYes,Economic_Sector,AL$4)/1000000 -> 0.734657 | AO17: =SUMIFS(MT_CO2e_AR5_20_yr,Year,$A17,Gas,AO$6,Gross,GrossYes,Economic_Sector,AL$4)/1000000 -> 25.03572 | AP17: =SUMIFS(MT_CO2e_AR5_20_yr,Year,$A17,Gas,AP$6,Gross,GrossYes,Economic_Sector,AL$4)/1000000 -> 0 | AQ17: =SUMIFS(MT_CO2e_AR5_20_yr,Year,$A17,Gas,AQ$6,Gross,GrossYes,Economic_Sector,AL$4)/1000000 -> 0 | AR17: =SUMIFS(MT_CO2e_AR5_20_yr,Year,$A17,Gas,AR$6,Gross,GrossYes,Economic_Sector,AL$4)/1000000 -> 0 | AS17: =SUMIFS(MT_CO2e_AR5_20_yr,Year,$A17,Gas,AS$6,Gross,GrossYes,Economic_Sector,AL$4)/1000000 -> 2.177464 | AT17: =SUM(AL17:AS17) -> 101.6803 | AU17: =SUMIFS(MT_CO2e_AR4_100_yr,Year,$A17,Gas,AU$6,Gross,GrossYes,Economic_Sector,AL$4)/1000000 -> 73.361544 | AV17: =SUMIFS(MT_CO2e_AR4_100_yr,Year,$A17,Gas,AV$6,Gross,GrossYes,Economic_Sector,AL$4)/1000000 -> 0.418683 | AW17: =SUMIFS(MT_CO2e_AR4_100_yr,Year,$A17,Gas,AW$6,Gross,GrossYes,Economic_Sector,AL$4)/1000000 -> 0.734657 | AX17: =SUMIFS(MT_CO2e_AR4_100_yr,Year,$A17,Gas,AX$6,Gross,GrossYes,Economic_Sector,AL$4)/1000000 -> 7.451107 | AY17: =SUMIFS(MT_CO2e_AR4_100_yr,Year,$A17,Gas,AY$6,Gross,GrossYes,Economic_Sector,AL$4)/1000000 -> 0 | AZ17: =SUMIFS(MT_CO2e_AR4_100_yr,Year,$A17,Gas,AZ$6,Gross,GrossYes,Economic_Sector,AL$4)/1000000 -> 0 | BA17: =SUMIFS(MT_CO2e_AR4_100_yr,Year,$A17,Gas,BA$6,Gross,GrossYes,Economic_Sector,AL$4)/1000000 -> 0 | BB17: =SUMIFS(MT_CO2e_AR4_100_yr,Year,$A17,Gas,BB$6,Gross,GrossYes,Economic_Sector,AL$4)/1000000 -> 2.836924 | BC17: =SUM(AU17:BB17) -> 84.802915 | BD17: =SUMIFS(MT_CO2e_AR5_20_yr,Year,$A17,Gas,BD$6,Gross,GrossYes,Economic_Sector,BD$4)/1000000 -> 22.150428 | BE17: =SUMIFS(MT_CO2e_AR5_20_yr,Year,$A17,Gas,BE$6,Gross,GrossYes,Economic_Sector,BD$4)/1000000 -> 0.074733 | BF17: =SUMIFS(MT_CO2e_AR5_20_yr,Year,$A17,Gas,BF$6,Gross,GrossYes,Economic_Sector,BD$4)/1000000 -> 2.898321 | BG17: =SUMIFS(MT_CO2e_AR5_20_yr,Year,$A17,Gas,BG$6,Gross,GrossYes,Economic_Sector,BD$4)/1000000 -> 23.186305 | BH17: =SUMIFS(MT_CO2e_AR5_20_yr,Year,$A17,Gas,BH$6,Gross,GrossYes,Economic_Sector,BD$4)/1000000 -> 0.004053 | BI17: =SUMIFS(MT_CO2e_AR5_20_yr,Year,$A17,Gas,BI$6,Gross,GrossYes,Economic_Sector,BD$4)/1000000 -> 0.002561 | BJ17: =SUMIFS(MT_CO2e_AR5_20_yr,Year,$A17,Gas,BJ$6,Gross,GrossYes,Economic_Sector,BD$4)/1000000 -> 0.448327 | BK17: =SUMIFS(MT_CO2e_AR5_20_yr,Year,$A17,Gas,BK$6,Gross,GrossYes,Economic_Sector,BD$4)/1000000 -> 0.012916 | BL17: =SUM(BD17:BK17) -> 48.777644 | BM17: =SUMIFS(MT_CO2e_AR4_100_yr,Year,$A17,Gas,BM$6,Gross,GrossYes,Economic_Sector,BD$4)/1000000 -> 22.150428 | BN17: =SUMIFS(MT_CO2e_AR4_100_yr,Year,$A17,Gas,BN$6,Gross,GrossYes,Economic_Sector,BD$4)/1000000 -> 0.084358 | BO17: =SUMIFS(MT_CO2e_AR4_100_yr,Year,$A17,Gas,BO$6,Gross,GrossYes,Economic_Sector,BD$4)/1000000 -> 2.898321 | BP17: =SUMIFS(MT_CO2e_AR4_100_yr,Year,$A17,Gas,BP$6,Gross,GrossYes,Economic_Sector,BD$4)/1000000 -> 6.900688 | BQ17: =SUMIFS(MT_CO2e_AR4_100_yr,Year,$A17,Gas,BQ$6,Gross,GrossYes,Economic_Sector,BD$4)/1000000 -> 0.005554 | BR17: =SUMIFS(MT_CO2e_AR4_100_yr,Year,$A17,Gas,BR$6,Gross,GrossYes,Economic_Sector,BD$4)/1000000 -> 0.003441 | BS17: =SUMIFS(MT_CO2e_AR4_100_yr,Year,$A17,Gas,BS$6,Gross,GrossYes,Economic_Sector,BD$4)/1000000 -> 0.676135 | BT17: =SUMIFS(MT_CO2e_AR4_100_yr,Year,$A17,Gas,BT$6,Gross,GrossYes,Economic_Sector,BD$4)/1000000 -> 0.016827 | BU17: =SUM(BM17:BT17) -> 32.735752 | BV17: =SUMIFS(MT_CO2e_AR5_20_yr,Year,$A17,Gas,BV$6,Gross,GrossYes,Economic_Sector,BV$4)/1000000 -> 100.71649 | BW17: =SUMIFS(MT_CO2e_AR5_20_yr,Year,$A17,Gas,BW$6,Gross,GrossYes,Economic_Sector,BV$4)/1000000 -> 0.820826 | BX17: =SUMIFS(MT_CO2e_AR5_20_yr,Year,$A17,Gas,BX$6,Gross,GrossYes,Economic_Sector,BV$4)/1000000 -> 0.108134 | BY17: =SUMIFS(MT_CO2e_AR5_20_yr,Year,$A17,Gas,BY$6,Gross,GrossYes,Economic_Sector,BV$4)/1000000 -> 13.144454 | BZ17: =SUMIFS(MT_CO2e_AR5_20_yr,Year,$A17,Gas,BZ$6,Gross,GrossYes,Economic_Sector,BV$4)/1000000 -> 1.307349 | CA17: =SUMIFS(MT_CO2e_AR5_20_yr,Year,$A17,Gas,CA$6,Gross,GrossYes,Economic_Sector,BV$4)/1000000 -> 0 | CB17: =SUMIFS(MT_CO2e_AR5_20_yr,Year,$A17,Gas,CB$6,Gross,GrossYes,Economic_Sector,BV$4)/1000000 -> 0 | CC17: =SUMIFS(MT_CO2e_AR5_20_yr,Year,$A17,Gas,CC$6,Gross,GrossYes,Economic_Sector,BV$4)/1000000 -> 0 | CD17: =SUM(BV17:CC17) -> 116.09726 | CE17: =SUMIFS(MT_CO2e_AR4_100_yr,Year,$A17,Gas,CE$6,Gross,GrossYes,Economic_Sector,BV$4)/1000000 -> 100.71649 | CF17: =SUMIFS(MT_CO2e_AR4_100_yr,Year,$A17,Gas,CF$6,Gross,GrossYes,Economic_Sector,BV$4)/1000000 -> 0.92654 | CG17: =SUMIFS(MT_CO2e_AR4_100_yr,Year,$A17,Gas,CG$6,Gross,GrossYes,Economic_Sector,BV$4)/1000000 -> 0.108134 | CH17: =SUMIFS(MT_CO2e_AR4_100_yr,Year,$A17,Gas,CH$6,Gross,GrossYes,Economic_Sector,BV$4)/1000000 -> 3.912043 | CI17: =SUMIFS(MT_CO2e_AR4_100_yr,Year,$A17,Gas,CI$6,Gross,GrossYes,Economic_Sector,BV$4)/1000000 -> 0.507637 | CJ17: =SUMIFS(MT_CO2e_AR4_100_yr,Year,$A17,Gas,CJ$6,Gross,GrossYes,Economic_Sector,BV$4)/1000000 -> 0 | CK17: =SUMIFS(MT_CO2e_AR4_100_yr,Year,$A17,Gas,CK$6,Gross,GrossYes,Economic_Sector,BV$4)/1000000 -> 0 | CL17: =SUMIFS(MT_CO2e_AR4_100_yr,Year,$A17,Gas,CL$6,Gross,GrossYes,Economic_Sector,BV$4)/1000000 -> 0 | CM17: =SUM(CE17:CL17) -> 106.17085 | CN17: =SUMIFS(MT_CO2e_AR5_20_yr,Year,$A17,Gas,CN$6,Gross,GrossYes,Economic_Sector,CN$4)/1000000 -> 2.315494 | CO17: =SUMIFS(MT_CO2e_AR5_20_yr,Year,$A17,Gas,CO$6,Gross,GrossYes,Economic_Sector,CN$4)/1000000 -> 0.539417 | CP17: =SUMIFS(MT_CO2e_AR5_20_yr,Year,$A17,Gas,CP$6,Gross,GrossYes,Economic_Sector,CN$4)/1000000 -> 1.789141 | CQ17: =SUMIFS(MT_CO2e_AR5_20_yr,Year,$A17,Gas,CQ$6,Gross,GrossYes,Economic_Sector,CN$4)/1000000 -> 39.187504 | CR17: =SUMIFS(MT_CO2e_AR5_20_yr,Year,$A17,Gas,CR$6,Gross,GrossYes,Economic_Sector,CN$4)/1000000 -> 0 | CS17: =SUMIFS(MT_CO2e_AR5_20_yr,Year,$A17,Gas,CS$6,Gross,GrossYes,Economic_Sector,CN$4)/1000000 -> 0 | CT17: =SUMIFS(MT_CO2e_AR5_20_yr,Year,$A17,Gas,CT$6,Gross,GrossYes,Economic_Sector,CN$4)/1000000 -> 0 | CU17: =SUMIFS(MT_CO2e_AR5_20_yr,Year,$A17,Gas,CU$6,Gross,GrossYes,Economic_Sector,CN$4)/1000000 -> 0 | CV17: =SUM(CN17:CU17) -> 43.831556 | CW17: =SUMIFS(MT_CO2e_AR4_100_yr,Year,$A17,Gas,CW$6,Gross,GrossYes,Economic_Sector,CN$4)/1000000 -> 2.315494 | CX17: =SUMIFS(MT_CO2e_AR4_100_yr,Year,$A17,Gas,CX$6,Gross,GrossYes,Economic_Sector,CN$4)/1000000 -> 0.608887 | CY17: =SUMIFS(MT_CO2e_AR4_100_yr,Year,$A17,Gas,CY$6,Gross,GrossYes,Economic_Sector,CN$4)/1000000 -> 1.789141 | CZ17: =SUMIFS(MT_CO2e_AR4_100_yr,Year,$A17,Gas,CZ$6,Gross,GrossYes,Economic_Sector,CN$4)/1000000 -> 11.662949 | DA17: =SUMIFS(MT_CO2e_AR4_100_yr,Year,$A17,Gas,DA$6,Gross,GrossYes,Economic_Sector,CN$4)/1000000 -> 0 | DB17: =SUMIFS(MT_CO2e_AR4_100_yr,Year,$A17,Gas,DB$6,Gross,GrossYes,Economic_Sector,CN$4)/1000000 -> 0 | DC17: =SUMIFS(MT_CO2e_AR4_100_yr,Year,$A17,Gas,DC$6,Gross,GrossYes,Economic_Sector,CN$4)/1000000 -> 0 | DD17: =SUMIFS(MT_CO2e_AR4_100_yr,Year,$A17,Gas,DD$6,Gross,GrossYes,Economic_Sector,CN$4)/1000000 -> 0 | DE17: =SUM(CW17:DD17) -> 16.376471 | DG17: =J17/$DV17 -> 0.033811831 | DH17: =AB17/$DV17 -> 0.30198968 | DI17: =AT17/$DV17 -> 0.21758629 | DJ17: =BL17/$DV17 -> 0.10437957 | DK17: =CD17/$DV17 -> 0.24843722 | DL17: =CV17/$DV17 -> 0.093795411 | DN17: =S17/$DW17 -> 0.016806318 | DO17: =AK17/$DW17 -> 0.31022434 | DP17: =BC17/$DW17 -> 0.23770551 | DQ17: =BU17/$DW17 -> 0.091759448 | DR17: =CM17/$DW17 -> 0.29760056 | DS17: =DE17/$DW17 -> 0.045903816 | DU17: =Summary!A16 -> 2000 | DV17: =Summary!J16 -> 467.31024 | DW17: =Summary!S16 -> 356.7562
A18: 2001 | B18: =SUMIFS(MT_CO2e_AR5_20_yr,Year,$A18,Gas,B$6,Gross,GrossYes,Economic_Sector,B$4)/1000000 -> 0.154813 | C18: =SUMIFS(MT_CO2e_AR5_20_yr,Year,$A18,Gas,C$6,Gross,GrossYes,Economic_Sector,B$4)/1000000 -> 1.699913 | D18: =SUMIFS(MT_CO2e_AR5_20_yr,Year,$A18,Gas,D$6,Gross,GrossYes,Economic_Sector,B$4)/1000000 -> 0 | E18: =SUMIFS(MT_CO2e_AR5_20_yr,Year,$A18,Gas,E$6,Gross,GrossYes,Economic_Sector,B$4)/1000000 -> 13.842209 | F18: =SUMIFS(MT_CO2e_AR5_20_yr,Year,$A18,Gas,F$6,Gross,GrossYes,Economic_Sector,B$4)/1000000 -> 0 | G18: =SUMIFS(MT_CO2e_AR5_20_yr,Year,$A18,Gas,G$6,Gross,GrossYes,Economic_Sector,B$4)/1000000 -> 0 | H18: =SUMIFS(MT_CO2e_AR5_20_yr,Year,$A18,Gas,H$6,Gross,GrossYes,Economic_Sector,B$4)/1000000 -> 0 | I18: =SUMIFS(MT_CO2e_AR5_20_yr,Year,$A18,Gas,I$6,Gross,GrossYes,Economic_Sector,B$4)/1000000 -> 0 | J18: =SUM(B18:I18) -> 15.696935 | K18: =SUMIFS(MT_CO2e_AR4_100_yr,Year,$A18,Gas,K$6,Gross,GrossYes,Economic_Sector,B$4)/1000000 -> 0.154813 | L18: =SUMIFS(MT_CO2e_AR4_100_yr,Year,$A18,Gas,L$6,Gross,GrossYes,Economic_Sector,B$4)/1000000 -> 1.728102 | M18: =SUMIFS(MT_CO2e_AR4_100_yr,Year,$A18,Gas,M$6,Gross,GrossYes,Economic_Sector,B$4)/1000000 -> 0 | N18: =SUMIFS(MT_CO2e_AR4_100_yr,Year,$A18,Gas,N$6,Gross,GrossYes,Economic_Sector,B$4)/1000000 -> 4.119705 | O18: =SUMIFS(MT_CO2e_AR4_100_yr,Year,$A18,Gas,O$6,Gross,GrossYes,Economic_Sector,B$4)/1000000 -> 0 | P18: =SUMIFS(MT_CO2e_AR4_100_yr,Year,$A18,Gas,P$6,Gross,GrossYes,Economic_Sector,B$4)/1000000 -> 0 | Q18: =SUMIFS(MT_CO2e_AR4_100_yr,Year,$A18,Gas,Q$6,Gross,GrossYes,Economic_Sector,B$4)/1000000 -> 0 | R18: =SUMIFS(MT_CO2e_AR4_100_yr,Year,$A18,Gas,R$6,Gross,GrossYes,Economic_Sector,B$4)/1000000 -> 0 | S18: =SUM(K18:R18) -> 6.00262 | T18: =SUMIFS(MT_CO2e_AR5_20_yr,Year,$A18,Gas,T$6,Gross,GrossYes,Economic_Sector,T$4)/1000000 -> 84.075276 | U18: =SUMIFS(MT_CO2e_AR5_20_yr,Year,$A18,Gas,U$6,Gross,GrossYes,Economic_Sector,T$4)/1000000 -> 0.20195 | V18: =SUMIFS(MT_CO2e_AR5_20_yr,Year,$A18,Gas,V$6,Gross,GrossYes,Economic_Sector,T$4)/1000000 -> 6.682553 | W18: =SUMIFS(MT_CO2e_AR5_20_yr,Year,$A18,Gas,W$6,Gross,GrossYes,Economic_Sector,T$4)/1000000 -> 38.188831 | X18: =SUMIFS(MT_CO2e_AR5_20_yr,Year,$A18,Gas,X$6,Gross,GrossYes,Economic_Sector,T$4)/1000000 -> 3.444184 | Y18: =SUMIFS(MT_CO2e_AR5_20_yr,Year,$A18,Gas,Y$6,Gross,GrossYes,Economic_Sector,T$4)/1000000 -> 0 | Z18: =SUMIFS(MT_CO2e_AR5_20_yr,Year,$A18,Gas,Z$6,Gross,GrossYes,Economic_Sector,T$4)/1000000 -> 0 | AA18: =SUMIFS(MT_CO2e_AR5_20_yr,Year,$A18,Gas,AA$6,Gross,GrossYes,Economic_Sector,T$4)/1000000 -> 0 | AB18: =SUM(T18:AA18) -> 132.59279 | AC18: =SUMIFS(MT_CO2e_AR4_100_yr,Year,$A18,Gas,AC$6,Gross,GrossYes,Economic_Sector,T$4)/1000000 -> 84.075276 | AD18: =SUMIFS(MT_CO2e_AR4_100_yr,Year,$A18,Gas,AD$6,Gross,GrossYes,Economic_Sector,T$4)/1000000 -> 0.227955 | AE18: =SUMIFS(MT_CO2e_AR4_100_yr,Year,$A18,Gas,AE$6,Gross,GrossYes,Economic_Sector,T$4)/1000000 -> 6.682553 | AF18: =SUMIFS(MT_CO2e_AR4_100_yr,Year,$A18,Gas,AF$6,Gross,GrossYes,Economic_Sector,T$4)/1000000 -> 11.365723 | AG18: =SUMIFS(MT_CO2e_AR4_100_yr,Year,$A18,Gas,AG$6,Gross,GrossYes,Economic_Sector,T$4)/1000000 -> 1.382158 | AH18: =SUMIFS(MT_CO2e_AR4_100_yr,Year,$A18,Gas,AH$6,Gross,GrossYes,Economic_Sector,T$4)/1000000 -> 0 | AI18: =SUMIFS(MT_CO2e_AR4_100_yr,Year,$A18,Gas,AI$6,Gross,GrossYes,Economic_Sector,T$4)/1000000 -> 0 | AJ18: =SUMIFS(MT_CO2e_AR4_100_yr,Year,$A18,Gas,AJ$6,Gross,GrossYes,Economic_Sector,T$4)/1000000 -> 0 | AK18: =SUM(AC18:AJ18) -> 103.73367 | AL18: =SUMIFS(MT_CO2e_AR5_20_yr,Year,$A18,Gas,AL$6,Gross,GrossYes,Economic_Sector,AL$4)/1000000 -> 66.742862 | AM18: =SUMIFS(MT_CO2e_AR5_20_yr,Year,$A18,Gas,AM$6,Gross,GrossYes,Economic_Sector,AL$4)/1000000 -> 0.332497 | AN18: =SUMIFS(MT_CO2e_AR5_20_yr,Year,$A18,Gas,AN$6,Gross,GrossYes,Economic_Sector,AL$4)/1000000 -> 0.534897 | AO18: =SUMIFS(MT_CO2e_AR5_20_yr,Year,$A18,Gas,AO$6,Gross,GrossYes,Economic_Sector,AL$4)/1000000 -> 25.06359 | AP18: =SUMIFS(MT_CO2e_AR5_20_yr,Year,$A18,Gas,AP$6,Gross,GrossYes,Economic_Sector,AL$4)/1000000 -> 0 | AQ18: =SUMIFS(MT_CO2e_AR5_20_yr,Year,$A18,Gas,AQ$6,Gross,GrossYes,Economic_Sector,AL$4)/1000000 -> 0 | AR18: =SUMIFS(MT_CO2e_AR5_20_yr,Year,$A18,Gas,AR$6,Gross,GrossYes,Economic_Sector,AL$4)/1000000 -> 0 | AS18: =SUMIFS(MT_CO2e_AR5_20_yr,Year,$A18,Gas,AS$6,Gross,GrossYes,Economic_Sector,AL$4)/1000000 -> 2.077245 | AT18: =SUM(AL18:AS18) -> 94.751091 | AU18: =SUMIFS(MT_CO2e_AR4_100_yr,Year,$A18,Gas,AU$6,Gross,GrossYes,Economic_Sector,AL$4)/1000000 -> 66.742862 | AV18: =SUMIFS(MT_CO2e_AR4_100_yr,Year,$A18,Gas,AV$6,Gross,GrossYes,Economic_Sector,AL$4)/1000000 -> 0.375318 | AW18: =SUMIFS(MT_CO2e_AR4_100_yr,Year,$A18,Gas,AW$6,Gross,GrossYes,Economic_Sector,AL$4)/1000000 -> 0.534897 | AX18: =SUMIFS(MT_CO2e_AR4_100_yr,Year,$A18,Gas,AX$6,Gross,GrossYes,Economic_Sector,AL$4)/1000000 -> 7.459405 | AY18: =SUMIFS(MT_CO2e_AR4_100_yr,Year,$A18,Gas,AY$6,Gross,GrossYes,Economic_Sector,AL$4)/1000000 -> 0 | AZ18: =SUMIFS(MT_CO2e_AR4_100_yr,Year,$A18,Gas,AZ$6,Gross,GrossYes,Economic_Sector,AL$4)/1000000 -> 0 | BA18: =SUMIFS(MT_CO2e_AR4_100_yr,Year,$A18,Gas,BA$6,Gross,GrossYes,Economic_Sector,AL$4)/1000000 -> 0 | BB18: =SUMIFS(MT_CO2e_AR4_100_yr,Year,$A18,Gas,BB$6,Gross,GrossYes,Economic_Sector,AL$4)/1000000 -> 2.706353 | BC18: =SUM(AU18:BB18) -> 77.818835 | BD18: =SUMIFS(MT_CO2e_AR5_20_yr,Year,$A18,Gas,BD$6,Gross,GrossYes,Economic_Sector,BD$4)/1000000 -> 20.660203 | BE18: =SUMIFS(MT_CO2e_AR5_20_yr,Year,$A18,Gas,BE$6,Gross,GrossYes,Economic_Sector,BD$4)/1000000 -> 0.058075 | BF18: =SUMIFS(MT_CO2e_AR5_20_yr,Year,$A18,Gas,BF$6,Gross,GrossYes,Economic_Sector,BD$4)/1000000 -> 1.611127 | BG18: =SUMIFS(MT_CO2e_AR5_20_yr,Year,$A18,Gas,BG$6,Gross,GrossYes,Economic_Sector,BD$4)/1000000 -> 23.956613 | BH18: =SUMIFS(MT_CO2e_AR5_20_yr,Year,$A18,Gas,BH$6,Gross,GrossYes,Economic_Sector,BD$4)/1000000 -> 0.002679 | BI18: =SUMIFS(MT_CO2e_AR5_20_yr,Year,$A18,Gas,BI$6,Gross,GrossYes,Economic_Sector,BD$4)/1000000 -> 0.002848 | BJ18: =SUMIFS(MT_CO2e_AR5_20_yr,Year,$A18,Gas,BJ$6,Gross,GrossYes,Economic_Sector,BD$4)/1000000 -> 0.202682 | BK18: =SUMIFS(MT_CO2e_AR5_20_yr,Year,$A18,Gas,BK$6,Gross,GrossYes,Economic_Sector,BD$4)/1000000 -> 0.008674 | BL18: =SUM(BD18:BK18) -> 46.502901 | BM18: =SUMIFS(MT_CO2e_AR4_100_yr,Year,$A18,Gas,BM$6,Gross,GrossYes,Economic_Sector,BD$4)/1000000 -> 20.660203 | BN18: =SUMIFS(MT_CO2e_AR4_100_yr,Year,$A18,Gas,BN$6,Gross,GrossYes,Economic_Sector,BD$4)/1000000 -> 0.065553 | BO18: =SUMIFS(MT_CO2e_AR4_100_yr,Year,$A18,Gas,BO$6,Gross,GrossYes,Economic_Sector,BD$4)/1000000 -> 1.611127 | BP18: =SUMIFS(MT_CO2e_AR4_100_yr,Year,$A18,Gas,BP$6,Gross,GrossYes,Economic_Sector,BD$4)/1000000 -> 7.129945 | BQ18: =SUMIFS(MT_CO2e_AR4_100_yr,Year,$A18,Gas,BQ$6,Gross,GrossYes,Economic_Sector,BD$4)/1000000 -> 0.003671 | BR18: =SUMIFS(MT_CO2e_AR4_100_yr,Year,$A18,Gas,BR$6,Gross,GrossYes,Economic_Sector,BD$4)/1000000 -> 0.003827 | BS18: =SUMIFS(MT_CO2e_AR4_100_yr,Year,$A18,Gas,BS$6,Gross,GrossYes,Economic_Sector,BD$4)/1000000 -> 0.30517 | BT18: =SUMIFS(MT_CO2e_AR4_100_yr,Year,$A18,Gas,BT$6,Gross,GrossYes,Economic_Sector,BD$4)/1000000 -> 0.011301 | BU18: =SUM(BM18:BT18) -> 29.790797 | BV18: =SUMIFS(MT_CO2e_AR5_20_yr,Year,$A18,Gas,BV$6,Gross,GrossYes,Economic_Sector,BV$4)/1000000 -> 101.90138 | BW18: =SUMIFS(MT_CO2e_AR5_20_yr,Year,$A18,Gas,BW$6,Gross,GrossYes,Economic_Sector,BV$4)/1000000 -> 0.799562 | BX18: =SUMIFS(MT_CO2e_AR5_20_yr,Year,$A18,Gas,BX$6,Gross,GrossYes,Economic_Sector,BV$4)/1000000 -> 0.037534 | BY18: =SUMIFS(MT_CO2e_AR5_20_yr,Year,$A18,Gas,BY$6,Gross,GrossYes,Economic_Sector,BV$4)/1000000 -> 13.044002 | BZ18: =SUMIFS(MT_CO2e_AR5_20_yr,Year,$A18,Gas,BZ$6,Gross,GrossYes,Economic_Sector,BV$4)/1000000 -> 1.516417 | CA18: =SUMIFS(MT_CO2e_AR5_20_yr,Year,$A18,Gas,CA$6,Gross,GrossYes,Economic_Sector,BV$4)/1000000 -> 0 | CB18: =SUMIFS(MT_CO2e_AR5_20_yr,Year,$A18,Gas,CB$6,Gross,GrossYes,Economic_Sector,BV$4)/1000000 -> 0 | CC18: =SUMIFS(MT_CO2e_AR5_20_yr,Year,$A18,Gas,CC$6,Gross,GrossYes,Economic_Sector,BV$4)/1000000 -> 0 | CD18: =SUM(BV18:CC18) -> 117.29889 | CE18: =SUMIFS(MT_CO2e_AR4_100_yr,Year,$A18,Gas,CE$6,Gross,GrossYes,Economic_Sector,BV$4)/1000000 -> 101.90138 | CF18: =SUMIFS(MT_CO2e_AR4_100_yr,Year,$A18,Gas,CF$6,Gross,GrossYes,Economic_Sector,BV$4)/1000000 -> 0.902533 | CG18: =SUMIFS(MT_CO2e_AR4_100_yr,Year,$A18,Gas,CG$6,Gross,GrossYes,Economic_Sector,BV$4)/1000000 -> 0.037534 | CH18: =SUMIFS(MT_CO2e_AR4_100_yr,Year,$A18,Gas,CH$6,Gross,GrossYes,Economic_Sector,BV$4)/1000000 -> 3.882144 | CI18: =SUMIFS(MT_CO2e_AR4_100_yr,Year,$A18,Gas,CI$6,Gross,GrossYes,Economic_Sector,BV$4)/1000000 -> 0.588979 | CJ18: =SUMIFS(MT_CO2e_AR4_100_yr,Year,$A18,Gas,CJ$6,Gross,GrossYes,Economic_Sector,BV$4)/1000000 -> 0 | CK18: =SUMIFS(MT_CO2e_AR4_100_yr,Year,$A18,Gas,CK$6,Gross,GrossYes,Economic_Sector,BV$4)/1000000 -> 0 | CL18: =SUMIFS(MT_CO2e_AR4_100_yr,Year,$A18,Gas,CL$6,Gross,GrossYes,Economic_Sector,BV$4)/1000000 -> 0 | CM18: =SUM(CE18:CL18) -> 107.31257 | CN18: =SUMIFS(MT_CO2e_AR5_20_yr,Year,$A18,Gas,CN$6,Gross,GrossYes,Economic_Sector,CN$4)/1000000 -> 2.353171 | CO18: =SUMIFS(MT_CO2e_AR5_20_yr,Year,$A18,Gas,CO$6,Gross,GrossYes,Economic_Sector,CN$4)/1000000 -> 0.542047 | CP18: =SUMIFS(MT_CO2e_AR5_20_yr,Year,$A18,Gas,CP$6,Gross,GrossYes,Economic_Sector,CN$4)/1000000 -> 1.785392 | CQ18: =SUMIFS(MT_CO2e_AR5_20_yr,Year,$A18,Gas,CQ$6,Gross,GrossYes,Economic_Sector,CN$4)/1000000 -> 40.148994 | CR18: =SUMIFS(MT_CO2e_AR5_20_yr,Year,$A18,Gas,CR$6,Gross,GrossYes,Economic_Sector,CN$4)/1000000 -> 0 | CS18: =SUMIFS(MT_CO2e_AR5_20_yr,Year,$A18,Gas,CS$6,Gross,GrossYes,Economic_Sector,CN$4)/1000000 -> 0 | CT18: =SUMIFS(MT_CO2e_AR5_20_yr,Year,$A18,Gas,CT$6,Gross,GrossYes,Economic_Sector,CN$4)/1000000 -> 0 | CU18: =SUMIFS(MT_CO2e_AR5_20_yr,Year,$A18,Gas,CU$6,Gross,GrossYes,Economic_Sector,CN$4)/1000000 -> 0 | CV18: =SUM(CN18:CU18) -> 44.829604 | CW18: =SUMIFS(MT_CO2e_AR4_100_yr,Year,$A18,Gas,CW$6,Gross,GrossYes,Economic_Sector,CN$4)/1000000 -> 2.353171 | CX18: =SUMIFS(MT_CO2e_AR4_100_yr,Year,$A18,Gas,CX$6,Gross,GrossYes,Economic_Sector,CN$4)/1000000 -> 0.611858 | CY18: =SUMIFS(MT_CO2e_AR4_100_yr,Year,$A18,Gas,CY$6,Gross,GrossYes,Economic_Sector,CN$4)/1000000 -> 1.785392 | CZ18: =SUMIFS(MT_CO2e_AR4_100_yr,Year,$A18,Gas,CZ$6,Gross,GrossYes,Economic_Sector,CN$4)/1000000 -> 11.949107 | DA18: =SUMIFS(MT_CO2e_AR4_100_yr,Year,$A18,Gas,DA$6,Gross,GrossYes,Economic_Sector,CN$4)/1000000 -> 0 | DB18: =SUMIFS(MT_CO2e_AR4_100_yr,Year,$A18,Gas,DB$6,Gross,GrossYes,Economic_Sector,CN$4)/1000000 -> 0 | DC18: =SUMIFS(MT_CO2e_AR4_100_yr,Year,$A18,Gas,DC$6,Gross,GrossYes,Economic_Sector,CN$4)/1000000 -> 0 | DD18: =SUMIFS(MT_CO2e_AR4_100_yr,Year,$A18,Gas,DD$6,Gross,GrossYes,Economic_Sector,CN$4)/1000000 -> 0 | DE18: =SUM(CW18:DD18) -> 16.699528 | DG18: =J18/$DV18 -> 0.034752935 | DH18: =AB18/$DV18 -> 0.29355977 | DI18: =AT18/$DV18 -> 0.20977844 | DJ18: =BL18/$DV18 -> 0.10295719 | DK18: =CD18/$DV18 -> 0.25969915 | DL18: =CV18/$DV18 -> 0.099252516 | DN18: =S18/$DW18 -> 0.017584529 | DO18: =AK18/$DW18 -> 0.30388525 | DP18: =BC18/$DW18 -> 0.22796839 | DQ18: =BU18/$DW18 -> 0.087271416 | DR18: =CM18/$DW18 -> 0.31436955 | DS18: =DE18/$DW18 -> 0.048920862 | DU18: =Summary!A17 -> 2001 | DV18: =Summary!J17 -> 451.67222 | DW18: =Summary!S17 -> 341.35801
