Workbook

Sheet Table 1
B2: Table 1
B3: Transmission Capacity by kV Class and Location in Miles39
B4: kV Class | C4: 115 kV | D4: 138 kV | E4: 230 kV | F4: 345 kV | G4: 500 kV | H4: 765 kV | I4: 150 kV | J4: 500 kV | K4: Totals
I5: DC* | J5: DC*
B6: Overhead | C6: 6112 | D6: 363.6 | E6: 1014.7 | F6: 2593.1 | G6: 5.3 | H6: 155.2 | K6: 10243.9
B7: Underground | C7: 73.4 | D7: 406.3 | E7: 20.2 | F7: 241.1 | I7: 24 | J7: 66 | K7: 831
B8: Totals by class | C8: 6185.4 | D8: 769.9 | E8: 1034.9 | F8: 2834.2 | G8: 5.3 | H8: 155.2 | I8: 24 | J8: 66 | K8: 11074.9

Sheet Table 2
B2: TABLE 2
B3: Statewide Energy Savings or Energy Generation by Program
C4: 2022 | E4: 2020-2022
C5: MWh | D5: MMBtu | E5: MWh | F5: MMBtu
B6: CES Tier 1 RECs | C6: 796656 | D6: 0 | E6: 1677274 | F6: 0
B7: CES Tier 2 RECs | C7: 13732 | D7: 0 | E7: 32409 | F7: 0
B8: CES Tier 3 ZECs | C8: 26808001 | D8: 0 | E8: 81551557 | F8: 0
B9: CES Tier 4 NYC RECs1 | C9: 0 | D9: 0 | E9: 0 | F9: 0
B10: ORECs2 | C10: 0 | D10: 0 | E10: 0 | F10: 0
B11: CEF3 | C11: 1286593 | D11: 2036769 | E11: 3281548 | F11: 6522627
B12: VDER | C12: 1581392 | D12: 0 | E12: 2893945 | F12: 0
B13: Electric EE/BE (heat pumps) | C13: 1482505 | D13: 3502485 | E13: 6498594 | F13: 7213914
B14: Gas EE | C14: 0 | D14: 3523926 | E14: 2081 | F14: 9440754
B15: TOTAL | C15: 31968879 | D15: 9063181 | E15: 95937409 | F15: 23177295
B16: 1 – Tier 4 REC contracts have not yet reached commercial operation and therefor have not yet delivered RECs to NYSERDA
B17: 2 – Offshore wind contracts have not yet reached commercial operation and therefor have not yet delivered ORECs to NYSERDA.
B18: 3 – CEF emissions were adjusted downward to reflect portfolio overlap.

Sheet Table 2a
B2: TABLE 2a
B3: Overall Emissions Reductions
C4: 2022 | D4: 2020-2022
B5: Program | C5: MT of CO2e | D5: MT of CO2e
B6: All Programs in Table 2
B8: from MWh Reductions | C8: 15994590 | D8: 47999084
B9: from MMBtu Reductions | C9: 481821 | D9: 1233087 | K9: 1288755498
B10: Electric Vehicle (EV) Make Ready1 | C10: 63869 | D10: 267128 | J10: Tons | K10: Costs
B11: TOTAL | C11: 16540280 | D11: 49499299 | J11: =C11 -> 16540280 | K11: ='Table 3'!C15+'Table 4'!J13*1000 -> 1288755498 | L11: =K11/J11 -> 77.916184
B12: 1 – Electric Vehicle Make-Ready emission reductions were calculated by multiplying the year-1 reduction in vehicle emissions for each EV make and model by the net increase in EV registrations in each year, statewide. It should be noted that the emissions reductions from EVs are indirect benefits of the EV Make-Ready program but are sited here because the public charging
B13: stations funded through the program are enabling technology for the statewide EV deployments.

Sheet Table 3
B2: TABLE 3
B3: 2022 Gas CLCPA/ Gas Energy Efficiency Recoveries
B4: Utility | C4: Cost Recoveries
B5: Central Hudson | C5: 1182000
B6: Con Edison | C6: 14207113
B7: KEDLI | C7: 29200026
B8: KEDNY | C8: 37524615
B9: NFG | C9: 9518260
B10: NMPC | C10: 17412995
B11: NYSEG | C11: 2505000
B12: O&R | C12: 703000
B13: RG&E | C13: 705333
B14: Corning | C14: 9156
B15: Total | C15: 112967498

Sheet Table 4
B2: TABLE 4
B3: 2022 Electric CLCPA Recoveries in thousands of dollars
B4: Program | C4: Central Hudson | D4: Con Edison | E4: NYSEG | F4: NMPC | G4: O&R | H4: RG&E | I4: LIPA | J4: Total
B5: CES1 | C5: 15960 | D5: 117560 | E5: 46850 | F5: 85945 | G5: 10970 | H5: 20053 | I5: 50748 | J5: 348087
B6: CEF | C6: 28675 | D6: 211431 | E6: 59559 | F6: 146730 | G6: 20699 | H6: 33199 | J6: 500294
B7: VDER2 | C7: 4063 | D7: 8254 | E7: 5959 | F7: 13827 | G7: 3511 | H7: 1330 | I7: 1310 | J7: 38254
B8: EV Make Ready Program | C8: 88 | D8: 737 | E8: 119 | F8: 225 | G8: 185 | H8: 61 | I8: 1288 | J8: 2703
B9: Storage3
B10: IEDR | C10: 263 | D10: 4314 | E10: 731 | F10: 1419 | G10: 410 | H10: 385 | J10: 7524
B11: Electric EE/BE (heat pumps)4 | C11: 12768 | D11: 83279 | E11: 10850 | F11: 85679 | G11: 978 | H11: 4472 | I11: 80902 | J11: 278928
B12: Transmission Upgrades5
B13: Total | C13: 61817 | D13: 425577 | E13: 124068 | F13: 333825 | G13: 36754 | H13: 59500 | I13: 134248 | J13: 1175788
B14: 1 – CES recoveries include: Tier 1 and 2 RECs, VDER Market Environmental Recoveries, and Tier 3 ZEC recoveries. LIPA CES excludes Tier 1 RECs which are not available. The environmental attributes included in bundled purchases associated with LIPA’s feed-in tariffs cannot be disaggregated.
B15: 2 – Includes recoveries of out of market capacity, out of market environmental, market transition credit, and community credit payments.
B16: 3 – Storage related recoveries not included. The costs for the NYSERDA Energy Storage incentive program were funded from pre-2022 CEF collections. Electric utilities: (1) own and/or have procured customer sided storage projects for non-wires alternatives, (2) own storage pilot projects; and (3) own demonstration projects. Staff did not consider such storage assets as CLCPA related. Additionally, utilities have issued requests for proposals to acquire dispatch rights for large scale storage projects. Utilities recovered implementation costs and received revenues from participation fees associated with storage dispatch rights procurements in 2022. However, the net was de minimis. Staff plans to report on dispatchable storage costs/benefits in future reports.
B17: 4 – Including clean heat (heat pump) program recoveries.
B18: 5 – Transmission costs are not included in the above table as many of the programs for Phase 1, Phase 2 and other related transmission project efforts pursuant to the Accelerated Renewables Act were authorized in 2022.
B19: Expenditures related to transmission will be reported in subsequent annual reports as they are incurred.

Sheet Table 5
B2: TABLE 5 1
B3: Billing for NYSERDA CES Programs (in dollars)
B4: Program | C4: 2022 | D4: 2020-2022
B5: CES Tier 1 RECs | C5: 67050166 | D5: 237326107
B6: CES Tier 2 RECs | C6: -121007 | D6: 1037745
B7: CES Tier 3 ZECs | C7: 578147711 | D7: 1633558856
B8: CES Tier 4 NYC RECs | C8: 0 | D8: 0
B9: ORECs | C9: 0 | D9: 0
B10: TOTAL | C10: 645076870 | D10: 1871922708
B11: 1 – The information above is only for billing for NYSERDA’s CES programs for the
B12: calendar years 2020-2022 and does not reflect billing for these programs under the CES that occurred prior to 2020.

Sheet Table 6
B2: TABLE 6
B3: 2022 Typical Monthly Gas Bills with CLCPA related costs disaggregated
C4: Central Hudson | D4: Con Edison | E4: KEDLI | F4: KEDNY | G4: NFG | H4: NYSEG | I4: NMPC | J4: O&R | K4: RG&E | L4: Corning
B5: Residential - 83 Therms
B6: Total Bill | C6: 190.99 | D6: 226.36 | E6: 164.82 | F6: 170.67 | G6: 100.54 | H6: 106.04 | I6: 111.35 | J6: 151.89 | K6: 89.67 | L6: 134.23
B7: CLCPA | C7: 0.61 | D7: 0.31 | E7: 1.6 | F7: 1.41 | G7: 1.36 | H7: 0.38 | I7: 1.31 | J7: 0.35 | K7: 0.04 | L7: 0.02
B8: Percent | C8: 0.0032 | D8: 0.0014 | E8: 0.0097 | F8: 0.0083 | G8: 0.0136 | H8: 0.0036 | I8: 0.012 | J8: 0.0023 | K8: 0.0005 | L8: 0.0002
B9: Non-Residential - 2,500 Therms
B10: Total Bill | C10: 3359.68 | D10: 4104.86 | E10: 3341.58 | F10: 3709.69 | G10: 2364.82 | H10: 2411.53 | I10: 2267.68 | J10: 3352.36 | K10: 1884.76 | L10: 2838.36
B11: CLCPA | C11: 8.64 | D11: 4.45 | E11: 46.61 | F11: 42.15 | G11: 4.52 | H11: 9.91 | I11: 38.64 | J11: 1.5 | K11: 1.26 | L11: 0.47
B12: Percent | C12: 0.0026 | D12: 0.0011 | E12: 0.0139 | F12: 0.0114 | G12: 0.0019 | H12: 0.0041 | I12: 0.017 | J12: 0.0004 | K12: 0.0007 | L12: 0.0002
B13: Non-Residential - 10,000 Therms
B14: Total Bill | C14: 12817.73 | D14: 14896.6 | E14: 11892.48 | F14: 13348.56 | G14: 10539.92 | H14: 11052.93 | I14: 8497.66 | J14: 13071.46 | K14: 8493.26 | L14: 9782.82
B15: CLCPA | C15: 31.06 | D15: 17.81 | E15: 186.44 | F15: 168.6 | G15: 18.07 | H15: 54.91 | I15: 199.34 | J15: 5.72 | K15: -16.46 | L15: 1.28
B16: Percent | C16: 0.0024 | D16: 0.0012 | E16: 0.0157 | F16: 0.0126 | G16: 0.0017 | H16: 0.005 | I16: 0.0235 | J16: 0.0004 | K16: -0.0019 | L16: 0.0001
B17: Non-Residential - 100,000 Therms
B18: Total Bill | C18: 123548.72 | D18: 168678.49 | E18: 113645.63 | F18: 127852.48 | G18: 97002.32 | H18: 82755.3 | I18: 77619.45 | J18: 128243.22 | K18: 64560.79 | L18: 79326.38
C19: 280.96 | D19: 252.8 | E19: 1864.4 | F19: 1685.98 | G19: 180.72 | H19: 318.15 | I19: 1545.38 | J19: 54.45 | K19: -112.39 | L19: 5.14
B20: CLCPA
B21: Percent | C21: 0.0023 | D21: 0.0015 | E21: 0.0164 | F21: 0.0132 | G21: 0.0019 | H21: 0.0038 | I21: 0.0199 | J21: 0.0004 | K21: -0.0017 | L21: 0.0001

Sheet Table 7
B2: TABLE 7
B3: 2022 Typical Monthly Electric Bills
B4: with CLCPA related costs disaggregated
C5: Central Hudson | D5: Con Edison | E5: NYSEG | F5: NMPC | G5: O&R | H5: RG&E | I5: LIPA
B6: Residential - 600 kWh
B7: Total Bill | C7: 154.2 | D7: 181.79 | E7: 93.73 | F7: 95.91 | G7: 141.65 | H7: 98.06 | I7: 168.65
B8: CLCPA | C8: 9.34 | D8: 7.91 | E8: 7.15 | F8: 9.38 | G8: 8.71 | H8: 7.54 | I8: 6.27
B9: Percent | C9: 0.061 | D9: 4..4% | E9: 0.076 | F9: 0.098 | G9: 0.061 | H9: 0.077 | I9: 0.037
B10: Non-Residential - 50 kW and 12,600 kWh
B11: Total Bill | C11: 2353.64 | D11: 3477.45 | E11: 1784.57 | F11: 2002.9 | G11: 2479.97 | H11: 2416.86 | I11: 3259.34
B12: CLCPA | C12: 171.73 | D12: 157.6 | E12: 138.39 | F12: 183.52 | G12: 153.92 | H12: 159 | I12: 125.28
B13: Percent | C13: 0.073 | D13: 0.045 | E13: 0.078 | F13: 0.092 | G13: 0.062 | H13: 0.066 | I13: 0.038
B14: Non-Residential - 2,000 kW and 720,000 kWh
B15: Total Bill | C15: 117445.36 | D15: 164131.22 | E15: 80728.52 | F15: 86231.63 | G15: 115864.77 | H15: 95758.48 | I15: 156874.89
B16: CLCPA | C16: 9439.89 | D16: 8490.1 | E16: 7778.06 | F16: 10203.06 | G16: 8464.08 | H16: 8876.21 | I16: 7158.96
B17: Percent | C17: 0.08 | D17: 0.052 | E17: 0.096 | F17: 0.118 | G17: 0.073 | H17: 0.093 | I17: 0.046
B18: Non-Residential - 2,000 kW and 1,296,000 kWh
B19: Total Bill | C19: 190505.51 | D19: 240355.82 | E19: 129654.24 | F19: 129212.56 | G19: 182302.28 | H19: 146763.07 | I19: 258085.9
B20: CLCPA | C20: 16412.62 | D20: 14483.37 | E20: 13724 | F20: $16,291,29 | G20: 15230 | H20: 15576.92 | I20: 12886.13
B21: Percent | C21: 0.086 | D21: 0.06 | E21: 0.106 | F21: 0.126 | G21: 0.084 | H21: 0.106 | I21: 0.05

Sheet Combine 4,7&8
B2: Combine Informational Report Tables 4, 7, and 8 to Estimate Potential Future Ratepayer Costs for Authorized Funding
B4: Informational Report Table 4: 2022 Electric Climate Act Recoveries in thousands of dollars
B5: Program | C5: Central Hudson | D5: Con Edison | E5: NYSEG | F5: NMPC | G5: O&R | H5: RG&E | I5: LIPA | J5: Total
B6: Total | C6: 61817 | D6: 425577 | E6: 124068 | F6: 333825 | G6: 36754 | H6: 59500 | I6: 134248 | J6: 1175788
B8: Informational Report Table 7: 2022 Typical Monthly Electric Bills with Climate Act related costs disaggregated
B9: Residential - 600 kWh | C9: Central Hudson | D9: Con Edison | E9: NYSEG | F9: NMPC | G9: O&R | H9: RG&E | I9: LIPA
B10: Total Bill | C10: 154.2 | D10: 181.79 | E10: 93.73 | F10: 95.91 | G10: 141.65 | H10: 98.06 | I10: 168.65
B11: Climate Act | C11: 9.34 | D11: 7.91 | E11: 7.15 | F11: 9.38 | G11: 8.71 | H11: 7.54 | I11: 6.27
B12: Percent | C12: 0.061 | D12: 0.044 | E12: 0.076 | F12: 0.098 | G12: 0.061 | H12: 0.077 | I12: 0.037
B14: Informational Report Table 8:Authorized Funding to Date | J14: ='Table 8'!F11*1000 -> 43756000
B15: Ratio of Authorized Climate Act Funding to Climate Act Costs Recovered in Rates | J15: =J14/J6 -> 37.214192
B16: Conservative Rounded Ratio of Authorized Climate Act Funding to Climate Act Costs Recovered in Rates | J16: 30
B18: Future Typical Monthly Electric Bills with Climate Act related authorized costs disaggregated
B19: Residential - 600 kWh | C19: Central Hudson | D19: Con Edison | E19: NYSEG | F19: NMPC | G19: O&R | H19: RG&E | I19: LIPA
B20: Total Bill | C20: =C10-C11+C21 -> 425.06 | D20: =D10-D11+D21 -> 411.18 | E20: =E10-E11+E21 -> 301.08 | F20: =F10-F11+F21 -> 367.93 | G20: =G10-G11+G21 -> 394.24 | H20: =H10-H11+H21 -> 316.72 | I20: =I10-I11+I21 -> 350.48
B21: Climate Act | C21: =C11*30 -> 280.2 | D21: =30*D11 -> 237.3 | E21: =E11*30 -> 214.5 | F21: =F11*30 -> 281.4 | G21: =G11*30 -> 261.3 | H21: =H11*30 -> 226.2 | I21: =I11*30 -> 188.1

Sheet Draft 4&7
B2: Combine Informational Report Tables 4 and 7 to Estimate Potential Future Ratepayer Costs for Authorized Funding
B4: Informational Report Table 4: 2022 Electric CLCPA Recoveries in thousands of dollars
B5: Program | C5: Central Hudson | D5: Con Edison | E5: NYSEG | F5: NMPC | G5: O&R | H5: RG&E | I5: LIPA | J5: Total
B6: Total | C6: 61817 | D6: 425577 | E6: 124068 | F6: 333825 | G6: 36754 | H6: 59500 | I6: 134248 | J6: 1175788
B8: Informational Report Table 7: 2022 Typical Monthly Electric Bills with CLCPA related costs disaggregated
B9: Residential - 600 kWh | C9: Central Hudson | D9: Con Edison | E9: NYSEG | F9: NMPC | G9: O&R | H9: RG&E | I9: LIPA
B10: Total Bill | C10: 154.2 | D10: 181.79 | E10: 93.73 | F10: 95.91 | G10: 141.65 | H10: 98.06 | I10: 168.65
B11: CLCPA | C11: 9.34 | D11: 7.91 | E11: 7.15 | F11: 9.38 | G11: 8.71 | H11: 7.54 | I11: 6.27
B12: Percent | C12: 0.061 | D12: 0.044 | E12: 0.076 | F12: 0.098 | G12: 0.061 | H12: 0.077 | I12: 0.037
B14: Pro-Rate | C14: =C12*$J14/$J6 -> 2.2700657 | D14: =D12*$J14/$J6 -> 1.6374244 | E14: =E12*$J14/$J6 -> 2.8282786 | F14: =F12*$J14/$J6 -> 3.6469908 | G14: =G12*$J14/$J6 -> 2.2700657 | H14: =H12*$J14/$J6 -> 2.8654928 | I14: =I12*$J14/$J6 -> 1.3769251 | J14: ='Table 8'!F11*1000 -> 43756000 | L14: =J14/J6 -> 37.214192
B16: NYSERDA Patterns & Trends 2006-2020 Appendix F-2a Residential Sector Electric Customer Count
B18: Residential Electric Customers | C18: 263422 | D18: 2941214 | E18: 782370 | F18: 1514647 | G18: 203977 | H18: 693526 | I18: 1020872
B20: Calculations
B21: Total monthly bills | C21: =C10*C$18/1000 -> 40619.672 | D21: =D10*D$18/1000 -> 534683.29 | E21: =E10*E$18/1000 -> 73331.54 | F21: =F10*F$18/1000 -> 145269.79 | G21: =G10*G$18/1000 -> 28893.342 | H21: =H10*H$18/1000 -> 68007.16 | I21: =I10*I$18/1000 -> 172170.06 | J21: =SUM(C21:I21) -> 1062974.9
B22: Total monthly CLCPA amount | C22: =C11*C$18/1000 -> 2460.3615 | D22: =D11*D$18/1000 -> 23265.003 | E22: =E11*E$18/1000 -> 5593.9455 | F22: =F11*F$18/1000 -> 14207.389 | G22: =G11*G$18/1000 -> 1776.6397 | H22: =H11*H$18/1000 -> 5229.186 | I22: =I11*I$18/1000 -> 6400.8674 | J22: =SUM(C22:I22) -> 58933.392
B23: Total annual CLCPA amount | C23: =C22*12 -> 29524.338 | D23: =D22*12 -> 279180.03 | E23: =E22*12 -> 67127.346 | F23: =F22*12 -> 170488.67 | G23: =G22*12 -> 21319.676 | H23: =H22*12 -> 62750.232 | I23: =I22*12 -> 76810.409 | J23: =SUM(C23:I23) -> 707200.7
B25: Projected CLCPA monthly bills | C25: =C11*35 -> 326.9 | D25: =D11*35 -> 276.85 | E25: =E11*35 -> 250.25 | F25: =F11*35 -> 328.3 | G25: =G11*35 -> 304.85 | H25: =H11*35 -> 263.9 | I25: =I11*35 -> 219.45

Sheet Table F-2a
C1: NYSERDA Patterns & Trends 2006-2020 Residential Sector Electric Customer Count
A2: Year | B2: Category | C2: Central Hudson | D2: Consolidated Edison | E2: Long Island Power Authority | F2: New York State Elec. & Gas Corp. (NYSEG) | G2: Niagara Mohawk (National Grid) | H2: Orange & Rockland | I2: Rochester Gas & Electric | J2: Municipal | K2: Cooperative | L2: Behind the Meter | M2: Adjustment/Other | N2: Total
A3: 2001 | B3: Bundled | C3: 237756 | D3: 2676565 | E3: 923730 | F3: 710050 | G3: 1382740 | H3: 143613 | I3: 284898 | J3: 135969 | K3: 15906 | L3: 0 | M3: 3833 | N3: 6515060
A4: 2001 | B4: Delivery | C4: 113 | D4: 85468 | E4: 33704 | F4: 269440 | G4: 496490 | H4: 37105 | I4: 30639 | J4: 0 | K4: 0 | L4: 0 | M4: 0 | N4: 952959
A5: 2001 | B5: Total | C5: 237869 | D5: 2762033 | E5: 957434 | F5: 979490 | G5: 1879230 | H5: 180718 | I5: 315537 | J5: 135969 | K5: 15906 | L5: 0 | M5: 3833 | N5: 7468019
A6: 2002 | B6: Bundled | C6: 239249 | D6: 2683349 | E6: 936810 | F6: 715299 | G6: 1369959 | H6: 142212 | I6: 281565 | J6: 137027 | K6: 16226 | L6: 0 | M6: 3972 | N6: 6525668
A7: 2002 | B7: Delivery | C7: 47 | D7: 139766 | E7: 28322 | F7: 20371 | G7: 608235 | H7: 39678 | I7: 35923 | J7: 0 | K7: 0 | L7: 0 | M7: 0 | N7: 872342
A8: 2002 | B8: Total | C8: 239296 | D8: 2823115 | E8: 965132 | F8: 735670 | G8: 1978194 | H8: 181890 | I8: 317488 | J8: 137027 | K8: 16226 | L8: 0 | M8: 3972 | N8: 7398010
A9: 2003 | B9: Bundled | C9: 243689 | D9: 2691906 | E9: 967606 | F9: 708149 | G9: 1357582 | H9: 131739 | I9: 278996 | J9: 137764 | K9: 16395 | L9: 0 | M9: 4005 | N9: 6537831
A10: 2003 | B10: Delivery | C10: 34 | D10: 100061 | E10: 2352 | F10: 32366 | G10: 71042 | H10: 53025 | I10: 38430 | J10: 0 | K10: 0 | L10: 0 | M10: 0 | N10: 297310
A11: 2003 | B11: Total | C11: 243723 | D11: 2791967 | E11: 969958 | F11: 740515 | G11: 1428624 | H11: 184764 | I11: 317426 | J11: 137764 | K11: 16395 | L11: 0 | M11: 4005 | N11: 6835141
A12: 2004 | B12: Bundled | C12: 245088 | D12: 2626379 | E12: 977980 | F12: 706360 | G12: 1348800 | H12: 130148 | I12: 282578 | J12: 138793 | K12: 16604 | L12: 0 | M12: 3976 | N12: 6476706
A13: 2004 | B13: Delivery | C13: 906 | D13: 69818 | E13: 2 | F13: 36539 | G13: 81494 | H13: 56211 | I13: 35776 | J13: 0 | K13: 0 | L13: 0 | M13: 0 | N13: 280746
A14: 2004 | B14: Total | C14: 245994 | D14: 2696197 | E14: 977982 | F14: 742899 | G14: 1430294 | H14: 186359 | I14: 318354 | J14: 138793 | K14: 16604 | L14: 0 | M14: 3976 | N14: 6757452
... A59: 2019 | B59: Total | C59: 261096 | D59: 2959949 | E59: 1015709 | F59: 778248 | G59: 1507707 | H59: 203078 | I59: 341658 | J59: 141417 | K59: 17738 | L59: 57937 | M59: -53152 | N59: 7231385
A60: 2020 | B60: Bundled | C60: 211342 | D60: 2402283 | E60: 1020864 | F60: 656837 | G60: 1307935 | H60: 142401 | I60: 302686 | J60: 67330 | K60: N/A | L60: 63846 | M60: 33241 | N60: 6208765
A61: 2020 | B61: Delivery | C61: 52080 | D61: 538931 | E61: 8 | F61: 125533 | G61: 206712 | H61: 61576 | I61: 390840 | J61: 0 | K61: N/A | L61: 0 | M61: 0 | N61: 1375680
A62: 2020 | B62: Total | C62: 263422 | D62: 2941214 | E62: 1020872 | F62: 782370 | G62: 1514647 | H62: 203977 | I62: 693526 | J62: 67330 | K62: N/A | L62: 63846 | M62: 33241 | N62: 7584445

Sheet Table 8
E1: TABLE 8 Authorized Funding to Date in millions of dollars | N1: It is difficult to find words to describe how bad this idea is without descending into abject rudeness.
E3: Program | F3: Total Funding Authorized to Date
E4: CES | F4: 25242
E5: CEF | F5: 7011
E6: EV Make Ready Program | F6: 701
E7: Energy Storage | F7: 394
E8: IEDR | F8: 72
E9: Electric EE/BE (heat pumps) | F9: 4337
E10: Transmission Upgrades | F10: 5999
E11: Total | F11: 43756
B13: Table 8 Foot Notes
B14: CES | C14: ='Table 8'!F4 -> 25242 | E14: CES funding includes estimated costs originally authorized in the Order Establishing a CES and subsequent Commission orders under Case 15-E-0302.
D15: 3300 | E15: The value shown here includes up to $3.3 billion estimated for land- based renewables under Tier 1
D16: 6900 | E16: and up to $6.9 billion for offshore wind as outlined in DPS Staff’s CES Whitepaper filed June 18, 2020.
D17: 200 | E17: It also includes a $200 million budget for Tier 2 pursuant to the CES Modification Order (issued October 15, 2020) and
D18: 12200 | E18: $12.2 billion estimated for Tier 4 pursuant to the Order Approving Contracts for the Purchase of Tier 4 Renewable Energy Certificates issued April 14, 2022.
D19: 2642 | E19: Lastly, the value for the Tier 3 ZEC program is $2.642 billion pursuant to the CES Financial Status Report for calendar year 2022 for the compliance years ending in March 31 for the years 2017 to 2022.
B20: CEF | C20: ='Table 8'!F5 -> 7011 | E20: CEF funding is for years 2016-2036 pursuant to Commission orders under Case 14-M-0094 and includes the following portfolios: NY-Sun, NY Green Bank, Market Development, and Innovation and Research.
E21: This value nets out collections and expenditures for legacy programs including the following that are captured in the other program-specific rows
D22: 354 | E22: $354 million for Energy Storage
D23: 58.7 | E23: $58.7 million for CES
D24: 50.7 | E24: $50.7 for utility energy efficiency
E25: $0.1 million for Tier 2
B26: EV Make Ready | C26: =F6 -> 701 | E26: EV Make Ready Program funding is for years 2020-2025 pursuant to Commission orders under Case 18-E-0138
B27: Energy Storage | C27: =F7 -> 394 | E27: Energy Storage cost is representative of the total funding for years 2019-2025 pursuant to Commission orders and implementation plans under Case 18-E-0130 and
E28: was funded in 2019 from previously collected CEF dollars.
B29: IEDR | C29: =F8 -> 72 | E29: IEDR funding is representative of the total funding authorized in February 2021 through 2023 pursuant to Commission orders under Case 20-M-0082.
B30: Electric EE/BE | C30: 4337 | E30: Utility Energy Efficiency and Clean Heat funding is representative of the total funding authorized for the years 2019-2025 pursuant to Commission orders under Case 18-M-0084.
E31: Additional funding was authorized by the Commission for Con Edison and Central Hudson’s heat pump programs under New York State Clean Heat,
E32: which is funded through transfers of previously collected and unspent funds.
E33: More information on these transfers and additional funding via continuity mechanisms authorized by the Commission should it be needed before the end of the current program in 2025
E34: is available in the relevant Commission orders in that case.
B35: Transmission Upgrades | C35: 5999 | E35: Transmission Upgrades estimated cost is representative of the total estimated cost authorized by the Commission to date for
D36: =691+98 -> 789 | E36: Phase 1 transmission projects for National Grid ($691 million in July 2022) and NYSEG ($98 million in December 2022)
D37: 4400 | E37: $4.4 billion for Phase 2 projects for Central Hudson, National Grid, NYSEG, and RG&E
D38: 810 | E38: $810 million for Con Edison’s Clean Energy Hub in April 2023 pursuant to Commission orders under Case 20-E-0197
E39: These projects are anticipated to be in service by 2030 and cost recovery will begin as facilities are built.
D40: 3360 | E40: Not included in this table is the Propel NY transmission project, selected by the NYISO Board in June 2023 in response to the Commission’s declaration of a public policy transmission need (PPTN)
E41: to support injections of offshore wind energy to the Long Island system by 2030 at an estimated cost of $3.36 B. Since the Commission did not directly approve this project,
E42: the estimated cost is not captured in the table above.
...

Sheet Appendix A
A1: Case Number | B1: Topic
A2: Technology-Specific Programs
A3: 18-M-0084 | B3: Energy Efficiency and Clean Heat Programs: This proceeding deals with energy efficiency initiatives including the utility-based energy efficiency and heat pump programs. Specifically, this proceeding includes the Clean Heat Program, which all the major utilities participate in along with support from NYSERDA, promotes the electrification of space and water heating by offering contractor and customer incentives for the installation of air- and ground-source heat pumps.
A4: 18-E-0130 | B4: Energy Storage: This proceeding encourages energy storage deployment and addresses New York’s energy storage target of 6 GW by 2030. New York’s ambitious storage target is accompanied by Market reforms and cost-effective procurement mechanisms including incentives for private customers to install storage. It encompasses Utility Requests for Proposals, and NYSERDA’s Retail and Wholesale Programs.
A5: 18-E-0138 | B5: Electric Vehicles, Charging and Supply Equipment: This proceeding addresses clean and reliable transportation in NYS to help meet the goal of 40% greenhouse gas reduction by 85% from 1990 levels by 2050 as well as the goal to phase out new sales of fossil fuel-burning cars by 2035, with a 2045 target for trucks and buses. It encompasses the EV Infrastructure Make Ready and Managed Charging Programs
A6: 22-E-0236 | B6: Commercial EV Charging Demand Charge Alternatives: This proceeding deals with alternatives to traditional demand-based rates to support commercial EV charging.
A7: Clean Energy Procurement Programs
A8: 15-E-0302 | B8: Large-Scale Renewables: Commission proceeding to implement a large-scale renewable program and a Clean Energy Standard. It encompasses large-scale renewable energy projects including Tier 1 for land-based solar photovoltaics and land-based wind; offshore wind; Tier 2 program for maintenance of the State’s existing renewable energy resources; the Zero-Emission Credit program (Tier 3); and the Tier 4 transmission projects to deliver renewable energy into New York City.
A9: 14-M-0094 | B9: Clean Energy Fund (CEF): The CEF encompasses four major portfolios:
B10: · Innovation and Research: The CEF helps to spur innovations through research and technology development that will drive clean-tech business growth and job creation while providing more energy choices to residential and business customers.
B11: · Market Development: The New York State Energy Research and Development Authority (NYSERDA) offers a variety of activities to stimulate consumer demand for clean energy alternatives and energy efficiency while building clean energy supply chains to meet growing customer demand. Information on Market Development can be found in DMM Case 14-M-0094 and in Matter 16-00681.
B12: · NY Green Bank: The NY Green Bank accelerates the deployment of clean energy through a variety of financing tools targeted at alleviating financial market barriers and harnessing capital markets. The NY Green Bank leverages private sector investment to expand the availability of capital and
B13: increase confidence in lending for clean energy projects. More information on the NY Green Bank can be found in DMM Case 13-M-0412.
B14: · NY-Sun: The NY-Sun Program is making solar energy more accessible to homes, businesses and communities throughout New York while on track to meet the Climate Leadership and Community Protection Act target of 6 gigawatts (GW) by 2025. More information on NY-Sun can be found in DMM Case 19-E-0735 or on NYSERDA's Solar Projects webpage.
A15: 14-M-0224 | B15: Community Choice Aggregation: This proceeding relates to Community Choice Aggregation (CCA) Programs, which are authorized by municipalities and includes the necessary design principles and standards that municipalities must apply in developing and implementing CCA programs for their constituents.
A16: 15-E-0082 | B16: Community Distributed Generation: This proceeding relates to community distributed generation (CDG) and allows customers for whom rooftop solar is not a viable option to directly participate in and enjoy the benefits of renewable energy programs.
A17: 18-E-0071 | B17: Offshore Wind: Proceeding related to the procurement and development of offshore wind projects to meet the State’s renewable energy goals.
A18: Customer-Sited Renewable Generation
A19: 15-E-0751 | B19: Value of Distributed Energy Resources: This proceeding addresses the mechanism to compensate energy generated by distributed energy resources such as solar photovoltaic, energy storage, combined heat and power, anaerobic digesters, wind turbines and small hydro and fuel cells. It encompasses the value stack, rate design, community-distributed generation, standby rates, technology-neutral optional rate, net metering, and marginal cost of service (MCOS).
A20: 14-M-0224 | B20: Community Choice Aggregation: See above.
A21: 15-E-0082 | B21: Community Distributed Generation: See above.
A22: System Planning
A23: 16-M-0411 | B23: Distributed System Implementation Plans (DSIPs): Proceeding that relates to DSIPs that build upon traditional utility planning and promote timely development of a modern grid capable of managing distributed energy resources (DERs) and supporting retail markets. The proceeding also facilitates development of a Distribution System Platform (DSP) that allows the distribution utilities to efficiently plan and operate the grid using DERs, while providing a competitive retail market for transacting electric grid services.
A24: 16-M-0412 | B24: Benefit Cost Analysis (BCA) Handbooks: Proceeding that includes handbooks that set forth the BCA Framework and guide DER providers in structuring their projects and proposals. The BCA Framework enables the careful comparison of the value of the benefits obtained through a potential project or action against the costs incurred in effectuating that project or action, generally considered through the systematic quantification of the net present value of the project or action under consideration.
B25: More information on the BCA Framework can be found under Case 14-M-0101, including in the Order Adopting Regulatory Policy Framework and Implementation Plan (issued February 26, 2015).
A26: 14-E-0423 | B26: Electric Dynamic Load Management (DLM or Demand Response) Programs: The Utilities’ DLM Programs Annual DLM Reports, and Tariff Filings are addressed annually by the Commission under this proceeding.
A27: 20-G-0131 | B27: Gas System Planning: This proceeding includes actions related to local gas distribution companies’, or LDCs’, long-term plans and alternative solutions to ensure that New York’s residents continue to have safe, adequate, and reliable gas
B28: service as the state reduces greenhouse gas emissions and transitions to alternative energy sources. It also includes rules related to the process for initiating, operating, and lifting a natural gas moratorium, and covers issues including the metrics used to identify supply shortfall, communications, a Customer Bill of Rights, training materials and outreach, and information on low- and moderate-income customer and disadvantaged community impacts.
A29: Consumer Protection
A30: 14-M-0565 | B30: Low Income Affordability: Proceeding on the Commission’s Energy Affordability Policy (or Low-Income Bill Discount) program that established provides income- eligible consumers with a discount on their monthly electric and/or gas bills, as well as other benefits, depending on the characteristics of the particular utility's program. Specifically, in the Commission’s Order issued on May 19, 2016, the Commission formally adopted “a policy that an energy burden at or below 6% of household income shall be the target level for all low-income customers.” The Commission also adopted a policy to provide tiered discounts to customers qualifying as low- income. The tiered discount approach varies discounts based on level of need, with the level of need demonstrated by receipt of one or more Home Energy Assistance Program or HEAP “add-on” benefits.
A31: 15-M-0180 | B31: DER Supplier Oversight: This proceeding established a set of protections to ensure customers participating in DER programs and markets, particularly CDG projects, are not subject to fraud or abusive marketing. It also established a clear and consistent process for managing complaints and investigating and addressing violations to ensure that both customers and DER suppliers understand their rights and responsibilities.

Sheet Summary
B2: Summary of Cost of Electric Cases Related to the Commission’s Implementation of the CLCPA | K2: 45131
D4: Table 4 2022 Recoveries | F4: Table 8 Authorized Funding to Date | K4: Filed | L4: Public | M4: Party
B5: Tables 4 & 8 | C5: Description | D5: $ millions | E5: Case Number | F5: $ millions | G5: Comment | K5: Documents | L5: Comments | M5: List | N5: Calendar
B6: Total | D6: =Cases!M10/1000 -> 1175.788 | F6: ='Table 8'!F11 -> 43756
B7: CES | C7: Clean Energy Standard (CES) cases | D7: =Cases!M2/1000 -> 348.087 | F7: ='Table 8'!C14 -> 25242
C8: Large-Scale Renewables & Clean Energy Standard | E8: 15-E-0302 | K8: 1528 | L8: 21546 | M8: 159 | N8: 19
C9: Offshore Wind | E9: 18-E-0071 | K9: 186 | L9: 107 | M9: 33 | N9: 0
F10: ='Table 8'!D15 -> 3300 | G10: Tier 1 land- based renewables
F11: ='Table 8'!D16 -> 6900 | G11: Offshore wind per DPS Staff’s CES Whitepaper
F12: ='Table 8'!D17 -> 200 | G12: Budget for Tier 2 per CES Modification Order
F13: ='Table 8'!D18 -> 12200 | G13: Tier 4 Renewable Energy Certificates
F14: ='Table 8'!D19 -> 2642 | G14: Tier 3 ZEC program
B15: CEF | C15: Clean Energy Fund | D15: =Cases!M3/1000 -> 500.294 | E15: 14-M-0094 | K15: 977 | L15: 62 | M15: 46 | N15: 0
F16: ='Table 8'!D22 -> 354 | G16: Energy Storage
F17: ='Table 8'!D23 -> 58.7 | G17: CES
F18: ='Table 8'!D24 -> 50.7 | G18: Utility energy efficiency
F19: ='Table 8'!D25 -> 0 | G19: Tier 2
B20: VDER | C20: Value of Distributed Energy Resources | D20: =Cases!M4/1000 -> 38.254 | E20: 15-E-0751 | K20: 1752 | L20: 3942 | M20: 105 | N20: 0
B21: EV Make Ready | C21: Electric Vehicles, Charging and Supply Equipment | D21: =Cases!M5/1000 -> 2.703 | E21: 18-E-0138 | F21: ='Table 8'!C26 -> 701 | K21: 824 | L21: 643 | M21: 54 | N21: 0
B22: Storage | C22: Energy Storage | E22: 18-E-0130 | F22: ='Table 8'!C27 -> 394 | K22: 475 | L22: 47 | M22: 46 | N22: 2
B23: IEDR | C23: Strategic Use of Energy Related Data | D23: =Cases!M7/1000 -> 7.524 | E23: 20-M-0082 | F23: ='Table 8'!C29 -> 72 | K23: 335 | L23: 8 | M23: 15 | N23: 0
B24: Electric EE/BE | C24: Energy Efficiency and Clean Heat Programs: | D24: =Cases!M8/1000 -> 278.928 | E24: 18-M-0084 | F24: ='Table 8'!C30 -> 4337 | K24: 1230 | L24: 2270 | M24: 40 | N24: 0
B25: Transmission Upgrades | F25: ='Table 8'!C35 -> 5999
C28: Community Choice Aggregation | E28: 14-M-0224 | K28: 1341 | L28: 68 | M28: 40 | N28: 0
C29: Electric Dynamic Load Management (Demand Response) Programs | E29: 14-E-0423 | K29: 289 | L29: 10 | M29: 13 | N29: 0
C30: Low Income Affordability | E30: 14-M-0565 | K30: 1216 | L30: 87 | M30: 22 | N30: 12
C31: Community Distributed Generation | E31: 15-E-0082 | K31: 398 | L31: 1742 | M31: 21 | N31: 0
C32: DER Supplier Oversight | E32: 15-M-0180 | K32: 554 | L32: 8 | M32: 22 | N32: 0
C33: Distributed System Implementation Plans | E33: 16-M-0411 | K33: 276 | L33: 2093 | M33: 16 | N33: 0
C34: Benefit Cost Analysis Handbooks | E34: 16-M-0412 | K34: 27 | L34: 0 | M34: 14 | N34: 0
C35: Gas System Planning | E35: 20-G-0131 | K35: 353 | L35: 2554 | M35: 41 | N35: 9
C36: Commercial EV Charging Demand Charge Alternatives | E36: 22-E-0236 | K36: 120 | L36: 14 | M36: 29 | N36: 0
C37: Retail Renewable Portfolio Standard | E37: 03-E-0188 | K37: 1600 | L37: 2087 | M37: 66 | N37: 5
C38: Reforming the Energy Vision | E38: 14-M-9191 | K38: 2263 | L38: 7788 | M38: 203 | N38: 20
C39: Additonal Funding for NY-Sun | E39: 19-E-0735 | K39: 156 | L39: 284 | M39: 17 | N39: 0
... C42: NYISO Proposed Public Plicy Transmission Needs | E42: 22-E-0633 | K42: 31 | L42: 3 | M42: 14 | N42: 0
C43: Alternatives to Traditional Demand-Based Rate Structures | E43: 22-E-0263

Sheet Cases
A1: Appendix A: Generic Cases Related to the Commission’s Implementation of the CLCPA | F1: Filings as of | G1: 45131 | L1: Program | M1: Total
D2: Filed | E2: Public | F2: Party | L2: CES1 | M2: 348087
A3: Case Number | B3: Description | C3: Links | D3: Documents | E3: Comments | F3: List | G3: Calendar | L3: CEF | M3: 500294
A4: 14-E-0423 | B4: Electric Dynamic Load Management (Demand Response) Programs | C4: 14-E-0423 | D4: 289 | E4: 10 | F4: 13 | G4: 0 | L4: VDER2 | M4: 38254
A5: 14-M-0094 | B5: Clean Energy Fund | C5: 14-M-0094 | D5: 977 | E5: 62 | F5: 46 | G5: 0 | L5: EV Make Ready Program | M5: 2703
A6: 14-M-0224 | B6: Community Choice Aggregation | C6: 14-M-0224 | D6: 1341 | E6: 68 | F6: 40 | G6: 0 | L6: Storage3
A7: 14-M-0565 | B7: Low Income Affordability | C7: 14-M-0565 | D7: 1216 | E7: 87 | F7: 22 | G7: 12 | L7: IEDR | M7: 7524
A8: 15-E-0082 | B8: Community Distributed Generation | C8: 15-E-0082 | D8: 398 | E8: 1742 | F8: 21 | G8: 0 | L8: Electric EE/BE (heat pumps)4 | M8: 278928
A9: 15-E-0302 | B9: Large-Scale Renewables & Clean Energy Standard | C9: 15-E-0302 | D9: 1528 | E9: 21546 | F9: 159 | G9: 19 | L9: Transmission Upgrades5
A10: 15-E-0751 | B10: Value of Distributed Energy Resources | C10: 15-E-0751 | D10: 1752 | E10: 3942 | F10: 105 | G10: 0 | L10: Total | M10: 1175788
A11: 15-M-0180 | B11: DER Supplier Oversight | C11: 15-M-0180 | D11: 554 | E11: 8 | F11: 22 | G11: 0
A12: 16-M-0411 | B12: Distributed System Implementation Plans | C12: 16-M-0411 | D12: 276 | E12: 2093 | F12: 16 | G12: 0
A13: 16-M-0412 | B13: Benefit Cost Analysis Handbooks | C13: 16-M-0412 | D13: 27 | E13: 0 | F13: 14 | G13: 0
A14: 18-E-0071 | B14: Offshore Wind | C14: 18-E-0071 | D14: 186 | E14: 107 | F14: 33 | G14: 0
A15: 18-E-0130 | B15: Energy Storage | C15: 18-E-0130 | D15: 475 | E15: 47 | F15: 46 | G15: 2
A16: 18-E-0138 | B16: Electric Vehicles, Charging and Supply Equipment | C16: 18-E-0138 | D16: 824 | E16: 643 | F16: 54 | G16: 0
A17: 18-M-0084 | B17: Energy Efficiency and Clean Heat Programs: | C17: 18-M-0084 | D17: 1230 | E17: 2270 | F17: 40 | G17: 0
A18: 20-G-0131 | B18: Gas System Planning | C18: 20-G-0131 | D18: 353 | E18: 2554 | F18: 41 | G18: 9
A19: 22-E-0236 | B19: Commercial EV Charging Demand Charge Alternatives | C19: 22-E-0236 | D19: 120 | E19: 14 | F19: 29 | G19: 0
A21: 03-E-0188 | B21: Retail Renewable Portfolio Standard | C21: 03-E-0188 | D21: 1600 | E21: 2087 | F21: 66 | G21: 5
A22: 14-M-9191 | B22: Reforming the Energy Vision | C22: 14-M-0101 | D22: 2263 | E22: 7788 | F22: 203 | G22: 20
A23: 20-M-0082 | B23: Strategic Use of Energy Related Data | C23: 20-M-0082 | D23: 335 | E23: 8 | F23: 15 | G23: 0
... A27: 22-E-0633 | B27: NYISO Proposed Public Plicy Transmission Needs | C27: 22-E-0633 | D27: 31 | E27: 3 | F27: 14 | G27: 0
A28: 22-E-0263 | B28: Alternatives to Traditional Demand-Based Rate Structures
