Workbook
Name co2_mass: Data!$D$2:$D$10000
Name country: Data!$B$2:$B$10000
Name gdp: Data!$I$2:$I$10000
Name iso_code: Data!$A$2:$A$10000
Name methane: Data!$F$2:$F$10000
Name nitrous_oxide: Data!$G$2:$G$10000
Name population: Data!$H$2:$H$10000
Name primary_energy_consumption: Data!$J$2:$J$10000
Name total_ghg: Data!$E$2:$E$10000
Name year: Data!$C$2:$C$10000

Sheet Documentation
A1: https://github.com/owid/co2-data
A2: Our complete CO2 and Greenhouse Gas Emissions dataset is available in CSV, XLSX, and JSON formats.
A3: Downloaded the XLSX format data and then processed it as shown below. Those records are in the Data tab
B5: 1990 to present data were extracted
B6: Columns in original data set | C6: Deleted
B7: iso_code
B8: country
B9: year
B10: co2
B11: consumption_co2 | C11: Delete
B12: co2_growth_prct | C12: Delete
B13: co2_growth_abs | C13: Delete
B14: trade_co2 | C14: Delete
B15: co2_per_capita | C15: Delete
B16: consumption_co2_per_capita | C16: Delete
B17: share_global_co2 | C17: Delete
B18: cumulative_co2 | C18: Delete
B19: share_global_cumulative_co2 | C19: Delete
B20: co2_per_gdp | C20: Delete
B21: consumption_co2_per_gdp | C21: Delete
B22: co2_per_unit_energy | C22: Delete
... B53: share_global_cumulative_other_co2 | C53: Delete
B54: total_ghg
B55: ghg_per_capita | C55: Delete
B56: methane
B57: methane_per_capita | C57: Delete
B58: nitrous_oxide
B59: nitrous_oxide_per_capita | C59: Delete
B60: population
B61: gdp
B62: primary_energy_consumption
B63: energy_per_capita | C63: Delete
B64: energy_per_gdp | C64: Delete
A66: GHG Emissions in the GHG tab
B67: Extracted the GHG data by country and year using IFSUM
A69: CO2 Emissions in the CO2 tab
B70: Extracted theCO2 data by country and year using IFSUM
A72: Summary tab
B73: Listed the World GHG and CO2 by year
B74: Calculated the annual % trend
B75: Calculated the five year average of the annual % trend
B76: Calculated the 3-year % trend
A78: Graph Trends
B79: Shows the data used for the graphs in the update post
A81: NYS GHG
B82: Data from Open NY data base

Sheet Data
A1: iso_code | B1: country | C1: year | D1: co2 | E1: total_ghg | F1: methane | G1: nitrous_oxide | H1: population | I1: gdp | J1: primary_energy_consumption
A2: AFG | B2: Afghanistan | C2: 2022 | D2: 12.148 | H2: 41128772
B3: Africa | C3: 2022 | D3: 1416.627 | H3: 1426736614 | J3: 5626.826
B4: Africa (GCP) | C4: 2022 | D4: 1416.609
A5: ALB | B5: Albania | C5: 2022 | D5: 4.955 | H5: 2842318
A6: DZA | B6: Algeria | C6: 2022 | D6: 176.345 | H6: 44903228 | J6: 684.87
A7: AND | B7: Andorra | C7: 2022 | D7: 0.369 | H7: 79843
A8: AGO | B8: Angola | C8: 2022 | D8: 16.07 | H8: 35588996
A9: AIA | B9: Anguilla | C9: 2022 | D9: 0.139 | H9: 15877
A10: ATG | B10: Antigua and Barbuda | C10: 2022 | D10: 0.602 | H10: 93772
A11: ARG | B11: Argentina | C11: 2022 | D11: 192.864 | H11: 45510324 | J11: 1000.973
A12: ARM | B12: Armenia | C12: 2022 | D12: 6.408 | H12: 2780472
A13: ABW | B13: Aruba | C13: 2022 | D13: 0.866 | H13: 106459
B14: Asia | C14: 2022 | D14: 21772.348 | H14: 4721383370 | J14: 90365.438
B15: Asia (GCP) | C15: 2022 | D15: 19102.592
B16: Asia (excl. China and India) | C16: 2022 | D16: 7545.928
A17: AUS | B17: Australia | C17: 2022 | D17: 392.279 | H17: 26177410 | J17: 1661.188
A18: AUT | B18: Austria | C18: 2022 | D18: 61.488 | H18: 8939617 | J18: 381.591
A19: AZE | B19: Azerbaijan | C19: 2022 | D19: 38.063 | H19: 10358078 | J19: 194.192
A20: BHS | B20: Bahamas | C20: 2022 | D20: 2.12 | H20: 409989
A21: BHR | B21: Bahrain | C21: 2022 | D21: 37.796 | H21: 1472237
A22: BGD | B22: Bangladesh | C22: 2022 | D22: 102.103 | H22: 171186368 | J22: 498.503
A23: BRB | B23: Barbados | C23: 2022 | D23: 1.233 | H23: 281646
A24: BLR | B24: Belarus | C24: 2022 | D24: 58.801 | H24: 9534956 | J24: 296.849
A25: BEL | B25: Belgium | C25: 2022 | D25: 89.605 | H25: 11655923 | J25: 680.657
A26: BLZ | B26: Belize | C26: 2022 | D26: 0.725 | H26: 405285
A27: BEN | B27: Benin | C27: 2022 | D27: 8.432 | H27: 13352864
A28: BMU | B28: Bermuda | C28: 2022 | D28: 0.445 | H28: 64207
A29: BTN | B29: Bhutan | C29: 2022 | D29: 1.056 | H29: 782457
A30: BOL | B30: Bolivia | C30: 2022 | D30: 21.494 | H30: 12224114
A31: BES | B31: Bonaire Sint Eustatius and Saba | C31: 2022 | D31: 0.11 | H31: 27052
A32: BIH | B32: Bosnia and Herzegovina | C32: 2022 | D32: 19.736 | H32: 3233530
A33: BWA | B33: Botswana | C33: 2022 | D33: 7.467 | H33: 2630300
A34: BRA | B34: Brazil | C34: 2022 | D34: 483.477 | H34: 215313504 | J34: 3724.87
A35: VGB | B35: British Virgin Islands | C35: 2022 | D35: 0.157 | H35: 31332
A36: BRN | B36: Brunei | C36: 2022 | D36: 10.754 | H36: 449002
A37: BGR | B37: Bulgaria | C37: 2022 | D37: 46.147 | H37: 6781955 | J37: 231.777
A38: BFA | B38: Burkina Faso | C38: 2022 | D38: 5.962 | H38: 22673764
A39: BDI | B39: Burundi | C39: 2022 | D39: 0.798 | H39: 12889583
A40: KHM | B40: Cambodia | C40: 2022 | D40: 19.955 | H40: 16767851
A41: CMR | B41: Cameroon | C41: 2022 | D41: 9.573 | H41: 27914542
A42: CAN | B42: Canada | C42: 2022 | D42: 547.944 | H42: 38454328 | J42: 3928.505
A43: CPV | B43: Cape Verde | C43: 2022 | D43: 0.569 | H43: 593162
A44: CAF | B44: Central African Republic | C44: 2022 | D44: 0.226 | H44: 5579148
B45: Central America (GCP) | C45: 2022 | D45: 161.836
A46: TCD | B46: Chad | C46: 2022 | D46: 2.369 | H46: 17723312
A47: CHL | B47: Chile | C47: 2022 | D47: 84.378 | H47: 19603736 | J47: 496.812
A48: CHN | B48: China | C48: 2022 | D48: 11396.777 | H48: 1425887360 | J48: 44275.914
A49: COL | B49: Colombia | C49: 2022 | D49: 99.718 | H49: 51874028 | J49: 609.344
A50: COM | B50: Comoros | C50: 2022 | D50: 0.413 | H50: 836783
A51: COG | B51: Congo | C51: 2022 | D51: 7.432 | H51: 5970430
A52: COK | B52: Cook Islands | C52: 2022 | D52: 0.068 | H52: 17032
A53: CRI | B53: Costa Rica | C53: 2022 | D53: 7.889 | H53: 5180836
A54: CIV | B54: Cote d'Ivoire | C54: 2022 | D54: 11.734 | H54: 28160548
A55: HRV | B55: Croatia | C55: 2022 | D55: 17.526 | H55: 4030361 | J55: 94.585
A56: CUB | B56: Cuba | C56: 2022 | D56: 20.921 | H56: 11212198
A57: CUW | B57: Curacao | C57: 2022 | D57: 1.757 | H57: 191173
A58: CYP | B58: Cyprus | C58: 2022 | D58: 7.029 | H58: 1251492 | J58: 31.738
A59: CZE | B59: Czechia | C59: 2022 | D59: 97.969 | H59: 10493990 | J59: 464.277
A60: COD | B60: Democratic Republic of Congo | C60: 2022 | D60: 3.602 | H60: 99010216
A61: DNK | B61: Denmark | C61: 2022 | D61: 29.059 | H61: 5882259 | J61: 189.397
A62: DJI | B62: Djibouti | C62: 2022 | D62: 0.453 | H62: 1120851
A63: DMA | B63: Dominica | C63: 2022 | D63: 0.153 | H63: 72758
A64: DOM | B64: Dominican Republic | C64: 2022 | D64: 23.638 | H64: 11228821
A65: TLS | B65: East Timor | C65: 2022 | D65: 0.669 | H65: 1341298
A66: ECU | B66: Ecuador | C66: 2022 | D66: 41.613 | H66: 18001002 | J66: 218.717
A67: EGY | B67: Egypt | C67: 2022 | D67: 258.952 | H67: 110990096 | J67: 1105.468
A68: SLV | B68: El Salvador | C68: 2022 | D68: 7.714 | H68: 6336393
A69: GNQ | B69: Equatorial Guinea | C69: 2022 | D69: 5.076 | H69: 1674916
A70: ERI | B70: Eritrea | C70: 2022 | D70: 0.697 | H70: 3684041
A71: EST | B71: Estonia | C71: 2022 | D71: 10.312 | H71: 1326064 | J71: 61.668
A72: SWZ | B72: Eswatini | C72: 2022 | D72: 1.265 | H72: 1201680
A73: ETH | B73: Ethiopia | C73: 2022 | D73: 19.073 | H73: 123379928
B74: Europe | C74: 2022 | D74: 5105.308 | H74: 744806995 | J74: 28543.871
B75: Europe (GCP) | C75: 2022 | D75: 5105.308
B76: Europe (excl. EU-27) | C76: 2022 | D76: 2343.401
B77: Europe (excl. EU-28) | C77: 2022 | D77: 2024.746
B78: European Union (27) | C78: 2022 | D78: 2761.907 | H78: 447315902 | J78: 16161.107
B79: European Union (28) | C79: 2022 | D79: 3080.561
A80: FRO | B80: Faroe Islands | C80: 2022 | D80: 0.748 | H80: 53117
A81: FJI | B81: Fiji | C81: 2022 | D81: 1.074 | H81: 929769
A82: FIN | B82: Finland | C82: 2022 | D82: 36.163 | H82: 5540745 | J82: 326.716
A83: FRA | B83: France | C83: 2022 | D83: 297.534 | H83: 64626624 | J83: 2329.906
A84: PYF | B84: French Polynesia | C84: 2022 | D84: 0.873 | H84: 306292
A85: GAB | B85: Gabon | C85: 2022 | D85: 5.706 | H85: 2388997
A86: GMB | B86: Gambia | C86: 2022 | D86: 0.77 | H86: 2705995
A87: GEO | B87: Georgia | C87: 2022 | D87: 11.093 | H87: 3744385
A88: DEU | B88: Germany | C88: 2022 | D88: 665.605 | H88: 83369840 | J88: 3416.287
A89: GHA | B89: Ghana | C89: 2022 | D89: 20.807 | H89: 33475870
A90: GRC | B90: Greece | C90: 2022 | D90: 59.663 | H90: 10384972 | J90: 315.811
A91: GRL | B91: Greenland | C91: 2022 | D91: 0.592 | H91: 56494
A92: GRD | B92: Grenada | C92: 2022 | D92: 0.34 | H92: 125459
A93: GTM | B93: Guatemala | C93: 2022 | D93: 19.193 | H93: 17843914
A94: GIN | B94: Guinea | C94: 2022 | D94: 4.954 | H94: 13859349
A95: GNB | B95: Guinea-Bissau | C95: 2022 | D95: 0.327 | H95: 2105580
A96: GUY | B96: Guyana | C96: 2022 | D96: 3.537 | H96: 808727
A97: HTI | B97: Haiti | C97: 2022 | D97: 2.447 | H97: 11585003
B98: High-income countries | C98: 2022 | D98: 12610.532 | H98: 1224121770 | J98: 69124.555
A99: HND | B99: Honduras | C99: 2022 | D99: 11.16 | H99: 10432858
A100: HKG | B100: Hong Kong | C100: 2022 | D100: 30.569 | H100: 7488863 | J100: 218.318
...

Sheet GHG
A1: Year | B1: World | C1: Afghanistan | D1: Albania | E1: Algeria | F1: Andorra | G1: Angola | H1: Anguilla | I1: Antarctica | J1: Antigua and Barbuda | K1: Argentina | L1: Armenia | M1: Aruba | N1: Australia | O1: Austria | P1: Azerbaijan | Q1: Bahamas | R1: Bahrain | S1: Bangladesh | T1: Barbados | U1: Belarus | V1: Belgium | W1: Belize | X1: Benin | Y1: Bermuda | Z1: Bhutan | AA1: Bolivia | AB1: Bonaire Sint Eustatius and Saba | AC1: Bosnia and Herzegovina | AD1: Botswana | AE1: Brazil | AF1: British Virgin Islands | AG1: Brunei | AH1: Bulgaria | AI1: Burkina Faso | AJ1: Burundi | AK1: Cambodia | AL1: Cameroon | AM1: Canada | AN1: Cape Verde | AO1: Central African Republic | AP1: Chad | AQ1: Chile | AR1: China | AS1: Christmas Island | AT1: Colombia | AU1: Comoros | AV1: Congo | AW1: Cook Islands | AX1: Costa Rica | AY1: Cote d'Ivoire | AZ1: Croatia | BA1: Cuba | BB1: Curacao | BC1: Cyprus | BD1: Czechia | BE1: Democratic Republic of Congo | BF1: Denmark | BG1: Djibouti | BH1: Dominica | BI1: Dominican Republic | BJ1: Ecuador | BK1: Egypt | BL1: El Salvador | BM1: Equatorial Guinea | BN1: Eritrea | BO1: Estonia | BP1: Eswatini | BQ1: Ethiopia | BR1: Europe | BS1: Europe (excl. EU-27) | BT1: Europe (excl. EU-28) | BU1: Faeroe Islands | BV1: Fiji | BW1: Finland | BX1: France | BY1: French Equatorial Africa | BZ1: French Guiana | CA1: French Polynesia | CB1: French West Africa | CC1: Gabon | CD1: Gambia | CE1: Georgia | CF1: Germany | CG1: Ghana | CH1: Greece | CI1: Greenland | CJ1: Grenada | CK1: Guadeloupe | CL1: Guatemala | CM1: Guinea | CN1: Guinea-Bissau | CO1: Guyana | CP1: Haiti | CQ1: Honduras | CR1: Hong Kong | CS1: Hungary | CT1: Iceland | CU1: India | CV1: Indonesia | CW1: Iran | CX1: Iraq | CY1: Ireland | CZ1: Israel | DA1: Italy | DB1: Jamaica | DC1: Japan | DD1: Jordan | DE1: Kazakhstan | DF1: Kenya | DG1: Kiribati | DH1: Kosovo | DI1: Kuwait | DJ1: Kuwaiti Oil Fires | DK1: Kyrgyzstan | DL1: Laos | DM1: Latvia | DN1: Lebanon | DO1: Leeward Islands | DP1: Lesotho | DQ1: Liberia | DR1: Libya | DS1: Liechtenstein | DT1: Lithuania | DU1: Luxembourg | DV1: Macao | DW1: Madagascar | DX1: Malawi | DY1: Malaysia | DZ1: Maldives | EA1: Mali | EB1: Malta | EC1: Marshall Islands | ED1: Martinique | EE1: Mauritania | EF1: Mauritius | EG1: Mayotte | EH1: Mexico | EI1: Micronesia (country) | EJ1: Moldova | EK1: Mongolia | EL1: Montenegro | EM1: Montserrat | EN1: Morocco | EO1: Mozambique | EP1: Myanmar | EQ1: Namibia | ER1: Nauru | ES1: Nepal | ET1: Netherlands | EU1: New Caledonia | EV1: New Zealand | EW1: Nicaragua | EX1: Niger | EY1: Nigeria | EZ1: Niue | FA1: North Korea | FB1: North Macedonia | FC1: Norway | FD1: Oceania | FE1: Oman | FF1: Pakistan | FG1: Palau | FH1: Palestine | FI1: Panama | FJ1: Panama Canal Zone | FK1: Papua New Guinea | FL1: Paraguay | FM1: Peru | FN1: Philippines | FO1: Poland | FP1: Portugal | FQ1: Puerto Rico | FR1: Qatar | FS1: Reunion | FT1: Romania | FU1: Russia | FV1: Rwanda | FW1: Ryukyu Islands | FX1: Saint Helena | FY1: Saint Kitts and Nevis | FZ1: Saint Lucia | GA1: Saint Pierre and Miquelon | GB1: Saint Vincent and the Grenadines | GC1: Samoa | GD1: Sao Tome and Principe | GE1: Saudi Arabia | GF1: Senegal | GG1: Serbia | GH1: Seychelles | GI1: Sierra Leone | GJ1: Singapore | GK1: Sint Maarten (Dutch part) | GL1: Slovakia | GM1: Slovenia | GN1: Solomon Islands | GO1: Somalia | GP1: South Africa | GQ1: South Korea | GR1: South Sudan | GS1: Spain | GT1: Sri Lanka | GU1: St. Kitts-Nevis-Anguilla | GV1: Sudan | GW1: Suriname | GX1: Sweden | GY1: Switzerland | GZ1: Syria | HA1: Taiwan | HB1: Tajikistan | HC1: Tanzania | HD1: Thailand | HE1: Timor | HF1: Togo | HG1: Tonga | HH1: Trinidad and Tobago | HI1: Tunisia | HJ1: Turkey | HK1: Turkmenistan | HL1: Turks and Caicos Islands | HM1: Tuvalu | HN1: Uganda | HO1: Ukraine | HP1: United Arab Emirates | HQ1: United Kingdom | HR1: United States | HS1: Uruguay | HT1: Uzbekistan | HU1: Vanuatu | HV1: Venezuela | HW1: Vietnam | HX1: Wallis and Futuna | HY1: Yemen | HZ1: Zambia | IA1: Zimbabwe | IB1: International transport | IC1: Total
A2: 1990 | B2: =SUMIFS(total_ghg,year,$A2,country,B$1) -> 32661.42 | C2: =SUMIFS(total_ghg,year,$A2,country,C$1) -> 9.24 | D2: =SUMIFS(total_ghg,year,$A2,country,D$1) -> 11.37 | E2: =SUMIFS(total_ghg,year,$A2,country,E$1) -> 122.88 | F2: =SUMIFS(total_ghg,year,$A2,country,F$1) -> 0.43 | G2: =SUMIFS(total_ghg,year,$A2,country,G$1) -> 68.49 | H2: =SUMIFS(total_ghg,year,$A2,country,H$1) -> 0 | I2: =SUMIFS(total_ghg,year,$A2,country,I$1) -> 0 | ... IB2: =SUMIFS(total_ghg,year,$A2,country,IB$1) -> 0 | IC2: =SUM(C2:IA2) -> 41022.26
A3: 1991 | B3: =SUMIFS(total_ghg,year,$A3,country,B$1) -> 32835.512 | C3: =SUMIFS(total_ghg,year,$A3,country,C$1) -> 9.51 | D3: =SUMIFS(total_ghg,year,$A3,country,D$1) -> 9.01 | E3: =SUMIFS(total_ghg,year,$A3,country,E$1) -> 126.56 | F3: =SUMIFS(total_ghg,year,$A3,country,F$1) -> 0.43 | G3: =SUMIFS(total_ghg,year,$A3,country,G$1) -> 68.92 | H3: =SUMIFS(total_ghg,year,$A3,country,H$1) -> 0 | I3: =SUMIFS(total_ghg,year,$A3,country,I$1) -> 0 | ... IB3: =SUMIFS(total_ghg,year,$A3,country,IB$1) -> 0 | IC3: =SUM(C3:IA3) -> 41016.981
A4: 1992 | B4: =SUMIFS(total_ghg,year,$A4,country,B$1) -> 32736.211 | C4: =SUMIFS(total_ghg,year,$A4,country,C$1) -> 9.16 | D4: =SUMIFS(total_ghg,year,$A4,country,D$1) -> 6.97 | E4: =SUMIFS(total_ghg,year,$A4,country,E$1) -> 127.21 | F4: =SUMIFS(total_ghg,year,$A4,country,F$1) -> 0.43 | G4: =SUMIFS(total_ghg,year,$A4,country,G$1) -> 69.75 | H4: =SUMIFS(total_ghg,year,$A4,country,H$1) -> 0 | I4: =SUMIFS(total_ghg,year,$A4,country,I$1) -> 0 | ... IB4: =SUMIFS(total_ghg,year,$A4,country,IB$1) -> 0 | IC4: =SUM(C4:IA4) -> 40562.42
A5: 1993 | B5: =SUMIFS(total_ghg,year,$A5,country,B$1) -> 32884.18 | C5: =SUMIFS(total_ghg,year,$A5,country,C$1) -> 9.29 | D5: =SUMIFS(total_ghg,year,$A5,country,D$1) -> 6.94 | E5: =SUMIFS(total_ghg,year,$A5,country,E$1) -> 135.62 | F5: =SUMIFS(total_ghg,year,$A5,country,F$1) -> 0.44 | G5: =SUMIFS(total_ghg,year,$A5,country,G$1) -> 72.68 | H5: =SUMIFS(total_ghg,year,$A5,country,H$1) -> 0 | I5: =SUMIFS(total_ghg,year,$A5,country,I$1) -> 0 | ... IB5: =SUMIFS(total_ghg,year,$A5,country,IB$1) -> 0 | IC5: =SUM(C5:IA5) -> 40325.02
A6: 1994 | B6: =SUMIFS(total_ghg,year,$A6,country,B$1) -> 33162.738 | C6: =SUMIFS(total_ghg,year,$A6,country,C$1) -> 9.34 | D6: =SUMIFS(total_ghg,year,$A6,country,D$1) -> 7.75 | E6: =SUMIFS(total_ghg,year,$A6,country,E$1) -> 137.87 | F6: =SUMIFS(total_ghg,year,$A6,country,F$1) -> 0.44 | G6: =SUMIFS(total_ghg,year,$A6,country,G$1) -> 75.64 | H6: =SUMIFS(total_ghg,year,$A6,country,H$1) -> 0 | I6: =SUMIFS(total_ghg,year,$A6,country,I$1) -> 0 | ... IB6: =SUMIFS(total_ghg,year,$A6,country,IB$1) -> 0 | IC6: =SUM(C6:IA6) -> 40221.47
A7: 1995 | B7: =SUMIFS(total_ghg,year,$A7,country,B$1) -> 33960.871 | C7: =SUMIFS(total_ghg,year,$A7,country,C$1) -> 9.79 | D7: =SUMIFS(total_ghg,year,$A7,country,D$1) -> 7.59 | E7: =SUMIFS(total_ghg,year,$A7,country,E$1) -> 144.32 | F7: =SUMIFS(total_ghg,year,$A7,country,F$1) -> 0.46 | G7: =SUMIFS(total_ghg,year,$A7,country,G$1) -> 78.78 | H7: =SUMIFS(total_ghg,year,$A7,country,H$1) -> 0 | I7: =SUMIFS(total_ghg,year,$A7,country,I$1) -> 0 | ... IB7: =SUMIFS(total_ghg,year,$A7,country,IB$1) -> 0 | IC7: =SUM(C7:IA7) -> 40937.38
A8: 1996 | B8: =SUMIFS(total_ghg,year,$A8,country,B$1) -> 34351 | C8: =SUMIFS(total_ghg,year,$A8,country,C$1) -> 10.84 | D8: =SUMIFS(total_ghg,year,$A8,country,D$1) -> 7.32 | E8: =SUMIFS(total_ghg,year,$A8,country,E$1) -> 147.82 | F8: =SUMIFS(total_ghg,year,$A8,country,F$1) -> 0.49 | G8: =SUMIFS(total_ghg,year,$A8,country,G$1) -> 81.71 | H8: =SUMIFS(total_ghg,year,$A8,country,H$1) -> 0 | I8: =SUMIFS(total_ghg,year,$A8,country,I$1) -> 0 | ... IB8: =SUMIFS(total_ghg,year,$A8,country,IB$1) -> 0 | IC8: =SUM(C8:IA8) -> 41351.03
A9: 1997 | B9: =SUMIFS(total_ghg,year,$A9,country,B$1) -> 35715 | C9: =SUMIFS(total_ghg,year,$A9,country,C$1) -> 11.83 | D9: =SUMIFS(total_ghg,year,$A9,country,D$1) -> 6.59 | E9: =SUMIFS(total_ghg,year,$A9,country,E$1) -> 147.08 | F9: =SUMIFS(total_ghg,year,$A9,country,F$1) -> 0.51 | G9: =SUMIFS(total_ghg,year,$A9,country,G$1) -> 80.81 | H9: =SUMIFS(total_ghg,year,$A9,country,H$1) -> 0 | I9: =SUMIFS(total_ghg,year,$A9,country,I$1) -> 0 | ... IB9: =SUMIFS(total_ghg,year,$A9,country,IB$1) -> 0 | IC9: =SUM(C9:IA9) -> 42441.45
A10: 1998 | B10: =SUMIFS(total_ghg,year,$A10,country,B$1) -> 35261.238 | C10: =SUMIFS(total_ghg,year,$A10,country,C$1) -> 12.68 | D10: =SUMIFS(total_ghg,year,$A10,country,D$1) -> 6.82 | E10: =SUMIFS(total_ghg,year,$A10,country,E$1) -> 148.96 | F10: =SUMIFS(total_ghg,year,$A10,country,F$1) -> 0.54 | G10: =SUMIFS(total_ghg,year,$A10,country,G$1) -> 90.24 | H10: =SUMIFS(total_ghg,year,$A10,country,H$1) -> 0 | I10: =SUMIFS(total_ghg,year,$A10,country,I$1) -> 0 | ... IB10: =SUMIFS(total_ghg,year,$A10,country,IB$1) -> 0 | IC10: =SUM(C10:IA10) -> 41905.49
A11: 1999 | B11: =SUMIFS(total_ghg,year,$A11,country,B$1) -> 35264.629 | C11: =SUMIFS(total_ghg,year,$A11,country,C$1) -> 13.59 | D11: =SUMIFS(total_ghg,year,$A11,country,D$1) -> 8.03 | E11: =SUMIFS(total_ghg,year,$A11,country,E$1) -> 153.25 | F11: =SUMIFS(total_ghg,year,$A11,country,F$1) -> 0.57 | G11: =SUMIFS(total_ghg,year,$A11,country,G$1) -> 87.8 | H11: =SUMIFS(total_ghg,year,$A11,country,H$1) -> 0 | I11: =SUMIFS(total_ghg,year,$A11,country,I$1) -> 0 | ... IB11: =SUMIFS(total_ghg,year,$A11,country,IB$1) -> 0 | IC11: =SUM(C11:IA11) -> 41808.31
A12: 2000 | B12: =SUMIFS(total_ghg,year,$A12,country,B$1) -> 35994.91 | C12: =SUMIFS(total_ghg,year,$A12,country,C$1) -> 11.82 | D12: =SUMIFS(total_ghg,year,$A12,country,D$1) -> 8.42 | E12: =SUMIFS(total_ghg,year,$A12,country,E$1) -> 162.77 | F12: =SUMIFS(total_ghg,year,$A12,country,F$1) -> 0.59 | G12: =SUMIFS(total_ghg,year,$A12,country,G$1) -> 81.57 | H12: =SUMIFS(total_ghg,year,$A12,country,H$1) -> 0 | I12: =SUMIFS(total_ghg,year,$A12,country,I$1) -> 0 | ... IB12: =SUMIFS(total_ghg,year,$A12,country,IB$1) -> 0 | IC12: =SUM(C12:IA12) -> 42553.84
A13: 2001 | B13: =SUMIFS(total_ghg,year,$A13,country,B$1) -> 36066.809 | C13: =SUMIFS(total_ghg,year,$A13,country,C$1) -> 12.73 | D13: =SUMIFS(total_ghg,year,$A13,country,D$1) -> 7 | E13: =SUMIFS(total_ghg,year,$A13,country,E$1) -> 156.77 | F13: =SUMIFS(total_ghg,year,$A13,country,F$1) -> 0.59 | G13: =SUMIFS(total_ghg,year,$A13,country,G$1) -> 104 | H13: =SUMIFS(total_ghg,year,$A13,country,H$1) -> 0 | I13: =SUMIFS(total_ghg,year,$A13,country,I$1) -> 0 | ... IB13: =SUMIFS(total_ghg,year,$A13,country,IB$1) -> 0 | IC13: =SUM(C13:IA13) -> 42277.71
... A34: 2022 | B34: =SUMIFS(total_ghg,year,$A34,country,B$1) -> 0 | C34: =SUMIFS(total_ghg,year,$A34,country,C$1) -> 0 | D34: =SUMIFS(total_ghg,year,$A34,country,D$1) -> 0 | E34: =SUMIFS(total_ghg,year,$A34,country,E$1) -> 0 | F34: =SUMIFS(total_ghg,year,$A34,country,F$1) -> 0 | G34: =SUMIFS(total_ghg,year,$A34,country,G$1) -> 0 | H34: =SUMIFS(total_ghg,year,$A34,country,H$1) -> 0 | I34: =SUMIFS(total_ghg,year,$A34,country,I$1) -> 0 | ... IB34: =SUMIFS(total_ghg,year,$A34,country,IB$1) -> 0 | IC34: =SUM(C34:IA34) -> 0

Sheet CO2
A1: Year | B1: World | C1: Afghanistan | D1: Albania | E1: Algeria | F1: Andorra | G1: Angola | H1: Anguilla | I1: Antarctica | J1: Antigua and Barbuda | K1: Argentina | L1: Armenia | M1: Aruba | N1: Australia | O1: Austria | P1: Azerbaijan | Q1: Bahamas | R1: Bahrain | S1: Bangladesh | T1: Barbados | U1: Belarus | V1: Belgium | W1: Belize | X1: Benin | Y1: Bermuda | Z1: Bhutan | AA1: Bolivia | AB1: Bonaire Sint Eustatius and Saba | AC1: Bosnia and Herzegovina | AD1: Botswana | AE1: Brazil | AF1: British Virgin Islands | AG1: Brunei | AH1: Bulgaria | AI1: Burkina Faso | AJ1: Burundi | AK1: Cambodia | AL1: Cameroon | AM1: Canada | AN1: Cape Verde | AO1: Central African Republic | AP1: Chad | AQ1: Chile | AR1: China | AS1: Christmas Island | AT1: Colombia | AU1: Comoros | AV1: Congo | AW1: Cook Islands | AX1: Costa Rica | AY1: Cote d'Ivoire | AZ1: Croatia | BA1: Cuba | BB1: Curacao | BC1: Cyprus | BD1: Czechia | BE1: Democratic Republic of Congo | BF1: Denmark | BG1: Djibouti | BH1: Dominica | BI1: Dominican Republic | BJ1: Ecuador | BK1: Egypt | BL1: El Salvador | BM1: Equatorial Guinea | BN1: Eritrea | BO1: Estonia | BP1: Eswatini | BQ1: Ethiopia | BR1: Europe | BS1: Europe (excl. EU-27) | BT1: Europe (excl. EU-28) | BU1: Faeroe Islands | BV1: Fiji | BW1: Finland | BX1: France | BY1: French Equatorial Africa | BZ1: French Guiana | CA1: French Polynesia | CB1: French West Africa | CC1: Gabon | CD1: Gambia | CE1: Georgia | CF1: Germany | CG1: Ghana | CH1: Greece | CI1: Greenland | CJ1: Grenada | CK1: Guadeloupe | CL1: Guatemala | CM1: Guinea | CN1: Guinea-Bissau | CO1: Guyana | CP1: Haiti | CQ1: Honduras | CR1: Hong Kong | CS1: Hungary | CT1: Iceland | CU1: India | CV1: Indonesia | CW1: Iran | CX1: Iraq | CY1: Ireland | CZ1: Israel | DA1: Italy | DB1: Jamaica | DC1: Japan | DD1: Jordan | DE1: Kazakhstan | DF1: Kenya | DG1: Kiribati | DH1: Kosovo | DI1: Kuwait | DJ1: Kuwaiti Oil Fires | DK1: Kyrgyzstan | DL1: Laos | DM1: Latvia | DN1: Lebanon | DO1: Leeward Islands | DP1: Lesotho | DQ1: Liberia | DR1: Libya | DS1: Liechtenstein | DT1: Lithuania | DU1: Luxembourg | DV1: Macao | DW1: Madagascar | DX1: Malawi | DY1: Malaysia | DZ1: Maldives | EA1: Mali | EB1: Malta | EC1: Marshall Islands | ED1: Martinique | EE1: Mauritania | EF1: Mauritius | EG1: Mayotte | EH1: Mexico | EI1: Micronesia (country) | EJ1: Moldova | EK1: Mongolia | EL1: Montenegro | EM1: Montserrat | EN1: Morocco | EO1: Mozambique | EP1: Myanmar | EQ1: Namibia | ER1: Nauru | ES1: Nepal | ET1: Netherlands | EU1: New Caledonia | EV1: New Zealand | EW1: Nicaragua | EX1: Niger | EY1: Nigeria | EZ1: Niue | FA1: North Korea | FB1: North Macedonia | FC1: Norway | FD1: Oceania | FE1: Oman | FF1: Pakistan | FG1: Palau | FH1: Palestine | FI1: Panama | FJ1: Panama Canal Zone | FK1: Papua New Guinea | FL1: Paraguay | FM1: Peru | FN1: Philippines | FO1: Poland | FP1: Portugal | FQ1: Puerto Rico | FR1: Qatar | FS1: Reunion | FT1: Romania | FU1: Russia | FV1: Rwanda | FW1: Ryukyu Islands | FX1: Saint Helena | FY1: Saint Kitts and Nevis | FZ1: Saint Lucia | GA1: Saint Pierre and Miquelon | GB1: Saint Vincent and the Grenadines | GC1: Samoa | GD1: Sao Tome and Principe | GE1: Saudi Arabia | GF1: Senegal | GG1: Serbia | GH1: Seychelles | GI1: Sierra Leone | GJ1: Singapore | GK1: Sint Maarten (Dutch part) | GL1: Slovakia | GM1: Slovenia | GN1: Solomon Islands | GO1: Somalia | GP1: South Africa | GQ1: South Korea | GR1: South Sudan | GS1: Spain | GT1: Sri Lanka | GU1: St. Kitts-Nevis-Anguilla | GV1: Sudan | GW1: Suriname | GX1: Sweden | GY1: Switzerland | GZ1: Syria | HA1: Taiwan | HB1: Tajikistan | HC1: Tanzania | HD1: Thailand | HE1: Timor | HF1: Togo | HG1: Tonga | HH1: Trinidad and Tobago | HI1: Tunisia | HJ1: Turkey | HK1: Turkmenistan | HL1: Turks and Caicos Islands | HM1: Tuvalu | HN1: Uganda | HO1: Ukraine | HP1: United Arab Emirates | HQ1: United Kingdom | HR1: United States | HS1: Uruguay | HT1: Uzbekistan | HU1: Vanuatu | HV1: Venezuela | HW1: Vietnam | HX1: Wallis and Futuna | HY1: Yemen | HZ1: Zambia | IA1: Zimbabwe | IB1: International transport | IC1: Total
A2: 1990 | B2: =SUMIFS(co2_mass,year,$A2,country,B$1) -> 22752.701 | C2: =SUMIFS(co2_mass,year,$A2,country,C$1) -> 2.024 | D2: =SUMIFS(co2_mass,year,$A2,country,D$1) -> 5.521 | E2: =SUMIFS(co2_mass,year,$A2,country,E$1) -> 76.738 | F2: =SUMIFS(co2_mass,year,$A2,country,F$1) -> 0.407 | G2: =SUMIFS(co2_mass,year,$A2,country,G$1) -> 5.09 | H2: =SUMIFS(co2_mass,year,$A2,country,H$1) -> 0.048 | I2: =SUMIFS(co2_mass,year,$A2,country,I$1) -> 0.011 | ... IB2: =SUMIFS(co2_mass,year,$A2,country,IB$1) -> 0 | IC2: =SUM(C2:IA2) -> 38285.144
A3: 1991 | B3: =SUMIFS(co2_mass,year,$A3,country,B$1) -> 23229.475 | C3: =SUMIFS(co2_mass,year,$A3,country,C$1) -> 1.914 | D3: =SUMIFS(co2_mass,year,$A3,country,D$1) -> 4.29 | E3: =SUMIFS(co2_mass,year,$A3,country,E$1) -> 78.807 | F3: =SUMIFS(co2_mass,year,$A3,country,F$1) -> 0.407 | G3: =SUMIFS(co2_mass,year,$A3,country,G$1) -> 5.064 | H3: =SUMIFS(co2_mass,year,$A3,country,H$1) -> 0.048 | I3: =SUMIFS(co2_mass,year,$A3,country,I$1) -> 0.015 | ... IB3: =SUMIFS(co2_mass,year,$A3,country,IB$1) -> 0 | IC3: =SUM(C3:IA3) -> 37993.619
A4: 1992 | B4: =SUMIFS(co2_mass,year,$A4,country,B$1) -> 22567.199 | C4: =SUMIFS(co2_mass,year,$A4,country,C$1) -> 1.482 | D4: =SUMIFS(co2_mass,year,$A4,country,D$1) -> 2.517 | E4: =SUMIFS(co2_mass,year,$A4,country,E$1) -> 79.883 | F4: =SUMIFS(co2_mass,year,$A4,country,F$1) -> 0.407 | G4: =SUMIFS(co2_mass,year,$A4,country,G$1) -> 5.164 | H4: =SUMIFS(co2_mass,year,$A4,country,H$1) -> 0.048 | I4: =SUMIFS(co2_mass,year,$A4,country,I$1) -> 0.015 | ... IB4: =SUMIFS(co2_mass,year,$A4,country,IB$1) -> 0 | IC4: =SUM(C4:IA4) -> 35672.829
A5: 1993 | B5: =SUMIFS(co2_mass,year,$A5,country,B$1) -> 22798.35 | C5: =SUMIFS(co2_mass,year,$A5,country,C$1) -> 1.487 | D5: =SUMIFS(co2_mass,year,$A5,country,D$1) -> 2.338 | E5: =SUMIFS(co2_mass,year,$A5,country,E$1) -> 81.944 | F5: =SUMIFS(co2_mass,year,$A5,country,F$1) -> 0.41 | G5: =SUMIFS(co2_mass,year,$A5,country,G$1) -> 5.748 | H5: =SUMIFS(co2_mass,year,$A5,country,H$1) -> 0.055 | I5: =SUMIFS(co2_mass,year,$A5,country,I$1) -> 0.015 | ... IB5: =SUMIFS(co2_mass,year,$A5,country,IB$1) -> 0 | IC5: =SUM(C5:IA5) -> 35187.205
A6: 1994 | B6: =SUMIFS(co2_mass,year,$A6,country,B$1) -> 23034.775 | C6: =SUMIFS(co2_mass,year,$A6,country,C$1) -> 1.454 | D6: =SUMIFS(co2_mass,year,$A6,country,D$1) -> 1.924 | E6: =SUMIFS(co2_mass,year,$A6,country,E$1) -> 88.608 | F6: =SUMIFS(co2_mass,year,$A6,country,F$1) -> 0.407 | G6: =SUMIFS(co2_mass,year,$A6,country,G$1) -> 11.353 | H6: =SUMIFS(co2_mass,year,$A6,country,H$1) -> 0.055 | I6: =SUMIFS(co2_mass,year,$A6,country,I$1) -> 0.015 | ... IB6: =SUMIFS(co2_mass,year,$A6,country,IB$1) -> 0 | IC6: =SUM(C6:IA6) -> 34364.297
A7: 1995 | B7: =SUMIFS(co2_mass,year,$A7,country,B$1) -> 23524.49 | C7: =SUMIFS(co2_mass,year,$A7,country,C$1) -> 1.417 | D7: =SUMIFS(co2_mass,year,$A7,country,D$1) -> 2.089 | E7: =SUMIFS(co2_mass,year,$A7,country,E$1) -> 96.777 | F7: =SUMIFS(co2_mass,year,$A7,country,F$1) -> 0.425 | G7: =SUMIFS(co2_mass,year,$A7,country,G$1) -> 12.617 | H7: =SUMIFS(co2_mass,year,$A7,country,H$1) -> 0.059 | I7: =SUMIFS(co2_mass,year,$A7,country,I$1) -> 0.004 | ... IB7: =SUMIFS(co2_mass,year,$A7,country,IB$1) -> 0 | IC7: =SUM(C7:IA7) -> 34679.088
A8: 1996 | B8: =SUMIFS(co2_mass,year,$A8,country,B$1) -> 24250.16 | C8: =SUMIFS(co2_mass,year,$A8,country,C$1) -> 1.37 | D8: =SUMIFS(co2_mass,year,$A8,country,D$1) -> 2.018 | E8: =SUMIFS(co2_mass,year,$A8,country,E$1) -> 100.039 | F8: =SUMIFS(co2_mass,year,$A8,country,F$1) -> 0.454 | G8: =SUMIFS(co2_mass,year,$A8,country,G$1) -> 15.249 | H8: =SUMIFS(co2_mass,year,$A8,country,H$1) -> 0.062 | I8: =SUMIFS(co2_mass,year,$A8,country,I$1) -> 0.004 | ... IB8: =SUMIFS(co2_mass,year,$A8,country,IB$1) -> 0 | IC8: =SUM(C8:IA8) -> 35316.826
A9: 1997 | B9: =SUMIFS(co2_mass,year,$A9,country,B$1) -> 24395.951 | C9: =SUMIFS(co2_mass,year,$A9,country,C$1) -> 1.304 | D9: =SUMIFS(co2_mass,year,$A9,country,D$1) -> 1.543 | E9: =SUMIFS(co2_mass,year,$A9,country,E$1) -> 88.369 | F9: =SUMIFS(co2_mass,year,$A9,country,F$1) -> 0.465 | G9: =SUMIFS(co2_mass,year,$A9,country,G$1) -> 15.884 | H9: =SUMIFS(co2_mass,year,$A9,country,H$1) -> 0.062 | I9: =SUMIFS(co2_mass,year,$A9,country,I$1) -> 0.004 | ... IB9: =SUMIFS(co2_mass,year,$A9,country,IB$1) -> 0 | IC9: =SUM(C9:IA9) -> 34979.047
A10: 1998 | B10: =SUMIFS(co2_mass,year,$A10,country,B$1) -> 24330.945 | C10: =SUMIFS(co2_mass,year,$A10,country,C$1) -> 1.279 | D10: =SUMIFS(co2_mass,year,$A10,country,D$1) -> 1.755 | E10: =SUMIFS(co2_mass,year,$A10,country,E$1) -> 106.537 | F10: =SUMIFS(co2_mass,year,$A10,country,F$1) -> 0.491 | G10: =SUMIFS(co2_mass,year,$A10,country,G$1) -> 16.513 | H10: =SUMIFS(co2_mass,year,$A10,country,H$1) -> 0.066 | I10: =SUMIFS(co2_mass,year,$A10,country,I$1) -> 0.004 | ... IB10: =SUMIFS(co2_mass,year,$A10,country,IB$1) -> 0 | IC10: =SUM(C10:IA10) -> 34817.571
A11: 1999 | B11: =SUMIFS(co2_mass,year,$A11,country,B$1) -> 24833.494 | C11: =SUMIFS(co2_mass,year,$A11,country,C$1) -> 1.092 | D11: =SUMIFS(co2_mass,year,$A11,country,D$1) -> 2.986 | E11: =SUMIFS(co2_mass,year,$A11,country,E$1) -> 91.449 | F11: =SUMIFS(co2_mass,year,$A11,country,F$1) -> 0.513 | G11: =SUMIFS(co2_mass,year,$A11,country,G$1) -> 17.261 | H11: =SUMIFS(co2_mass,year,$A11,country,H$1) -> 0.066 | I11: =SUMIFS(co2_mass,year,$A11,country,I$1) -> 0.004 | ... IB11: =SUMIFS(co2_mass,year,$A11,country,IB$1) -> 0 | IC11: =SUM(C11:IA11) -> 35172.064
A12: 2000 | B12: =SUMIFS(co2_mass,year,$A12,country,B$1) -> 25501.287 | C12: =SUMIFS(co2_mass,year,$A12,country,C$1) -> 1.047 | D12: =SUMIFS(co2_mass,year,$A12,country,D$1) -> 3.025 | E12: =SUMIFS(co2_mass,year,$A12,country,E$1) -> 85.399 | F12: =SUMIFS(co2_mass,year,$A12,country,F$1) -> 0.524 | G12: =SUMIFS(co2_mass,year,$A12,country,G$1) -> 15.995 | H12: =SUMIFS(co2_mass,year,$A12,country,H$1) -> 0.077 | I12: =SUMIFS(co2_mass,year,$A12,country,I$1) -> 0.004 | ... IB12: =SUMIFS(co2_mass,year,$A12,country,IB$1) -> 0 | IC12: =SUM(C12:IA12) -> 35800.605
A13: 2001 | B13: =SUMIFS(co2_mass,year,$A13,country,B$1) -> 25674.93 | C13: =SUMIFS(co2_mass,year,$A13,country,C$1) -> 1.069 | D13: =SUMIFS(co2_mass,year,$A13,country,D$1) -> 3.221 | E13: =SUMIFS(co2_mass,year,$A13,country,E$1) -> 86.839 | F13: =SUMIFS(co2_mass,year,$A13,country,F$1) -> 0.524 | G13: =SUMIFS(co2_mass,year,$A13,country,G$1) -> 15.908 | H13: =SUMIFS(co2_mass,year,$A13,country,H$1) -> 0.084 | I13: =SUMIFS(co2_mass,year,$A13,country,I$1) -> 0.004 | ... IB13: =SUMIFS(co2_mass,year,$A13,country,IB$1) -> 0 | IC13: =SUM(C13:IA13) -> 36247.651
... A34: 2022 | B34: =SUMIFS(co2_mass,year,$A34,country,B$1) -> 37149.785 | C34: =SUMIFS(co2_mass,year,$A34,country,C$1) -> 12.148 | D34: =SUMIFS(co2_mass,year,$A34,country,D$1) -> 4.955 | E34: =SUMIFS(co2_mass,year,$A34,country,E$1) -> 176.345 | F34: =SUMIFS(co2_mass,year,$A34,country,F$1) -> 0.369 | G34: =SUMIFS(co2_mass,year,$A34,country,G$1) -> 16.07 | H34: =SUMIFS(co2_mass,year,$A34,country,H$1) -> 0.139 | I34: =SUMIFS(co2_mass,year,$A34,country,I$1) -> 0 | ... IB34: =SUMIFS(co2_mass,year,$A34,country,IB$1) -> 0 | IC34: =SUM(C34:IA34) -> 46013.553

Sheet Methane
A1: Year | B1: World | C1: Afghanistan | D1: Albania | E1: Algeria | F1: Andorra | G1: Angola | H1: Anguilla | I1: Antarctica | J1: Antigua and Barbuda | K1: Argentina | L1: Armenia | M1: Aruba | N1: Australia | O1: Austria | P1: Azerbaijan | Q1: Bahamas | R1: Bahrain | S1: Bangladesh | T1: Barbados | U1: Belarus | V1: Belgium | W1: Belize | X1: Benin | Y1: Bermuda | Z1: Bhutan | AA1: Bolivia | AB1: Bonaire Sint Eustatius and Saba | AC1: Bosnia and Herzegovina | AD1: Botswana | AE1: Brazil | AF1: British Virgin Islands | AG1: Brunei | AH1: Bulgaria | AI1: Burkina Faso | AJ1: Burundi | AK1: Cambodia | AL1: Cameroon | AM1: Canada | AN1: Cape Verde | AO1: Central African Republic | AP1: Chad | AQ1: Chile | AR1: China | AS1: Christmas Island | AT1: Colombia | AU1: Comoros | AV1: Congo | AW1: Cook Islands | AX1: Costa Rica | AY1: Cote d'Ivoire | AZ1: Croatia | BA1: Cuba | BB1: Curacao | BC1: Cyprus | BD1: Czechia | BE1: Democratic Republic of Congo | BF1: Denmark | BG1: Djibouti | BH1: Dominica | BI1: Dominican Republic | BJ1: Ecuador | BK1: Egypt | BL1: El Salvador | BM1: Equatorial Guinea | BN1: Eritrea | BO1: Estonia | BP1: Eswatini | BQ1: Ethiopia | BR1: Europe | BS1: Europe (excl. EU-27) | BT1: Europe (excl. EU-28) | BU1: Faeroe Islands | BV1: Fiji | BW1: Finland | BX1: France | BY1: French Equatorial Africa | BZ1: French Guiana | CA1: French Polynesia | CB1: French West Africa | CC1: Gabon | CD1: Gambia | CE1: Georgia | CF1: Germany | CG1: Ghana | CH1: Greece | CI1: Greenland | CJ1: Grenada | CK1: Guadeloupe | CL1: Guatemala | CM1: Guinea | CN1: Guinea-Bissau | CO1: Guyana | CP1: Haiti | CQ1: Honduras | CR1: Hong Kong | CS1: Hungary | CT1: Iceland | CU1: India | CV1: Indonesia | CW1: Iran | CX1: Iraq | CY1: Ireland | CZ1: Israel | DA1: Italy | DB1: Jamaica | DC1: Japan | DD1: Jordan | DE1: Kazakhstan | DF1: Kenya | DG1: Kiribati | DH1: Kosovo | DI1: Kuwait | DJ1: Kuwaiti Oil Fires | DK1: Kyrgyzstan | DL1: Laos | DM1: Latvia | DN1: Lebanon | DO1: Leeward Islands | DP1: Lesotho | DQ1: Liberia | DR1: Libya | DS1: Liechtenstein | DT1: Lithuania | DU1: Luxembourg | DV1: Macao | DW1: Madagascar | DX1: Malawi | DY1: Malaysia | DZ1: Maldives | EA1: Mali | EB1: Malta | EC1: Marshall Islands | ED1: Martinique | EE1: Mauritania | EF1: Mauritius | EG1: Mayotte | EH1: Mexico | EI1: Micronesia (country) | EJ1: Moldova | EK1: Mongolia | EL1: Montenegro | EM1: Montserrat | EN1: Morocco | EO1: Mozambique | EP1: Myanmar | EQ1: Namibia | ER1: Nauru | ES1: Nepal | ET1: Netherlands | EU1: New Caledonia | EV1: New Zealand | EW1: Nicaragua | EX1: Niger | EY1: Nigeria | EZ1: Niue | FA1: North Korea | FB1: North Macedonia | FC1: Norway | FD1: Oceania | FE1: Oman | FF1: Pakistan | FG1: Palau | FH1: Palestine | FI1: Panama | FJ1: Panama Canal Zone | FK1: Papua New Guinea | FL1: Paraguay | FM1: Peru | FN1: Philippines | FO1: Poland | FP1: Portugal | FQ1: Puerto Rico | FR1: Qatar | FS1: Reunion | FT1: Romania | FU1: Russia | FV1: Rwanda | FW1: Ryukyu Islands | FX1: Saint Helena | FY1: Saint Kitts and Nevis | FZ1: Saint Lucia | GA1: Saint Pierre and Miquelon | GB1: Saint Vincent and the Grenadines | GC1: Samoa | GD1: Sao Tome and Principe | GE1: Saudi Arabia | GF1: Senegal | GG1: Serbia | GH1: Seychelles | GI1: Sierra Leone | GJ1: Singapore | GK1: Sint Maarten (Dutch part) | GL1: Slovakia | GM1: Slovenia | GN1: Solomon Islands | GO1: Somalia | GP1: South Africa | GQ1: South Korea | GR1: South Sudan | GS1: Spain | GT1: Sri Lanka | GU1: St. Kitts-Nevis-Anguilla | GV1: Sudan | GW1: Suriname | GX1: Sweden | GY1: Switzerland | GZ1: Syria | HA1: Taiwan | HB1: Tajikistan | HC1: Tanzania | HD1: Thailand | HE1: Timor | HF1: Togo | HG1: Tonga | HH1: Trinidad and Tobago | HI1: Tunisia | HJ1: Turkey | HK1: Turkmenistan | HL1: Turks and Caicos Islands | HM1: Tuvalu | HN1: Uganda | HO1: Ukraine | HP1: United Arab Emirates | HQ1: United Kingdom | HR1: United States | HS1: Uruguay | HT1: Uzbekistan | HU1: Vanuatu | HV1: Venezuela | HW1: Vietnam | HX1: Wallis and Futuna | HY1: Yemen | HZ1: Zambia | IA1: Zimbabwe | IB1: International transport | IC1: Total
A2: 1990 | B2: =SUMIFS(methane,year,$A2,country,B$1) -> 6936.68 | C2: =SUMIFS(methane,year,$A2,country,C$1) -> 6.74 | D2: =SUMIFS(methane,year,$A2,country,D$1) -> 3.55 | E2: =SUMIFS(methane,year,$A2,country,E$1) -> 54.18 | F2: =SUMIFS(methane,year,$A2,country,F$1) -> 0.02 | G2: =SUMIFS(methane,year,$A2,country,G$1) -> 29.39 | H2: =SUMIFS(methane,year,$A2,country,H$1) -> 0 | I2: =SUMIFS(methane,year,$A2,country,I$1) -> 0 | ... IB2: =SUMIFS(methane,year,$A2,country,IB$1) -> 0 | IC2: =SUM(C2:IA2) -> 8431.52
A3: 1991 | B3: =SUMIFS(methane,year,$A3,country,B$1) -> 6972.61 | C3: =SUMIFS(methane,year,$A3,country,C$1) -> 7.02 | D3: =SUMIFS(methane,year,$A3,country,D$1) -> 3.5 | E3: =SUMIFS(methane,year,$A3,country,E$1) -> 54.57 | F3: =SUMIFS(methane,year,$A3,country,F$1) -> 0.02 | G3: =SUMIFS(methane,year,$A3,country,G$1) -> 29.67 | H3: =SUMIFS(methane,year,$A3,country,H$1) -> 0 | I3: =SUMIFS(methane,year,$A3,country,I$1) -> 0 | ... IB3: =SUMIFS(methane,year,$A3,country,IB$1) -> 0 | IC3: =SUM(C3:IA3) -> 8433.88
A4: 1992 | B4: =SUMIFS(methane,year,$A4,country,B$1) -> 6932.75 | C4: =SUMIFS(methane,year,$A4,country,C$1) -> 7.12 | D4: =SUMIFS(methane,year,$A4,country,D$1) -> 3.41 | E4: =SUMIFS(methane,year,$A4,country,E$1) -> 54.83 | F4: =SUMIFS(methane,year,$A4,country,F$1) -> 0.02 | G4: =SUMIFS(methane,year,$A4,country,G$1) -> 30.24 | H4: =SUMIFS(methane,year,$A4,country,H$1) -> 0 | I4: =SUMIFS(methane,year,$A4,country,I$1) -> 0 | ... IB4: =SUMIFS(methane,year,$A4,country,IB$1) -> 0 | IC4: =SUM(C4:IA4) -> 8333.48
A5: 1993 | B5: =SUMIFS(methane,year,$A5,country,B$1) -> 6958.63 | C5: =SUMIFS(methane,year,$A5,country,C$1) -> 7.21 | D5: =SUMIFS(methane,year,$A5,country,D$1) -> 3.49 | E5: =SUMIFS(methane,year,$A5,country,E$1) -> 57.95 | F5: =SUMIFS(methane,year,$A5,country,F$1) -> 0.03 | G5: =SUMIFS(methane,year,$A5,country,G$1) -> 30.83 | H5: =SUMIFS(methane,year,$A5,country,H$1) -> 0 | I5: =SUMIFS(methane,year,$A5,country,I$1) -> 0 | ... IB5: =SUMIFS(methane,year,$A5,country,IB$1) -> 0 | IC5: =SUM(C5:IA5) -> 8330.93
A6: 1994 | B6: =SUMIFS(methane,year,$A6,country,B$1) -> 6996.12 | C6: =SUMIFS(methane,year,$A6,country,C$1) -> 7.46 | D6: =SUMIFS(methane,year,$A6,country,D$1) -> 4.08 | E6: =SUMIFS(methane,year,$A6,country,E$1) -> 59.21 | F6: =SUMIFS(methane,year,$A6,country,F$1) -> 0.03 | G6: =SUMIFS(methane,year,$A6,country,G$1) -> 31.79 | H6: =SUMIFS(methane,year,$A6,country,H$1) -> 0 | I6: =SUMIFS(methane,year,$A6,country,I$1) -> 0 | ... IB6: =SUMIFS(methane,year,$A6,country,IB$1) -> 0 | IC6: =SUM(C6:IA6) -> 8344.3
A7: 1995 | B7: =SUMIFS(methane,year,$A7,country,B$1) -> 7080.75 | C7: =SUMIFS(methane,year,$A7,country,C$1) -> 7.83 | D7: =SUMIFS(methane,year,$A7,country,D$1) -> 4.08 | E7: =SUMIFS(methane,year,$A7,country,E$1) -> 62.91 | F7: =SUMIFS(methane,year,$A7,country,F$1) -> 0.03 | G7: =SUMIFS(methane,year,$A7,country,G$1) -> 33.53 | H7: =SUMIFS(methane,year,$A7,country,H$1) -> 0 | I7: =SUMIFS(methane,year,$A7,country,I$1) -> 0 | ... IB7: =SUMIFS(methane,year,$A7,country,IB$1) -> 0 | IC7: =SUM(C7:IA7) -> 8401.74
A8: 1996 | B8: =SUMIFS(methane,year,$A8,country,B$1) -> 7097.47 | C8: =SUMIFS(methane,year,$A8,country,C$1) -> 8.67 | D8: =SUMIFS(methane,year,$A8,country,D$1) -> 3.92 | E8: =SUMIFS(methane,year,$A8,country,E$1) -> 66.55 | F8: =SUMIFS(methane,year,$A8,country,F$1) -> 0.03 | G8: =SUMIFS(methane,year,$A8,country,G$1) -> 37.97 | H8: =SUMIFS(methane,year,$A8,country,H$1) -> 0 | I8: =SUMIFS(methane,year,$A8,country,I$1) -> 0 | ... IB8: =SUMIFS(methane,year,$A8,country,IB$1) -> 0 | IC8: =SUM(C8:IA8) -> 8410.45
A9: 1997 | B9: =SUMIFS(methane,year,$A9,country,B$1) -> 7328.28 | C9: =SUMIFS(methane,year,$A9,country,C$1) -> 9.4 | D9: =SUMIFS(methane,year,$A9,country,D$1) -> 3.72 | E9: =SUMIFS(methane,year,$A9,country,E$1) -> 67.57 | F9: =SUMIFS(methane,year,$A9,country,F$1) -> 0.03 | G9: =SUMIFS(methane,year,$A9,country,G$1) -> 37.04 | H9: =SUMIFS(methane,year,$A9,country,H$1) -> 0 | I9: =SUMIFS(methane,year,$A9,country,I$1) -> 0 | ... IB9: =SUMIFS(methane,year,$A9,country,IB$1) -> 0 | IC9: =SUM(C9:IA9) -> 8612.77
A10: 1998 | B10: =SUMIFS(methane,year,$A10,country,B$1) -> 7204.1 | C10: =SUMIFS(methane,year,$A10,country,C$1) -> 9.96 | D10: =SUMIFS(methane,year,$A10,country,D$1) -> 3.57 | E10: =SUMIFS(methane,year,$A10,country,E$1) -> 68.59 | F10: =SUMIFS(methane,year,$A10,country,F$1) -> 0.03 | G10: =SUMIFS(methane,year,$A10,country,G$1) -> 43.1 | H10: =SUMIFS(methane,year,$A10,country,H$1) -> 0 | I10: =SUMIFS(methane,year,$A10,country,I$1) -> 0 | ... IB10: =SUMIFS(methane,year,$A10,country,IB$1) -> 0 | IC10: =SUM(C10:IA10) -> 8475.21
A11: 1999 | B11: =SUMIFS(methane,year,$A11,country,B$1) -> 7150.24 | C11: =SUMIFS(methane,year,$A11,country,C$1) -> 10.78 | D11: =SUMIFS(methane,year,$A11,country,D$1) -> 3.62 | E11: =SUMIFS(methane,year,$A11,country,E$1) -> 70.02 | F11: =SUMIFS(methane,year,$A11,country,F$1) -> 0.03 | G11: =SUMIFS(methane,year,$A11,country,G$1) -> 41.28 | H11: =SUMIFS(methane,year,$A11,country,H$1) -> 0 | I11: =SUMIFS(methane,year,$A11,country,I$1) -> 0 | ... IB11: =SUMIFS(methane,year,$A11,country,IB$1) -> 0 | IC11: =SUM(C11:IA11) -> 8428.99
A12: 2000 | B12: =SUMIFS(methane,year,$A12,country,B$1) -> 7173.64 | C12: =SUMIFS(methane,year,$A12,country,C$1) -> 9.56 | D12: =SUMIFS(methane,year,$A12,country,D$1) -> 3.71 | E12: =SUMIFS(methane,year,$A12,country,E$1) -> 74.04 | F12: =SUMIFS(methane,year,$A12,country,F$1) -> 0.03 | G12: =SUMIFS(methane,year,$A12,country,G$1) -> 37.38 | H12: =SUMIFS(methane,year,$A12,country,H$1) -> 0 | I12: =SUMIFS(methane,year,$A12,country,I$1) -> 0 | ... IB12: =SUMIFS(methane,year,$A12,country,IB$1) -> 0 | IC12: =SUM(C12:IA12) -> 8451.82
A13: 2001 | B13: =SUMIFS(methane,year,$A13,country,B$1) -> 7129.96 | C13: =SUMIFS(methane,year,$A13,country,C$1) -> 8.35 | D13: =SUMIFS(methane,year,$A13,country,D$1) -> 3.61 | E13: =SUMIFS(methane,year,$A13,country,E$1) -> 72.15 | F13: =SUMIFS(methane,year,$A13,country,F$1) -> 0.03 | G13: =SUMIFS(methane,year,$A13,country,G$1) -> 32.44 | H13: =SUMIFS(methane,year,$A13,country,H$1) -> 0 | I13: =SUMIFS(methane,year,$A13,country,I$1) -> 0 | ... IB13: =SUMIFS(methane,year,$A13,country,IB$1) -> 0 | IC13: =SUM(C13:IA13) -> 8405.86
... A34: 2022 | B34: =SUMIFS(methane,year,$A34,country,B$1) -> 0 | C34: =SUMIFS(methane,year,$A34,country,C$1) -> 0 | D34: =SUMIFS(methane,year,$A34,country,D$1) -> 0 | E34: =SUMIFS(methane,year,$A34,country,E$1) -> 0 | F34: =SUMIFS(methane,year,$A34,country,F$1) -> 0 | G34: =SUMIFS(methane,year,$A34,country,G$1) -> 0 | H34: =SUMIFS(methane,year,$A34,country,H$1) -> 0 | I34: =SUMIFS(methane,year,$A34,country,I$1) -> 0 | ... IB34: =SUMIFS(methane,year,$A34,country,IB$1) -> 0 | IC34: =SUM(C34:IA34) -> 0

Sheet summary
A1: CO2 and Greenhouse Gas Emissions Trends based on Our World in Data (MtCO2e)
A2: https://github.com/owid/co2-data
F3: Five-Year Averages
B4: GHG | C4: CO2 | D4: GHG 1-yr Trend | E4: CO2 1-yr Trend | F4: Annual Avg. | G4: Annual Avg. | H4: GHG 3-yr Trend | I4: CO2 3-yr Trend | K4: NYS GHG | L4: NYS % of | M4: 5-Year | N4: NYS CO2 | O4: NYS % of | P4: 5-Year | Q4: 26 | R4: 30 | S4: 22 | T4: 26
A5: Year | B5: World | C5: World | D5: World | E5: World | F5: Trend GHG | G5: Trend CO2 | H5: World | I5: World | K5: UNFCCC | L5: World | N5: UNFCCC | O5: World | Q5: =SUM(Q7:Q36) -> 25 | R5: =SUM(R7:R36) -> 24 | S5: =SUM(S7:S36) -> 26 | T5: =SUM(T7:T36) -> 25
A6: 1990 | B6: =GHG!B2 -> 32661.42 | C6: ='CO2'!B2 -> 22752.701 | K6: ='NYS GHG'!M6 -> 253.50966 | L6: =K6/B6 -> 0.0077617464 | N6: ='NYS GHG'!H6 -> 252.08461 | O6: =N6/C6 -> 0.011079327
A7: 1991 | B7: =GHG!B3 -> 32835.512 | C7: ='CO2'!B3 -> 23229.475 | D7: =(B7-B6)/B6 -> 0.005330203 | E7: =(C7-C6)/C6 -> 0.020954611 | K7: ='NYS GHG'!M7 -> 249.9971 | L7: =K7/B7 -> 0.0076136197 | N7: ='NYS GHG'!H7 -> 248.53393 | O7: =N7/C7 -> 0.010699076 | Q7: =IF(D7>0,1,0) -> 1 | R7: =IF(E7>0,1,0) -> 1
A8: 1992 | B8: =GHG!B4 -> 32736.211 | C8: ='CO2'!B4 -> 22567.199 | D8: =(B8-B7)/B7 -> -0.0030241953 | E8: =(C8-C7)/C7 -> -0.028510158 | K8: ='NYS GHG'!M8 -> 256.33586 | L8: =K8/B8 -> 0.007830346 | N8: ='NYS GHG'!H8 -> 254.75701 | O8: =N8/C8 -> 0.011288818 | Q8: =IF(D8>0,1,0) -> 0 | R8: =IF(E8>0,1,0) -> 0
A9: 1993 | B9: =GHG!B5 -> 32884.18 | C9: ='CO2'!B5 -> 22798.35 | D9: =(B9-B8)/B8 -> 0.0045200405 | E9: =(C9-C8)/C8 -> 0.010242786 | K9: ='NYS GHG'!M9 -> 252.84249 | L9: =K9/B9 -> 0.0076888794 | N9: ='NYS GHG'!H9 -> 251.25106 | O9: =N9/C9 -> 0.011020581 | Q9: =IF(D9>0,1,0) -> 1 | R9: =IF(E9>0,1,0) -> 1
A10: 1994 | B10: =GHG!B6 -> 33162.738 | C10: ='CO2'!B6 -> 23034.775 | D10: =(B10-B9)/B9 -> 0.0084708817 | E10: =(C10-C9)/C9 -> 0.010370268 | K10: ='NYS GHG'!M10 -> 253.50961 | L10: =K10/B10 -> 0.0076444114 | N10: ='NYS GHG'!H10 -> 251.92883 | O10: =N10/C10 -> 0.010936891 | Q10: =IF(D10>0,1,0) -> 1 | R10: =IF(E10>0,1,0) -> 1
A11: 1995 | B11: =GHG!B7 -> 33960.871 | C11: ='CO2'!B7 -> 23524.49 | D11: =(B11-B10)/B10 -> 0.024067162 | E11: =(C11-C10)/C10 -> 0.021259813 | F11: =AVERAGE(D7:D11) -> 0.0078728185 | G11: =AVERAGE(E7:E11) -> 0.006863464 | H11: =(SUM(B9:B11)-SUM(B6:B8))/SUM(B6:B8) -> 0.018065654 | I11: =(SUM(C9:C11)-SUM(C6:C8))/SUM(C6:C8) -> 0.011790625 | K11: ='NYS GHG'!M11 -> 257.6757 | L11: =K11/B11 -> 0.0075874291 | M11: =AVERAGE(L7:L11) -> 0.0076729371 | N11: ='NYS GHG'!H11 -> 256.03917 | O11: =N11/C11 -> 0.010883941 | P11: =AVERAGE(O7:O11) -> 0.010965862 | Q11: =IF(D11>0,1,0) -> 1 | R11: =IF(E11>0,1,0) -> 1 | S11: =IF(F11>0,1,0) -> 1 | T11: =IF(G11>0,1,0) -> 1
A12: 1996 | B12: =GHG!B8 -> 34351 | C12: ='CO2'!B8 -> 24250.16 | D12: =(B12-B11)/B11 -> 0.011487603 | E12: =(C12-C11)/C11 -> 0.030847428 | F12: =AVERAGE(D8:D12) -> 0.0091042985 | G12: =AVERAGE(E8:E12) -> 0.0088420273 | H12: =(SUM(B10:B12)-SUM(B7:B9))/SUM(B7:B9) -> 0.030660488 | I12: =(SUM(C10:C12)-SUM(C7:C9))/SUM(C7:C9) -> 0.03228224 | K12: ='NYS GHG'!M12 -> 257.03934 | L12: =K12/B12 -> 0.0074827324 | M12: =AVERAGE(L8:L12) -> 0.0076467597 | N12: ='NYS GHG'!H12 -> 255.41226 | O12: =N12/C12 -> 0.010532395 | P12: =AVERAGE(O8:O12) -> 0.010932525 | Q12: =IF(D12>0,1,0) -> 1 | R12: =IF(E12>0,1,0) -> 1 | S12: =IF(F12>0,1,0) -> 1 | T12: =IF(G12>0,1,0) -> 1
A13: 1997 | B13: =GHG!B9 -> 35715 | C13: ='CO2'!B9 -> 24395.951 | D13: =(B13-B12)/B12 -> 0.039707723 | E13: =(C13-C12)/C12 -> 0.0060119603 | F13: =AVERAGE(D9:D13) -> 0.017650682 | G13: =AVERAGE(E9:E13) -> 0.015746451 | H13: =(SUM(B11:B13)-SUM(B8:B10))/SUM(B8:B10) -> 0.053083376 | I13: =(SUM(C11:C13)-SUM(C8:C10))/SUM(C8:C10) -> 0.055120748 | K13: ='NYS GHG'!M13 -> 261.64461 | L13: =K13/B13 -> 0.0073259027 | M13: =AVERAGE(L9:L13) -> 0.007545871 | N13: ='NYS GHG'!H13 -> 259.95812 | O13: =N13/C13 -> 0.01065579 | P13: =AVERAGE(O9:O13) -> 0.01080592 | Q13: =IF(D13>0,1,0) -> 1 | R13: =IF(E13>0,1,0) -> 1 | S13: =IF(F13>0,1,0) -> 1 | T13: =IF(G13>0,1,0) -> 1
A14: 1998 | B14: =GHG!B10 -> 35261.238 | C14: ='CO2'!B10 -> 24330.945 | D14: =(B14-B13)/B13 -> -0.012705082 | E14: =(C14-C13)/C13 -> -0.0026646225 | F14: =AVERAGE(D10:D14) -> 0.014205658 | G14: =AVERAGE(E10:E14) -> 0.013164969 | H14: =(SUM(B12:B14)-SUM(B9:B11))/SUM(B9:B11) -> 0.053190347 | I14: =(SUM(C12:C14)-SUM(C9:C11))/SUM(C9:C11) -> 0.0521852 | K14: ='NYS GHG'!M14 -> 260.75095 | L14: =K14/B14 -> 0.0073948326 | M14: =AVERAGE(L10:L14) -> 0.0074870616 | N14: ='NYS GHG'!H14 -> 259.09721 | O14: =N14/C14 -> 0.010648876 | P14: =AVERAGE(O10:O14) -> 0.010731579 | Q14: =IF(D14>0,1,0) -> 0 | R14: =IF(E14>0,1,0) -> 0 | S14: =IF(F14>0,1,0) -> 1 | T14: =IF(G14>0,1,0) -> 1
A15: 1999 | B15: =GHG!B11 -> 35264.629 | C15: ='CO2'!B11 -> 24833.494 | D15: =(B15-B14)/B14 -> 9.6167922e-05 | E15: =(C15-C14)/C14 -> 0.020654726 | F15: =AVERAGE(D11:D15) -> 0.012530715 | G15: =AVERAGE(E11:E15) -> 0.015221861 | H15: =(SUM(B13:B15)-SUM(B10:B12))/SUM(B10:B12) -> 0.046969957 | I15: =(SUM(C13:C15)-SUM(C10:C12))/SUM(C10:C12) -> 0.038850266 | K15: ='NYS GHG'!M15 -> 268.28962 | L15: =K15/B15 -> 0.0076078958 | M15: =AVERAGE(L11:L15) -> 0.0074797585 | N15: ='NYS GHG'!H15 -> 266.60094 | O15: =N15/C15 -> 0.010735539 | P15: =AVERAGE(O11:O15) -> 0.010691308 | Q15: =IF(D15>0,1,0) -> 1 | R15: =IF(E15>0,1,0) -> 1 | S15: =IF(F15>0,1,0) -> 1 | T15: =IF(G15>0,1,0) -> 1
A16: 2000 | B16: =GHG!B12 -> 35994.91 | C16: ='CO2'!B12 -> 25501.287 | D16: =(B16-B15)/B15 -> 0.020708597 | E16: =(C16-C15)/C15 -> 0.026890819 | F16: =AVERAGE(D12:D16) -> 0.011859002 | G16: =AVERAGE(E12:E16) -> 0.016348062 | H16: =(SUM(B14:B16)-SUM(B11:B13))/SUM(B11:B13) -> 0.023973671 | I16: =(SUM(C14:C16)-SUM(C11:C13))/SUM(C11:C13) -> 0.034572596 | K16: ='NYS GHG'!M16 -> 281.35596 | L16: =K16/B16 -> 0.0078165484 | M16: =AVERAGE(L12:L16) -> 0.0075255824 | N16: ='NYS GHG'!H16 -> 279.66895 | O16: =N16/C16 -> 0.010966856 | P16: =AVERAGE(O12:O16) -> 0.010707891 | Q16: =IF(D16>0,1,0) -> 1 | R16: =IF(E16>0,1,0) -> 1 | S16: =IF(F16>0,1,0) -> 1 | T16: =IF(G16>0,1,0) -> 1
A17: 2001 | B17: =GHG!B13 -> 36066.809 | C17: ='CO2'!B13 -> 25674.93 | D17: =(B17-B16)/B16 -> 0.0019974769 | E17: =(C17-C16)/C16 -> 0.0068091857 | F17: =AVERAGE(D13:D17) -> 0.0099609767 | G17: =AVERAGE(E13:E17) -> 0.011540414 | H17: =(SUM(B15:B17)-SUM(B12:B14))/SUM(B12:B14) -> 0.018979991 | I17: =(SUM(C15:C17)-SUM(C12:C14))/SUM(C12:C14) -> 0.04155628 | K17: ='NYS GHG'!M17 -> 271.90223 | L17: =K17/B17 -> 0.0075388491 | M17: =AVERAGE(L13:L17) -> 0.0075368057 | N17: ='NYS GHG'!H17 -> 270.22345 | O17: =N17/C17 -> 0.010524798 | P17: =AVERAGE(O13:O17) -> 0.010706372 | Q17: =IF(D17>0,1,0) -> 1 | R17: =IF(E17>0,1,0) -> 1 | S17: =IF(F17>0,1,0) -> 1 | T17: =IF(G17>0,1,0) -> 1
A18: 2002 | B18: =GHG!B14 -> 37012.719 | C18: ='CO2'!B14 -> 26248.289 | D18: =(B18-B17)/B17 -> 0.026226606 | E18: =(C18-C17)/C17 -> 0.022331473 | F18: =AVERAGE(D14:D18) -> 0.0072647533 | G18: =AVERAGE(E14:E18) -> 0.014804316 | H18: =(SUM(B16:B18)-SUM(B13:B15))/SUM(B13:B15) -> 0.026671196 | I18: =(SUM(C16:C18)-SUM(C13:C15))/SUM(C13:C15) -> 0.052529847 | K18: ='NYS GHG'!M18 -> 267.35754 | L18: =K18/B18 -> 0.0072233964 | M18: =AVERAGE(L14:L18) -> 0.0075163045 | N18: ='NYS GHG'!H18 -> 265.65019 | O18: =N18/C18 -> 0.010120667 | P18: =AVERAGE(O14:O18) -> 0.010599347 | Q18: =IF(D18>0,1,0) -> 1 | R18: =IF(E18>0,1,0) -> 1 | S18: =IF(F18>0,1,0) -> 1 | T18: =IF(G18>0,1,0) -> 1
A19: 2003 | B19: =GHG!B15 -> 38009.25 | C19: ='CO2'!B15 -> 27648.648 | D19: =(B19-B18)/B18 -> 0.026924015 | E19: =(C19-C18)/C18 -> 0.053350487 | F19: =AVERAGE(D15:D19) -> 0.015190573 | G19: =AVERAGE(E15:E19) -> 0.026007338 | H19: =(SUM(B17:B19)-SUM(B14:B16))/SUM(B14:B16) -> 0.042883662 | I19: =(SUM(C17:C19)-SUM(C14:C16))/SUM(C14:C16) -> 0.065708073 | K19: ='NYS GHG'!M19 -> 275.54542 | L19: =K19/B19 -> 0.0072494306 | M19: =AVERAGE(L15:L19) -> 0.0074872241 | N19: ='NYS GHG'!H19 -> 273.85046 | O19: =N19/C19 -> 0.0099046602 | P19: =AVERAGE(O15:O19) -> 0.010450504 | Q19: =IF(D19>0,1,0) -> 1 | R19: =IF(E19>0,1,0) -> 1 | S19: =IF(F19>0,1,0) -> 1 | T19: =IF(G19>0,1,0) -> 1
A20: 2004 | B20: =GHG!B16 -> 39849.512 | C20: ='CO2'!B16 -> 28620.193 | D20: =(B20-B19)/B19 -> 0.048416162 | E20: =(C20-C19)/C19 -> 0.03513897 | F20: =AVERAGE(D16:D20) -> 0.024854571 | G20: =AVERAGE(E16:E20) -> 0.028904187 | H20: =(SUM(B18:B20)-SUM(B15:B17))/SUM(B15:B17) -> 0.070300845 | I20: =(SUM(C18:C20)-SUM(C15:C17))/SUM(C15:C17) -> 0.085612995 | K20: ='NYS GHG'!M20 -> 277.22365 | L20: =K20/B20 -> 0.006956764 | M20: =AVERAGE(L16:L20) -> 0.0073569977 | N20: ='NYS GHG'!H20 -> 275.51381 | O20: =N20/C20 -> 0.0096265533 | P20: =AVERAGE(O16:O20) -> 0.010228707 | Q20: =IF(D20>0,1,0) -> 1 | R20: =IF(E20>0,1,0) -> 1 | S20: =IF(F20>0,1,0) -> 1 | T20: =IF(G20>0,1,0) -> 1
A21: 2005 | B21: =GHG!B17 -> 40784.41 | C21: ='CO2'!B17 -> 29592.104 | D21: =(B21-B20)/B20 -> 0.023460714 | E21: =(C21-C20)/C20 -> 0.033958925 | F21: =AVERAGE(D17:D21) -> 0.025404995 | G21: =AVERAGE(E17:E21) -> 0.030317808 | H21: =(SUM(B19:B21)-SUM(B16:B18))/SUM(B16:B18) -> 0.08772664 | I21: =(SUM(C19:C21)-SUM(C16:C18))/SUM(C16:C18) -> 0.10896342 | K21: ='NYS GHG'!M21 -> 278.4853 | L21: =K21/B21 -> 0.0068282293 | M21: =AVERAGE(L17:L21) -> 0.0071593339 | N21: ='NYS GHG'!H21 -> 276.77501 | O21: =N21/C21 -> 0.0093530021 | P21: =AVERAGE(O17:O21) -> 0.0099059361 | Q21: =IF(D21>0,1,0) -> 1 | R21: =IF(E21>0,1,0) -> 1 | S21: =IF(F21>0,1,0) -> 1 | T21: =IF(G21>0,1,0) -> 1
A22: 2006 | B22: =GHG!B18 -> 42278.18 | C22: ='CO2'!B18 -> 30605.766 | D22: =(B22-B21)/B21 -> 0.036626005 | E22: =(C22-C21)/C21 -> 0.034254475 | F22: =AVERAGE(D18:D22) -> 0.0323307 | G22: =AVERAGE(E18:E22) -> 0.035806866 | H22: =(SUM(B20:B22)-SUM(B17:B19))/SUM(B17:B19) -> 0.10643131 | I22: =(SUM(C20:C22)-SUM(C17:C19))/SUM(C17:C19) -> 0.11619931 | K22: ='NYS GHG'!M22 -> 255.08407 | L22: =K22/B22 -> 0.0060334687 | M22: =AVERAGE(L18:L22) -> 0.0068582578 | N22: ='NYS GHG'!H22 -> 253.38168 | O22: =N22/C22 -> 0.008278887 | P22: =AVERAGE(O18:O22) -> 0.0094567539 | Q22: =IF(D22>0,1,0) -> 1 | R22: =IF(E22>0,1,0) -> 1 | S22: =IF(F22>0,1,0) -> 1 | T22: =IF(G22>0,1,0) -> 1
... A36: 2020 | B36: =GHG!B32 -> 47513.148 | C36: ='CO2'!B32 -> 35007.738 | D36: =(B36-B35)/B35 -> -0.047462418 | E36: =(C36-C35)/C35 -> -0.054869287 | F36: =AVERAGE(D32:D36) -> 0.0022529279 | G36: =AVERAGE(E32:E36) -> -0.002200374 | H36: =(SUM(B34:B36)-SUM(B31:B33))/SUM(B31:B33) -> 0.02680643 | I36: =(SUM(C34:C36)-SUM(C31:C33))/SUM(C31:C33) -> 0.01744846 | K36: ='NYS GHG'!M36 -> 249.74613 | L36: =K36/B36 -> 0.0052563583 | M36: =AVERAGE(L32:L36) -> 0.0045169803 | N36: ='NYS GHG'!H36 -> 183.63176 | O36: =N36/C36 -> 0.005245462 | P36: =AVERAGE(O32:O36) -> 0.0056810368 | Q36: =IF(D36>0,1,0) -> 0 | R36: =IF(E36>0,1,0) -> 0 | S36: =IF(F36>0,1,0) -> 1 | T36: =IF(G36>0,1,0) -> 0
A37: 2021 | B37: =GHG!B33 -> 0 | C37: ='CO2'!B33 -> 36816.543 | E37: =(C37-C36)/C36 -> 0.05166872 | G37: =AVERAGE(E33:E37) -> 0.0081513491 | I37: =(SUM(C35:C37)-SUM(C32:C34))/SUM(C32:C34) -> 0.005653065 | K37: ='NYS GHG'!M37 -> 268.30213 | N37: ='NYS GHG'!H37 -> 199.59965 | O37: =N37/C37 -> 0.0054214665 | P37: =AVERAGE(O33:O37) -> 0.005566393
A38: 2022 | B38: =GHG!B34 -> 0 | C38: ='CO2'!B34 -> 37149.785 | E38: =(C38-C37)/C37 -> 0.0090514202 | G38: =AVERAGE(E34:E38) -> 0.0067725436 | I38: =(SUM(C36:C38)-SUM(C33:C35))/SUM(C33:C35) -> -0.0078158469

Sheet Graph Trends
A4: Year | B4: GHG World | C4: CO2 World | D4: GHG NY | E4: CO2 NY | P4: Year | Q4: GHG World Change | R4: CO2 World Change | S4: Total GHG NY | T4: Total CO2 NY | U4: GHG World | V4: CO2 World
A5: 1990 | B5: =GHG!B2 -> 32661.42 | C5: ='CO2'!B2 -> 22752.701 | D5: ='NYS GHG'!M6 -> 253.50966 | E5: ='NYS GHG'!H6 -> 252.08461 | P5: 1990 | Q5: =GHG!Q2 -> 2.23 | R5: ='CO2'!Q2 -> 2.023 | S5: ='NYS GHG'!AB6 -> 0 | T5: ='NYS GHG'!W6 -> 0
A6: 1991 | B6: =GHG!B3 -> 32835.512 | C6: ='CO2'!B3 -> 23229.475 | D6: ='NYS GHG'!M7 -> 249.9971 | E6: ='NYS GHG'!H7 -> 248.53393 | P6: 1991
A7: 1992 | B7: =GHG!B4 -> 32736.211 | C7: ='CO2'!B4 -> 22567.199 | D7: ='NYS GHG'!M8 -> 256.33586 | E7: ='NYS GHG'!H8 -> 254.75701 | P7: 1992
A8: 1993 | B8: =GHG!B5 -> 32884.18 | C8: ='CO2'!B5 -> 22798.35 | D8: ='NYS GHG'!M9 -> 252.84249 | E8: ='NYS GHG'!H9 -> 251.25106 | P8: 1993
A9: 1994 | B9: =GHG!B6 -> 33162.738 | C9: ='CO2'!B6 -> 23034.775 | D9: ='NYS GHG'!M10 -> 253.50961 | E9: ='NYS GHG'!H10 -> 251.92883 | P9: 1994 | U9: =AVERAGE(B5:B9) -> 32856.012 | V9: =AVERAGE(C5:C9) -> 22876.5
A10: 1995 | B10: =GHG!B7 -> 33960.871 | C10: ='CO2'!B7 -> 23524.49 | D10: ='NYS GHG'!M11 -> 257.6757 | E10: ='NYS GHG'!H11 -> 256.03917 | P10: 1995 | Q10: =U10-U9 -> 259.8902 | R10: =V10-V9 -> 154.3578 | S10: =AVERAGE(D6:D10) -> 254.07215 | T10: =AVERAGE(E6:E10) -> 252.502 | U10: =AVERAGE(B6:B10) -> 33115.902 | V10: =AVERAGE(C6:C10) -> 23030.858
A11: 1996 | B11: =GHG!B8 -> 34351 | C11: ='CO2'!B8 -> 24250.16 | D11: ='NYS GHG'!M12 -> 257.03934 | E11: ='NYS GHG'!H12 -> 255.41226 | P11: 1996 | Q11: =U11-U10 -> 303.0976 | R11: =V11-V10 -> 204.137 | S11: =AVERAGE(D7:D11) -> 255.4806 | T11: =AVERAGE(E7:E11) -> 253.87766 | U11: =AVERAGE(B7:B11) -> 33419 | V11: =AVERAGE(C7:C11) -> 23234.995
A12: 1997 | B12: =GHG!B9 -> 35715 | C12: ='CO2'!B9 -> 24395.951 | D12: ='NYS GHG'!M13 -> 261.64461 | E12: ='NYS GHG'!H13 -> 259.95812 | P12: 1997 | Q12: =U12-U11 -> 595.7578 | R12: =V12-V11 -> 365.7504 | S12: =AVERAGE(D8:D12) -> 256.54235 | T12: =AVERAGE(E8:E12) -> 254.91789 | U12: =AVERAGE(B8:B12) -> 34014.758 | V12: =AVERAGE(C8:C12) -> 23600.745
A13: 1998 | B13: =GHG!B10 -> 35261.238 | C13: ='CO2'!B10 -> 24330.945 | D13: ='NYS GHG'!M14 -> 260.75095 | E13: ='NYS GHG'!H14 -> 259.09721 | P13: 1998 | Q13: =U13-U12 -> 475.4116 | R13: =V13-V12 -> 306.519 | S13: =AVERAGE(D9:D13) -> 258.12404 | T13: =AVERAGE(E9:E13) -> 256.48712 | U13: =AVERAGE(B9:B13) -> 34490.169 | V13: =AVERAGE(C9:C13) -> 23907.264
A14: 1999 | B14: =GHG!B11 -> 35264.629 | C14: ='CO2'!B11 -> 24833.494 | D14: ='NYS GHG'!M15 -> 268.28962 | E14: ='NYS GHG'!H15 -> 266.60094 | P14: 1999 | Q14: =U14-U13 -> 420.3782 | R14: =V14-V13 -> 359.7438 | S14: =AVERAGE(D10:D14) -> 261.08005 | T14: =AVERAGE(E10:E14) -> 259.42154 | U14: =AVERAGE(B10:B14) -> 34910.548 | V14: =AVERAGE(C10:C14) -> 24267.008
A15: 2000 | B15: =GHG!B12 -> 35994.91 | C15: ='CO2'!B12 -> 25501.287 | D15: ='NYS GHG'!M16 -> 281.35596 | E15: ='NYS GHG'!H16 -> 279.66895 | P15: 2000 | Q15: =U15-U14 -> 406.8078 | R15: =V15-V14 -> 395.3594 | S15: =AVERAGE(D11:D15) -> 265.8161 | T15: =AVERAGE(E11:E15) -> 264.1475 | U15: =AVERAGE(B11:B15) -> 35317.355 | V15: =AVERAGE(C11:C15) -> 24662.367
A16: 2001 | B16: =GHG!B13 -> 36066.809 | C16: ='CO2'!B13 -> 25674.93 | D16: ='NYS GHG'!M17 -> 271.90223 | E16: ='NYS GHG'!H17 -> 270.22345 | P16: 2001 | Q16: =U16-U15 -> 343.1618 | R16: =V16-V15 -> 284.954 | S16: =AVERAGE(D12:D16) -> 268.78867 | T16: =AVERAGE(E12:E16) -> 267.10974 | U16: =AVERAGE(B12:B16) -> 35660.517 | V16: =AVERAGE(C12:C16) -> 24947.321
A17: 2002 | B17: =GHG!B14 -> 37012.719 | C17: ='CO2'!B14 -> 26248.289 | D17: ='NYS GHG'!M18 -> 267.35754 | E17: ='NYS GHG'!H18 -> 265.65019 | P17: 2002 | Q17: =U17-U16 -> 259.5438 | R17: =V17-V16 -> 370.4676 | S17: =AVERAGE(D13:D17) -> 269.93126 | T17: =AVERAGE(E13:E17) -> 268.24815 | U17: =AVERAGE(B13:B17) -> 35920.061 | V17: =AVERAGE(C13:C17) -> 25317.789
A18: 2003 | B18: =GHG!B15 -> 38009.25 | C18: ='CO2'!B15 -> 27648.648 | D18: ='NYS GHG'!M19 -> 275.54542 | E18: ='NYS GHG'!H19 -> 273.85046 | P18: 2003 | Q18: =U18-U17 -> 549.6024 | R18: =V18-V17 -> 663.5406 | S18: =AVERAGE(D14:D18) -> 272.89015 | T18: =AVERAGE(E14:E18) -> 271.1988 | U18: =AVERAGE(B14:B18) -> 36469.663 | V18: =AVERAGE(C14:C18) -> 25981.33
A19: 2004 | B19: =GHG!B16 -> 39849.512 | C19: ='CO2'!B16 -> 28620.193 | D19: ='NYS GHG'!M20 -> 277.22365 | E19: ='NYS GHG'!H20 -> 275.51381 | P19: 2004 | Q19: =U19-U18 -> 916.9766 | R19: =V19-V18 -> 757.3398 | S19: =AVERAGE(D15:D19) -> 274.67696 | T19: =AVERAGE(E15:E19) -> 272.98137 | U19: =AVERAGE(B15:B19) -> 37386.64 | V19: =AVERAGE(C15:C19) -> 26738.669
A20: 2005 | B20: =GHG!B17 -> 40784.41 | C20: ='CO2'!B17 -> 29592.104 | D20: ='NYS GHG'!M21 -> 278.4853 | E20: ='NYS GHG'!H21 -> 276.77501 | P20: 2005 | Q20: =U20-U19 -> 957.9 | R20: =V20-V19 -> 818.1634 | S20: =AVERAGE(D16:D20) -> 274.10283 | T20: =AVERAGE(E16:E20) -> 272.40259 | U20: =AVERAGE(B16:B20) -> 38344.54 | V20: =AVERAGE(C16:C20) -> 27556.833
A21: 2006 | B21: =GHG!B18 -> 42278.18 | C21: ='CO2'!B18 -> 30605.766 | D21: ='NYS GHG'!M22 -> 255.08407 | E21: ='NYS GHG'!H22 -> 253.38168 | P21: 2006 | Q21: =U21-U20 -> 1242.2742 | R21: =V21-V20 -> 986.1672 | S21: =AVERAGE(D17:D21) -> 270.7392 | T21: =AVERAGE(E17:E21) -> 269.03423 | U21: =AVERAGE(B17:B21) -> 39586.814 | V21: =AVERAGE(C17:C21) -> 28543
... A34: 2019 | B34: =GHG!B31 -> 49880.602 | C34: ='CO2'!B31 -> 37040.102 | D34: ='NYS GHG'!M35 -> 211.52227 | E34: ='NYS GHG'!H35 -> 210.09433 | P34: 2019 | Q34: =U34-U33 -> 554.8244 | R34: =V34-V33 -> 314.7814 | S34: =AVERAGE(D30:D34) -> 214.68419 | T34: =AVERAGE(E30:E34) -> 213.18607 | U34: =AVERAGE(B30:B34) -> 48521.806 | V34: =AVERAGE(C30:C34) -> 36151.148
A35: 2020 | B35: =GHG!B32 -> 47513.148 | C35: ='CO2'!B32 -> 35007.738 | D35: ='NYS GHG'!M36 -> 249.74613 | E35: ='NYS GHG'!H36 -> 183.63176
A36: 2021 | C36: ='CO2'!B33 -> 36816.543 | D36: ='NYS GHG'!M37 -> 268.30213 | E36: ='NYS GHG'!H37 -> 199.59965
A37: 2022 | C37: ='CO2'!B34 -> 37149.785

Sheet NYS GHG
A1: Statewide Greenhouse Gas Emissions: Beginning 1990 | P1: Yes
B2: https://data.ny.gov/Energy-Environment/Statewide-Greenhouse-Gas-Emissions-Beginning-1990/5i6e-asw6
B4: Greenhouse Gas (MMT) per GWP20 | H4: Greenhouse Gas (MMT) per GEP 100 UNFCCC | N4: GHG | O4: NYS % | Q4: CO2 | R4: NYS %
A5: Year | B5: CO2 | C5: N2O | D5: Biogenic CO2 | E5: CH4 | F5: SF6 | G5: Total | H5: CO2 | I5: N2O | J5: Biogenic CO2 | K5: CH4 | L5: SF6 | M5: Total | N5: World | O5: of World | P5: CO2e | Q5: World | R5: of World
A6: 1990 | B6: 252.08461 | C6: 3.691499 | D6: 9.129799 | E6: 132.66338 | F6: 4.020918 | G6: =SUM(B6:E6) -> 397.5693 | H6: 252.08461 | I6: 0.014933883 | J6: 9.129799 | K6: 1.4101126 | L6: 0.00022292264 | M6: =SUM(H6:K6)-J6 -> 253.50966 | N6: =summary!B6 -> 32661.42 | O6: =(M6-J6)/N6 -> 0.0074822179 | P6: =B6+D6+#REF!+#REF!+#REF!+F6 -> #REF! | Q6: =summary!C6 -> 22752.701 | R6: =H6/Q6 -> 0.011079327
A7: 1991 | B7: 248.53393 | C7: 3.568857 | D7: 8.779086 | E7: 136.29454 | F7: 3.841777 | G7: =SUM(B7:E7) -> 397.17641 | H7: 248.53393 | I7: 0.014462804 | J7: 8.779086 | K7: 1.448709 | L7: 0.00021299085 | M7: =SUM(H7:K7)-J7 -> 249.9971 | N7: =summary!B7 -> 32835.512 | O7: =(M7-J7)/N7 -> 0.0073462541 | P7: =B7+D7+#REF!+#REF!+#REF!+F7 -> #REF! | Q7: =summary!C7 -> 23229.475 | R7: =H7/Q7 -> 0.010699076
A8: 1992 | B8: 254.75701 | C8: 3.722027 | D8: 9.648553 | E8: 147.12181 | F8: 3.804773 | G8: =SUM(B8:E8) -> 415.2494 | H8: 254.75701 | I8: 0.015058777 | J8: 9.648553 | K8: 1.5637948 | L8: 0.00021093936 | M8: =SUM(H8:K8)-J8 -> 256.33586 | N8: =summary!B8 -> 32736.211 | O8: =(M8-J8)/N8 -> 0.0075356096 | P8: =B8+D8+#REF!+#REF!+#REF!+F8 -> #REF! | Q8: =summary!C8 -> 22567.199 | R8: =H8/Q8 -> 0.011288818
A9: 1993 | B9: 251.25106 | C9: 3.669115 | D9: 11.01742 | E9: 148.32562 | F9: 3.675627 | G9: =SUM(B9:E9) -> 414.26322 | H9: 251.25106 | I9: 0.014839525 | J9: 11.01742 | K9: 1.5765903 | L9: 0.0002037794 | M9: =SUM(H9:K9)-J9 -> 252.84249 | N9: =summary!B9 -> 32884.18 | O9: =(M9-J9)/N9 -> 0.0073538423 | P9: =B9+D9+#REF!+#REF!+#REF!+F9 -> #REF! | Q9: =summary!C9 -> 22798.35 | R9: =H9/Q9 -> 0.011020581
A10: 1994 | B10: 251.92883 | C10: 3.813512 | D10: 10.70058 | E10: 147.27383 | F10: 3.449014 | G10: =SUM(B10:E10) -> 413.71675 | H10: 251.92883 | I10: 0.015376098 | J10: 10.70058 | K10: 1.5654107 | L10: 0.00019121579 | M10: =SUM(H10:K10)-J10 -> 253.50961 | N10: =summary!B10 -> 33162.738 | O10: =(M10-J10)/N10 -> 0.0073217426 | P10: =B10+D10+#REF!+#REF!+#REF!+F10 -> #REF! | Q10: =summary!C10 -> 23034.775 | R10: =H10/Q10 -> 0.010936891
A11: 1995 | B11: 256.03917 | C11: 3.66519 | D11: 10.796152 | E11: 152.57143 | F11: 3.150445 | G11: =SUM(B11:E11) -> 423.07194 | H11: 256.03917 | I11: 0.014810023 | J11: 10.796152 | K11: 1.6217202 | L11: 0.00017466302 | M11: =SUM(H11:K11)-J11 -> 257.6757 | N11: =summary!B11 -> 33960.871 | O11: =(M11-J11)/N11 -> 0.0072695293 | P11: =B11+D11+#REF!+#REF!+#REF!+F11 -> #REF! | Q11: =summary!C11 -> 23524.49 | R11: =H11/Q11 -> 0.010883941
A12: 1996 | B12: 255.41226 | C12: 3.43402 | D12: 12.017058 | E12: 151.76379 | F12: 2.883949 | G12: =SUM(B12:E12) -> 422.62712 | H12: 255.41226 | I12: 0.013946974 | J12: 12.017058 | K12: 1.6131355 | L12: 0.00015988821 | M12: =SUM(H12:K12)-J12 -> 257.03934 | N12: =summary!B12 -> 34351 | O12: =(M12-J12)/N12 -> 0.007132901 | P12: =B12+D12+#REF!+#REF!+#REF!+F12 -> #REF! | Q12: =summary!C12 -> 24250.16 | R12: =H12/Q12 -> 0.010532395
A13: 1997 | B13: 259.95812 | C13: 3.555861 | D13: 15.862651 | E13: 157.30668 | F13: 2.656253 | G13: =SUM(B13:E13) -> 436.68331 | H13: 259.95812 | I13: 0.014441815 | J13: 15.862651 | K13: 1.6720524 | L13: 0.0001472646 | M13: =SUM(H13:K13)-J13 -> 261.64461 | N13: =summary!B13 -> 35715 | O13: =(M13-J13)/N13 -> 0.0068817573 | P13: =B13+D13+#REF!+#REF!+#REF!+F13 -> #REF! | Q13: =summary!C13 -> 24395.951 | R13: =H13/Q13 -> 0.01065579
A14: 1998 | B14: 259.09721 | C14: 3.627065 | D14: 14.154013 | E14: 154.20081 | F14: 2.249893 | G14: =SUM(B14:E14) -> 431.0791 | H14: 259.09721 | I14: 0.014701491 | J14: 14.154013 | K14: 1.6390392 | L14: 0.00012473566 | M14: =SUM(H14:K14)-J14 -> 260.75095 | N14: =summary!B14 -> 35261.238 | O14: =(M14-J14)/N14 -> 0.0069934282 | P14: =B14+D14+#REF!+#REF!+#REF!+F14 -> #REF! | Q14: =summary!C14 -> 24330.945 | R14: =H14/Q14 -> 0.010648876
A15: 1999 | B15: 266.60094 | C15: 3.730523 | D15: 14.491499 | E15: 157.45023 | F15: 2.328968 | G15: =SUM(B15:E15) -> 442.2732 | H15: 266.60094 | I15: 0.015099611 | J15: 14.491499 | K15: 1.6735783 | L15: 0.0001291197 | M15: =SUM(H15:K15)-J15 -> 268.28962 | N15: =summary!B15 -> 35264.629 | O15: =(M15-J15)/N15 -> 0.00719696 | P15: =B15+D15+#REF!+#REF!+#REF!+F15 -> #REF! | Q15: =summary!C15 -> 24833.494 | R15: =H15/Q15 -> 0.010735539
A16: 2000 | B16: 279.66895 | C16: 3.599548 | D16: 15.482566 | E16: 157.33737 | F16: 2.19038 | G16: =SUM(B16:E16) -> 456.08843 | H16: 279.66895 | I16: 0.01462614 | J16: 15.482566 | K16: 1.6723786 | L16: 0.00012143621 | M16: =SUM(H16:K16)-J16 -> 281.35596 | N16: =summary!B16 -> 35994.91 | O16: =(M16-J16)/N16 -> 0.0073864163 | P16: =B16+D16+#REF!+#REF!+#REF!+F16 -> #REF! | Q16: =summary!C16 -> 25501.287 | R16: =H16/Q16 -> 0.010966856
A17: 2001 | B17: 270.22345 | C17: 3.534609 | D17: 10.604386 | E17: 156.59228 | F17: 2.085919 | G17: =SUM(B17:E17) -> 440.95473 | H17: 270.22345 | I17: 0.014321917 | J17: 10.604386 | K17: 1.664459 | L17: 0.00011564485 | M17: =SUM(H17:K17)-J17 -> 271.90223 | N17: =summary!B17 -> 36066.809 | O17: =(M17-J17)/N17 -> 0.0072448285 | P17: =B17+D17+#REF!+#REF!+#REF!+F17 -> #REF! | Q17: =summary!C17 -> 25674.93 | R17: =H17/Q17 -> 0.010524798
... A35: 2019 | B35: 210.09433 | C35: 3.345028 | D35: 11.793773 | E35: 133.06913 | F35: 0.128907 | G35: =SUM(B35:E35) -> 358.30226 | H35: 210.09433 | I35: 0.013518623 | J35: 11.793773 | K35: 1.4144253 | L35: 7.1466383e-06 | M35: =SUM(H35:K35)-J35 -> 211.52227 | N35: =summary!B35 -> 49880.602 | O35: =(M35-J35)/N35 -> 0.0040041317 | P35: =B35+D35+#REF!+#REF!+#REF!+F35 -> #REF! | Q35: =summary!C35 -> 37040.102 | R35: =H35/Q35 -> 0.0056720775
A36: 2020 | B36: 183.63176 | C36: 3.683115 | D36: 10.822055 | E36: 126.19407 | F36: 0.147565 | G36: 345.90978 | H36: 183.63176 | I36: 3.697067 | J36: 10.822055 | K36: 42.064689 | L36: 0.198157 | M36: 249.74613 | P36: 249.74613
A37: 2021 | B37: 199.59965 | C37: 3.736891 | D37: 11.395859 | E37: 131.26731 | F37: 0.150163 | G37: 367.87385 | H37: 199.59965 | I37: 3.751049 | J37: 11.395859 | K37: 43.755768 | L37: 0.201647 | M37: 268.30213 | P37: 268.30213

Sheet New Zealand
A1: CO2 and Greenhouse Gas Emissions Trends based on Our World in Data (MtCO2e)
A2: https://github.com/owid/co2-data
H3: Five-Year Averages | O3: GHG | Q3: CO2 | S3: Methane
B4: GHG | C4: CO2 | D4: Methane | E4: GHG 1-yr Trend | F4: CO2 1-yr Trend | H4: Annual Avg. | I4: Annual Avg. | K4: GHG 3-yr Trend | L4: CO2 3-yr Trend | P4: NZ % of | R4: NZ % of | U4: NZ % of
A5: Year | B5: World | C5: World | D5: World | E5: World | F5: World | H5: Trend GHG | I5: Trend CO2 | K5: World | L5: World | O5: NZ GHG | P5: World | Q5: NZ CO2 | R5: World | S5: World | T5: NZ | U5: World
A6: 1990 | B6: =GHG!B2 -> 32661.42 | C6: ='CO2'!B2 -> 22752.701 | D6: 6936.68 | O6: =GHG!EV2 -> 46.51 | P6: =O6/B6 -> 0.0014240042 | Q6: ='CO2'!EV2 -> 25.503 | R6: =Q6/C6 -> 0.0011208779 | S6: =Methane!B2 -> 6936.68 | T6: =Methane!EV2 -> 32.97 | U6: =T6/S6 -> 0.0047529942
A7: 1991 | B7: =GHG!B3 -> 32835.512 | C7: ='CO2'!B3 -> 23229.475 | D7: 6972.61 | E7: =(B7-B6)/B6 -> 0.005330203 | F7: =(C7-C6)/C6 -> 0.020954611 | G7: =(D7-D6)/D6 -> 0.0051797113 | O7: =GHG!EV3 -> 46.17 | P7: =O7/B7 -> 0.0014060996 | Q7: ='CO2'!EV3 -> 26.182 | R7: =Q7/C7 -> 0.0011271025 | S7: =Methane!B3 -> 6972.61 | T7: =Methane!EV3 -> 32.56 | U7: =T7/S7 -> 0.0046697004
A8: 1992 | B8: =GHG!B4 -> 32736.211 | C8: ='CO2'!B4 -> 22567.199 | D8: 6932.75 | E8: =(B8-B7)/B7 -> -0.0030241953 | F8: =(C8-C7)/C7 -> -0.028510158 | G8: =(D8-D7)/D7 -> -0.0057166542 | O8: =GHG!EV4 -> 47.01 | P8: =O8/B8 -> 0.0014360245 | Q8: ='CO2'!EV4 -> 28.167 | R8: =Q8/C8 -> 0.0012481389 | S8: =Methane!B4 -> 6932.75 | T8: =Methane!EV4 -> 32.27 | U8: =T8/S8 -> 0.0046547185
A9: 1993 | B9: =GHG!B5 -> 32884.18 | C9: ='CO2'!B5 -> 22798.35 | D9: 6958.63 | E9: =(B9-B8)/B8 -> 0.0045200405 | F9: =(C9-C8)/C8 -> 0.010242786 | G9: =(D9-D8)/D8 -> 0.0037330064 | O9: =GHG!EV5 -> 46.2 | P9: =O9/B9 -> 0.0014049309 | Q9: ='CO2'!EV5 -> 27.761 | R9: =Q9/C9 -> 0.0012176758 | S9: =Methane!B5 -> 6958.63 | T9: =Methane!EV5 -> 32.24 | U9: =T9/S9 -> 0.0046330959
A10: 1994 | B10: =GHG!B6 -> 33162.738 | C10: ='CO2'!B6 -> 23034.775 | D10: 6996.12 | E10: =(B10-B9)/B9 -> 0.0084708817 | F10: =(C10-C9)/C9 -> 0.010370268 | G10: =(D10-D9)/D9 -> 0.0053875547 | O10: =GHG!EV6 -> 47.67 | P10: =O10/B10 -> 0.0014374567 | Q10: ='CO2'!EV6 -> 27.9 | R10: =Q10/C10 -> 0.0012112122 | S10: =Methane!B6 -> 6996.12 | T10: =Methane!EV6 -> 33.01 | U10: =T10/S10 -> 0.0047183296
A11: 1995 | B11: =GHG!B7 -> 33960.871 | C11: ='CO2'!B7 -> 23524.49 | D11: 7080.75 | E11: =(B11-B10)/B10 -> 0.024067162 | F11: =(C11-C10)/C10 -> 0.021259813 | G11: =(D11-D10)/D10 -> 0.012096705 | H11: =AVERAGE(E7:E11) -> 0.0078728185 | I11: =AVERAGE(F7:F11) -> 0.006863464 | J11: =AVERAGE(G7:G11) -> 0.0041360647 | K11: =(SUM(B9:B11)-SUM(B6:B8))/SUM(B6:B8) -> 0.018065654 | L11: =(SUM(C9:C11)-SUM(C6:C8))/SUM(C6:C8) -> 0.011790625 | M11: =(SUM(D9:D11)-SUM(D6:D8))/SUM(D6:D8) -> 0.0092822008 | O11: =GHG!EV7 -> 48.95 | P11: =O11/B11 -> 0.0014413647 | Q11: ='CO2'!EV7 -> 28.003 | R11: =Q11/C11 -> 0.0011903765 | S11: =Methane!B7 -> 7080.75 | T11: =Methane!EV7 -> 33.76 | U11: =T11/S11 -> 0.0047678565
A12: 1996 | B12: =GHG!B8 -> 34351 | C12: ='CO2'!B8 -> 24250.16 | D12: 7097.47 | E12: =(B12-B11)/B11 -> 0.011487603 | F12: =(C12-C11)/C11 -> 0.030847428 | G12: =(D12-D11)/D11 -> 0.0023613318 | H12: =AVERAGE(E8:E12) -> 0.0091042985 | I12: =AVERAGE(F8:F12) -> 0.0088420273 | J12: =AVERAGE(G8:G12) -> 0.0035723888 | K12: =(SUM(B10:B12)-SUM(B7:B9))/SUM(B7:B9) -> 0.030660488 | L12: =(SUM(C10:C12)-SUM(C7:C9))/SUM(C7:C9) -> 0.03228224 | M12: =(SUM(D10:D12)-SUM(D7:D9))/SUM(D7:D9) -> 0.014874911 | O12: =GHG!EV8 -> 49.35 | P12: =O12/B12 -> 0.0014366394 | Q12: ='CO2'!EV8 -> 29.304 | R12: =Q12/C12 -> 0.0012084044 | S12: =Methane!B8 -> 7097.47 | T12: =Methane!EV8 -> 33.37 | U12: =T12/S12 -> 0.0047016754
A13: 1997 | B13: =GHG!B9 -> 35715 | C13: ='CO2'!B9 -> 24395.951 | D13: 7328.28 | E13: =(B13-B12)/B12 -> 0.039707723 | F13: =(C13-C12)/C12 -> 0.0060119603 | G13: =(D13-D12)/D12 -> 0.032520039 | H13: =AVERAGE(E9:E13) -> 0.017650682 | I13: =AVERAGE(F9:F13) -> 0.015746451 | J13: =AVERAGE(G9:G13) -> 0.011219727 | K13: =(SUM(B11:B13)-SUM(B8:B10))/SUM(B8:B10) -> 0.053083376 | L13: =(SUM(C11:C13)-SUM(C8:C10))/SUM(C8:C10) -> 0.055120748 | M13: =(SUM(D11:D13)-SUM(D8:D10))/SUM(D8:D10) -> 0.029634949 | O13: =GHG!EV9 -> 51.87 | P13: =O13/B13 -> 0.001452331 | Q13: ='CO2'!EV9 -> 31.278 | R13: =Q13/C13 -> 0.001282098 | S13: =Methane!B9 -> 7328.28 | T13: =Methane!EV9 -> 33.72 | U13: =T13/S13 -> 0.0046013526
A14: 1998 | B14: =GHG!B10 -> 35261.238 | C14: ='CO2'!B10 -> 24330.945 | D14: 7204.1 | E14: =(B14-B13)/B13 -> -0.012705082 | F14: =(C14-C13)/C13 -> -0.0026646225 | G14: =(D14-D13)/D13 -> -0.016945313 | H14: =AVERAGE(E10:E14) -> 0.014205658 | I14: =AVERAGE(F10:F14) -> 0.013164969 | J14: =AVERAGE(G10:G14) -> 0.0070840634 | K14: =(SUM(B12:B14)-SUM(B9:B11))/SUM(B9:B11) -> 0.053190347 | L14: =(SUM(C12:C14)-SUM(C9:C11))/SUM(C9:C11) -> 0.0521852 | M14: =(SUM(D12:D14)-SUM(D9:D11))/SUM(D9:D11) -> 0.028254617 | O14: =GHG!EV10 -> 50.19 | P14: =O14/B14 -> 0.001423376 | Q14: ='CO2'!EV10 -> 29.858 | R14: =Q14/C14 -> 0.0012271615 | S14: =Methane!B10 -> 7204.1 | T14: =Methane!EV10 -> 32.97 | U14: =T14/S14 -> 0.0045765606
A15: 1999 | B15: =GHG!B11 -> 35264.629 | C15: ='CO2'!B11 -> 24833.494 | D15: 7150.24 | E15: =(B15-B14)/B14 -> 9.6167922e-05 | F15: =(C15-C14)/C14 -> 0.020654726 | G15: =(D15-D14)/D14 -> -0.0074762982 | H15: =AVERAGE(E11:E15) -> 0.012530715 | I15: =AVERAGE(F11:F15) -> 0.015221861 | J15: =AVERAGE(G11:G15) -> 0.0045112928 | K15: =(SUM(B13:B15)-SUM(B10:B12))/SUM(B10:B12) -> 0.046969957 | L15: =(SUM(C13:C15)-SUM(C10:C12))/SUM(C10:C12) -> 0.038850266 | M15: =(SUM(D13:D15)-SUM(D10:D12))/SUM(D10:D12) -> 0.024004526 | O15: =GHG!EV11 -> 52.45 | P15: =O15/B15 -> 0.001487326 | Q15: ='CO2'!EV11 -> 31.465 | R15: =Q15/C15 -> 0.0012670388 | S15: =Methane!B11 -> 7150.24 | T15: =Methane!EV11 -> 33.31 | U15: =T15/S15 -> 0.0046585849
A16: 2000 | B16: =GHG!B12 -> 35994.91 | C16: ='CO2'!B12 -> 25501.287 | D16: 7173.64 | E16: =(B16-B15)/B15 -> 0.020708597 | F16: =(C16-C15)/C15 -> 0.026890819 | G16: =(D16-D15)/D15 -> 0.0032726174 | H16: =AVERAGE(E12:E16) -> 0.011859002 | I16: =AVERAGE(F12:F16) -> 0.016348062 | J16: =AVERAGE(G12:G16) -> 0.0027464753 | K16: =(SUM(B14:B16)-SUM(B11:B13))/SUM(B11:B13) -> 0.023973671 | L16: =(SUM(C14:C16)-SUM(C11:C13))/SUM(C11:C13) -> 0.034572596 | M16: =(SUM(D14:D16)-SUM(D11:D13))/SUM(D11:D13) -> 0.00099876781 | O16: =GHG!EV12 -> 52.62 | P16: =O16/B16 -> 0.0014618734 | Q16: ='CO2'!EV12 -> 32.246 | R16: =Q16/C16 -> 0.0012644852 | S16: =Methane!B12 -> 7173.64 | T16: =Methane!EV12 -> 32.76 | U16: =T16/S16 -> 0.0045667193
A17: 2001 | B17: =GHG!B13 -> 36066.809 | C17: ='CO2'!B13 -> 25674.93 | D17: 7129.96 | E17: =(B17-B16)/B16 -> 0.0019974769 | F17: =(C17-C16)/C16 -> 0.0068091857 | G17: =(D17-D16)/D16 -> -0.006088959 | H17: =AVERAGE(E13:E17) -> 0.0099609767 | I17: =AVERAGE(F13:F17) -> 0.011540414 | J17: =AVERAGE(G13:G17) -> 0.0010564172 | K17: =(SUM(B15:B17)-SUM(B12:B14))/SUM(B12:B14) -> 0.018979991 | L17: =(SUM(C15:C17)-SUM(C12:C14))/SUM(C12:C14) -> 0.04155628 | M17: =(SUM(D15:D17)-SUM(D12:D14))/SUM(D12:D14) -> -0.0081373657 | O17: =GHG!EV13 -> 58.39 | P17: =O17/B17 -> 0.00161894 | Q17: ='CO2'!EV13 -> 34.379 | R17: =Q17/C17 -> 0.0013390105 | S17: =Methane!B13 -> 7129.96 | T17: =Methane!EV13 -> 33.08 | U17: =T17/S17 -> 0.0046395772
A18: 2002 | B18: =GHG!B14 -> 37012.719 | C18: ='CO2'!B14 -> 26248.289 | D18: 7270.7 | E18: =(B18-B17)/B17 -> 0.026226606 | F18: =(C18-C17)/C17 -> 0.022331473 | G18: =(D18-D17)/D17 -> 0.019739241 | H18: =AVERAGE(E14:E18) -> 0.0072647533 | I18: =AVERAGE(F14:F18) -> 0.014804316 | J18: =AVERAGE(G14:G18) -> -0.0014997424 | K18: =(SUM(B16:B18)-SUM(B13:B15))/SUM(B13:B15) -> 0.026671196 | L18: =(SUM(C16:C18)-SUM(C13:C15))/SUM(C13:C15) -> 0.052529847 | M18: =(SUM(D16:D18)-SUM(D13:D15))/SUM(D13:D15) -> -0.0049957062 | O18: =GHG!EV14 -> 59.55 | P18: =O18/B18 -> 0.0016089064 | Q18: ='CO2'!EV14 -> 34.542 | R18: =Q18/C18 -> 0.0013159715 | S18: =Methane!B14 -> 7270.7 | T18: =Methane!EV14 -> 33.82 | U18: =T18/S18 -> 0.0046515466
A19: 2003 | B19: =GHG!B15 -> 38009.25 | C19: ='CO2'!B15 -> 27648.648 | D19: 7344.2 | E19: =(B19-B18)/B18 -> 0.026924015 | F19: =(C19-C18)/C18 -> 0.053350487 | G19: =(D19-D18)/D18 -> 0.010109068 | H19: =AVERAGE(E15:E19) -> 0.015190573 | I19: =AVERAGE(F15:F19) -> 0.026007338 | J19: =AVERAGE(G15:G19) -> 0.0039111339 | K19: =(SUM(B17:B19)-SUM(B14:B16))/SUM(B14:B16) -> 0.042883662 | L19: =(SUM(C17:C19)-SUM(C14:C16))/SUM(C14:C16) -> 0.065708073 | M19: =(SUM(D17:D19)-SUM(D14:D16))/SUM(D14:D16) -> 0.010074331 | O19: =GHG!EV15 -> 62.07 | P19: =O19/B19 -> 0.0016330235 | Q19: ='CO2'!EV15 -> 36.241 | R19: =Q19/C19 -> 0.0013107693 | S19: =Methane!B15 -> 7344.2 | T19: =Methane!EV15 -> 33.94 | U19: =T19/S19 -> 0.0046213338
A20: 2004 | B20: =GHG!B16 -> 39849.512 | C20: ='CO2'!B16 -> 28620.193 | D20: 7597.86 | E20: =(B20-B19)/B19 -> 0.048416162 | F20: =(C20-C19)/C19 -> 0.03513897 | G20: =(D20-D19)/D19 -> 0.03453882 | H20: =AVERAGE(E16:E20) -> 0.024854571 | I20: =AVERAGE(F16:F20) -> 0.028904187 | J20: =AVERAGE(G16:G20) -> 0.012314157 | K20: =(SUM(B18:B20)-SUM(B15:B17))/SUM(B15:B17) -> 0.070300845 | L20: =(SUM(C18:C20)-SUM(C15:C17))/SUM(C15:C17) -> 0.085612995 | M20: =(SUM(D18:D20)-SUM(D15:D17))/SUM(D15:D17) -> 0.035374553 | O20: =GHG!EV16 -> 61.45 | P20: =O20/B20 -> 0.0015420515 | Q20: ='CO2'!EV16 -> 35.836 | R20: =Q20/C20 -> 0.0012521229 | S20: =Methane!B16 -> 7597.86 | T20: =Methane!EV16 -> 33.85 | U20: =T20/S20 -> 0.0044552019
A21: 2005 | B21: =GHG!B17 -> 40784.41 | C21: ='CO2'!B17 -> 29592.104 | D21: 7655.39 | E21: =(B21-B20)/B20 -> 0.023460714 | F21: =(C21-C20)/C20 -> 0.033958925 | G21: =(D21-D20)/D20 -> 0.0075718689 | H21: =AVERAGE(E17:E21) -> 0.025404995 | I21: =AVERAGE(F17:F21) -> 0.030317808 | J21: =AVERAGE(G17:G21) -> 0.013174008 | K21: =(SUM(B19:B21)-SUM(B16:B18))/SUM(B16:B18) -> 0.08772664 | L21: =(SUM(C19:C21)-SUM(C16:C18))/SUM(C16:C18) -> 0.10896342 | M21: =(SUM(D19:D21)-SUM(D16:D18))/SUM(D16:D18) -> 0.047424482 | O21: =GHG!EV17 -> 62.86 | P21: =O21/B21 -> 0.0015412752 | Q21: ='CO2'!EV17 -> 37.423 | R21: =Q21/C21 -> 0.0012646279 | S21: =Methane!B17 -> 7655.39 | T21: =Methane!EV17 -> 33.75 | U21: =T21/S21 -> 0.0044086585
A22: 2006 | B22: =GHG!B18 -> 42278.18 | C22: ='CO2'!B18 -> 30605.766 | D22: 7840.96 | E22: =(B22-B21)/B21 -> 0.036626005 | F22: =(C22-C21)/C21 -> 0.034254475 | G22: =(D22-D21)/D21 -> 0.024240437 | H22: =AVERAGE(E18:E22) -> 0.0323307 | I22: =AVERAGE(F18:F22) -> 0.035806866 | J22: =AVERAGE(G18:G22) -> 0.019239887 | K22: =(SUM(B20:B22)-SUM(B17:B19))/SUM(B17:B19) -> 0.10643131 | L22: =(SUM(C20:C22)-SUM(C17:C19))/SUM(C17:C19) -> 0.11619931 | M22: =(SUM(D20:D22)-SUM(D17:D19))/SUM(D17:D19) -> 0.062053745 | O22: =GHG!EV18 -> 63.01 | P22: =O22/B22 -> 0.0014903669 | Q22: ='CO2'!EV18 -> 37.33 | R22: =Q22/C22 -> 0.0012197048 | S22: =Methane!B18 -> 7840.96 | T22: =Methane!EV18 -> 33.94 | U22: =T22/S22 -> 0.0043285516
... A36: 2020 | B36: =GHG!B32 -> 47513.148 | C36: ='CO2'!B32 -> 35007.738 | D36: 8428.66 | E36: =(B36-B35)/B35 -> -0.047462418 | F36: =(C36-C35)/C35 -> -0.054869287 | G36: =(D36-D35)/D35 -> -0.026123227 | H36: =AVERAGE(E32:E36) -> 0.0022529279 | I36: =AVERAGE(F32:F36) -> -0.002200374 | J36: =AVERAGE(G32:G36) -> 0.00066884728 | K36: =(SUM(B34:B36)-SUM(B31:B33))/SUM(B31:B33) -> 0.02680643 | L36: =(SUM(C34:C36)-SUM(C31:C33))/SUM(C31:C33) -> 0.01744846 | M36: =(SUM(D34:D36)-SUM(D31:D33))/SUM(D31:D33) -> 0.021398579 | O36: =GHG!EV32 -> 70.86 | P36: =O36/B36 -> 0.0014913767 | Q36: ='CO2'!EV32 -> 34.237 | R36: =Q36/C36 -> 0.00097798378 | S36: =Methane!B32 -> 8428.66 | T36: =Methane!EV32 -> 32.24 | U36: =T36/S36 -> 0.0038250446
A37: 2021 | B37: =GHG!B33 -> 0 | C37: ='CO2'!B33 -> 36816.543 | F37: =(C37-C36)/C36 -> 0.05166872 | I37: =AVERAGE(F33:F37) -> 0.0081513491 | L37: =(SUM(C35:C37)-SUM(C32:C34))/SUM(C32:C34) -> 0.005653065 | Q37: ='CO2'!EV33 -> 34.318 | R37: =Q37/C37 -> 0.00093213532
A38: 2022 | B38: =GHG!B34 -> 0 | C38: ='CO2'!B34 -> 37149.785 | F38: =(C38-C37)/C37 -> 0.0090514202 | I38: =AVERAGE(F34:F38) -> 0.0067725436 | L38: =(SUM(C36:C38)-SUM(C33:C35))/SUM(C33:C35) -> -0.0078158469 | Q38: ='CO2'!EV34 -> 32.212 | R38: =Q38/C38 -> 0.00086708443
